Dist-Zilla-PluginBundle-MARCEL v1.161760 Perl 5 v5.24.4 RC1 x86_64-linux

Status
Pass
From
Slaven Rezić (SREZIC)
Dist
Dist-Zilla-PluginBundle-MARCEL v1.161760
Platform
Perl 5 v5.24.4 RC1 x86_64-linux
Date
2018-03-26 21:40:27
ID
4c95b65e-313e-11e8-abf0-c93a1914d803
This distribution has been tested as part of the CPAN Testers
project, supporting the Perl programming language.  See
http://wiki.cpantesters.org/ for more information or email
questions to cpan-testers-discuss@perl.org


--
Dear Olivier Mengue,

This is a computer-generated report for Dist-Zilla-PluginBundle-MARCEL-1.161760
on perl 5.24.4, created by CPAN-Reporter-1.2018.

Thank you for uploading your work to CPAN.  Congratulations!
All tests were successful.

Sections of this report:

    * Tester comments
    * Program output
    * Prerequisites
    * Environment and other context

------------------------------
TESTER COMMENTS
------------------------------

Additional comments from tester:

none provided

------------------------------
PROGRAM OUTPUT
------------------------------

Output from '/usr/bin/make test':

PERL_DL_NONLAZY=1 "/opt/perl-5.24.4-RC1/bin/perl" "-MExtUtils::Command::MM" "-MTest::Harness" "-e" "undef *Test::Harness::Switches; test_harness(0, 'blib/lib', 'blib/arch')" t/*.t
t/00-compile.t ............... ok
# 
# Versions for all modules listed in MYMETA.json (including optional ones):
# 
# === Configure Requires ===
# 
#     Module              Want Have
#     ------------------- ---- ----
#     ExtUtils::MakeMaker  any 7.34
# 
# === Build Requires ===
# 
#     Module              Want Have
#     ------------------- ---- ----
#     ExtUtils::MakeMaker  any 7.34
# 
# === Test Requires ===
# 
#     Module              Want     Have
#     ------------------- ---- --------
#     ExtUtils::MakeMaker  any     7.34
#     File::Spec           any     3.74
#     IO::Handle           any     1.36
#     IPC::Open3           any     1.20
#     Test::More           any 1.302133
#     blib                1.01     1.06
# 
# === Test Recommends ===
# 
#     Module         Want     Have
#     ---------- -------- --------
#     CPAN::Meta 2.120900 2.150010
# 
# === Runtime Requires ===
# 
#     Module                                              Want     Have
#     ----------------------------------------------- -------- --------
#     Dist::Zilla::Plugin::AutoPrereqs                     any    6.011
#     Dist::Zilla::Plugin::AutoVersion                     any    6.011
#     Dist::Zilla::Plugin::Bugtracker                      any 1.111080
#     Dist::Zilla::Plugin::CheckChangeLog                  any     0.05
#     Dist::Zilla::Plugin::CopyFilesFromBuild              any 0.170880
#     Dist::Zilla::Plugin::ExecDir                         any    6.011
#     Dist::Zilla::Plugin::ExtraTests                      any    6.011
#     Dist::Zilla::Plugin::GatherDir                       any    6.011
#     Dist::Zilla::Plugin::Git::Check                      any    2.043
#     Dist::Zilla::Plugin::Git::Commit                     any    2.043
#     Dist::Zilla::Plugin::Git::Push                       any    2.043
#     Dist::Zilla::Plugin::Git::Tag                        any    2.043
#     Dist::Zilla::Plugin::HasVersionTests                 any 1.101420
#     Dist::Zilla::Plugin::Homepage                        any 1.101420
#     Dist::Zilla::Plugin::InlineFiles                     any    6.011
#     Dist::Zilla::Plugin::InstallGuide                    any 1.200009
#     Dist::Zilla::Plugin::License                         any    6.011
#     Dist::Zilla::Plugin::MakeMaker                       any    6.011
#     Dist::Zilla::Plugin::Manifest                        any    6.011
#     Dist::Zilla::Plugin::ManifestSkip                    any    6.011
#     Dist::Zilla::Plugin::MetaJSON                        any    6.011
#     Dist::Zilla::Plugin::MetaProvides::Package           any 2.004003
#     Dist::Zilla::Plugin::MetaTests                       any    6.011
#     Dist::Zilla::Plugin::MetaYAML                        any    6.011
#     Dist::Zilla::Plugin::NextRelease                     any    6.011
#     Dist::Zilla::Plugin::PkgVersion                      any    6.011
#     Dist::Zilla::Plugin::Pod2Readme                      any    0.004
#     Dist::Zilla::Plugin::PodCoverageTests                any    6.011
#     Dist::Zilla::Plugin::PodSyntaxTests                  any    6.011
#     Dist::Zilla::Plugin::PodWeaver                       any    4.008
#     Dist::Zilla::Plugin::PruneCruft                      any    6.011
#     Dist::Zilla::Plugin::PruneFiles                      any    6.011
#     Dist::Zilla::Plugin::Repository                      any     0.21
#     Dist::Zilla::Plugin::ShareDir                        any    6.011
#     Dist::Zilla::Plugin::Test::CheckChanges              any 2.000004
#     Dist::Zilla::Plugin::Test::Compile              1.100220    2.058
#     Dist::Zilla::Plugin::Test::DistManifest              any 2.000005
#     Dist::Zilla::Plugin::Test::EOL                       any     0.19
#     Dist::Zilla::Plugin::Test::Kwalitee                  any     2.12
#     Dist::Zilla::Plugin::Test::MinimumVersion            any 2.000008
#     Dist::Zilla::Plugin::Test::NoTabs                    any     0.15
#     Dist::Zilla::Plugin::Test::Perl::Critic              any    3.001
#     Dist::Zilla::Plugin::Test::PodSpelling               any 2.007005
#     Dist::Zilla::Plugin::Test::Portability               any 2.001000
#     Dist::Zilla::Plugin::Test::ReportPrereqs             any    0.027
#     Dist::Zilla::Plugin::Test::Synopsis                  any 2.000007
#     Dist::Zilla::Plugin::Test::UnusedVars                any 2.000007
#     Dist::Zilla::Plugin::UploadToCPAN                    any    6.011
#     Dist::Zilla::PluginBundle::Git                       any    2.043
#     Dist::Zilla::Role::BundleDeps                        any 0.002005
#     Dist::Zilla::Role::PluginBundle                      any    6.011
#     Dist::Zilla::Role::PluginBundle::Config::Slicer      any    0.202
#     Dist::Zilla::Role::PluginBundle::PluginRemover       any    0.105
#     Moose                                                any   2.2010
#     Moose::Autobox                                       any     0.16
#     Pod::Weaver::PluginBundle::MARCEL                    any 1.102460
#     Test::Synopsis                                       any     0.15
#     strict                                               any     1.11
#     warnings                                             any     1.36
# 
t/00-report-prereqs.t ........ ok
t/author-critic.t ............ skipped: these tests are for testing by the author
t/author-eol.t ............... skipped: these tests are for testing by the author
t/author-no-tabs.t ........... skipped: these tests are for testing by the author
t/author-pod-coverage.t ...... skipped: these tests are for testing by the author
t/author-pod-spell.t ......... skipped: these tests are for testing by the author
t/author-pod-syntax.t ........ skipped: these tests are for testing by the author
t/release-check-changes.t .... skipped: these tests are for release candidate testing
t/release-dist-manifest.t .... skipped: these tests are for release candidate testing
t/release-distmeta.t ......... skipped: these tests are for release candidate testing
t/release-has-version.t ...... skipped: these tests are for release candidate testing
t/release-kwalitee.t ......... skipped: these tests are for release candidate testing
t/release-minimum-version.t .. skipped: these tests are for release candidate testing
t/release-portability.t ...... skipped: these tests are for release candidate testing
t/release-synopsis.t ......... skipped: these tests are for release candidate testing
t/release-unused-vars.t ...... skipped: these tests are for release candidate testing
All tests successful.
Files=17, Tests=3,  2 wallclock secs ( 0.03 usr  0.05 sys +  1.05 cusr  0.17 csys =  1.30 CPU)
Result: PASS

------------------------------
PREREQUISITES
------------------------------

Prerequisite modules loaded:

requires:

    Module                                          Need     Have    
    ----------------------------------------------- -------- --------
    Dist::Zilla::Plugin::AutoPrereqs                0        6.011   
    Dist::Zilla::Plugin::AutoVersion                0        6.011   
    Dist::Zilla::Plugin::Bugtracker                 0        1.111080
    Dist::Zilla::Plugin::CheckChangeLog             0        0.05    
    Dist::Zilla::Plugin::CopyFilesFromBuild         0        0.170880
    Dist::Zilla::Plugin::ExecDir                    0        6.011   
    Dist::Zilla::Plugin::ExtraTests                 0        6.011   
    Dist::Zilla::Plugin::GatherDir                  0        6.011   
    Dist::Zilla::Plugin::Git::Check                 0        2.043   
    Dist::Zilla::Plugin::Git::Commit                0        2.043   
    Dist::Zilla::Plugin::Git::Push                  0        2.043   
    Dist::Zilla::Plugin::Git::Tag                   0        2.043   
    Dist::Zilla::Plugin::HasVersionTests            0        1.101420
    Dist::Zilla::Plugin::Homepage                   0        1.101420
    Dist::Zilla::Plugin::InlineFiles                0        6.011   
    Dist::Zilla::Plugin::InstallGuide               0        1.200009
    Dist::Zilla::Plugin::License                    0        6.011   
    Dist::Zilla::Plugin::MakeMaker                  0        6.011   
    Dist::Zilla::Plugin::Manifest                   0        6.011   
    Dist::Zilla::Plugin::ManifestSkip               0        6.011   
    Dist::Zilla::Plugin::MetaJSON                   0        6.011   
    Dist::Zilla::Plugin::MetaProvides::Package      0        2.004003
    Dist::Zilla::Plugin::MetaTests                  0        6.011   
    Dist::Zilla::Plugin::MetaYAML                   0        6.011   
    Dist::Zilla::Plugin::NextRelease                0        6.011   
    Dist::Zilla::Plugin::PkgVersion                 0        6.011   
    Dist::Zilla::Plugin::Pod2Readme                 0        0.004   
    Dist::Zilla::Plugin::PodCoverageTests           0        6.011   
    Dist::Zilla::Plugin::PodSyntaxTests             0        6.011   
    Dist::Zilla::Plugin::PodWeaver                  0        4.008   
    Dist::Zilla::Plugin::PruneCruft                 0        6.011   
    Dist::Zilla::Plugin::PruneFiles                 0        6.011   
    Dist::Zilla::Plugin::Repository                 0        0.21    
    Dist::Zilla::Plugin::ShareDir                   0        6.011   
    Dist::Zilla::Plugin::Test::CheckChanges         0        2.000004
    Dist::Zilla::Plugin::Test::Compile              1.100220 2.058   
    Dist::Zilla::Plugin::Test::DistManifest         0        2.000005
    Dist::Zilla::Plugin::Test::EOL                  0        0.19    
    Dist::Zilla::Plugin::Test::Kwalitee             0        2.12    
    Dist::Zilla::Plugin::Test::MinimumVersion       0        2.000008
    Dist::Zilla::Plugin::Test::NoTabs               0        0.15    
    Dist::Zilla::Plugin::Test::Perl::Critic         0        3.001   
    Dist::Zilla::Plugin::Test::PodSpelling          0        2.007005
    Dist::Zilla::Plugin::Test::Portability          0        2.001000
    Dist::Zilla::Plugin::Test::ReportPrereqs        0        0.027   
    Dist::Zilla::Plugin::Test::Synopsis             0        2.000007
    Dist::Zilla::Plugin::Test::UnusedVars           0        2.000007
    Dist::Zilla::Plugin::UploadToCPAN               0        6.011   
    Dist::Zilla::PluginBundle::Git                  0        2.043   
    Dist::Zilla::Role::BundleDeps                   0        0.002005
    Dist::Zilla::Role::PluginBundle                 0        6.011   
    Dist::Zilla::Role::PluginBundle::Config::Slicer 0        0.202   
    Dist::Zilla::Role::PluginBundle::PluginRemover  0        0.105   
    Moose                                           0        2.2010  
    Moose::Autobox                                  0        0.16    
    perl                                            5.008    5.024004
    Pod::Weaver::PluginBundle::MARCEL               0        1.102460
    strict                                          0        1.11    
    Test::Synopsis                                  0        0.15    
    warnings                                        0        1.36    

build_requires:

    Module                                          Need     Have    
    ----------------------------------------------- -------- --------
    blib                                            1.01     1.06    
    ExtUtils::MakeMaker                             0        7.34    
    File::Spec                                      0        3.74    
    IO::Handle                                      0        1.36    
    IPC::Open3                                      0        1.20    
    Test::More                                      0        1.302133

configure_requires:

    Module                                          Need     Have    
    ----------------------------------------------- -------- --------
    ExtUtils::MakeMaker                             0        7.34    

opt_build_requires:

    Module                                          Need     Have    
    ----------------------------------------------- -------- --------
    CPAN::Meta                                      2.120900 2.150010


------------------------------
ENVIRONMENT AND OTHER CONTEXT
------------------------------

Environment variables:

    LANG = en_US.UTF-8
    LC_ALL = de_DE.UTF-8
    PATH = /usr/local/bin:/usr/bin:/bin:/usr/local/sbin:/usr/sbin:/sbin:/home/cpansand/bin/linux-gnu:/home/cpansand/bin/sh:/home/cpansand/bin:/usr/games:/home/cpansand/devel:/home/eserte/src/srezic-misc/scripts
    PERL5LIB = 
    PERL5OPT = 
    PERL5_CPANPLUS_IS_RUNNING = 2785
    PERL5_CPAN_IS_RUNNING = 2785
    PERL5_CPAN_IS_RUNNING_IN_RECURSION = 15283,2785
    PERLDOC = -MPod::Perldoc::ToTextOverstrike
    PERL_BATCH = yes
    PERL_CANARY_STABILITY_NOPROMPT = 1
    PERL_CPAN_REPORTER_CONFIG = /var/tmp/cpansmoker-1023/2018032603/cpanreporter_001_config.ini
    PERL_EXTUTILS_AUTOINSTALL = --defaultdeps
    PERL_PARALLEL_SMOKER = yes
    SHELL = /usr/bin/zsh
    TERM = screen
    TMPDIR = /var/tmp/cpansmoker-1023/2018032603

Perl special variables (and OS-specific diagnostics, for MSWin32):

    $^X = /opt/perl-5.24.4-RC1/bin/perl
    $UID/$EUID = 1023 / 1023
    $GID = 1023 1023
    $EGID = 1023 1023

Perl module toolchain versions installed:

    Module              Have    
    ------------------- --------
    CPAN                2.16    
    CPAN::Meta          2.150010
    Cwd                 3.74    
    ExtUtils::CBuilder  0.280230
    ExtUtils::Command   7.34    
    ExtUtils::Install   2.14    
    ExtUtils::MakeMaker 7.34    
    ExtUtils::Manifest  1.70    
    ExtUtils::ParseXS   3.35    
    File::Spec          3.74    
    JSON                2.97001 
    JSON::PP            2.97001 
    Module::Build       0.4224  
    Module::Signature   0.81    
    Parse::CPAN::Meta   2.150010
    Test::Harness       3.42    
    Test::More          1.302133
    YAML                1.24    
    YAML::Syck          1.30    
    version             0.9918  


--

Summary of my perl5 (revision 5 version 24 subversion 4) configuration:
   
  Platform:
    osname=linux, osvers=4.4.0-116-generic, archname=x86_64-linux
    uname='linux ubuntu16 4.4.0-116-generic #140-ubuntu smp mon feb 12 21:23:04 utc 2018 x86_64 x86_64 x86_64 gnulinux '
    config_args='-ds -e -Dprefix=/opt/perl-5.24.4-RC1 -Dcf_email=srezic@cpan.org'
    hint=recommended, useposix=true, d_sigaction=define
    useithreads=undef, usemultiplicity=undef
    use64bitint=define, use64bitall=define, uselongdouble=undef
    usemymalloc=n, bincompat5005=undef
  Compiler:
    cc='cc', ccflags ='-fwrapv -fno-strict-aliasing -pipe -fstack-protector-strong -I/usr/local/include -D_LARGEFILE_SOURCE -D_FILE_OFFSET_BITS=64',
    optimize='-O2',
    cppflags='-fwrapv -fno-strict-aliasing -pipe -fstack-protector-strong -I/usr/local/include'
    ccversion='', gccversion='5.4.0 20160609', gccosandvers=''
    intsize=4, longsize=8, ptrsize=8, doublesize=8, byteorder=12345678, doublekind=3
    d_longlong=define, longlongsize=8, d_longdbl=define, longdblsize=16, longdblkind=3
    ivtype='long', ivsize=8, nvtype='double', nvsize=8, Off_t='off_t', lseeksize=8
    alignbytes=8, prototype=define
  Linker and Libraries:
    ld='cc', ldflags =' -fstack-protector-strong -L/usr/local/lib'
    libpth=/usr/local/lib /usr/lib/gcc/x86_64-linux-gnu/5/include-fixed /usr/include/x86_64-linux-gnu /usr/lib /lib/x86_64-linux-gnu /lib/../lib /usr/lib/x86_64-linux-gnu /usr/lib/../lib /lib
    libs=-lpthread -lnsl -lgdbm -ldb -ldl -lm -lcrypt -lutil -lc -lgdbm_compat
    perllibs=-lpthread -lnsl -ldl -lm -lcrypt -lutil -lc
    libc=libc-2.23.so, so=so, useshrplib=false, libperl=libperl.a
    gnulibc_version='2.23'
  Dynamic Linking:
    dlsrc=dl_dlopen.xs, dlext=so, d_dlsymun=undef, ccdlflags='-Wl,-E'
    cccdlflags='-fPIC', lddlflags='-shared -O2 -L/usr/local/lib -fstack-protector-strong'


Characteristics of this binary (from libperl): 
  Compile-time options: HAS_TIMES PERLIO_LAYERS PERL_COPY_ON_WRITE
                        PERL_DONT_CREATE_GVSV
                        PERL_HASH_FUNC_ONE_AT_A_TIME_HARD PERL_MALLOC_WRAP
                        PERL_PRESERVE_IVUV USE_64_BIT_ALL USE_64_BIT_INT
                        USE_LARGE_FILES USE_LOCALE USE_LOCALE_COLLATE
                        USE_LOCALE_CTYPE USE_LOCALE_NUMERIC USE_LOCALE_TIME
                        USE_PERLIO USE_PERL_ATOF
  Locally applied patches:
	RC1
  Built under linux
  Compiled at Mar 24 2018 19:56:23
  %ENV:
    PERL5LIB=""
    PERL5OPT=""
    PERL5_CPANPLUS_IS_RUNNING="2785"
    PERL5_CPAN_IS_RUNNING="2785"
    PERL5_CPAN_IS_RUNNING_IN_RECURSION="15283,2785"
    PERLDOC="-MPod::Perldoc::ToTextOverstrike"
    PERL_BATCH="yes"
    PERL_CANARY_STABILITY_NOPROMPT="1"
    PERL_CPAN_REPORTER_CONFIG="/var/tmp/cpansmoker-1023/2018032603/cpanreporter_001_config.ini"
    PERL_EXTUTILS_AUTOINSTALL="--defaultdeps"
    PERL_PARALLEL_SMOKER="yes"
  @INC:
    /opt/perl-5.24.4-RC1/lib/site_perl/5.24.4/x86_64-linux
    /opt/perl-5.24.4-RC1/lib/site_perl/5.24.4
    /opt/perl-5.24.4-RC1/lib/5.24.4/x86_64-linux
    /opt/perl-5.24.4-RC1/lib/5.24.4
    .