Back
From: metabase:user:314402c4-2aae-11df-837a-5e0a49663a4f
Subject: PASS Test-NewVersion-0.003 v5.20.3 RC2 GNU/Linux
Date: 2015-09-02T17:01:48Z
This distribution has been tested as part of the CPAN Testers
project, supporting the Perl programming language.  See
http://wiki.cpantesters.org/ for more information or email
questions to cpan-testers-discuss@perl.org
--
Dear Karen Etheridge,
This is a computer-generated report for Test-NewVersion-0.003
on perl 5.20.3, created by CPAN-Reporter-1.2015.
Thank you for uploading your work to CPAN.  Congratulations!
All tests were successful.
Sections of this report:
    * Tester comments
    * Program output
    * Prerequisites
    * Environment and other context
------------------------------
TESTER COMMENTS
------------------------------
Additional comments from tester:
none provided
------------------------------
PROGRAM OUTPUT
------------------------------
Output from './Build test':
# 
# Versions for all modules listed in MYMETA.json (including optional ones):
# 
# === Configure Requires ===
# 
#     Module               Want  Have
#     ------------------- ----- -----
#     Module::Build::Tiny 0.039 0.039
# 
# === Test Requires ===
# 
#     Module               Want     Have
#     ------------------- ----- --------
#     Data::Dumper          any    2.154
#     ExtUtils::MakeMaker   any     7.00
#     File::Spec            any  3.48_01
#     File::pushd           any    1.009
#     Path::Tiny            any    0.072
#     Test::Deep            any    0.117
#     Test::More            any 1.001014
#     Test::Tester        0.108    0.114
#     Test::Warnings        any    0.021
#     if                    any   0.0603
#     lib                   any     0.63
# 
# === Test Recommends ===
# 
#     Module         Want     Have
#     ---------- -------- --------
#     CPAN::Meta 2.120900 2.150005
# 
# === Runtime Requires ===
# 
#     Module               Want     Have
#     ---------------- -------- --------
#     CPAN::Meta       2.120920 2.150005
#     Encode                any     2.76
#     Exporter              any     5.72
#     File::Find            any     1.27
#     File::Spec            any  3.48_01
#     HTTP::Headers         any     6.10
#     HTTP::Tiny            any    0.056
#     JSON::MaybeXS         any 1.003005
#     List::Util            any     1.42
#     Module::Metadata      any 1.000027
#     Test::Builder        0.88 1.001014
#     parent                any    0.234
#     strict                any     1.08
#     version               any   0.9912
#     warnings              any     1.23
# 
t/00-report-prereqs.t .. ok
t/01-basic.t ........... ok
t/03-pod.t ............. ok
t/04-blib.t ............ ok
All tests successful.
Files=4, Tests=7,  1 wallclock secs ( 0.04 usr  0.03 sys +  0.54 cusr  0.11 csys =  0.72 CPU)
Result: PASS
------------------------------
PREREQUISITES
------------------------------
Prerequisite modules loaded:
requires:
    Module              Need     Have    
    ------------------- -------- --------
    CPAN::Meta          2.120920 2.150005
    Encode              0        2.76    
    Exporter            0        5.72    
    File::Find          0        1.27    
    File::Spec          0        3.48_01 
    HTTP::Headers       0        6.10    
    HTTP::Tiny          0        0.056   
    JSON::MaybeXS       0        1.003005
    List::Util          0        1.42    
    Module::Metadata    0        1.000027
    parent              0        0.234   
    perl                5.006    5.020003
    strict              0        1.08    
    Test::Builder       0.88     1.001014
    version             0        0.9912  
    warnings            0        1.23    
build_requires:
    Module              Need     Have    
    ------------------- -------- --------
    Data::Dumper        0        2.154   
    ExtUtils::MakeMaker 0        7.00    
    File::pushd         0        1.009   
    File::Spec          0        3.48_01 
    if                  0        0.0603  
    lib                 0        0.63    
    Path::Tiny          0        0.072   
    perl                5.006    5.020003
    Test::Deep          0        0.117   
    Test::More          0        1.001014
    Test::Tester        0.108    0.114   
    Test::Warnings      0        0.021   
configure_requires:
    Module              Need     Have    
    ------------------- -------- --------
    Module::Build::Tiny 0.039    0.039   
    perl                5.006    5.020003
------------------------------
ENVIRONMENT AND OTHER CONTEXT
------------------------------
Environment variables:
    DBIC_NO_WARN_BAD_PERL = 1
    LANG = C
    LC_ALL = de_DE.UTF-8
    PATH = /usr/local/bin:/usr/bin:/bin:/usr/local/sbin:/usr/sbin:/sbin:/home/eserte/bin/linux-gnu:/home/eserte/bin/sh:/home/eserte/bin:/usr/games:/home/eserte/devel:/home/eserte/src/srezic-misc/scripts
    PERL5LIB = 
    PERL5OPT = 
    PERL5_CPANPLUS_IS_RUNNING = 28991
    PERL5_CPAN_IS_RUNNING = 28991
    PERL5_CPAN_IS_RUNNING_IN_RECURSION = 26226,28991
    PERLDOC = -MPod::Perldoc::ToTextOverstrike
    PERL_BATCH = yes
    PERL_CANARY_STABILITY_NOPROMPT = 1
    PERL_CPAN_REPORTER_CONFIG = /var/tmp/cpansmoker-1001/2015090215/cpanreporter_001_config.ini
    PERL_EXTUTILS_AUTOINSTALL = --defaultdeps
    PERL_PARALLEL_SMOKER = yes
    SHELL = /bin/zsh
    TERM = screen
    TMPDIR = /var/tmp/cpansmoker-1001/2015090215
Perl special variables (and OS-specific diagnostics, for MSWin32):
    $^X = /opt/perl-5.20.3-RC2/bin/perl
    $UID/$EUID = 1001 / 1001
    $GID = 1001 109 1001
    $EGID = 1001 109 1001
Perl module toolchain versions installed:
    Module              Have    
    ------------------- --------
    CPAN                2.05    
    CPAN::Meta          2.150005
    Cwd                 3.48_01 
    ExtUtils::CBuilder  0.280223
    ExtUtils::Command   7.06    
    ExtUtils::Install   1.67    
    ExtUtils::MakeMaker 7.00    
    ExtUtils::Manifest  1.70    
    ExtUtils::ParseXS   3.30    
    File::Spec          3.48_01 
    JSON                2.90    
    JSON::PP            2.27203 
    Module::Build       0.4214  
    Module::Signature   n/a     
    Parse::CPAN::Meta   1.4417  
    Test::Harness       3.35    
    Test::More          1.001014
    YAML                1.15    
    YAML::Syck          1.29    
    version             0.9912  
--
Summary of my perl5 (revision 5 version 20 subversion 3) configuration:
   
  Platform:
    osname=linux, osvers=3.2.0-4-amd64, archname=x86_64-linux
    uname='linux eserte 3.2.0-4-amd64 #1 smp debian 3.2.68-1+deb7u3 x86_64 gnulinux '
    config_args='-ds -e -Dprefix=/opt/perl-5.20.3-RC2 -Dcf_email=srezic@cpan.org'
    hint=recommended, useposix=true, d_sigaction=define
    useithreads=undef, usemultiplicity=undef
    use64bitint=define, use64bitall=define, uselongdouble=undef
    usemymalloc=n, bincompat5005=undef
  Compiler:
    cc='cc', ccflags ='-fwrapv -fno-strict-aliasing -pipe -fstack-protector -I/usr/local/include -D_LARGEFILE_SOURCE -D_FILE_OFFSET_BITS=64',
    optimize='-O2',
    cppflags='-fwrapv -fno-strict-aliasing -pipe -fstack-protector -I/usr/local/include'
    ccversion='', gccversion='4.7.2', gccosandvers=''
    intsize=4, longsize=8, ptrsize=8, doublesize=8, byteorder=12345678
    d_longlong=define, longlongsize=8, d_longdbl=define, longdblsize=16
    ivtype='long', ivsize=8, nvtype='double', nvsize=8, Off_t='off_t', lseeksize=8
    alignbytes=8, prototype=define
  Linker and Libraries:
    ld='cc', ldflags =' -fstack-protector -L/usr/local/lib'
    libpth=/usr/local/lib /usr/lib/gcc/x86_64-linux-gnu/4.7/include-fixed /usr/include/x86_64-linux-gnu /usr/lib /lib/x86_64-linux-gnu /lib/../lib /usr/lib/x86_64-linux-gnu /usr/lib/../lib /lib
    libs=-lpthread -lnsl -ldb -ldl -lm -lcrypt -lutil -lc
    perllibs=-lpthread -lnsl -ldl -lm -lcrypt -lutil -lc
    libc=libc-2.13.so, so=so, useshrplib=false, libperl=libperl.a
    gnulibc_version='2.13'
  Dynamic Linking:
    dlsrc=dl_dlopen.xs, dlext=so, d_dlsymun=undef, ccdlflags='-Wl,-E'
    cccdlflags='-fPIC', lddlflags='-shared -O2 -L/usr/local/lib -fstack-protector'
Characteristics of this binary (from libperl): 
  Compile-time options: HAS_TIMES PERLIO_LAYERS PERL_DONT_CREATE_GVSV
                        PERL_HASH_FUNC_ONE_AT_A_TIME_HARD PERL_MALLOC_WRAP
                        PERL_NEW_COPY_ON_WRITE PERL_PRESERVE_IVUV
                        USE_64_BIT_ALL USE_64_BIT_INT USE_LARGE_FILES
                        USE_LOCALE USE_LOCALE_COLLATE USE_LOCALE_CTYPE
                        USE_LOCALE_NUMERIC USE_PERLIO USE_PERL_ATOF
  Locally applied patches:
	RC2
  Built under linux
  Compiled at Sep  1 2015 18:14:29
  %ENV:
    PERL5LIB=""
    PERL5OPT=""
    PERL5_CPANPLUS_IS_RUNNING="28991"
    PERL5_CPAN_IS_RUNNING="28991"
    PERL5_CPAN_IS_RUNNING_IN_RECURSION="26226,28991"
    PERLDOC="-MPod::Perldoc::ToTextOverstrike"
    PERL_BATCH="yes"
    PERL_CANARY_STABILITY_NOPROMPT="1"
    PERL_CPAN_REPORTER_CONFIG="/var/tmp/cpansmoker-1001/2015090215/cpanreporter_001_config.ini"
    PERL_EXTUTILS_AUTOINSTALL="--defaultdeps"
    PERL_PARALLEL_SMOKER="yes"
  @INC:
    /opt/perl-5.20.3-RC2/lib/site_perl/5.20.3/x86_64-linux
    /opt/perl-5.20.3-RC2/lib/site_perl/5.20.3
    /opt/perl-5.20.3-RC2/lib/5.20.3/x86_64-linux
    /opt/perl-5.20.3-RC2/lib/5.20.3
    .