Back
From: metabase:user:9762ed18-1c33-11e1-8beb-fb37bdc4c604
Subject: PASS Dist-Zilla-Plugin-CheckChangesHasContent-0.006 v5.18.1 GNU/Linux
Date: 2013-10-11T20:32:51Z
This distribution has been tested as part of the CPAN Testers
project, supporting the Perl programming language. See
http://wiki.cpantesters.org/ for more information or email
questions to cpan-testers-discuss@perl.org
--
Dear David Golden,
This is a computer-generated report for Dist-Zilla-Plugin-CheckChangesHasContent-0.006
on perl 5.18.1, created by CPAN-Reporter-1.2010.
Thank you for uploading your work to CPAN. Congratulations!
All tests were successful.
Sections of this report:
* Tester comments
* Program output
* Prerequisites
* Environment and other context
------------------------------
TESTER COMMENTS
------------------------------
Additional comments from tester:
none provided
------------------------------
PROGRAM OUTPUT
------------------------------
Output from '/usr/bin/make test':
PERL_DL_NONLAZY=1 /home/kevin/perl5/perlbrew/perls/perl-5.18.1/bin/perl "-MExtUtils::Command::MM" "-MTest::Harness" "-e" "undef *Test::Harness::Switches; test_harness(0, 'blib/lib', 'blib/arch')" t/*.t
t/00-compile.t .............. ok
t/checkhascontent.t ......... ok
t/test_changeshascontent.t .. ok
All tests successful.
Files=3, Tests=41, 9 wallclock secs ( 0.05 usr 0.00 sys + 6.16 cusr 0.32 csys = 6.53 CPU)
Result: PASS
------------------------------
PREREQUISITES
------------------------------
Prerequisite modules loaded:
requires:
Module Need Have
-------------------------------- -------- --------
autodie 2.00 2.22
Dist::Zilla 2.100950 4.300039
Dist::Zilla::Plugin::InlineFiles 0 4.300039
Dist::Zilla::Role::BeforeRelease 0 4.300039
Dist::Zilla::Role::TextTemplate 0 4.300039
File::pushd 0 1.005
Moose 0.99 2.1005
namespace::autoclean 0.09 0.13
strict 0 1.07
warnings 0 1.18
build_requires:
Module Need Have
-------------------------------- -------- --------
Capture::Tiny 0 0.22
Cwd 0 3.40
Dist::Zilla::Tester 0 4.300039
File::Find 0 1.23
File::Temp 0 0.2302
Path::Class 0 0.32
Test::Harness 0 3.29
Test::More 0.88 0.98
Try::Tiny 0 0.18
configure_requires:
Module Need Have
-------------------------------- -------- --------
ExtUtils::MakeMaker 6.30 6.78
------------------------------
ENVIRONMENT AND OTHER CONTEXT
------------------------------
Environment variables:
LANG = en_GB.UTF-8
LANGUAGE = en_GB:en
LC_TIME = en_DK.utf8
PATH = /home/kevin/perl5/perlbrew/bin:/home/kevin/perl5/perlbrew/perls/perl-5.18.1/bin:/home/kevin/bin:/usr/lib/lightdm/lightdm:/usr/local/sbin:/usr/local/bin:/usr/sbin:/usr/bin:/sbin:/bin:/usr/games:/usr/local/games:/usr/lib/jvm/java-8-oracle/bin:/usr/lib/jvm/java-8-oracle/db/bin:/usr/lib/jvm/java-8-oracle/jre/bin:/home/kevin/rakudo/rakudo-star-2013.05/install/bin:/home/kevin/rakudo/rakudo-star-2013.05/:/home/kevin/.rvm/bin
PERL5LIB =
PERL5OPT =
PERL5_CPANPLUS_IS_RUNNING = 8855
PERL5_CPAN_IS_RUNNING = 8855
PERLBREW_BASHRC_VERSION = 0.66
PERLBREW_HOME = /home/kevin/.perlbrew
PERLBREW_MANPATH = /home/kevin/perl5/perlbrew/perls/perl-5.18.1/man
PERLBREW_PATH = /home/kevin/perl5/perlbrew/bin:/home/kevin/perl5/perlbrew/perls/perl-5.18.1/bin
PERLBREW_PERL = perl-5.18.1
PERLBREW_ROOT = /home/kevin/perl5/perlbrew
PERLBREW_VERSION = 0.66
SHELL = /bin/bash
TERM = xterm
Perl special variables (and OS-specific diagnostics, for MSWin32):
$^X = /home/kevin/perl5/perlbrew/perls/perl-5.18.1/bin/perl
$UID/$EUID = 1000 / 1000
$GID = 1000 4 6 20 21 24 25 26 29 30 39 40 44 46 104 105 112 119 122 126 1000 1001
$EGID = 1000 4 6 20 21 24 25 26 29 30 39 40 44 46 104 105 112 119 122 126 1000 1001
Perl module toolchain versions installed:
Module Have
------------------- --------
CPAN 2.00
CPAN::Meta 2.132661
Cwd 3.40
ExtUtils::CBuilder 0.280212
ExtUtils::Command 1.18
ExtUtils::Install 1.59
ExtUtils::MakeMaker 6.78
ExtUtils::Manifest 1.63
ExtUtils::ParseXS 3.22
File::Spec 3.40
JSON 2.59
JSON::PP 2.27202
Module::Build 0.4007
Module::Signature n/a
Parse::CPAN::Meta 1.4409
Test::Harness 3.29
Test::More 0.98
YAML 0.84
YAML::Syck n/a
version 0.9904
--
Summary of my perl5 (revision 5 version 18 subversion 1) configuration:
Platform:
osname=linux, osvers=3.8.0-28-generic, archname=i686-linux-thread-multi
uname='linux billy 3.8.0-28-generic #41-ubuntu smp fri jul 26 16:28:49 utc 2013 i686 i686 i686 gnulinux '
config_args='-de -Dprefix=/home/kevin/perl5/perlbrew/perls/perl-5.18.1 -Dusethreads -Aeval:scriptdir=/home/kevin/perl5/perlbrew/perls/perl-5.18.1/bin'
hint=recommended, useposix=true, d_sigaction=define
useithreads=define, usemultiplicity=define
useperlio=define, d_sfio=undef, uselargefiles=define, usesocks=undef
use64bitint=undef, use64bitall=undef, uselongdouble=undef
usemymalloc=n, bincompat5005=undef
Compiler:
cc='cc', ccflags ='-D_REENTRANT -D_GNU_SOURCE -fno-strict-aliasing -pipe -fstack-protector -I/usr/local/include -D_LARGEFILE_SOURCE -D_FILE_OFFSET_BITS=64',
optimize='-O2',
cppflags='-D_REENTRANT -D_GNU_SOURCE -fno-strict-aliasing -pipe -fstack-protector -I/usr/local/include'
ccversion='', gccversion='4.7.3', gccosandvers=''
intsize=4, longsize=4, ptrsize=4, doublesize=8, byteorder=1234
d_longlong=define, longlongsize=8, d_longdbl=define, longdblsize=12
ivtype='long', ivsize=4, nvtype='double', nvsize=8, Off_t='off_t', lseeksize=8
alignbytes=4, prototype=define
Linker and Libraries:
ld='cc', ldflags =' -fstack-protector -L/usr/local/lib'
libpth=/usr/local/lib /lib/i386-linux-gnu /lib/../lib /usr/lib/i386-linux-gnu /usr/lib/../lib /lib /usr/lib
libs=-lnsl -ldl -lm -lcrypt -lutil -lpthread -lc
perllibs=-lnsl -ldl -lm -lcrypt -lutil -lpthread -lc
libc=, so=so, useshrplib=false, libperl=libperl.a
gnulibc_version='2.17'
Dynamic Linking:
dlsrc=dl_dlopen.xs, dlext=so, d_dlsymun=undef, ccdlflags='-Wl,-E'
cccdlflags='-fPIC', lddlflags='-shared -O2 -L/usr/local/lib -fstack-protector'
Characteristics of this binary (from libperl):
Compile-time options: HAS_TIMES MULTIPLICITY PERLIO_LAYERS
PERL_DONT_CREATE_GVSV
PERL_HASH_FUNC_ONE_AT_A_TIME_HARD
PERL_IMPLICIT_CONTEXT PERL_MALLOC_WRAP
PERL_PRESERVE_IVUV PERL_SAWAMPERSAND USE_ITHREADS
USE_LARGE_FILES USE_LOCALE USE_LOCALE_COLLATE
USE_LOCALE_CTYPE USE_LOCALE_NUMERIC USE_PERLIO
USE_PERL_ATOF USE_REENTRANT_API
Built under linux
Compiled at Aug 17 2013 10:49:41
%ENV:
PERL5LIB=""
PERL5OPT=""
PERL5_CPANPLUS_IS_RUNNING="8855"
PERL5_CPAN_IS_RUNNING="8855"
PERLBREW_BASHRC_VERSION="0.66"
PERLBREW_HOME="/home/kevin/.perlbrew"
PERLBREW_MANPATH="/home/kevin/perl5/perlbrew/perls/perl-5.18.1/man"
PERLBREW_PATH="/home/kevin/perl5/perlbrew/bin:/home/kevin/perl5/perlbrew/perls/perl-5.18.1/bin"
PERLBREW_PERL="perl-5.18.1"
PERLBREW_ROOT="/home/kevin/perl5/perlbrew"
PERLBREW_VERSION="0.66"
@INC:
/home/kevin/perl5/perlbrew/perls/perl-5.18.1/lib/site_perl/5.18.1/i686-linux-thread-multi
/home/kevin/perl5/perlbrew/perls/perl-5.18.1/lib/site_perl/5.18.1
/home/kevin/perl5/perlbrew/perls/perl-5.18.1/lib/5.18.1/i686-linux-thread-multi
/home/kevin/perl5/perlbrew/perls/perl-5.18.1/lib/5.18.1
.