Acme-CPANAuthors-You-re_using v0.08 Perl 5 v5.32.1 i386-openbsd

Status
Pass
From
Alceu Rodrigues de Freitas Junior
Dist
Acme-CPANAuthors-You-re_using v0.08
Platform
Perl 5 v5.32.1 i386-openbsd
Date
2022-06-16 14:12:04
ID
4c7a8234-ed7e-11ec-b737-db65ffa5fe2c
This distribution has been tested as part of the CPAN Testers
project, supporting the Perl programming language.  See
http://wiki.cpantesters.org/ for more information or email
questions to cpan-testers-discuss@perl.org


--
Dear Vincent Pit,

This is a computer-generated report for Acme-CPANAuthors-You-re_using-0.08
on perl 5.32.1, created by CPAN-Reporter-1.2018.

Thank you for uploading your work to CPAN.  Congratulations!
All tests were successful.

Sections of this report:

    * Tester comments
    * Program output
    * Prerequisites
    * Environment and other context

------------------------------
TESTER COMMENTS
------------------------------

Additional comments from tester:

this report is from an automated smoke testing program
and was not reviewed by a human for accuracy

------------------------------
PROGRAM OUTPUT
------------------------------

Output from '/usr/bin/make test':

PERL_DL_NONLAZY=1 "/usr/bin/perl" "-MExtUtils::Command::MM" "-MTest::Harness" "-e" "undef *Test::Harness::Switches; test_harness(0, 'blib/lib', 'blib/arch')" t/*.t
Old package separator used in string at t/00-load.t line 14.
	(Did you mean "$Acme::CPANAuthors::You\'re_using::VERSION" instead?)
# Testing Acme::CPANAuthors::You're_using 0.08, Perl 5.032001, /usr/bin/perl
t/00-load.t ............. ok
# Directories in @INC :
#   /mnt/cpan_build_dir/goku/Acme-CPANAuthors-You-re_using-0.08-0/blib/lib
#   /mnt/cpan_build_dir/goku/Acme-CPANAuthors-You-re_using-0.08-0/blib/arch
#   /home/goku/perl5/lib/perl5/i386-openbsd
#   /home/goku/perl5/lib/perl5/i386-openbsd
#   /home/goku/perl5/lib/perl5
#   /home/goku/perl5/lib/perl5/i386-openbsd
#   /home/goku/perl5/lib/perl5
#   /usr/local/libdata/perl5/site_perl/i386-openbsd
#   /usr/local/libdata/perl5/site_perl
#   /usr/libdata/perl5/i386-openbsd
#   /usr/libdata/perl5
# Error evaling version line ' my $dummy = q#  Hide from _packages_inside()
#     #; package Module::Metadata::_version::p9097;
#     use version;
#     sub {
#       local $VERSION;
#       our $VERSION = [% version.perl %];;
#       return $VERSION if defined $VERSION;
#       return $Module::Metadata::_version::p9097::VERSION;
#     };
#   ' in /home/goku/perl5/lib/perl5/auto/share/dist/App-TemplateCMD/perl/package.pm: syntax error at (eval 9134) line 6, near "%]"
# 
# Error evaling version line ' my $dummy = q#  Hide from _packages_inside()
#     #; package Module::Metadata::_version::p12906;
#     use version;
#     sub {
#       local $Attr::Trait::VERSION;
#       $Attr::Trait::VERSION = '0.40';use Mouse::Role;around _process_options=>sub{my$orig=shift;my$c=shift;my($n,$o)=@_;$o->{is}||='rw';$o->{lazy}||=1 if defined$o->{default}or defined$o->{builder};$c->$orig(@_)};$INC{'Attr/Trait.pm'}=1};
#       return $Attr::Trait::VERSION if defined $Attr::Trait::VERSION;
#       return $Module::Metadata::_version::p12906::Attr::Trait::VERSION;
#     };
#   ' in /home/goku/perl5/lib/perl5/Mo/Mouse.pm: Unmatched right curly bracket at (eval 12946) line 9, at end of line
# syntax error at (eval 12946) line 9, near ";
#     }"
# 
# Error evaling version line ' my $dummy = q#  Hide from _packages_inside()
#     #; package Module::Metadata::_version::p12909;
#     use version;
#     sub {
#       local $Attr::Trait::VERSION;
#       $Attr::Trait::VERSION = '0.40';use Moose::Role;around _process_options=>sub{my$orig=shift;my$c=shift;my($n,$o)=@_;$o->{is}||='rw';$o->{lazy}||=1 if defined$o->{default}or defined$o->{builder};$c->$orig(@_)};$INC{'Attr/Trait.pm'}=1};
#       return $Attr::Trait::VERSION if defined $Attr::Trait::VERSION;
#       return $Module::Metadata::_version::p12909::Attr::Trait::VERSION;
#     };
#   ' in /home/goku/perl5/lib/perl5/Mo/Moose.pm: Unmatched right curly bracket at (eval 12950) line 9, at end of line
# syntax error at (eval 12950) line 9, near ";
#     }"
# 
# Error evaling version line ' my $dummy = q#  Hide from _packages_inside()
#     #; package Module::Metadata::_version::p30413;
#     use version;
#     sub {
#       local $VERSION;
#       our $VERSION = [% version.perl %];;
#       return $VERSION if defined $VERSION;
#       return $Module::Metadata::_version::p30413::VERSION;
#     };
#   ' in /home/goku/perl5/lib/perl5/auto/share/dist/App-TemplateCMD/perl/package.pm: syntax error at (eval 30621) line 6, near "%]"
# 
# Error evaling version line ' my $dummy = q#  Hide from _packages_inside()
#     #; package Module::Metadata::_version::p34222;
#     use version;
#     sub {
#       local $Attr::Trait::VERSION;
#       $Attr::Trait::VERSION = '0.40';use Mouse::Role;around _process_options=>sub{my$orig=shift;my$c=shift;my($n,$o)=@_;$o->{is}||='rw';$o->{lazy}||=1 if defined$o->{default}or defined$o->{builder};$c->$orig(@_)};$INC{'Attr/Trait.pm'}=1};
#       return $Attr::Trait::VERSION if defined $Attr::Trait::VERSION;
#       return $Module::Metadata::_version::p34222::Attr::Trait::VERSION;
#     };
#   ' in /home/goku/perl5/lib/perl5/Mo/Mouse.pm: Unmatched right curly bracket at (eval 34430) line 9, at end of line
# syntax error at (eval 34430) line 9, near ";
#     }"
# 
# Error evaling version line ' my $dummy = q#  Hide from _packages_inside()
#     #; package Module::Metadata::_version::p34225;
#     use version;
#     sub {
#       local $Attr::Trait::VERSION;
#       $Attr::Trait::VERSION = '0.40';use Moose::Role;around _process_options=>sub{my$orig=shift;my$c=shift;my($n,$o)=@_;$o->{is}||='rw';$o->{lazy}||=1 if defined$o->{default}or defined$o->{builder};$c->$orig(@_)};$INC{'Attr/Trait.pm'}=1};
#       return $Attr::Trait::VERSION if defined $Attr::Trait::VERSION;
#       return $Module::Metadata::_version::p34225::Attr::Trait::VERSION;
#     };
#   ' in /home/goku/perl5/lib/perl5/Mo/Moose.pm: Unmatched right curly bracket at (eval 34433) line 9, at end of line
# syntax error at (eval 34433) line 9, near ";
#     }"
# 
# 1095 authors found
t/10-base.t ............. ok
# Error evaling version line ' my $dummy = q#  Hide from _packages_inside()
#     #; package Module::Metadata::_version::p7852;
#     use version;
#     sub {
#       local $VERSION;
#       our $VERSION = [% version.perl %];;
#       return $VERSION if defined $VERSION;
#       return $Module::Metadata::_version::p7852::VERSION;
#     };
#   ' in /home/goku/perl5/lib/perl5/auto/share/dist/App-TemplateCMD/perl/package.pm: syntax error at (eval 7889) line 6, near "%]"
# 
# Error evaling version line ' my $dummy = q#  Hide from _packages_inside()
#     #; package Module::Metadata::_version::p11661;
#     use version;
#     sub {
#       local $Attr::Trait::VERSION;
#       $Attr::Trait::VERSION = '0.40';use Mouse::Role;around _process_options=>sub{my$orig=shift;my$c=shift;my($n,$o)=@_;$o->{is}||='rw';$o->{lazy}||=1 if defined$o->{default}or defined$o->{builder};$c->$orig(@_)};$INC{'Attr/Trait.pm'}=1};
#       return $Attr::Trait::VERSION if defined $Attr::Trait::VERSION;
#       return $Module::Metadata::_version::p11661::Attr::Trait::VERSION;
#     };
#   ' in /home/goku/perl5/lib/perl5/Mo/Mouse.pm: Unmatched right curly bracket at (eval 11701) line 9, at end of line
# syntax error at (eval 11701) line 9, near ";
#     }"
# 
# Error evaling version line ' my $dummy = q#  Hide from _packages_inside()
#     #; package Module::Metadata::_version::p11664;
#     use version;
#     sub {
#       local $Attr::Trait::VERSION;
#       $Attr::Trait::VERSION = '0.40';use Moose::Role;around _process_options=>sub{my$orig=shift;my$c=shift;my($n,$o)=@_;$o->{is}||='rw';$o->{lazy}||=1 if defined$o->{default}or defined$o->{builder};$c->$orig(@_)};$INC{'Attr/Trait.pm'}=1};
#       return $Attr::Trait::VERSION if defined $Attr::Trait::VERSION;
#       return $Module::Metadata::_version::p11664::Attr::Trait::VERSION;
#     };
#   ' in /home/goku/perl5/lib/perl5/Mo/Moose.pm: Unmatched right curly bracket at (eval 11705) line 9, at end of line
# syntax error at (eval 11705) line 9, near ";
#     }"
# 
t/11-naughty-version.t .. ok
All tests successful.
Files=3, Tests=8, 303 wallclock secs ( 0.04 usr  0.01 sys + 187.77 cusr 70.12 csys = 257.94 CPU)
Result: PASS

------------------------------
PREREQUISITES
------------------------------

Prerequisite modules loaded:

requires:

    Module              Need     Have    
    ------------------- -------- --------
    Acme::CPANAuthors   0.16     0.26    
    File::Find          0        1.37    
    Module::Metadata    1.000017 1.000037
    perl                5.006    5.032001

build_requires:

    Module              Need     Have    
    ------------------- -------- --------
    Acme::CPANAuthors   0.16     0.26    
    ExtUtils::MakeMaker 0        7.65_01 
    File::Find          0        1.37    
    lib                 0        0.65    
    Module::Metadata    1.000017 1.000037
    Test::More          0        1.302190

configure_requires:

    Module              Need     Have    
    ------------------- -------- --------
    ExtUtils::MakeMaker 0        7.65_01 


------------------------------
ENVIRONMENT AND OTHER CONTEXT
------------------------------

Environment variables:

    AUTOMATED_TESTING = 1
    PATH = /home/goku/perl5/bin:/usr/bin:/bin:/usr/sbin:/sbin:/usr/X11R6/bin:/usr/local/bin:/usr/local/sbin
    PERL5LIB = /home/goku/perl5/lib/perl5
    PERL5OPT = 
    PERL5_CPANPLUS_IS_RUNNING = 3070
    PERL5_CPAN_IS_RUNNING = 3070
    PERL5_CPAN_IS_RUNNING_IN_RECURSION = 6441,3070
    PERL_CR_SMOKER_CURRENT = Task-CPANAuthors-1.006
    PERL_EXTUTILS_AUTOINSTALL = --defaultdeps
    PERL_LOCAL_LIB_ROOT = /home/goku/perl5
    PERL_MB_OPT = --install_base "/home/goku/perl5"
    PERL_MM_OPT = INSTALL_BASE=/home/goku/perl5
    PERL_MM_USE_DEFAULT = 1
    PERL_USE_UNSAFE_INC = 1
    SHELL = /bin/ksh
    TERM = xterm-256color

Perl special variables (and OS-specific diagnostics, for MSWin32):

    $^X = /usr/bin/perl
    $UID/$EUID = 1001 / 1001
    $GID = 1002 1002 1001
    $EGID = 1002 1002 1001

Perl module toolchain versions installed:

    Module              Have    
    ------------------- --------
    CPAN                2.34    
    CPAN::Meta          2.150010
    Cwd                 3.78    
    ExtUtils::CBuilder  0.280236
    ExtUtils::Command   7.65_01 
    ExtUtils::Install   2.20    
    ExtUtils::MakeMaker 7.65_01 
    ExtUtils::Manifest  1.72    
    ExtUtils::ParseXS   3.44    
    File::Spec          3.78    
    JSON                4.06    
    JSON::PP            4.09    
    Module::Build       0.4231  
    Module::Signature   n/a     
    Parse::CPAN::Meta   2.150010
    Test::Harness       3.44    
    Test::More          1.302190
    YAML                1.30    
    YAML::Syck          1.34    
    version             0.9929  


--

Summary of my perl5 (revision 5 version 32 subversion 1) configuration:
   
  Platform:
    osname=openbsd
    osvers=7.1
    archname=i386-openbsd
    uname='openbsd'
    config_args='-dse -Dopenbsd_distribution=defined -Dmksymlinks'
    hint=recommended
    useposix=true
    d_sigaction=define
    useithreads=undef
    usemultiplicity=undef
    use64bitint=undef
    use64bitall=undef
    uselongdouble=undef
    usemymalloc=n
    default_inc_excludes_dot=define
    bincompat5005=undef
  Compiler:
    cc='cc'
    ccflags ='-DNO_LOCALE_NUMERIC -DNO_LOCALE_COLLATE -fno-strict-aliasing -fno-delete-null-pointer-checks -pipe -fstack-protector-strong -I/usr/local/include'
    optimize='-O2'
    cppflags='-DBIG_TIME -DNO_LOCALE_NUMERIC -DNO_LOCALE_COLLATE -fno-strict-aliasing -fno-delete-null-pointer-checks -pipe -fstack-protector-strong -I/usr/local/include'
    ccversion=''
    gccversion='OpenBSD Clang 13.0.0'
    gccosandvers=''
    intsize=4
    longsize=4
    ptrsize=4
    doublesize=8
    byteorder=1234
    doublekind=3
    d_longlong=define
    longlongsize=8
    d_longdbl=define
    longdblsize=12
    longdblkind=3
    ivtype='long'
    ivsize=4
    nvtype='double'
    nvsize=8
    Off_t='off_t'
    lseeksize=8
    alignbytes=4
    prototype=define
  Linker and Libraries:
    ld='cc'
    ldflags ='-Wl,-E  -fstack-protector-strong -L/usr/local/lib'
    libpth=/usr/lib /usr/lib/clang/13.0.0/lib /usr/lib
    libs=-lm -lc
    perllibs=-lm -lc
    libc=/usr/lib/libc.so.96.1
    so=so
    useshrplib=true
    libperl=libperl.so.22.0
    gnulibc_version=''
  Dynamic Linking:
    dlsrc=dl_dlopen.xs
    dlext=so
    d_dlsymun=undef
    ccdlflags='-Wl,-R/usr/libdata/perl5/i386-openbsd/CORE'
    cccdlflags='-DPIC -fpic '
    lddlflags='-shared -fpic  -fstack-protector-strong -L/usr/local/lib'


Characteristics of this binary (from libperl): 
  Compile-time options:
    HAS_TIMES
    PERLIO_LAYERS
    PERL_COPY_ON_WRITE
    PERL_DONT_CREATE_GVSV
    PERL_MALLOC_WRAP
    PERL_OP_PARENT
    PERL_PRESERVE_IVUV
    USE_LARGE_FILES
    USE_LOCALE
    USE_LOCALE_CTYPE
    USE_LOCALE_TIME
    USE_PERLIO
    USE_PERL_ATOF
  Built under openbsd
  %ENV:
    PERL5LIB="/home/goku/perl5/lib/perl5"
    PERL5OPT=""
    PERL5_CPANPLUS_IS_RUNNING="3070"
    PERL5_CPAN_IS_RUNNING="3070"
    PERL5_CPAN_IS_RUNNING_IN_RECURSION="6441,3070"
    PERL_CR_SMOKER_CURRENT="Task-CPANAuthors-1.006"
    PERL_EXTUTILS_AUTOINSTALL="--defaultdeps"
    PERL_LOCAL_LIB_ROOT="/home/goku/perl5"
    PERL_MB_OPT="--install_base "/home/goku/perl5""
    PERL_MM_OPT="INSTALL_BASE=/home/goku/perl5"
    PERL_MM_USE_DEFAULT="1"
    PERL_USE_UNSAFE_INC="1"
  @INC:
    /home/goku/perl5/lib/perl5/i386-openbsd
    /home/goku/perl5/lib/perl5
    /usr/local/libdata/perl5/site_perl/i386-openbsd
    /usr/local/libdata/perl5/site_perl
    /usr/libdata/perl5/i386-openbsd
    /usr/libdata/perl5
    .