Back
From: metabase:user:838e5b0a-2bb6-1016-a696-43a2537fa0c6
Subject: PASS Module-AnyEvent-Helper-v0.0.5 v5.12.3
Date: 2012-11-13T12:25:55Z
This distribution has been tested as part of the CPAN Testers
project, supporting the Perl programming language. See
http://wiki.cpantesters.org/ for more information or email
questions to cpan-testers-discuss@perl.org
--
Dear Yasutaka ATARASHI,
This is a computer-generated report for Module-AnyEvent-Helper-v0.0.5
on perl 5.12.3, created by CPAN-Reporter-1.2006.
Thank you for uploading your work to CPAN. Congratulations!
All tests were successful.
Sections of this report:
* Tester comments
* Program output
* Prerequisites
* Environment and other context
------------------------------
TESTER COMMENTS
------------------------------
Additional comments from tester:
this report is from an automated smoke testing program
and was not reviewed by a human for accuracy
------------------------------
PROGRAM OUTPUT
------------------------------
Output from 'C:\strawberry\c\bin\dmake.EXE test':
C:\strawberry\perl\bin\perl.exe "-MExtUtils::Command::MM" "-e" "test_harness(0, 'blib\lib', 'blib\arch')" t/*.t
t/01_export.t ......................... ok
t/02_nest.t ........................... ok
t/03_transform.t ...................... ok
t/04_filter.t ......................... ok
t/05_transform4args.t ................. ok
t/06_filter4args.t .................... ok
t/07_filter_notexistent_transormer.t .. ok
t/08_filter_transformer.t ............. ok
t/09_transform_method.t ............... ok
t/10_filter_method.t .................. ok
t/11_transform_array.t ................ ok
t/12_filter_array.t ................... ok
t/13_export_function.t ................ ok
t/14_class_method.t ................... ok
t/15_exclude.t ........................ ok
t/author-critic.t ..................... skipped: these tests are for testing by the author
t/release-kwalitee.t .................. skipped: these tests are for release candidate testing
t/release-pod-coverage.t .............. skipped: these tests are for release candidate testing
t/release-pod-syntax.t ................ skipped: these tests are for release candidate testing
All tests successful.
Files=19, Tests=105, 18 wallclock secs ( 0.09 usr + 0.14 sys = 0.23 CPU)
Result: PASS
------------------------------
PREREQUISITES
------------------------------
Prerequisite modules loaded:
requires:
Module Need Have
------------------------ ---- ------
AnyEvent 0 7.02
Filter::PPI::Transform 0 v0.0.2
Filter::Simple 0 0.88
filtered 0 v0.0.6
parent 0 0.225
PPI 0 1.215
PPI::Transform::Sequence 0 v0.0.2
Scalar::Util 0 1.25
Try::Tiny 0 0.11
build_requires:
Module Need Have
------------------------ ---- ------
Test::Exception 0 0.31
configure_requires:
Module Need Have
------------------------ ---- ------
ExtUtils::MakeMaker 6.30 6.62
------------------------------
ENVIRONMENT AND OTHER CONTEXT
------------------------------
Environment variables:
AUTOMATED_TESTING = 1
COMSPEC = C:\Windows\system32\cmd.exe
NUMBER_OF_PROCESSORS = 8
PATH = C:\Program Files\MiKTeX\2.9\miktex\bin;C:\Windows\system32;C:\Windows;C:\Windows\System32\Wbem;C:\Windows\System32\WindowsPowerShell\v1.0\;C:\rv\BIN;c:\Program Files\Microsoft SQL Server\100\Tools\Binn\;c:\Program Files\Microsoft SQL Server\100\DTS\Binn\;C:\strawberry\c\bin;C:\strawberry\perl\site\bin;C:\strawberry\perl\bin;C:\Program Files\Common Files\Roxio Shared\9.0\DLLShared\;C:\Program Files\Microsoft SQL Server\100\Tools\Binn\VSShell\Common7\IDE\;C:\Program Files\Microsoft Visual Studio 9.0\Common7\IDE\PrivateAssemblies\;C:\Program Files\ooRexx;C:\Program Files\Microsoft SQL Server\80\Tools\Binn\;C:\Program Files\Microsoft SQL Server\90\Tools\binn\;C:\Program Files\Microsoft SQL Server\90\DTS\Binn\;C:\Program Files\Microsoft SQL Server\90\Tools\Binn\VSShell\Common7\IDE\;C:\Program Files\Microsoft Visual Studio 8\Common7\IDE\PrivateAssemblies\;C:\Program Files\TortoiseSVN\bin;C:\Program Files\MIT\Kerberos\bin;C:\Windows\System32\WindowsPowerShell\v1.0\;C:\Users\DSolimano\AppData\Local\Fidessa\systemfiles
PERL5LIB = C:\strawberry\cpan\build\Filter-PPI-Transform-v0.0.2-HEFLlC/blib/arch;C:\strawberry\cpan\build\Filter-PPI-Transform-v0.0.2-HEFLlC/blib/lib;C:\strawberry\cpan\build\PPI-Transform-Sequence-v0.0.2-SlbbF8/blib/arch;C:\strawberry\cpan\build\PPI-Transform-Sequence-v0.0.2-SlbbF8/blib/lib;C:\strawberry\cpan\build\filtered-v0.0.6-PZyEXF/blib/arch;C:\strawberry\cpan\build\filtered-v0.0.6-PZyEXF/blib/lib;C:\strawberry\cpan\build\AnyEvent-7.02-oI4LTd/blib/arch;C:\strawberry\cpan\build\AnyEvent-7.02-oI4LTd/blib/lib
PERL5OPT =
PERL5_CPANPLUS_IS_RUNNING = 8852
PERL5_CPAN_IS_RUNNING = 8852
PERL5_CPAN_IS_RUNNING_IN_RECURSION = 6944,8852
PERL_CR_SMOKER_CURRENT = Module-AnyEvent-Helper-v0.0.5
PERL_EXTUTILS_AUTOINSTALL = --defaultdeps
PERL_JSON_BACKEND = JSON::XS
PERL_MM_USE_DEFAULT = 1
PERL_YAML_BACKEND = YAML
PROCESSOR_IDENTIFIER = x86 Family 6 Model 23 Stepping 6, GenuineIntel
TEMP = C:\Users\DSOLIM~1\AppData\Local\Temp
TERM = dumb
Perl special variables (and OS-specific diagnostics, for MSWin32):
$^X = C:\strawberry\perl\bin\perl.exe
$UID/$EUID = 0 / 0
$GID = 0
$EGID = 0
Win32::GetOSName = Win7
Win32::GetOSVersion = Service Pack 1, 6, 1, 7601, 2, 1, 0, 256, 1
Win32::FsType = NTFS
Win32::IsAdminUser = 1
Perl module toolchain versions installed:
Module Have
------------------- --------
CPAN 1.9800
CPAN::Meta 2.120921
Cwd 3.33
ExtUtils::CBuilder 0.280205
ExtUtils::Command 1.17
ExtUtils::Install 1.55
ExtUtils::MakeMaker 6.62
ExtUtils::Manifest 1.60
ExtUtils::ParseXS 3.15
File::Spec 3.33
JSON 2.53
JSON::PP 2.27200
Module::Build 0.4002
Module::Signature 0.68
Parse::CPAN::Meta 1.4404
Test::Harness 3.25
Test::More 0.98
YAML 0.84
YAML::Syck 1.20
version 0.99
--
Summary of my perl5 (revision 5 version 12 subversion 3) configuration:
Platform:
osname=MSWin32, osvers=5.1, archname=MSWin32-x86-multi-thread
uname='Win32 strawberryperl 5.12.3.0 #1 Sun May 15 09:44:53 2011 i386'
config_args='undef'
hint=recommended, useposix=true, d_sigaction=undef
useithreads=define, usemultiplicity=define
useperlio=define, d_sfio=undef, uselargefiles=define, usesocks=undef
use64bitint=undef, use64bitall=undef, uselongdouble=undef
usemymalloc=n, bincompat5005=undef
Compiler:
cc='gcc', ccflags =' -s -O2 -DWIN32 -DHAVE_DES_FCRYPT -DUSE_SITECUSTOMIZE -DPERL_IMPLICIT_CONTEXT -DPERL_IMPLICIT_SYS -fno-strict-aliasing -mms-bitfields -DPERL_MSVCRT_READFIX',
optimize='-s -O2',
cppflags='-DWIN32'
ccversion='', gccversion='4.4.3', gccosandvers=''
intsize=4, longsize=4, ptrsize=4, doublesize=8, byteorder=1234
d_longlong=undef, longlongsize=8, d_longdbl=define, longdblsize=12
ivtype='long', ivsize=4, nvtype='double', nvsize=8, Off_t='long long', lseeksize=8
alignbytes=8, prototype=define
Linker and Libraries:
ld='g++', ldflags ='-s -L"C:\strawberry\perl\lib\CORE" -L"C:\strawberry\c\lib"'
libpth=C:\strawberry\c\lib C:\strawberry\c\i686-w64-mingw32\lib
libs=-lmoldname -lkernel32 -luser32 -lgdi32 -lwinspool -lcomdlg32 -ladvapi32 -lshell32 -lole32 -loleaut32 -lnetapi32 -luuid -lws2_32 -lmpr -lwinmm -lversion -lodbc32 -lodbccp32 -lcomctl32
perllibs=-lmoldname -lkernel32 -luser32 -lgdi32 -lwinspool -lcomdlg32 -ladvapi32 -lshell32 -lole32 -loleaut32 -lnetapi32 -luuid -lws2_32 -lmpr -lwinmm -lversion -lodbc32 -lodbccp32 -lcomctl32
libc=, so=dll, useshrplib=true, libperl=libperl512.a
gnulibc_version=''
Dynamic Linking:
dlsrc=dl_win32.xs, dlext=dll, d_dlsymun=undef, ccdlflags=' '
cccdlflags=' ', lddlflags='-mdll -s -L"C:\strawberry\perl\lib\CORE" -L"C:\strawberry\c\lib"'
Characteristics of this binary (from libperl):
Compile-time options: MULTIPLICITY PERL_DONT_CREATE_GVSV
PERL_IMPLICIT_CONTEXT PERL_IMPLICIT_SYS
PERL_MALLOC_WRAP PL_OP_SLAB_ALLOC USE_ITHREADS
USE_LARGE_FILES USE_PERLIO USE_PERL_ATOF
USE_SITECUSTOMIZE
Built under MSWin32
Compiled at May 15 2011 17:02:01
%ENV:
PERL5LIB="C:\strawberry\cpan\build\Filter-PPI-Transform-v0.0.2-HEFLlC/blib/arch;C:\strawberry\cpan\build\Filter-PPI-Transform-v0.0.2-HEFLlC/blib/lib;C:\strawberry\cpan\build\PPI-Transform-Sequence-v0.0.2-SlbbF8/blib/arch;C:\strawberry\cpan\build\PPI-Transform-Sequence-v0.0.2-SlbbF8/blib/lib;C:\strawberry\cpan\build\filtered-v0.0.6-PZyEXF/blib/arch;C:\strawberry\cpan\build\filtered-v0.0.6-PZyEXF/blib/lib;C:\strawberry\cpan\build\AnyEvent-7.02-oI4LTd/blib/arch;C:\strawberry\cpan\build\AnyEvent-7.02-oI4LTd/blib/lib"
PERL5_CPANPLUS_IS_RUNNING="8852"
PERL5_CPAN_IS_RUNNING="8852"
PERL5_CPAN_IS_RUNNING_IN_RECURSION="6944,8852"
PERL_CR_SMOKER_CURRENT="Module-AnyEvent-Helper-v0.0.5"
PERL_EXTUTILS_AUTOINSTALL="--defaultdeps"
PERL_JSON_BACKEND="JSON::XS"
PERL_MM_USE_DEFAULT="1"
PERL_YAML_BACKEND="YAML"
@INC:
C:\strawberry\cpan\build\Filter-PPI-Transform-v0.0.2-HEFLlC/blib/arch
C:\strawberry\cpan\build\Filter-PPI-Transform-v0.0.2-HEFLlC/blib/lib
C:\strawberry\cpan\build\PPI-Transform-Sequence-v0.0.2-SlbbF8/blib/arch
C:\strawberry\cpan\build\PPI-Transform-Sequence-v0.0.2-SlbbF8/blib/lib
C:\strawberry\cpan\build\filtered-v0.0.6-PZyEXF/blib/arch
C:\strawberry\cpan\build\filtered-v0.0.6-PZyEXF/blib/lib
C:\strawberry\cpan\build\AnyEvent-7.02-oI4LTd/blib/arch
C:\strawberry\cpan\build\AnyEvent-7.02-oI4LTd/blib/lib
C:/strawberry/perl/site/lib
C:/strawberry/perl/vendor/lib
C:/strawberry/perl/lib
.