Report for Dist-Zilla-Stash-PodWeaver-1.005

Back
From: metabase:user:553c21ce-8d47-11df-9de5-e28c4c42590d
Subject: PASS Dist-Zilla-Stash-PodWeaver-1.005 v5.20.0 GNU/Linux
Date: 2014-07-23T04:53:33Z

This distribution has been tested as part of the CPAN Testers
project, supporting the Perl programming language.  See
http://wiki.cpantesters.org/ for more information or email
questions to cpan-testers-discuss@perl.org


--
Dear RWSTAUNER,

This is a computer-generated report for Dist-Zilla-Stash-PodWeaver-1.005
on perl 5.20.0, created by App::cpanminus::reporter 0.11 (1.7004).

Thank you for uploading your work to CPAN.  Congratulations!
All tests were successful.

Sections of this report:

    * Tester comments
    * Program output
    * Prerequisites
    * Environment and other context

------------------------------
TESTER COMMENTS
------------------------------

Additional comments from tester:

none provided

------------------------------
PROGRAM OUTPUT
------------------------------

Output from '':

Building and testing Dist-Zilla-Stash-PodWeaver-1.005
cp lib/Dist/Zilla/Stash/PodWeaver.pm blib/lib/Dist/Zilla/Stash/PodWeaver.pm
PERL_DL_NONLAZY=1 /home/test/perl5/perlbrew/perls/perl-5.20.0/bin/perl "-MExtUtils::Command::MM" "-MTest::Harness" "-e" "undef *Test::Harness::Switches; test_harness(0, 'blib/lib', 'blib/arch')" t/*.t
t/00-report-prereqs.t .. skipped: $ENV{AUTOMATED_TESTING} not set
t/00-compile.t ......... ok
t/ini-config.t ......... ok
All tests successful.
Files=3, Tests=16,  4 wallclock secs ( 0.07 usr  0.01 sys +  5.26 cusr  0.33 csys =  5.67 CPU)
Result: PASS

------------------------------
PREREQUISITES
------------------------------

Prerequisite modules loaded:

    No requirements found

------------------------------
ENVIRONMENT AND OTHER CONTEXT
------------------------------

Environment variables:

    LANG = en_CA.UTF-8
    LANGUAGE = en_CA:en
    PATH = /home/test/perl5/perlbrew/bin:/home/test/perl5/perlbrew/perls/perl-5.20.0/bin::/usr/local/bin:/usr/bin:/bin:/usr/local/sbin:/sbin:/usr/sbin:/usr/games
    PERLBREW_BASHRC_VERSION = 0.66
    PERLBREW_HOME = /home/test/.perlbrew
    PERLBREW_MANPATH = /home/test/perl5/perlbrew/perls/perl-5.20.0/man
    PERLBREW_PATH = /home/test/perl5/perlbrew/bin:/home/test/perl5/perlbrew/perls/perl-5.20.0/bin
    PERLBREW_PERL = perl-5.20.0
    PERLBREW_ROOT = /home/test/perl5/perlbrew
    PERLBREW_VERSION = 0.66
    PERL_CPANM_OPT = --prompt --no-man-pages --verify --mirror http://mirrors.gossamer-threads.com/CPAN/
    SHELL = /bin/bash
    TERM = xterm-256color

Perl special variables (and OS-specific diagnostics, for MSWin32):

    EGID = 1000 4 24 27 30 46 108 125 1000
    EUID = 1000
    EXECUTABLE_NAME = /home/test/perl5/perlbrew/perls/perl-5.20.0/bin/perl
    GID = 1000 4 24 27 30 46 108 125 1000
    UID = 1000

Perl module toolchain versions installed:

    Module              Have    
    ------------------- --------
    CPAN                2.05    
    CPAN::Meta          2.140640
    Cwd                 3.47    
    ExtUtils::CBuilder  0.280216
    ExtUtils::Command   1.18    
    ExtUtils::Install   1.67    
    ExtUtils::MakeMaker 6.98    
    ExtUtils::Manifest  1.63    
    ExtUtils::ParseXS   3.24    
    File::Spec          3.47    
    JSON                2.90    
    JSON::PP            2.27203 
    Module::Build       0.4206  
    Module::Signature   0.73    
    Parse::CPAN::Meta   1.4414  
    Test::Harness       3.30    
    Test::More          1.001002
    YAML                n/a     
    YAML::Syck          n/a     
    version             0.9908  


--

Summary of my perl5 (revision 5 version 20 subversion 0) configuration:
   
  Platform:
    osname=linux, osvers=3.13.0-32-generic, archname=x86_64-linux
    uname='linux despair 3.13.0-32-generic #57-ubuntu smp tue jul 15 03:51:08 utc 2014 x86_64 x86_64 x86_64 gnulinux '
    config_args='-de -Dprefix=/home/test/perl5/perlbrew/perls/perl-5.20.0 -Dccflags=-O2 -Wall -Wp,-D_FORTIFY_SOURCE=2 -fexceptions -fstack-protector --param=ssp-buffer-size=4 -m64 -march=native -Duselargefiles -Dman1dir=none -Dman3dir=none -Duse64bitall -Dcc=clang -Aeval:scriptdir=/home/test/perl5/perlbrew/perls/perl-5.20.0/bin'
    hint=recommended, useposix=true, d_sigaction=define
    useithreads=undef, usemultiplicity=undef
    use64bitint=define, use64bitall=define, uselongdouble=undef
    usemymalloc=n, bincompat5005=undef
  Compiler:
    cc='clang', ccflags ='-O2 -Wall -Wp,-D_FORTIFY_SOURCE=2 -fexceptions -fstack-protector --param=ssp-buffer-size=4 -m64 -march=native -fno-strict-aliasing -pipe -I/usr/local/include -D_LARGEFILE_SOURCE -D_FILE_OFFSET_BITS=64',
    optimize='-O2',
    cppflags='-O2 -Wall -Wp,-D_FORTIFY_SOURCE=2 -fexceptions -fstack-protector --param=ssp-buffer-size=4 -m64 -march=native -fno-strict-aliasing -pipe -I/usr/local/include'
    ccversion='', gccversion='4.2.1 Compatible Ubuntu Clang 3.4 (tags/RELEASE_34/final)', gccosandvers=''
    intsize=4, longsize=8, ptrsize=8, doublesize=8, byteorder=12345678
    d_longlong=define, longlongsize=8, d_longdbl=define, longdblsize=16
    ivtype='long', ivsize=8, nvtype='double', nvsize=8, Off_t='off_t', lseeksize=8
    alignbytes=8, prototype=define
  Linker and Libraries:
    ld='clang', ldflags =' -fstack-protector -L/usr/local/lib'
    libpth=/usr/local/lib /usr/bin/../lib/clang/3.4/lib /usr/include/x86_64-linux-gnu /usr/lib /lib/x86_64-linux-gnu /lib/../lib /usr/lib/x86_64-linux-gnu /usr/lib/../lib /lib
    libs=-lnsl -ldl -lm -lcrypt -lutil -lc
    perllibs=-lnsl -ldl -lm -lcrypt -lutil -lc
    libc=, so=so, useshrplib=false, libperl=libperl.a
    gnulibc_version='2.19'
  Dynamic Linking:
    dlsrc=dl_dlopen.xs, dlext=so, d_dlsymun=undef, ccdlflags='-Wl,-E'
    cccdlflags='-fPIC', lddlflags='-shared -O2 -L/usr/local/lib -fstack-protector'


Characteristics of this binary (from libperl): 
  Compile-time options: HAS_TIMES PERLIO_LAYERS PERL_DONT_CREATE_GVSV
                        PERL_HASH_FUNC_ONE_AT_A_TIME_HARD PERL_MALLOC_WRAP
                        PERL_NEW_COPY_ON_WRITE PERL_PRESERVE_IVUV
                        USE_64_BIT_ALL USE_64_BIT_INT USE_LARGE_FILES
                        USE_LOCALE USE_LOCALE_COLLATE USE_LOCALE_CTYPE
                        USE_LOCALE_NUMERIC USE_PERLIO USE_PERL_ATOF
  Built under linux
  Compiled at Jul 21 2014 23:07:55
  %ENV:
    PERLBREW_BASHRC_VERSION="0.66"
    PERLBREW_HOME="/home/test/.perlbrew"
    PERLBREW_MANPATH="/home/test/perl5/perlbrew/perls/perl-5.20.0/man"
    PERLBREW_PATH="/home/test/perl5/perlbrew/bin:/home/test/perl5/perlbrew/perls/perl-5.20.0/bin"
    PERLBREW_PERL="perl-5.20.0"
    PERLBREW_ROOT="/home/test/perl5/perlbrew"
    PERLBREW_VERSION="0.66"
    PERL_CPANM_OPT="--prompt --no-man-pages --verify --mirror http://mirrors.gossamer-threads.com/CPAN/"
  @INC:
    /home/test/perl5/perlbrew/perls/perl-5.20.0/lib/site_perl/5.20.0/x86_64-linux
    /home/test/perl5/perlbrew/perls/perl-5.20.0/lib/site_perl/5.20.0
    /home/test/perl5/perlbrew/perls/perl-5.20.0/lib/5.20.0/x86_64-linux
    /home/test/perl5/perlbrew/perls/perl-5.20.0/lib/5.20.0
    .