Astro-FITS-Header v3.09 Perl 5 v5.18.4 x86_64-linux

Status
Pass
From
Slaven Rezić
Dist
Astro-FITS-Header v3.09
Platform
Perl 5 v5.18.4 x86_64-linux
Date
2025-02-23 19:28:02
ID
4c66a8fe-f21c-11ef-8fe3-d73f6e8775ea
This distribution has been tested as part of the CPAN Testers
project, supporting the Perl programming language.  See
http://wiki.cpantesters.org/ for more information or email
questions to cpan-testers-discuss@perl.org


--
Dear Graham Bell,

This is a computer-generated report for Astro-FITS-Header-3.09
on perl 5.18.4, created by CPAN-Reporter-1.2018.

Thank you for uploading your work to CPAN.  Congratulations!
All tests were successful.

Sections of this report:

    * Tester comments
    * Program output
    * Prerequisites
    * Environment and other context

------------------------------
TESTER COMMENTS
------------------------------

Additional comments from tester:

none provided

------------------------------
PROGRAM OUTPUT
------------------------------

Output from './Build test':

# Astro::FITS::Header::NDF can not locate NDF.pm
# Astro::FITS::Header::GSD can not locate GSD.pm
# Astro::FITS::Header::AST can not locate Starlink/AST.pm
# Astro::FITS::Header::CFITSIO can not locate Astro/FITS/CFITSIO.pm
t/1_compile.t .. ok
t/ast.t ........ skipped: Starlink::AST not available.
t/bugs.t ....... ok
t/cfitsio.t .... skipped: Astro::FITS::CFITSIO module not available
t/gsd.t ........ skipped: GSD module not available
t/hierarch.t ... ok
t/item.t ....... ok
t/merge.t ...... ok
t/ndf.t ........ skipped: NDF module not available
t/parse.t ...... ok
t/subhdr.t ..... ok
t/tied.t ....... ok
All tests successful.
Files=12, Tests=1009,  1 wallclock secs ( 0.10 usr  0.01 sys +  0.59 cusr  0.08 csys =  0.78 CPU)
Result: PASS

------------------------------
PREREQUISITES
------------------------------

Prerequisite modules loaded:

build_requires:

    Module               Need Have    
    -------------------- ---- --------
    Test::More           0    1.302190

configure_requires:

    Module               Need Have    
    -------------------- ---- --------
    Module::Build        0.3  0.4231  

opt_requires:

    Module               Need Have    
    -------------------- ---- --------
  ! Astro::FITS::CFITSIO 0    n/a     


------------------------------
ENVIRONMENT AND OTHER CONTEXT
------------------------------

Environment variables:

    LANG = en_US.UTF-8
    LANGUAGE = en_US:en
    PATH = /usr/local/bin:/usr/bin:/bin:/usr/local/sbin:/usr/sbin:/sbin:/home/cpansand/bin/linux-gnu:/home/cpansand/bin/sh:/home/cpansand/bin:/usr/games:/home/cpansand/devel:/home/e/eserte/src/srezic-misc/scripts
    PERL5LIB = /home/cpansand/.cpan/build/2025022317/File-Map-0.71-0/blib/arch:/home/cpansand/.cpan/build/2025022317/File-Map-0.71-0/blib/lib:/home/cpansand/.cpan/build/2025022317/Devel-CheckLib-1.16-0/blib/arch:/home/cpansand/.cpan/build/2025022317/Devel-CheckLib-1.16-0/blib/lib:/home/cpansand/.cpan/build/2025022317/Mock-Config-0.04-0/blib/arch:/home/cpansand/.cpan/build/2025022317/Mock-Config-0.04-0/blib/lib:/home/cpansand/.cpan/build/2025022317/Machine-Epsilon-1.0.2-0/blib/arch:/home/cpansand/.cpan/build/2025022317/Machine-Epsilon-1.0.2-0/blib/lib:/home/cpansand/.cpan/build/2025022317/Test-CheckDeps-0.010-0/blib/arch:/home/cpansand/.cpan/build/2025022317/Test-CheckDeps-0.010-0/blib/lib
    PERL5OPT = 
    PERL5_CPANPLUS_IS_RUNNING = 29466
    PERL5_CPAN_IS_RUNNING = 29466
    PERL5_CPAN_IS_RUNNING_IN_RECURSION = 339,29466
    PERLDOC = -MPod::Perldoc::ToTextOverstrike
    PERL_BATCH = yes
    PERL_CANARY_STABILITY_NOPROMPT = 1
    PERL_CPAN_REPORTER_CONFIG = /var/tmp/cpansmoker-1023/2025022316/cpanreporter_000_config.ini
    PERL_EXTUTILS_AUTOINSTALL = --defaultdeps
    PERL_USE_UNSAFE_INC = 1
    SHELL = /usr/bin/zsh
    TERM = screen
    TMPDIR = /var/tmp/cpansmoker-1023/2025022316

Perl special variables (and OS-specific diagnostics, for MSWin32):

    $^X = /opt/perl-5.18.4/bin/perl
    $UID/$EUID = 1023 / 1023
    $GID = 1023 1023
    $EGID = 1023 1023

Perl module toolchain versions installed:

    Module              Have    
    ------------------- --------
    CPAN                2.34    
    CPAN::Meta          2.150010
    Cwd                 3.40    
    ExtUtils::CBuilder  0.280210
    ExtUtils::Command   7.64    
    ExtUtils::Install   2.06    
    ExtUtils::MakeMaker 7.64    
    ExtUtils::Manifest  1.70    
    ExtUtils::ParseXS   3.44    
    File::Spec          3.40    
    JSON                4.06    
    JSON::PP            4.09    
    Module::Build       0.4231  
    Module::Signature   0.88    
    Parse::CPAN::Meta   2.150010
    Test::Harness       3.44    
    Test::More          1.302190
    YAML                1.30    
    YAML::Syck          1.34    
    version             0.9902  


--

Summary of my perl5 (revision 5 version 18 subversion 4) configuration:
   
  Platform:
    osname=linux, osvers=4.9.0-18-amd64, archname=x86_64-linux
    uname='linux cabulja 4.9.0-18-amd64 #1 smp debian 4.9.303-1 (2022-03-07) x86_64 gnulinux '
    config_args='-ds -e -Dprefix=/opt/perl-5.18.4 -Dcf_email=srezic@cpan.org'
    hint=recommended, useposix=true, d_sigaction=define
    useithreads=undef, usemultiplicity=undef
    useperlio=define, d_sfio=undef, uselargefiles=define, usesocks=undef
    use64bitint=define, use64bitall=define, uselongdouble=undef
    usemymalloc=n, bincompat5005=undef
  Compiler:
    cc='cc', ccflags ='-fwrapv -fno-strict-aliasing -pipe -fstack-protector -I/usr/local/include -D_LARGEFILE_SOURCE -D_FILE_OFFSET_BITS=64',
    optimize='-O2',
    cppflags='-fwrapv -fno-strict-aliasing -pipe -fstack-protector -I/usr/local/include'
    ccversion='', gccversion='6.3.0 20170516', gccosandvers=''
    intsize=4, longsize=8, ptrsize=8, doublesize=8, byteorder=12345678
    d_longlong=define, longlongsize=8, d_longdbl=define, longdblsize=16
    ivtype='long', ivsize=8, nvtype='double', nvsize=8, Off_t='off_t', lseeksize=8
    alignbytes=8, prototype=define
  Linker and Libraries:
    ld='cc', ldflags =' -fstack-protector -L/usr/local/lib'
    libpth=/usr/local/lib /lib/x86_64-linux-gnu /lib/../lib /usr/lib/x86_64-linux-gnu /usr/lib/../lib /lib /usr/lib
    libs=-lnsl -lgdbm -ldb -ldl -lm -lcrypt -lutil -lc -lgdbm_compat
    perllibs=-lnsl -ldl -lm -lcrypt -lutil -lc
    libc=libc-2.24.so, so=so, useshrplib=false, libperl=libperl.a
    gnulibc_version='2.24'
  Dynamic Linking:
    dlsrc=dl_dlopen.xs, dlext=so, d_dlsymun=undef, ccdlflags='-Wl,-E'
    cccdlflags='-fPIC', lddlflags='-shared -O2 -L/usr/local/lib -fstack-protector'


Characteristics of this binary (from libperl): 
  Compile-time options: HAS_TIMES PERLIO_LAYERS PERL_DONT_CREATE_GVSV
                        PERL_HASH_FUNC_ONE_AT_A_TIME_HARD PERL_MALLOC_WRAP
                        PERL_PRESERVE_IVUV PERL_SAWAMPERSAND USE_64_BIT_ALL
                        USE_64_BIT_INT USE_LARGE_FILES USE_LOCALE
                        USE_LOCALE_COLLATE USE_LOCALE_CTYPE
                        USE_LOCALE_NUMERIC USE_PERLIO USE_PERL_ATOF
  Locally applied patches:
	Devel::PatchPerl 2.08
  Built under linux
  Compiled at May 30 2022 08:09:10
  %ENV:
    PERL5LIB="/home/cpansand/.cpan/build/2025022317/File-Map-0.71-0/blib/arch:/home/cpansand/.cpan/build/2025022317/File-Map-0.71-0/blib/lib:/home/cpansand/.cpan/build/2025022317/Devel-CheckLib-1.16-0/blib/arch:/home/cpansand/.cpan/build/2025022317/Devel-CheckLib-1.16-0/blib/lib:/home/cpansand/.cpan/build/2025022317/Mock-Config-0.04-0/blib/arch:/home/cpansand/.cpan/build/2025022317/Mock-Config-0.04-0/blib/lib:/home/cpansand/.cpan/build/2025022317/Machine-Epsilon-1.0.2-0/blib/arch:/home/cpansand/.cpan/build/2025022317/Machine-Epsilon-1.0.2-0/blib/lib:/home/cpansand/.cpan/build/2025022317/Test-CheckDeps-0.010-0/blib/arch:/home/cpansand/.cpan/build/2025022317/Test-CheckDeps-0.010-0/blib/lib"
    PERL5OPT=""
    PERL5_CPANPLUS_IS_RUNNING="29466"
    PERL5_CPAN_IS_RUNNING="29466"
    PERL5_CPAN_IS_RUNNING_IN_RECURSION="339,29466"
    PERLDOC="-MPod::Perldoc::ToTextOverstrike"
    PERL_BATCH="yes"
    PERL_CANARY_STABILITY_NOPROMPT="1"
    PERL_CPAN_REPORTER_CONFIG="/var/tmp/cpansmoker-1023/2025022316/cpanreporter_000_config.ini"
    PERL_EXTUTILS_AUTOINSTALL="--defaultdeps"
    PERL_USE_UNSAFE_INC="1"
  @INC:
    /home/cpansand/.cpan/build/2025022317/File-Map-0.71-0/blib/arch
    /home/cpansand/.cpan/build/2025022317/File-Map-0.71-0/blib/lib
    /home/cpansand/.cpan/build/2025022317/Devel-CheckLib-1.16-0/blib/arch
    /home/cpansand/.cpan/build/2025022317/Devel-CheckLib-1.16-0/blib/lib
    /home/cpansand/.cpan/build/2025022317/Mock-Config-0.04-0/blib/arch
    /home/cpansand/.cpan/build/2025022317/Mock-Config-0.04-0/blib/lib
    /home/cpansand/.cpan/build/2025022317/Machine-Epsilon-1.0.2-0/blib/arch
    /home/cpansand/.cpan/build/2025022317/Machine-Epsilon-1.0.2-0/blib/lib
    /home/cpansand/.cpan/build/2025022317/Test-CheckDeps-0.010-0/blib/arch
    /home/cpansand/.cpan/build/2025022317/Test-CheckDeps-0.010-0/blib/lib
    /opt/perl-5.18.4/lib/site_perl/5.18.4/x86_64-linux
    /opt/perl-5.18.4/lib/site_perl/5.18.4
    /opt/perl-5.18.4/lib/5.18.4/x86_64-linux
    /opt/perl-5.18.4/lib/5.18.4
    .