Perinci-Sub-ConvertArgs-Array v0.090 Perl 5 v5.36.1 armv6l-linux

Status
Pass
From
gregor herrmann
Dist
Perinci-Sub-ConvertArgs-Array v0.090
Platform
Perl 5 v5.36.1 armv6l-linux
Date
2023-05-20 22:04:31
ID
4c4d9576-f75a-11ed-ac9c-621d32c55eda
This distribution has been tested as part of the CPAN Testers
project, supporting the Perl programming language.  See
http://wiki.cpantesters.org/ for more information or email
questions to cpan-testers-discuss@perl.org


--
Dear PERLANCAR,

This is a computer-generated report for Perinci-Sub-ConvertArgs-Array-0.090
on perl 5.36.1, created by App::cpanminus::reporter 0.20 (1.7046).

Thank you for uploading your work to CPAN.  Congratulations!
All tests were successful.

Sections of this report:

    * Tester comments
    * Program output
    * Prerequisites
    * Environment and other context

------------------------------
TESTER COMMENTS
------------------------------

Additional comments from tester:

none provided

------------------------------
PROGRAM OUTPUT
------------------------------

Output from '':

Building and testing Perinci-Sub-ConvertArgs-Array-0.090
cp lib/Perinci/Sub/ConvertArgs/Array.pm blib/lib/Perinci/Sub/ConvertArgs/Array.pm
Manifying 1 pod document
PERL_DL_NONLAZY=1 "/srv/smoker/perl5/perlbrew/perls/perl-5.36.1/bin/perl" "-MExtUtils::Command::MM" "-MTest::Harness" "-e" "undef *Test::Harness::Switches; test_harness(0, 'blib/lib', 'blib/arch')" t/*.t
t/00-compile.t ........... ok
t/01-basics.t ............ ok
t/author-critic.t ........ skipped: these tests are for testing by the author
t/author-pod-coverage.t .. skipped: these tests are for testing by the author
t/author-pod-syntax.t .... skipped: these tests are for testing by the author
t/release-rinci.t ........ skipped: these tests are for release candidate testing
All tests successful.
Files=6, Tests=11,  6 wallclock secs ( 0.76 usr  0.10 sys +  4.75 cusr  0.40 csys =  6.01 CPU)
Result: PASS

------------------------------
PREREQUISITES
------------------------------

Prerequisite modules loaded:

runtime:

    Module              Need     Have    
    ------------------- -------- --------
    Exporter            5.57     5.77    
    perl                5.010001 5.036001
    strict              0        1.12    
    warnings            0        1.58    

build:

    Module              Need     Have    
    ------------------- -------- --------
    ExtUtils::MakeMaker 0        7.70    

configure:

    Module              Need     Have    
    ------------------- -------- --------
    ExtUtils::MakeMaker 0        7.70    


------------------------------
ENVIRONMENT AND OTHER CONTEXT
------------------------------

Environment variables:

    LC_CTYPE = de_AT.utf8
    PATH = /srv/smoker/bin:/usr/lib/ccache:/srv/smoker/perl5/bin:/srv/smoker/perl5/perlbrew/bin:/srv/smoker/perl5/perlbrew/perls/perl-5.36.1/bin:/usr/local/bin:/usr/bin:/bin:/usr/local/games:/usr/games
    PERL5LIB = /srv/smoker/perl5/lib/perl5
    PERLBREW_HOME = /srv/smoker/.perlbrew
    PERLBREW_MANPATH = /srv/smoker/perl5/perlbrew/perls/perl-5.36.1/man
    PERLBREW_PATH = /srv/smoker/perl5/perlbrew/bin:/srv/smoker/perl5/perlbrew/perls/perl-5.36.1/bin
    PERLBREW_PERL = perl-5.36.1
    PERLBREW_ROOT = /srv/smoker/perl5/perlbrew
    PERLBREW_SHELLRC_VERSION = 0.96
    PERLBREW_VERSION = 0.96
    PERL_CPANM_OPT = --prompt  --configure-timeout 300 --build-timeout 18000 --test-timeout 18000 --from https://www.cpan.org
    PERL_LOCAL_LIB_ROOT = /srv/smoker/perl5
    PERL_MB_OPT = --install_base "/srv/smoker/perl5"
    PERL_MM_OPT = INSTALL_BASE=/srv/smoker/perl5
    PERL_TEST_TIME_OUT_FACTOR = 3
    SHELL = /bin/bash
    TERM = screen-256color

Perl special variables (and OS-specific diagnostics, for MSWin32):

    EGID = 65534 65534
    EUID = 1111
    EXECUTABLE_NAME = /srv/smoker/perl5/perlbrew/perls/perl-5.36.1/bin/perl
    GID = 65534 65534
    UID = 1111

Perl module toolchain versions installed:

    Module              Have    
    ------------------- --------
    CPAN                2.36    
    CPAN::Meta          2.150010
    Cwd                 3.84    
    ExtUtils::CBuilder  0.280236
    ExtUtils::Command   7.70    
    ExtUtils::Install   2.20    
    ExtUtils::MakeMaker 7.70    
    ExtUtils::Manifest  1.75    
    ExtUtils::ParseXS   3.45    
    File::Spec          3.84    
    JSON                4.10    
    JSON::PP            4.07    
    Module::Build       0.42_35 
    Module::Signature   n/a     
    Parse::CPAN::Meta   2.150010
    Test::Harness       3.45_01 
    Test::More          1.302195
    YAML                1.30    
    YAML::Syck          n/a     
    version             0.9929  


--

Summary of my perl5 (revision 5 version 36 subversion 1) configuration:
   
  Platform:
    osname=linux
    osvers=5.15.84+
    archname=armv6l-linux
    uname='linux smoker 5.15.84+ #1613 thu jan 5 11:58:09 gmt 2023 armv6l gnulinux '
    config_args='-de -Dprefix=/srv/smoker/perl5/perlbrew/perls/perl-5.36.1 -Aeval:scriptdir=/srv/smoker/perl5/perlbrew/perls/perl-5.36.1/bin'
    hint=recommended
    useposix=true
    d_sigaction=define
    useithreads=undef
    usemultiplicity=undef
    use64bitint=undef
    use64bitall=undef
    uselongdouble=undef
    usemymalloc=n
    default_inc_excludes_dot=define
  Compiler:
    cc='cc'
    ccflags ='-fwrapv -fno-strict-aliasing -pipe -fstack-protector-strong -I/usr/local/include -D_LARGEFILE_SOURCE -D_FILE_OFFSET_BITS=64 -D_FORTIFY_SOURCE=2'
    optimize='-O2'
    cppflags='-fwrapv -fno-strict-aliasing -pipe -fstack-protector-strong -I/usr/local/include'
    ccversion=''
    gccversion='12.2.0'
    gccosandvers=''
    intsize=4
    longsize=4
    ptrsize=4
    doublesize=8
    byteorder=1234
    doublekind=3
    d_longlong=define
    longlongsize=8
    d_longdbl=define
    longdblsize=8
    longdblkind=0
    ivtype='long'
    ivsize=4
    nvtype='double'
    nvsize=8
    Off_t='off_t'
    lseeksize=8
    alignbytes=8
    prototype=define
  Linker and Libraries:
    ld='cc'
    ldflags =' -fstack-protector-strong -L/usr/local/lib'
    libpth=/usr/local/lib /usr/lib/arm-linux-gnueabihf /usr/lib
    libs=-lpthread -lnsl -ldb -ldl -lm -lcrypt -lutil -lc
    perllibs=-lpthread -lnsl -ldl -lm -lcrypt -lutil -lc
    libc=/lib/arm-linux-gnueabihf/libc.so.6
    so=so
    useshrplib=false
    libperl=libperl.a
    gnulibc_version='2.36'
  Dynamic Linking:
    dlsrc=dl_dlopen.xs
    dlext=so
    d_dlsymun=undef
    ccdlflags='-Wl,-E'
    cccdlflags='-fPIC'
    lddlflags='-shared -O2 -L/usr/local/lib -fstack-protector-strong'


Characteristics of this binary (from libperl): 
  Compile-time options:
    HAS_TIMES
    PERLIO_LAYERS
    PERL_COPY_ON_WRITE
    PERL_DONT_CREATE_GVSV
    PERL_MALLOC_WRAP
    PERL_OP_PARENT
    PERL_PRESERVE_IVUV
    USE_LARGE_FILES
    USE_LOCALE
    USE_LOCALE_COLLATE
    USE_LOCALE_CTYPE
    USE_LOCALE_NUMERIC
    USE_LOCALE_TIME
    USE_PERLIO
    USE_PERL_ATOF
  Built under linux
  Compiled at Apr 23 2023 21:06:09
  %ENV:
    PERL5LIB="/srv/smoker/perl5/lib/perl5"
    PERLBREW_HOME="/srv/smoker/.perlbrew"
    PERLBREW_MANPATH="/srv/smoker/perl5/perlbrew/perls/perl-5.36.1/man"
    PERLBREW_PATH="/srv/smoker/perl5/perlbrew/bin:/srv/smoker/perl5/perlbrew/perls/perl-5.36.1/bin"
    PERLBREW_PERL="perl-5.36.1"
    PERLBREW_ROOT="/srv/smoker/perl5/perlbrew"
    PERLBREW_SHELLRC_VERSION="0.96"
    PERLBREW_VERSION="0.96"
    PERL_CPANM_OPT="--prompt  --configure-timeout 300 --build-timeout 18000 --test-timeout 18000 --from https://www.cpan.org"
    PERL_LOCAL_LIB_ROOT="/srv/smoker/perl5"
    PERL_MB_OPT="--install_base "/srv/smoker/perl5""
    PERL_MM_OPT="INSTALL_BASE=/srv/smoker/perl5"
    PERL_TEST_TIME_OUT_FACTOR="3"
  @INC:
    /srv/smoker/perl5/lib/perl5/5.36.1/armv6l-linux
    /srv/smoker/perl5/lib/perl5/5.36.1
    /srv/smoker/perl5/lib/perl5/armv6l-linux
    /srv/smoker/perl5/lib/perl5
    /srv/smoker/perl5/perlbrew/perls/perl-5.36.1/lib/site_perl/5.36.1/armv6l-linux
    /srv/smoker/perl5/perlbrew/perls/perl-5.36.1/lib/site_perl/5.36.1
    /srv/smoker/perl5/perlbrew/perls/perl-5.36.1/lib/5.36.1/armv6l-linux
    /srv/smoker/perl5/perlbrew/perls/perl-5.36.1/lib/5.36.1