XML-Rabbit v0.4.1 Perl 5 v5.14.1 x86_64-linux
- Status
- Pass
- From
- Nedzad Hrnjica (NHRNJICA)
- Dist
-
XML-Rabbit v0.4.1
- Platform
- Perl 5 v5.14.1 x86_64-linux
- Date
- 2022-08-07 16:02:11
- ID
- 4c28166a-166a-11ed-bae3-59210ff29030
This distribution has been tested as part of the CPAN Testers
project, supporting the Perl programming language. See
http://wiki.cpantesters.org/ for more information or email
questions to cpan-testers-discuss@perl.org
--
Dear ROBINS,
This is a computer-generated report for XML-Rabbit-0.4.1
on perl 5.14.1, created by App::cpanminus::reporter 0.17 (1.7046).
Thank you for uploading your work to CPAN. Congratulations!
All tests were successful.
Sections of this report:
* Tester comments
* Program output
* Prerequisites
* Environment and other context
------------------------------
TESTER COMMENTS
------------------------------
Additional comments from tester:
none provided
------------------------------
PROGRAM OUTPUT
------------------------------
Output from '':
Building and testing XML-Rabbit-0.4.1
cp lib/XML/Rabbit/Trait/XPathValueMap.pm blib/lib/XML/Rabbit/Trait/XPathValueMap.pm
cp lib/XML/Rabbit/Sugar.pm blib/lib/XML/Rabbit/Sugar.pm
cp lib/XML/Rabbit.pm blib/lib/XML/Rabbit.pm
cp lib/XML/Rabbit/Trait/XPathObjectMap.pm blib/lib/XML/Rabbit/Trait/XPathObjectMap.pm
cp lib/XML/Rabbit/Trait/XPath.pm blib/lib/XML/Rabbit/Trait/XPath.pm
cp lib/XML/Rabbit/Trait/XPathValue.pm blib/lib/XML/Rabbit/Trait/XPathValue.pm
cp lib/XML/Rabbit/Trait/XPathObjectList.pm blib/lib/XML/Rabbit/Trait/XPathObjectList.pm
cp lib/XML/Rabbit/Trait/XPathObject.pm blib/lib/XML/Rabbit/Trait/XPathObject.pm
cp lib/XML/Rabbit/Root.pm blib/lib/XML/Rabbit/Root.pm
cp lib/XML/Rabbit/Trait/XPathValueList.pm blib/lib/XML/Rabbit/Trait/XPathValueList.pm
cp lib/XML/Rabbit/RootNode.pm blib/lib/XML/Rabbit/RootNode.pm
cp lib/XML/Rabbit/Role/Node.pm blib/lib/XML/Rabbit/Role/Node.pm
cp lib/XML/Rabbit/Node.pm blib/lib/XML/Rabbit/Node.pm
cp lib/XML/Rabbit/Role/Document.pm blib/lib/XML/Rabbit/Role/Document.pm
cp bin/dump_xml_structure blib/script/dump_xml_structure
"/home/liveapp/.plenv/versions/5.14.1/bin/perl5.14.1" -MExtUtils::MY -e 'MY->fixin(shift)' -- blib/script/dump_xml_structure
cp bin/xpath_extract blib/script/xpath_extract
"/home/liveapp/.plenv/versions/5.14.1/bin/perl5.14.1" -MExtUtils::MY -e 'MY->fixin(shift)' -- blib/script/xpath_extract
Manifying 2 pod documents
Manifying 14 pod documents
PERL_DL_NONLAZY=1 "/home/liveapp/.plenv/versions/5.14.1/bin/perl5.14.1" "-MExtUtils::Command::MM" "-MTest::Harness" "-e" "undef *Test::Harness::Switches; test_harness(0, 'blib/lib', 'blib/arch')" t/*.t t/regression/*.t
# Testing XML::Rabbit 0.4.1, Perl 5.014001, /home/liveapp/.plenv/versions/5.14.1/bin/perl5.14.1
t/00_load.t ........................... ok
# Detected libxml2 version: 20910
t/01_libxml_version.t ................. ok
t/10_parse_xhtml_fh.t ................. ok
t/10_parse_xhtml_file.t ............... ok
t/10_parse_xhtml_string.t ............. ok
t/11_parse_imsqti.t ................... ok
t/12_xpath_value_map.t ................ ok
t/13_xpath_object_map.t ............... ok
t/14_sugar_parse_xhtml_file.t ......... ok
t/15_sugar_parse_imsqti.t ............. ok
t/16_sugar_xpath_value_map.t .......... ok
t/17_sugar_xpath_object_map.t ......... ok
t/18_dump_xml.t ....................... ok
t/19_RT_71815.t ....................... ok
t/20_RT_81519.t ....................... ok
t/author-critic.t ..................... skipped: these tests are for testing by the author
t/regression/node_attribute_traits.t .. ok
t/release-eol.t ....................... skipped: these tests are for release candidate testing
t/release-kwalitee.t .................. skipped: these tests are for release candidate testing
t/release-no-tabs.t ................... skipped: these tests are for release candidate testing
t/release-pod-coverage.t .............. skipped: these tests are for release candidate testing
t/release-pod-syntax.t ................ skipped: these tests are for release candidate testing
All tests successful.
Files=22, Tests=165, 5 wallclock secs ( 0.08 usr 0.01 sys + 3.93 cusr 0.35 csys = 4.37 CPU)
Result: PASS
------------------------------
PREREQUISITES
------------------------------
Prerequisite modules loaded:
runtime:
Module Need Have
---------------------------- ----- --------
Carp 0 1.50
Class::Load 0 0.25
Encode 0 3.19
Moose 0.89 2.2201
Moose::Exporter 0 2.2201
Moose::Role 0 2.2201
Moose::Util::TypeConstraints 0 2.2201
MooseX::Role::Parameterized 0 1.11
namespace::autoclean 0 0.29
perl 5.008 5.014001
Perl6::Junction 0 1.60000
Scalar::Util 0 1.62
strict 0 1.04
warnings 0 1.12
XML::LibXML 1.70 2.0207
configure:
Module Need Have
---------------------------- ----- --------
ExtUtils::MakeMaker 6.30 7.64
XML::LibXML 1.70 2.0207
------------------------------
ENVIRONMENT AND OTHER CONTEXT
------------------------------
Environment variables:
LANG = C.UTF-8
PATH = /home/liveapp/.plenv/versions/5.14.1/bin:/home/liveapp/.plenv/libexec:/home/liveapp/.plenv/plugins/perl-build/bin:/home/liveapp/cpantesters.new/5.14.1/local/bin:/home/liveapp/.plenv/shims:/home/liveapp/.plenv/bin:/usr/local/sbin:/usr/local/bin:/usr/sbin:/usr/bin:/sbin:/bin:/usr/games:/usr/local/games:/snap/bin
PERL5LIB = /home/liveapp/cpantesters.new/5.14.1/local/lib/perl5
PERL_CPANM_HOME = /home/liveapp/cpantesters.new/5.14.1/.cpanm
SHELL = /bin/bash
TERM = xterm-256color
Perl special variables (and OS-specific diagnostics, for MSWin32):
EGID = 1001 27 1001
EUID = 1001
EXECUTABLE_NAME = /home/liveapp/.plenv/versions/5.14.1/bin/perl5.14.1
GID = 1001 27 1001
UID = 1001
Perl module toolchain versions installed:
Module Have
------------------- --------
CPAN 1.9600
CPAN::Meta 2.150010
Cwd 3.75
ExtUtils::CBuilder 0.280236
ExtUtils::Command 7.64
ExtUtils::Install 2.06
ExtUtils::MakeMaker 7.64
ExtUtils::Manifest 1.70
ExtUtils::ParseXS 3.44
File::Spec 3.75
JSON 4.09
JSON::PP 4.11
Module::Build 0.4231
Module::Signature n/a
Parse::CPAN::Meta 2.150010
Test::Harness 3.44
Test::More 1.302191
YAML 1.30
YAML::Syck 1.34
version 0.9929
--
Summary of my perl5 (revision 5 version 14 subversion 1) configuration:
Platform:
osname=linux, osvers=5.4.0-91-generic, archname=x86_64-linux
uname='linux supremeadmin 5.4.0-91-generic #102-ubuntu smp fri nov 5 16:31:28 utc 2021 x86_64 x86_64 x86_64 gnulinux '
config_args='-Dprefix=/home/liveapp/.plenv/versions/5.14.1 -de -Dversiononly -A'eval:scriptdir=/home/liveapp/.plenv/versions/5.14.1/bin''
hint=recommended, useposix=true, d_sigaction=define
useithreads=undef, usemultiplicity=undef
useperlio=define, d_sfio=undef, uselargefiles=define, usesocks=undef
use64bitint=define, use64bitall=define, uselongdouble=undef
usemymalloc=n, bincompat5005=undef
Compiler:
cc='cc', ccflags ='-fwrapv -fno-strict-aliasing -pipe -fstack-protector -I/usr/local/include -D_LARGEFILE_SOURCE -D_FILE_OFFSET_BITS=64',
optimize='-O2',
cppflags='-fwrapv -fno-strict-aliasing -pipe -fstack-protector -I/usr/local/include'
ccversion='', gccversion='9.4.0', gccosandvers=''
intsize=4, longsize=8, ptrsize=8, doublesize=8, byteorder=12345678
d_longlong=define, longlongsize=8, d_longdbl=define, longdblsize=16
ivtype='long', ivsize=8, nvtype='double', nvsize=8, Off_t='off_t', lseeksize=8
alignbytes=8, prototype=define
Linker and Libraries:
ld='cc', ldflags =' -fstack-protector -L/usr/local/lib'
libpth=/usr/local/lib /lib/x86_64-linux-gnu /lib/../lib /usr/lib/x86_64-linux-gnu /usr/lib/../lib /lib /usr/lib
libs=-lnsl -ldl -lm -lcrypt -lutil -lc
perllibs=-lnsl -ldl -lm -lcrypt -lutil -lc
libc=libc-2.31.so, so=so, useshrplib=false, libperl=libperl.a
gnulibc_version='2.31'
Dynamic Linking:
dlsrc=dl_dlopen.xs, dlext=so, d_dlsymun=undef, ccdlflags='-Wl,-E'
cccdlflags='-fPIC', lddlflags='-shared -O2 -L/usr/local/lib -fstack-protector'
Characteristics of this binary (from libperl):
Compile-time options: PERL_DONT_CREATE_GVSV PERL_MALLOC_WRAP
PERL_PRESERVE_IVUV USE_64_BIT_ALL USE_64_BIT_INT
USE_LARGE_FILES USE_PERLIO USE_PERL_ATOF
Locally applied patches:
Devel::PatchPerl 2.08
Built under linux
Compiled at Aug 6 2022 08:12:31
%ENV:
PERL5LIB="/home/liveapp/cpantesters.new/5.14.1/local/lib/perl5"
PERL_CPANM_HOME="/home/liveapp/cpantesters.new/5.14.1/.cpanm"
@INC:
/home/liveapp/cpantesters.new/5.14.1/local/lib/perl5
/home/liveapp/.plenv/versions/5.14.1/lib/perl5/site_perl/5.14.1/x86_64-linux
/home/liveapp/.plenv/versions/5.14.1/lib/perl5/site_perl/5.14.1
/home/liveapp/.plenv/versions/5.14.1/lib/perl5/5.14.1/x86_64-linux
/home/liveapp/.plenv/versions/5.14.1/lib/perl5/5.14.1
.