Test-CleanNamespaces v0.24 Perl 5 v5.20.2 x86_64-linux-thread-multi

Status
Pass
From
Andreas J. König (ANDK)
Dist
Test-CleanNamespaces v0.24
Platform
Perl 5 v5.20.2 x86_64-linux-thread-multi
Date
2024-02-21 18:37:42
ID
4c20ea90-d0e8-11ee-856c-c709e377df82
This distribution has been tested as part of the CPAN Testers
project, supporting the Perl programming language.  See
http://wiki.cpantesters.org/ for more information or email
questions to cpan-testers-discuss@perl.org


--
Dear Karen Etheridge,

This is a computer-generated report for Test-CleanNamespaces-0.24
on perl 5.20.2, created by CPAN-Reporter-1.2019.

Thank you for uploading your work to CPAN.  Congratulations!
All tests were successful.

Sections of this report:

    * Tester comments
    * Program output
    * Prerequisites
    * Environment and other context

------------------------------
TESTER COMMENTS
------------------------------

Additional comments from tester:

this report is from an automated smoke testing program
and was not reviewed by a human for accuracy

------------------------------
PROGRAM OUTPUT
------------------------------

Output from '/usr/bin/make test':

PERL_DL_NONLAZY=1 "/home/sand/src/perl/repoperls/installed-perls/host/k93msid/v5.20.2/29fb/bin/perl" "-MExtUtils::Command::MM" "-MTest::Harness" "-e" "undef *Test::Harness::Switches; test_harness(0, 'blib/lib', 'blib/arch')" t/*.t
# 
# Versions for all modules listed in MYMETA.json (including optional ones):
# 
# === Configure Requires ===
# 
#     Module                       Want     Have
#     ------------------------ -------- --------
#     CPAN::Meta::Requirements 2.120620    2.143
#     ExtUtils::MakeMaker           any     7.70
#     Module::Metadata              any 1.000038
# 
# === Build Requires ===
# 
#     Module              Want Have
#     ------------------- ---- ----
#     ExtUtils::MakeMaker  any 7.70
# 
# === Test Requires ===
# 
#     Module                 Want     Have
#     --------------------- ----- --------
#     ExtUtils::MakeMaker     any     7.70
#     File::Spec              any     3.75
#     File::Spec::Functions   any     3.75
#     File::pushd             any    1.016
#     Scalar::Util            any     1.63
#     Sub::Exporter           any    0.991
#     Test::Deep              any    1.204
#     Test::More             0.96 1.302198
#     Test::Needs             any 0.002010
#     Test::Tester            any 1.302198
#     Test::Warnings        0.009    0.032
#     constant                any     1.31
#     if                      any   0.0603
#     lib                     any     0.63
#     namespace::clean        any     0.27
#     overload                any     1.22
#     parent                  any    0.241
# 
# === Test Recommends ===
# 
#     Module         Want     Have
#     ---------- -------- --------
#     CPAN::Meta 2.120900 2.150010
# 
# === Test Suggests ===
# 
#     Module                          Want     Have
#     --------------------------- -------- --------
#     Class::MOP::Class                any   2.2207
#     Moo                              any 2.005005
#     Moo::Role                        any 2.005005
#     Moose                            any   2.2207
#     Moose::Exporter                  any   2.2207
#     Moose::Role                      any   2.2207
#     MooseX::Role::Parameterized      any     1.11
#     Mouse                            any  v2.5.10
#     Mouse::Role                      any  v2.5.10
#     Role::Tiny                  1.003000 2.002004
#     metaclass                        any   2.2207
# 
# === Runtime Requires ===
# 
#     Module              Want     Have
#     --------------- -------- --------
#     Exporter            5.57     5.71
#     File::Find           any     1.27
#     File::Spec           any     3.75
#     Module::Runtime      any    0.016
#     Package::Stash      0.14     0.40
#     Role::Tiny      1.003000 2.002004
#     Sub::Identify        any     0.14
#     Test::Builder        any 1.302198
#     strict               any     1.08
#     warnings             any     1.23
# 
# === Runtime Recommends ===
# 
#     Module             Want Have
#     ------------------ ---- ----
#     Package::Stash::XS  any 0.30
# 
# === Runtime Suggests ===
# 
#     Module     Want     Have
#     ---------- ---- --------
#     Role::Tiny  any 2.002004
# 
# === Other Modules ===
# 
#     Module             Have
#     --------------- -------
#     Encode             3.20
#     File::Temp       0.2311
#     JSON::PP           4.16
#     Module::Runtime   0.016
#     Pod::Coverage      0.23
#     Sub::Name       missing
#     YAML               1.31
#     autodie            2.23
# 
t/00-report-prereqs.t ......... ok
t/basic.t ..................... ok
t/class_mop.t ................. ok
t/clean-namespaces.t .......... ok
t/find_modules.t .............. ok
t/moo.t ....................... ok
t/moose-parameterized-role.t .. ok
t/moose.t ..................... ok
t/mouse.t ..................... ok
t/overload.t .................. ok
t/role_tiny.t ................. ok
t/self.t ...................... ok
t/zzz-check-breaks.t .......... ok
All tests successful.
Files=13, Tests=219,  6 wallclock secs ( 0.06 usr  0.09 sys +  2.73 cusr  0.60 csys =  3.48 CPU)
Result: PASS

------------------------------
PREREQUISITES
------------------------------

Prerequisite modules loaded:

requires:

    Module                   Need     Have    
    ------------------------ -------- --------
    Exporter                 5.57     5.71    
    File::Find               0        1.27    
    File::Spec               0        3.75    
    Module::Runtime          0        0.016   
    Package::Stash           0.14     0.40    
    perl                     5.006    5.020002
    Role::Tiny               1.003000 2.002004
    strict                   0        1.08    
    Sub::Identify            0        0.14    
    Test::Builder            0        1.302198
    warnings                 0        1.23    

build_requires:

    Module                   Need     Have    
    ------------------------ -------- --------
    constant                 0        1.31    
    ExtUtils::MakeMaker      0        7.70    
    File::pushd              0        1.016   
    File::Spec               0        3.75    
    File::Spec::Functions    0        3.75    
    if                       0        0.0603  
    lib                      0        0.63    
    namespace::clean         0        0.27    
    overload                 0        1.22    
    parent                   0        0.241   
    Scalar::Util             0        1.63    
    Sub::Exporter            0        0.991   
    Test::Deep               0        1.204   
    Test::More               0.96     1.302198
    Test::Needs              0        0.002010
    Test::Tester             0        1.302198
    Test::Warnings           0.009    0.032   

configure_requires:

    Module                   Need     Have    
    ------------------------ -------- --------
    CPAN::Meta::Requirements 2.120620 2.143   
    ExtUtils::MakeMaker      0        7.70    
    Module::Metadata         0        1.000038
    perl                     5.006    5.020002

opt_requires:

    Module                   Need     Have    
    ------------------------ -------- --------
    Package::Stash::XS       0        0.30    


------------------------------
ENVIRONMENT AND OTHER CONTEXT
------------------------------

Environment variables:

    AUTOMATED_TESTING = 1
    LANG = en_US.UTF-8
    LANGUAGE = en_US:en
    PATH = /home/sand/bin:/usr/local/bin:/usr/bin:/bin:/usr/games:/usr/local/perl/bin:/usr/X11/bin:/sbin:/usr/sbin
    PERL5LIB = 
    PERL5OPT = 
    PERL5_CPANPLUS_IS_RUNNING = 3921868
    PERL5_CPAN_IS_RUNNING = 3921868
    PERL_CANARY_STABILITY_NOPROMPT = 1
    PERL_MM_USE_DEFAULT = 1
    PERL_USE_UNSAFE_INC = 1
    SHELL = /usr/bin/zsh
    TERM = screen

Perl special variables (and OS-specific diagnostics, for MSWin32):

    $^X = /home/sand/src/perl/repoperls/installed-perls/host/k93msid/v5.20.2/29fb/bin/perl
    $UID/$EUID = 1005 / 1005
    $GID = 1005 1005
    $EGID = 1005 1005

Perl module toolchain versions installed:

    Module              Have    
    ------------------- --------
    CPAN                2.36    
    CPAN::Meta          2.150010
    Cwd                 3.75    
    ExtUtils::CBuilder  0.280236
    ExtUtils::Command   7.70    
    ExtUtils::Install   2.06    
    ExtUtils::MakeMaker 7.70    
    ExtUtils::Manifest  1.70    
    ExtUtils::ParseXS   3.51    
    File::Spec          3.75    
    JSON                4.10    
    JSON::PP            4.16    
    Module::Build       0.4234  
    Module::Signature   0.88    
    Parse::CPAN::Meta   2.150010
    Test2               1.302198
    Test::Harness       3.48    
    Test::More          1.302198
    YAML                1.31    
    YAML::Syck          1.34    
    version             0.9930  


--

Summary of my perl5 (revision 5 version 20 subversion 2) configuration:
  Derived from: c05ce579b6dae0f955ff8922469d49f95f4bf6fd
  Platform:
    osname=linux, osvers=6.5.0-5-amd64, archname=x86_64-linux-thread-multi
    uname='linux k93msid 6.5.0-5-amd64 #1 smp preempt_dynamic debian 6.5.13-1 (2023-11-29) x86_64 gnulinux '
    config_args='-Dprefix=/home/sand/src/perl/repoperls/installed-perls/host/k93msid/v5.20.2/29fb -Dmyhostname=k93msid -Dinstallusrbinperl=n -Uversiononly -Dusedevel -des -Ui_db -Dlibswanted=cl pthread socket inet nsl gdbm dbm malloc dl ld sun m crypt sec util c cposix posix ucb BSD gdbm_compat -Duseithreads -Uuselongdouble -DEBUGGING=both'
    hint=recommended, useposix=true, d_sigaction=define
    useithreads=define, usemultiplicity=define
    use64bitint=define, use64bitall=define, uselongdouble=undef
    usemymalloc=n, bincompat5005=undef
  Compiler:
    cc='cc', ccflags ='-D_REENTRANT -D_GNU_SOURCE -fwrapv -DDEBUGGING -fno-strict-aliasing -pipe -fstack-protector -I/usr/local/include -D_LARGEFILE_SOURCE -D_FILE_OFFSET_BITS=64',
    optimize='-O2 -g',
    cppflags='-D_REENTRANT -D_GNU_SOURCE -fwrapv -DDEBUGGING -fno-strict-aliasing -pipe -fstack-protector -I/usr/local/include'
    ccversion='', gccversion='13.2.0', gccosandvers=''
    intsize=4, longsize=8, ptrsize=8, doublesize=8, byteorder=12345678
    d_longlong=define, longlongsize=8, d_longdbl=define, longdblsize=16
    ivtype='long', ivsize=8, nvtype='double', nvsize=8, Off_t='off_t', lseeksize=8
    alignbytes=8, prototype=define
  Linker and Libraries:
    ld='cc', ldflags =' -fstack-protector -L/usr/local/lib'
    libpth=/usr/local/lib /usr/include/x86_64-linux-gnu /usr/lib /lib/x86_64-linux-gnu /lib/../lib /usr/lib/x86_64-linux-gnu /usr/lib/../lib /lib /lib64 /usr/lib64
    libs=-lpthread -lnsl -ldl -lm -lcrypt -lutil -lc
    perllibs=-lpthread -lnsl -ldl -lm -lcrypt -lutil -lc
    libc=/lib/x86_64-linux-gnu/libc.so.6, so=so, useshrplib=false, libperl=libperl.a
    gnulibc_version='2.37'
  Dynamic Linking:
    dlsrc=dl_dlopen.xs, dlext=so, d_dlsymun=undef, ccdlflags='-Wl,-E'
    cccdlflags='-fPIC', lddlflags='-shared -O2 -g -L/usr/local/lib -fstack-protector'


Characteristics of this binary (from libperl): 
  Compile-time options: DEBUGGING HAS_TIMES MULTIPLICITY PERLIO_LAYERS
                        PERL_DONT_CREATE_GVSV
                        PERL_HASH_FUNC_ONE_AT_A_TIME_HARD
                        PERL_IMPLICIT_CONTEXT PERL_MALLOC_WRAP
                        PERL_NEW_COPY_ON_WRITE PERL_PRESERVE_IVUV
                        PERL_TRACK_MEMPOOL PERL_USE_DEVEL USE_64_BIT_ALL
                        USE_64_BIT_INT USE_ITHREADS USE_LARGE_FILES
                        USE_LOCALE USE_LOCALE_COLLATE USE_LOCALE_CTYPE
                        USE_LOCALE_NUMERIC USE_PERLIO USE_PERL_ATOF
                        USE_REENTRANT_API
  Locally applied patches:
	uncommitted-changes
  Built under linux
  Compiled at Jan 21 2024 11:08:55
  %ENV:
    PERL5LIB=""
    PERL5OPT=""
    PERL5_CPANPLUS_IS_RUNNING="3921868"
    PERL5_CPAN_IS_RUNNING="3921868"
    PERL_CANARY_STABILITY_NOPROMPT="1"
    PERL_MM_USE_DEFAULT="1"
    PERL_USE_UNSAFE_INC="1"
  @INC:
    /home/sand/src/perl/repoperls/installed-perls/host/k93msid/v5.20.2/29fb/lib/site_perl/5.20.2/x86_64-linux-thread-multi
    /home/sand/src/perl/repoperls/installed-perls/host/k93msid/v5.20.2/29fb/lib/site_perl/5.20.2
    /home/sand/src/perl/repoperls/installed-perls/host/k93msid/v5.20.2/29fb/lib/5.20.2/x86_64-linux-thread-multi
    /home/sand/src/perl/repoperls/installed-perls/host/k93msid/v5.20.2/29fb/lib/5.20.2
    .