Report for PerlPoint-Package-0.452

Back
From: metabase:user:9820532a-708b-1014-9a05-b18a96298da1
Subject: PASS PerlPoint-Package-0.452 v5.15.8 GNU/Linux
Date: 2012-03-22T02:11:12Z

This distribution has been tested as part of the CPAN Testers
project, supporting the Perl programming language.  See
http://wiki.cpantesters.org/ for more information or email
questions to cpan-testers-discuss@perl.org


--
Dear Jochen Stenzel,

This is a computer-generated report for PerlPoint-Package-0.452
on perl 5.15.8, created by CPAN-Reporter-1.2005.

Thank you for uploading your work to CPAN.  Congratulations!
All tests were successful.

Sections of this report:

    * Tester comments
    * Program output
    * Prerequisites
    * Environment and other context

------------------------------
TESTER COMMENTS
------------------------------

Additional comments from tester:

this report is from an automated smoke testing program
and was not reviewed by a human for accuracy

------------------------------
PROGRAM OUTPUT
------------------------------

Output from '/usr/bin/make test':

PERL_DL_NONLAZY=1 /home/bri/perl5/perlbrew/perls/5.15.8-th/bin/perl5.15.8 "-MExtUtils::Command::MM" "-e" "test_harness(0, 'blib/lib', 'blib/arch')" t/*.t
t/l0_backend-base.t ... ok
t/l0_backend-modes.t .. ok
t/l0_backend-navi.t ... ok
Use of uninitialized value in uc at /home/bri/.cpan/build/PerlPoint-Package-0.452-hIVITH/blib/lib/PerlPoint/Tags.pm line 502.
Use of uninitialized value in uc at /home/bri/.cpan/build/PerlPoint-Package-0.452-hIVITH/blib/lib/PerlPoint/Tags.pm line 502.
t/l0_backend-toc.t .... ok
Use of uninitialized value in uc at /home/bri/.cpan/build/PerlPoint-Package-0.452-hIVITH/blib/lib/PerlPoint/Tags.pm line 502.
Use of uninitialized value in uc at /home/bri/.cpan/build/PerlPoint-Package-0.452-hIVITH/blib/lib/PerlPoint/Tags.pm line 502.
t/l0_cache-fill.t ..... ok
Use of uninitialized value in uc at /home/bri/.cpan/build/PerlPoint-Package-0.452-hIVITH/blib/lib/PerlPoint/Tags.pm line 502.
Use of uninitialized value in uc at /home/bri/.cpan/build/PerlPoint-Package-0.452-hIVITH/blib/lib/PerlPoint/Tags.pm line 502.
t/l0_cache-hits.t ..... ok
t/l0_cache-remove.t ... ok
t/l0_code.t ........... ok
t/l0_comments.t ....... ok
t/l0_conditions.t ..... ok
t/l0_docstreams1.t .... ok
t/l0_docstreams2.t .... ok
t/l0_docstreams3.t .... ok
t/l0_documents.t ...... ok
t/l0_embedded.t ....... ok
Use of uninitialized value in uc at /home/bri/.cpan/build/PerlPoint-Package-0.452-hIVITH/blib/lib/PerlPoint/Tags.pm line 502.
Use of uninitialized value in uc at /home/bri/.cpan/build/PerlPoint-Package-0.452-hIVITH/blib/lib/PerlPoint/Tags.pm line 502.
t/l0_headlines.t ...... ok
t/l0_ifilters.t ....... ok
t/l0_include1.t ....... ok
t/l0_include2.t ....... ok
t/l0_include3.t ....... ok
t/l0_include6.t ....... ok
Use of uninitialized value in uc at /home/bri/.cpan/build/PerlPoint-Package-0.452-hIVITH/blib/lib/PerlPoint/Tags.pm line 502.
Use of uninitialized value in uc at /home/bri/.cpan/build/PerlPoint-Package-0.452-hIVITH/blib/lib/PerlPoint/Tags.pm line 502.
t/l0_index.t .......... ok
t/l0_linehints.t ...... ok
t/l0_lists.t .......... ok
Use of uninitialized value in uc at /home/bri/.cpan/build/PerlPoint-Package-0.452-hIVITH/blib/lib/PerlPoint/Tags.pm line 502.
Use of uninitialized value in uc at /home/bri/.cpan/build/PerlPoint-Package-0.452-hIVITH/blib/lib/PerlPoint/Tags.pm line 502.
t/l0_macros.t ......... ok
Use of uninitialized value in uc at /home/bri/.cpan/build/PerlPoint-Package-0.452-hIVITH/blib/lib/PerlPoint/Tags.pm line 502.
Use of uninitialized value in uc at /home/bri/.cpan/build/PerlPoint-Package-0.452-hIVITH/blib/lib/PerlPoint/Tags.pm line 502.
t/l0_pfilters.t ....... ok
t/l0_simple.t ......... ok
t/l0_tables.t ......... ok
Use of uninitialized value in uc at /home/bri/.cpan/build/PerlPoint-Package-0.452-hIVITH/blib/lib/PerlPoint/Tags.pm line 502.
Use of uninitialized value in uc at /home/bri/.cpan/build/PerlPoint-Package-0.452-hIVITH/blib/lib/PerlPoint/Tags.pm line 502.
t/l0_tags.t ........... ok
t/l0_text.t ........... ok
t/l0_variables1.t ..... ok
t/l0_variables2.t ..... ok
t/l0_variables3.t ..... ok
t/l0_verbatim.t ....... ok
t/l9_pod-coverage.t ... skipped: Docs not complete yet and TODO doesn't work as expected
t/l9_pod.t ............ ok
All tests successful.
Files=36, Tests=14098, 14 wallclock secs ( 1.46 usr  0.12 sys + 10.99 cusr  0.55 csys = 13.12 CPU)
Result: PASS

------------------------------
PREREQUISITES
------------------------------

Prerequisite modules loaded:

requires:

    Module              Need Have   
    ------------------- ---- -------
    Digest::SHA1        1    2.13   
    File::Spec          0.8  3.33   
    File::Temp          0.12 0.22   
    Getopt::Long        2.24 2.38   
    IO::File            1    1.14   
    Pod::Simple         3.02 3.20   
    Storable            1    2.30   
    Test::Harness       1.25 3.23   
    Test::More          0.11 0.98   

build_requires:

    Module              Need Have   
    ------------------- ---- -------
    ExtUtils::MakeMaker 0    6.63_02


------------------------------
ENVIRONMENT AND OTHER CONTEXT
------------------------------

Environment variables:

    AUTOMATED_TESTING = 1
    LANG = C
    LANGUAGE = en_GB:en
    LC_ALL = C
    MANPATH_WITHOUT_PERLBREW = 
    PATH = /home/bri/bin:/home/bri/perl5/perlbrew/bin:/home/bri/perl5/perlbrew/perls/5.15.8-th/bin:~/bin:/usr/local/sbin:/usr/local/bin:/usr/sbin:/usr/bin:/sbin:/bin:/usr/games
    PATH_WITHOUT_PERLBREW = ~/bin:/usr/local/sbin:/usr/local/bin:/usr/sbin:/usr/bin:/sbin:/bin:/usr/games
    PERL5LIB = 
    PERL5OPT = 
    PERL5_CPANPLUS_IS_RUNNING = 3318
    PERL5_CPAN_IS_RUNNING = 3318
    PERL5_CPAN_IS_RUNNING_IN_RECURSION = 2137,3318
    PERLBREW_BASHRC_VERSION = 0.42
    PERLBREW_HOME = /home/bri/.perlbrew
    PERLBREW_MANPATH = /home/bri/perl5/perlbrew/perls/5.15.8-th/man
    PERLBREW_PATH = /home/bri/perl5/perlbrew/bin:/home/bri/perl5/perlbrew/perls/5.15.8-th/bin
    PERLBREW_PERL = 5.15.8-th
    PERLBREW_ROOT = /home/bri/perl5/perlbrew
    PERLBREW_VERSION = 0.42
    PERL_CPANM_OPT = --prompt --mirror http://172.16.1.3/cpan/
    PERL_CR_SMOKER_CURRENT = PerlPoint-Package-0.452
    PERL_EXTUTILS_AUTOINSTALL = --defaultdeps
    PERL_MM_USE_DEFAULT = 1
    SHELL = /bin/bash
    TERM = linux

Perl special variables (and OS-specific diagnostics, for MSWin32):

    $^X = /home/bri/perl5/perlbrew/perls/5.15.8-th/bin/perl5.15.8
    $UID/$EUID = 1000 / 1000
    $GID = 1000 4 20 24 46 112 120 122 1000
    $EGID = 1000 4 20 24 46 112 120 122 1000

Perl module toolchain versions installed:

    Module              Have    
    ------------------- --------
    CPAN                1.9800  
    CPAN::Meta          2.120630
    Cwd                 3.33    
    ExtUtils::CBuilder  0.280205
    ExtUtils::Command   1.17    
    ExtUtils::Install   1.52    
    ExtUtils::MakeMaker 6.63_02 
    ExtUtils::Manifest  1.60    
    ExtUtils::ParseXS   3.16    
    File::Spec          3.33    
    JSON                2.53    
    JSON::PP            2.27200 
    Module::Build       0.40    
    Module::Signature   n/a     
    Parse::CPAN::Meta   1.4402  
    Test::Harness       3.23    
    Test::More          0.98    
    YAML                0.80    
    YAML::Syck          1.20    
    version             0.96    


--

Summary of my perl5 (revision 5 version 15 subversion 8) configuration:
   
  Platform:
    osname=linux, osvers=2.6.38-11-generic, archname=i686-linux-thread-multi
    uname='linux lappy 2.6.38-11-generic #48-ubuntu smp fri jul 29 19:05:14 utc 2011 i686 i686 i386 gnulinux '
    config_args='-de -Dprefix=/home/bri/perl5/perlbrew/perls/5.15.8-th -Dusethreads -Dusedevel'
    hint=recommended, useposix=true, d_sigaction=define
    useithreads=define, usemultiplicity=define
    useperlio=define, d_sfio=undef, uselargefiles=define, usesocks=undef
    use64bitint=undef, use64bitall=undef, uselongdouble=undef
    usemymalloc=n, bincompat5005=undef
  Compiler:
    cc='cc', ccflags ='-D_REENTRANT -D_GNU_SOURCE -fno-strict-aliasing -pipe -fstack-protector -I/usr/local/include -D_LARGEFILE_SOURCE -D_FILE_OFFSET_BITS=64',
    optimize='-O2',
    cppflags='-D_REENTRANT -D_GNU_SOURCE -fno-strict-aliasing -pipe -fstack-protector -I/usr/local/include'
    ccversion='', gccversion='4.5.2', gccosandvers=''
    intsize=4, longsize=4, ptrsize=4, doublesize=8, byteorder=1234
    d_longlong=define, longlongsize=8, d_longdbl=define, longdblsize=12
    ivtype='long', ivsize=4, nvtype='double', nvsize=8, Off_t='off_t', lseeksize=8
    alignbytes=4, prototype=define
  Linker and Libraries:
    ld='cc', ldflags =' -fstack-protector -L/usr/local/lib'
    libpth=/usr/local/lib /lib /usr/lib /usr/lib/i386-linux-gnu /usr/lib64
    libs=-lnsl -ldl -lm -lcrypt -lutil -lpthread -lc
    perllibs=-lnsl -ldl -lm -lcrypt -lutil -lpthread -lc
    libc=, so=so, useshrplib=false, libperl=libperl.a
    gnulibc_version='2.13'
  Dynamic Linking:
    dlsrc=dl_dlopen.xs, dlext=so, d_dlsymun=undef, ccdlflags='-Wl,-E'
    cccdlflags='-fPIC', lddlflags='-shared -O2 -L/usr/local/lib -fstack-protector'


Characteristics of this binary (from libperl): 
  Compile-time options: HAS_TIMES MULTIPLICITY PERLIO_LAYERS
                        PERL_DONT_CREATE_GVSV PERL_IMPLICIT_CONTEXT
                        PERL_MALLOC_WRAP PERL_PRESERVE_IVUV PERL_USE_DEVEL
                        USE_ITHREADS USE_LARGE_FILES USE_LOCALE
                        USE_LOCALE_COLLATE USE_LOCALE_CTYPE
                        USE_LOCALE_NUMERIC USE_PERLIO USE_PERL_ATOF
                        USE_REENTRANT_API
  Built under linux
  Compiled at Mar 14 2012 10:52:24
  %ENV:
    PERL5LIB=""
    PERL5OPT=""
    PERL5_CPANPLUS_IS_RUNNING="3318"
    PERL5_CPAN_IS_RUNNING="3318"
    PERL5_CPAN_IS_RUNNING_IN_RECURSION="2137,3318"
    PERLBREW_BASHRC_VERSION="0.42"
    PERLBREW_HOME="/home/bri/.perlbrew"
    PERLBREW_MANPATH="/home/bri/perl5/perlbrew/perls/5.15.8-th/man"
    PERLBREW_PATH="/home/bri/perl5/perlbrew/bin:/home/bri/perl5/perlbrew/perls/5.15.8-th/bin"
    PERLBREW_PERL="5.15.8-th"
    PERLBREW_ROOT="/home/bri/perl5/perlbrew"
    PERLBREW_VERSION="0.42"
    PERL_CPANM_OPT="--prompt --mirror http://172.16.1.3/cpan/"
    PERL_CR_SMOKER_CURRENT="PerlPoint-Package-0.452"
    PERL_EXTUTILS_AUTOINSTALL="--defaultdeps"
    PERL_MM_USE_DEFAULT="1"
  @INC:
    /home/bri/perl5/perlbrew/perls/5.15.8-th/lib/site_perl/5.15.8/i686-linux-thread-multi
    /home/bri/perl5/perlbrew/perls/5.15.8-th/lib/site_perl/5.15.8
    /home/bri/perl5/perlbrew/perls/5.15.8-th/lib/5.15.8/i686-linux-thread-multi
    /home/bri/perl5/perlbrew/perls/5.15.8-th/lib/5.15.8
    .