Mojolicious-Plugin-Export v0.008 Perl 5 v5.32.1 i386-openbsd

Status
Pass
From
Alceu Rodrigues de Freitas Junior
Dist
Mojolicious-Plugin-Export v0.008
Platform
Perl 5 v5.32.1 i386-openbsd
Date
2022-06-16 14:12:03
ID
4c006ada-ed7e-11ec-b737-db65ffa5fe2c
This distribution has been tested as part of the CPAN Testers
project, supporting the Perl programming language.  See
http://wiki.cpantesters.org/ for more information or email
questions to cpan-testers-discuss@perl.org


--
Dear Doug Bell,

This is a computer-generated report for Mojolicious-Plugin-Export-0.008
on perl 5.32.1, created by CPAN-Reporter-1.2018.

Thank you for uploading your work to CPAN.  Congratulations!
All tests were successful.

Sections of this report:

    * Tester comments
    * Program output
    * Prerequisites
    * Environment and other context

------------------------------
TESTER COMMENTS
------------------------------

Additional comments from tester:

this report is from an automated smoke testing program
and was not reviewed by a human for accuracy

------------------------------
PROGRAM OUTPUT
------------------------------

Output from '/usr/bin/make test':

PERL_DL_NONLAZY=1 "/usr/bin/perl" "-MExtUtils::Command::MM" "-MTest::Harness" "-e" "undef *Test::Harness::Switches; test_harness(0, 'blib/lib', 'blib/arch')" t/*.t
t/00-compile.t ......... ok
# 
# Versions for all modules listed in MYMETA.json (including optional ones):
# 
# === Configure Requires ===
# 
#     Module              Want    Have
#     ------------------- ---- -------
#     ExtUtils::MakeMaker  any 7.65_01
# 
# === Build Requires ===
# 
#     Module              Want    Have
#     ------------------- ---- -------
#     ExtUtils::MakeMaker  any 7.65_01
# 
# === Test Requires ===
# 
#     Module              Want     Have
#     ------------------- ---- --------
#     ExtUtils::MakeMaker  any  7.65_01
#     File::Spec           any     3.78
#     IO::Handle           any     1.48
#     IPC::Open3           any     1.21
#     Test::More           any 1.302190
# 
# === Test Recommends ===
# 
#     Module         Want     Have
#     ---------- -------- --------
#     CPAN::Meta 2.120900 2.150010
# 
# === Runtime Requires ===
# 
#     Module      Want Have
#     ----------- ---- ----
#     Mojolicious    8 9.26
# 
t/00-report-prereqs.t .. ok
[2022-06-16 02:21:15.91550] [91690] [trace] [qEngV97Hyksc] GET "/"
[2022-06-16 02:21:15.91868] [91690] [trace] [qEngV97Hyksc] Rendering template "index.html.ep" from DATA section
[2022-06-16 02:21:15.92051] [91690] [trace] [qEngV97Hyksc] 200 OK (0.005001s, 199.960/s)
[2022-06-16 02:21:15.92614] [91690] [trace] [426aEK1Bhjyy] GET "/docs"
[2022-06-16 02:21:15.92746] [91690] [trace] [426aEK1Bhjyy] Rendering template "docs.html.ep" from DATA section
[2022-06-16 02:21:15.92901] [91690] [trace] [426aEK1Bhjyy] 200 OK (0.002836s, 352.609/s)
[2022-06-16 02:21:15.93527] [91690] [trace] [QhK3xtDVTdlN] GET "/about"
[2022-06-16 02:21:15.93652] [91690] [trace] [QhK3xtDVTdlN] Rendering template "about.html.ep" from DATA section
[2022-06-16 02:21:15.93772] [91690] [trace] [QhK3xtDVTdlN] 200 OK (0.002432s, 411.184/s)
[2022-06-16 02:21:15.94171] [91690] [trace] [bwFZQCMzPAwJ] GET "/NOT_FOUND"
[2022-06-16 02:21:15.94288] [91690] [trace] [bwFZQCMzPAwJ] Template "not_found.development.html.ep" not found
[2022-06-16 02:21:15.94401] [91690] [trace] [bwFZQCMzPAwJ] Template "not_found.html.ep" not found
[2022-06-16 02:21:15.94504] [91690] [trace] [bwFZQCMzPAwJ] Rendering template "mojo/debug.html.ep"
[2022-06-16 02:21:15.97074] [91690] [trace] Your secret passphrase needs to be changed
[2022-06-16 02:21:15.97538] [91690] [trace] [bwFZQCMzPAwJ] 404 Not Found (0.033698s, 29.675/s)
[2022-06-16 02:21:15.98328] [91690] [trace] [MAHDR06X20bE] GET "/redirect"
[2022-06-16 02:21:15.98416] [91690] [trace] [MAHDR06X20bE] Routing to a callback
[2022-06-16 02:21:15.98487] [91690] [trace] [MAHDR06X20bE] 302 Found (0.001577s, 634.115/s)
[2022-06-16 02:21:15.99185] [91690] [trace] [8ksAsA1w5pGM] GET "/docs/more"
[2022-06-16 02:21:15.99273] [91690] [trace] [8ksAsA1w5pGM] Routing to a callback
[2022-06-16 02:21:15.99358] [91690] [trace] [8ksAsA1w5pGM] Rendering inline template "2da2aed28011bbc3541e0de248c276ca"
[2022-06-16 02:21:15.99510] [91690] [trace] [8ksAsA1w5pGM] 200 OK (0.003219s, 310.655/s)
[2022-06-16 02:21:16.02738] [91690] [trace] [sj-_ngdnkRXX] GET "/"
[2022-06-16 02:21:16.02825] [91690] [trace] [sj-_ngdnkRXX] Rendering cached template "index.html.ep" from DATA section
[2022-06-16 02:21:16.02893] [91690] [trace] [sj-_ngdnkRXX] 200 OK (0.001536s, 651.042/s)
[2022-06-16 02:21:16.03354] [91690] [trace] [kWUcPcIF00YU] GET "/docs"
[2022-06-16 02:21:16.03432] [91690] [trace] [kWUcPcIF00YU] Rendering cached template "docs.html.ep" from DATA section
[2022-06-16 02:21:16.03503] [91690] [trace] [kWUcPcIF00YU] 200 OK (0.001454s, 687.758/s)
[2022-06-16 02:21:16.04008] [91690] [trace] [iORd-Lo1r7qF] GET "/about"
[2022-06-16 02:21:16.04104] [91690] [trace] [iORd-Lo1r7qF] Rendering cached template "about.html.ep" from DATA section
[2022-06-16 02:21:16.04185] [91690] [trace] [iORd-Lo1r7qF] 200 OK (0.001765s, 566.572/s)
[2022-06-16 02:21:16.04705] [91690] [trace] [usgRhM3g2B1D] GET "/NOT_FOUND"
[2022-06-16 02:21:16.04811] [91690] [trace] [usgRhM3g2B1D] Template "not_found.development.html.ep" not found
[2022-06-16 02:21:16.04882] [91690] [trace] [usgRhM3g2B1D] Template "not_found.html.ep" not found
[2022-06-16 02:21:16.04938] [91690] [trace] [usgRhM3g2B1D] Rendering cached template "mojo/debug.html.ep"
[2022-06-16 02:21:16.05471] [91690] [trace] [usgRhM3g2B1D] 404 Not Found (0.007642s, 130.856/s)
[2022-06-16 02:21:16.05888] [91690] [trace] [G1913mVbhYJl] GET "/redirect"
[2022-06-16 02:21:16.05957] [91690] [trace] [G1913mVbhYJl] Routing to a callback
[2022-06-16 02:21:16.06033] [91690] [trace] [G1913mVbhYJl] 302 Found (0.001429s, 699.790/s)
[2022-06-16 02:21:16.06939] [91690] [trace] [ynMlzNDDzoSk] GET "/docs/more"
[2022-06-16 02:21:16.07014] [91690] [trace] [ynMlzNDDzoSk] Routing to a callback
[2022-06-16 02:21:16.07078] [91690] [trace] [ynMlzNDDzoSk] Rendering cached inline template "2da2aed28011bbc3541e0de248c276ca"
[2022-06-16 02:21:16.07158] [91690] [trace] [ynMlzNDDzoSk] 200 OK (0.002182s, 458.295/s)
[2022-06-16 02:21:16.09529] [91690] [trace] [8lv7gOletxyG] GET "/"
[2022-06-16 02:21:16.09643] [91690] [trace] [8lv7gOletxyG] Rendering cached template "index.html.ep" from DATA section
[2022-06-16 02:21:16.09730] [91690] [trace] [8lv7gOletxyG] 200 OK (0.00199s, 502.513/s)
[2022-06-16 02:21:16.10428] [91690] [trace] [dxG0jU8kVNjd] GET "/docs"
[2022-06-16 02:21:16.10514] [91690] [trace] [dxG0jU8kVNjd] Rendering cached template "docs.html.ep" from DATA section
[2022-06-16 02:21:16.10593] [91690] [trace] [dxG0jU8kVNjd] 200 OK (0.001645s, 607.903/s)
[2022-06-16 02:21:16.11055] [91690] [trace] [3BtXuSVudssq] GET "/about"
[2022-06-16 02:21:16.11158] [91690] [trace] [3BtXuSVudssq] Rendering cached template "about.html.ep" from DATA section
[2022-06-16 02:21:16.11328] [91690] [trace] [3BtXuSVudssq] 200 OK (0.002689s, 371.885/s)
[2022-06-16 02:21:16.11743] [91690] [trace] [BeI23l7RM2zE] GET "/NOT_FOUND"
[2022-06-16 02:21:16.11847] [91690] [trace] [BeI23l7RM2zE] Template "not_found.development.html.ep" not found
[2022-06-16 02:21:16.11938] [91690] [trace] [BeI23l7RM2zE] Template "not_found.html.ep" not found
[2022-06-16 02:21:16.12007] [91690] [trace] [BeI23l7RM2zE] Rendering cached template "mojo/debug.html.ep"
[2022-06-16 02:21:16.12705] [91690] [trace] [BeI23l7RM2zE] 404 Not Found (0.009587s, 104.308/s)
[2022-06-16 02:21:16.13253] [91690] [trace] [tyyA-D1Lx-LB] GET "/redirect"
[2022-06-16 02:21:16.13324] [91690] [trace] [tyyA-D1Lx-LB] Routing to a callback
[2022-06-16 02:21:16.13394] [91690] [trace] [tyyA-D1Lx-LB] 302 Found (0.00139s, 719.424/s)
[2022-06-16 02:21:16.14244] [91690] [trace] [GXul2OLwyOG-] GET "/docs/more"
[2022-06-16 02:21:16.14314] [91690] [trace] [GXul2OLwyOG-] Routing to a callback
[2022-06-16 02:21:16.14374] [91690] [trace] [GXul2OLwyOG-] Rendering cached inline template "2da2aed28011bbc3541e0de248c276ca"
[2022-06-16 02:21:16.14440] [91690] [trace] [GXul2OLwyOG-] 200 OK (0.00194s, 515.464/s)
[2022-06-16 02:21:16.17112] [91690] [trace] [MXQGf9k7AxKD] GET "/docs"
[2022-06-16 02:21:16.17197] [91690] [trace] [MXQGf9k7AxKD] Rendering cached template "docs.html.ep" from DATA section
[2022-06-16 02:21:16.17267] [91690] [trace] [MXQGf9k7AxKD] 200 OK (0.001537s, 650.618/s)
[2022-06-16 02:21:16.17659] [91690] [trace] [ExWgGdpaWKIT] GET "/docs/more"
[2022-06-16 02:21:16.17728] [91690] [trace] [ExWgGdpaWKIT] Routing to a callback
[2022-06-16 02:21:16.17788] [91690] [trace] [ExWgGdpaWKIT] Rendering cached inline template "2da2aed28011bbc3541e0de248c276ca"
[2022-06-16 02:21:16.17854] [91690] [trace] [ExWgGdpaWKIT] 200 OK (0.001929s, 518.403/s)
[2022-06-16 02:21:16.19910] [91690] [trace] [FjEu1HdCCUDZ] GET "/"
[2022-06-16 02:21:16.20007] [91690] [trace] [FjEu1HdCCUDZ] Rendering cached template "index.html.ep" from DATA section
[2022-06-16 02:21:16.20078] [91690] [trace] [FjEu1HdCCUDZ] 200 OK (0.001653s, 604.961/s)
[2022-06-16 02:21:16.20551] [91690] [trace] [-ZPLNP6GrowO] GET "/docs"
[2022-06-16 02:21:16.20634] [91690] [trace] [-ZPLNP6GrowO] Rendering cached template "docs.html.ep" from DATA section
[2022-06-16 02:21:16.20703] [91690] [trace] [-ZPLNP6GrowO] 200 OK (0.001498s, 667.557/s)
[2022-06-16 02:21:16.21088] [91690] [trace] [IyQsL7Q0LiOw] GET "/about"
[2022-06-16 02:21:16.21168] [91690] [trace] [IyQsL7Q0LiOw] Rendering cached template "about.html.ep" from DATA section
[2022-06-16 02:21:16.21237] [91690] [trace] [IyQsL7Q0LiOw] 200 OK (0.001476s, 677.507/s)
[2022-06-16 02:21:16.21647] [91690] [trace] [QmglZ2uIg487] GET "/NOT_FOUND"
[2022-06-16 02:21:16.21747] [91690] [trace] [QmglZ2uIg487] Template "not_found.development.html.ep" not found
[2022-06-16 02:21:16.21818] [91690] [trace] [QmglZ2uIg487] Template "not_found.html.ep" not found
[2022-06-16 02:21:16.21876] [91690] [trace] [QmglZ2uIg487] Rendering cached template "mojo/debug.html.ep"
[2022-06-16 02:21:16.22396] [91690] [trace] [QmglZ2uIg487] 404 Not Found (0.007476s, 133.761/s)
[2022-06-16 02:21:16.22831] [91690] [trace] [RXd6wPDy6Kph] GET "/redirect"
[2022-06-16 02:21:16.22916] [91690] [trace] [RXd6wPDy6Kph] Routing to a callback
[2022-06-16 02:21:16.23009] [91690] [trace] [RXd6wPDy6Kph] 302 Found (0.001763s, 567.215/s)
[2022-06-16 02:21:16.23938] [91690] [trace] [qs4N-XvKEKO5] GET "/docs/more"
[2022-06-16 02:21:16.24012] [91690] [trace] [qs4N-XvKEKO5] Routing to a callback
[2022-06-16 02:21:16.24087] [91690] [trace] [qs4N-XvKEKO5] Rendering cached inline template "2da2aed28011bbc3541e0de248c276ca"
[2022-06-16 02:21:16.24153] [91690] [trace] [qs4N-XvKEKO5] 200 OK (0.002133s, 468.823/s)
[2022-06-16 02:21:16.26941] [91690] [trace] [BPDtFJHXgX5P] GET "/"
[2022-06-16 02:21:16.27026] [91690] [trace] [BPDtFJHXgX5P] Rendering cached template "index.html.ep" from DATA section
[2022-06-16 02:21:16.27097] [91690] [trace] [BPDtFJHXgX5P] 200 OK (0.001538s, 650.195/s)
[2022-06-16 02:21:16.27664] [91690] [trace] [rQk_MLNODaFm] GET "/docs"
[2022-06-16 02:21:16.27742] [91690] [trace] [rQk_MLNODaFm] Rendering cached template "docs.html.ep" from DATA section
[2022-06-16 02:21:16.27809] [91690] [trace] [rQk_MLNODaFm] 200 OK (0.001427s, 700.771/s)
[2022-06-16 02:21:16.28200] [91690] [trace] [3PKvrp5nFjvC] GET "/about"
[2022-06-16 02:21:16.28279] [91690] [trace] [3PKvrp5nFjvC] Rendering cached template "about.html.ep" from DATA section
[2022-06-16 02:21:16.28348] [91690] [trace] [3PKvrp5nFjvC] 200 OK (0.001453s, 688.231/s)
[2022-06-16 02:21:16.28751] [91690] [trace] [Y9X0vsaALNzh] GET "/NOT_FOUND"
[2022-06-16 02:21:16.28887] [91690] [trace] [Y9X0vsaALNzh] Template "not_found.development.html.ep" not found
[2022-06-16 02:21:16.28977] [91690] [trace] [Y9X0vsaALNzh] Template "not_found.html.ep" not found
[2022-06-16 02:21:16.29052] [91690] [trace] [Y9X0vsaALNzh] Rendering cached template "mojo/debug.html.ep"
[2022-06-16 02:21:16.29714] [91690] [trace] [Y9X0vsaALNzh] 404 Not Found (0.009593s, 104.243/s)
[2022-06-16 02:21:16.30152] [91690] [trace] [TiU62C-oaGeP] GET "/redirect"
[2022-06-16 02:21:16.30222] [91690] [trace] [TiU62C-oaGeP] Routing to a callback
[2022-06-16 02:21:16.30292] [91690] [trace] [TiU62C-oaGeP] 302 Found (0.001384s, 722.543/s)
[2022-06-16 02:21:16.30950] [91690] [trace] [JiR2ZxTOarAk] GET "/docs/more"
[2022-06-16 02:21:16.31027] [91690] [trace] [JiR2ZxTOarAk] Routing to a callback
[2022-06-16 02:21:16.31100] [91690] [trace] [JiR2ZxTOarAk] Rendering cached inline template "2da2aed28011bbc3541e0de248c276ca"
[2022-06-16 02:21:16.31194] [91690] [trace] [JiR2ZxTOarAk] 200 OK (0.002416s, 413.907/s)
[2022-06-16 02:21:16.33740] [91690] [trace] [wnewvjFrs3aA] GET "/docs"
[2022-06-16 02:21:16.33824] [91690] [trace] [wnewvjFrs3aA] Rendering cached template "docs.html.ep" from DATA section
[2022-06-16 02:21:16.33894] [91690] [trace] [wnewvjFrs3aA] 200 OK (0.001527s, 654.879/s)
[2022-06-16 02:21:16.34281] [91690] [trace] [6j3CoFthD_lT] GET "/docs/more"
[2022-06-16 02:21:16.34367] [91690] [trace] [6j3CoFthD_lT] Routing to a callback
[2022-06-16 02:21:16.34434] [91690] [trace] [6j3CoFthD_lT] Rendering cached inline template "2da2aed28011bbc3541e0de248c276ca"
[2022-06-16 02:21:16.34499] [91690] [trace] [6j3CoFthD_lT] 200 OK (0.002165s, 461.894/s)
t/command.t ............ ok
[2022-06-16 02:21:17.12029] [10567] [trace] [yL744cD1EPCk] GET "/"
[2022-06-16 02:21:17.12360] [10567] [trace] [yL744cD1EPCk] Rendering template "index.html.ep" from DATA section
[2022-06-16 02:21:17.12520] [10567] [trace] [yL744cD1EPCk] 200 OK (0.004898s, 204.165/s)
t/plugin.t ............. ok
All tests successful.
Files=4, Tests=55,  4 wallclock secs ( 0.03 usr  0.07 sys +  2.06 cusr  0.93 csys =  3.09 CPU)
Result: PASS

------------------------------
PREREQUISITES
------------------------------

Prerequisite modules loaded:

requires:

    Module              Need     Have    
    ------------------- -------- --------
    Mojolicious         8        9.26    
    perl                5.014    5.032001

build_requires:

    Module              Need     Have    
    ------------------- -------- --------
    ExtUtils::MakeMaker 0        7.65_01 
    File::Spec          0        3.78    
    IO::Handle          0        1.48    
    IPC::Open3          0        1.21    
    Test::More          0        1.302190

configure_requires:

    Module              Need     Have    
    ------------------- -------- --------
    ExtUtils::MakeMaker 0        7.65_01 

opt_build_requires:

    Module              Need     Have    
    ------------------- -------- --------
    CPAN::Meta          2.120900 2.150010


------------------------------
ENVIRONMENT AND OTHER CONTEXT
------------------------------

Environment variables:

    AUTOMATED_TESTING = 1
    PATH = /home/goku/perl5/bin:/usr/bin:/bin:/usr/sbin:/sbin:/usr/X11R6/bin:/usr/local/bin:/usr/local/sbin
    PERL5LIB = /home/goku/perl5/lib/perl5
    PERL5OPT = 
    PERL5_CPANPLUS_IS_RUNNING = 14411
    PERL5_CPAN_IS_RUNNING = 14411
    PERL5_CPAN_IS_RUNNING_IN_RECURSION = 6441,14411
    PERL_CR_SMOKER_CURRENT = Mojolicious-Plugin-Export-0.008
    PERL_EXTUTILS_AUTOINSTALL = --defaultdeps
    PERL_LOCAL_LIB_ROOT = /home/goku/perl5
    PERL_MB_OPT = --install_base "/home/goku/perl5"
    PERL_MM_OPT = INSTALL_BASE=/home/goku/perl5
    PERL_MM_USE_DEFAULT = 1
    PERL_USE_UNSAFE_INC = 1
    SHELL = /bin/ksh
    TERM = xterm-256color

Perl special variables (and OS-specific diagnostics, for MSWin32):

    $^X = /usr/bin/perl
    $UID/$EUID = 1001 / 1001
    $GID = 1002 1002 1001
    $EGID = 1002 1002 1001

Perl module toolchain versions installed:

    Module              Have    
    ------------------- --------
    CPAN                2.34    
    CPAN::Meta          2.150010
    Cwd                 3.78    
    ExtUtils::CBuilder  0.280236
    ExtUtils::Command   7.65_01 
    ExtUtils::Install   2.20    
    ExtUtils::MakeMaker 7.65_01 
    ExtUtils::Manifest  1.72    
    ExtUtils::ParseXS   3.44    
    File::Spec          3.78    
    JSON                4.06    
    JSON::PP            4.09    
    Module::Build       0.4231  
    Module::Signature   n/a     
    Parse::CPAN::Meta   2.150010
    Test::Harness       3.44    
    Test::More          1.302190
    YAML                1.30    
    YAML::Syck          1.34    
    version             0.9929  


--

Summary of my perl5 (revision 5 version 32 subversion 1) configuration:
   
  Platform:
    osname=openbsd
    osvers=7.1
    archname=i386-openbsd
    uname='openbsd'
    config_args='-dse -Dopenbsd_distribution=defined -Dmksymlinks'
    hint=recommended
    useposix=true
    d_sigaction=define
    useithreads=undef
    usemultiplicity=undef
    use64bitint=undef
    use64bitall=undef
    uselongdouble=undef
    usemymalloc=n
    default_inc_excludes_dot=define
    bincompat5005=undef
  Compiler:
    cc='cc'
    ccflags ='-DNO_LOCALE_NUMERIC -DNO_LOCALE_COLLATE -fno-strict-aliasing -fno-delete-null-pointer-checks -pipe -fstack-protector-strong -I/usr/local/include'
    optimize='-O2'
    cppflags='-DBIG_TIME -DNO_LOCALE_NUMERIC -DNO_LOCALE_COLLATE -fno-strict-aliasing -fno-delete-null-pointer-checks -pipe -fstack-protector-strong -I/usr/local/include'
    ccversion=''
    gccversion='OpenBSD Clang 13.0.0'
    gccosandvers=''
    intsize=4
    longsize=4
    ptrsize=4
    doublesize=8
    byteorder=1234
    doublekind=3
    d_longlong=define
    longlongsize=8
    d_longdbl=define
    longdblsize=12
    longdblkind=3
    ivtype='long'
    ivsize=4
    nvtype='double'
    nvsize=8
    Off_t='off_t'
    lseeksize=8
    alignbytes=4
    prototype=define
  Linker and Libraries:
    ld='cc'
    ldflags ='-Wl,-E  -fstack-protector-strong -L/usr/local/lib'
    libpth=/usr/lib /usr/lib/clang/13.0.0/lib /usr/lib
    libs=-lm -lc
    perllibs=-lm -lc
    libc=/usr/lib/libc.so.96.1
    so=so
    useshrplib=true
    libperl=libperl.so.22.0
    gnulibc_version=''
  Dynamic Linking:
    dlsrc=dl_dlopen.xs
    dlext=so
    d_dlsymun=undef
    ccdlflags='-Wl,-R/usr/libdata/perl5/i386-openbsd/CORE'
    cccdlflags='-DPIC -fpic '
    lddlflags='-shared -fpic  -fstack-protector-strong -L/usr/local/lib'


Characteristics of this binary (from libperl): 
  Compile-time options:
    HAS_TIMES
    PERLIO_LAYERS
    PERL_COPY_ON_WRITE
    PERL_DONT_CREATE_GVSV
    PERL_MALLOC_WRAP
    PERL_OP_PARENT
    PERL_PRESERVE_IVUV
    USE_LARGE_FILES
    USE_LOCALE
    USE_LOCALE_CTYPE
    USE_LOCALE_TIME
    USE_PERLIO
    USE_PERL_ATOF
  Built under openbsd
  %ENV:
    PERL5LIB="/home/goku/perl5/lib/perl5"
    PERL5OPT=""
    PERL5_CPANPLUS_IS_RUNNING="14411"
    PERL5_CPAN_IS_RUNNING="14411"
    PERL5_CPAN_IS_RUNNING_IN_RECURSION="6441,14411"
    PERL_CR_SMOKER_CURRENT="Mojolicious-Plugin-Export-0.008"
    PERL_EXTUTILS_AUTOINSTALL="--defaultdeps"
    PERL_LOCAL_LIB_ROOT="/home/goku/perl5"
    PERL_MB_OPT="--install_base "/home/goku/perl5""
    PERL_MM_OPT="INSTALL_BASE=/home/goku/perl5"
    PERL_MM_USE_DEFAULT="1"
    PERL_USE_UNSAFE_INC="1"
  @INC:
    /home/goku/perl5/lib/perl5/i386-openbsd
    /home/goku/perl5/lib/perl5
    /usr/local/libdata/perl5/site_perl/i386-openbsd
    /usr/local/libdata/perl5/site_perl
    /usr/libdata/perl5/i386-openbsd
    /usr/libdata/perl5
    .