Report for YAML-Syck-1.29

Back
From: metabase:user:bf998058-baeb-11e4-99c3-b01b75490a75
Subject: PASS YAML-Syck-1.29 v5.23.6 Mac OS X
Date: 2015-12-22T00:59:47Z

This distribution has been tested as part of the CPAN Testers
project, supporting the Perl programming language.  See
http://wiki.cpantesters.org/ for more information or email
questions to cpan-testers-discuss@perl.org


--
Dear TODDR,

This is a computer-generated report for YAML-Syck-1.29
on perl 5.23.6, created by App::cpanminus::reporter 0.12 (1.7039).

Thank you for uploading your work to CPAN.  Congratulations!
All tests were successful.

Sections of this report:

    * Tester comments
    * Program output
    * Prerequisites
    * Environment and other context

------------------------------
TESTER COMMENTS
------------------------------

Additional comments from tester:

none provided

------------------------------
PROGRAM OUTPUT
------------------------------

Output from '':

Building and testing YAML-Syck-1.29
Running Mkbootstrap for Syck ()
chmod 644 "Syck.bs"
"/Volumes/amaretto/Users/ether/perl5/perlbrew/perls/23.6/bin/perl5.23.6" "-Iinc" -MExtUtils::Command::MM -e 'cp_nonempty' -- Syck.bs blib/arch/auto/YAML/Syck/Syck.bs 644
cc -c  -I. -fno-common -DPERL_DARWIN -fno-strict-aliasing -pipe -fstack-protector-strong -I/opt/local/include -O3   -DVERSION=\"1.29\" -DXS_VERSION=\"1.29\"  "-I/Volumes/amaretto/Users/ether/perl5/perlbrew/perls/23.6/lib/5.23.6/darwin-2level/CORE"   bytecode.c 
cc -c  -I. -fno-common -DPERL_DARWIN -fno-strict-aliasing -pipe -fstack-protector-strong -I/opt/local/include -O3   -DVERSION=\"1.29\" -DXS_VERSION=\"1.29\"  "-I/Volumes/amaretto/Users/ether/perl5/perlbrew/perls/23.6/lib/5.23.6/darwin-2level/CORE"   emitter.c 
emitter.c:835:36: warning: passing 'unsigned char *' to parameter of type 'const char *' converts between pointers to integer types with different sign [-Wpointer-sign]
            syck_emitter_write( e, src + i, 1 );
                                   ^~~~~~~
emitter.c:290:49: note: passing argument to parameter 'str' here
syck_emitter_write( SyckEmitter *e, const char *str, long len )
                                                ^
1 warning generated.
cc -c  -I. -fno-common -DPERL_DARWIN -fno-strict-aliasing -pipe -fstack-protector-strong -I/opt/local/include -O3   -DVERSION=\"1.29\" -DXS_VERSION=\"1.29\"  "-I/Volumes/amaretto/Users/ether/perl5/perlbrew/perls/23.6/lib/5.23.6/darwin-2level/CORE"   gram.c 
gram.c:1115:16: warning: implicit declaration of function 'sycklex' is invalid in C99 [-Wimplicit-function-declaration]
      yychar = YYLEX;
               ^
gram.c:656:16: note: expanded from macro 'YYLEX'
# define YYLEX yylex (&yylval, YYLEX_PARAM)
               ^
gram.c:51:17: note: expanded from macro 'yylex'
#define yylex   sycklex
                ^
1 warning generated.
cc -c  -I. -fno-common -DPERL_DARWIN -fno-strict-aliasing -pipe -fstack-protector-strong -I/opt/local/include -O3   -DVERSION=\"1.29\" -DXS_VERSION=\"1.29\"  "-I/Volumes/amaretto/Users/ether/perl5/perlbrew/perls/23.6/lib/5.23.6/darwin-2level/CORE"   handler.c 
cc -c  -I. -fno-common -DPERL_DARWIN -fno-strict-aliasing -pipe -fstack-protector-strong -I/opt/local/include -O3   -DVERSION=\"1.29\" -DXS_VERSION=\"1.29\"  "-I/Volumes/amaretto/Users/ether/perl5/perlbrew/perls/23.6/lib/5.23.6/darwin-2level/CORE"   implicit.c 
cc -c  -I. -fno-common -DPERL_DARWIN -fno-strict-aliasing -pipe -fstack-protector-strong -I/opt/local/include -O3   -DVERSION=\"1.29\" -DXS_VERSION=\"1.29\"  "-I/Volumes/amaretto/Users/ether/perl5/perlbrew/perls/23.6/lib/5.23.6/darwin-2level/CORE"   node.c 
cc -c  -I. -fno-common -DPERL_DARWIN -fno-strict-aliasing -pipe -fstack-protector-strong -I/opt/local/include -O3   -DVERSION=\"1.29\" -DXS_VERSION=\"1.29\"  "-I/Volumes/amaretto/Users/ether/perl5/perlbrew/perls/23.6/lib/5.23.6/darwin-2level/CORE"   syck_.c 
cc -c  -I. -fno-common -DPERL_DARWIN -fno-strict-aliasing -pipe -fstack-protector-strong -I/opt/local/include -O3   -DVERSION=\"1.29\" -DXS_VERSION=\"1.29\"  "-I/Volumes/amaretto/Users/ether/perl5/perlbrew/perls/23.6/lib/5.23.6/darwin-2level/CORE"   syck_st.c 
cc -c  -I. -fno-common -DPERL_DARWIN -fno-strict-aliasing -pipe -fstack-protector-strong -I/opt/local/include -O3   -DVERSION=\"1.29\" -DXS_VERSION=\"1.29\"  "-I/Volumes/amaretto/Users/ether/perl5/perlbrew/perls/23.6/lib/5.23.6/darwin-2level/CORE"   token.c 
"/Volumes/amaretto/Users/ether/perl5/perlbrew/perls/23.6/bin/perl5.23.6" "-Iinc" "/Volumes/amaretto/Users/ether/perl5/perlbrew/perls/23.6/lib/5.23.6/ExtUtils/xsubpp"  -typemap '/Volumes/amaretto/Users/ether/perl5/perlbrew/perls/23.6/lib/5.23.6/ExtUtils/typemap'  Syck.xs > Syck.xsc
mv Syck.xsc Syck.c
cc -c  -I. -fno-common -DPERL_DARWIN -fno-strict-aliasing -pipe -fstack-protector-strong -I/opt/local/include -O3   -DVERSION=\"1.29\" -DXS_VERSION=\"1.29\"  "-I/Volumes/amaretto/Users/ether/perl5/perlbrew/perls/23.6/lib/5.23.6/darwin-2level/CORE"   Syck.c 
In file included from Syck.xs:5:
./perl_syck.h:838:13: warning: 15 enumeration values not handled in switch: 'SVt_NULL', 'SVt_IV', 'SVt_NV'... [-Wswitch]
    switch (SvTYPE(sv)) {
            ^
/Volumes/amaretto/Users/ether/perl5/perlbrew/perls/23.6/lib/5.23.6/darwin-2level/CORE/sv.h:351:20: note: expanded from macro 'SvTYPE'
#define SvTYPE(sv)      ((svtype)((sv)->sv_flags & SVTYPEMASK))
                        ^
In file included from Syck.xs:5:
./perl_syck.h:1069:13: warning: implicit declaration of function 'syck_str_is_unquotable_integer' is invalid in C99 [-Wimplicit-function-declaration]
            && syck_str_is_unquotable_integer(str, len)) /* small enough to safely round-trip */
               ^
In file included from Syck.xs:8:
./perl_syck.h:342:79: warning: data argument not used by format string [-Wformat-extra-args]
                    sv = newSVpv(form((type == NULL) ? "%s" : "%s::%s", lang, type), 0);
                                                       ~~~~                   ^
/Volumes/amaretto/Users/ether/perl5/perlbrew/perls/23.6/lib/5.23.6/darwin-2level/CORE/embed.h:400:42: note: expanded from macro 'newSVpv'
#define newSVpv(a,b)            Perl_newSVpv(aTHX_ a,b)
                                                   ^
In file included from Syck.xs:8:
./perl_syck.h:396:76: warning: data argument not used by format string [-Wformat-extra-args]
                                                sv_bless(sv, gv_stashpv(form((type == NULL) ? "%s" : "%s::%s", lang, type), TRUE));
                                                                                              ~~~~                   ^
/Volumes/amaretto/Users/ether/perl5/perlbrew/perls/23.6/lib/5.23.6/darwin-2level/CORE/embed.h:216:48: note: expanded from macro 'gv_stashpv'
#define gv_stashpv(a,b)         Perl_gv_stashpv(aTHX_ a,b)
                                                      ^
/Volumes/amaretto/Users/ether/perl5/perlbrew/perls/23.6/lib/5.23.6/darwin-2level/CORE/embed.h:586:46: note: expanded from macro 'sv_bless'
#define sv_bless(a,b)           Perl_sv_bless(aTHX_ a,b)
                                                      ^
In file included from Syck.xs:8:
./perl_syck.h:451:88: warning: data argument not used by format string [-Wformat-extra-args]
                                sv_bless(sv, gv_stashpv(form((type == NULL) ? "%s" : "%s::%s", lang, type), TRUE));
                                                                              ~~~~                   ^
/Volumes/amaretto/Users/ether/perl5/perlbrew/perls/23.6/lib/5.23.6/darwin-2level/CORE/embed.h:216:48: note: expanded from macro 'gv_stashpv'
#define gv_stashpv(a,b)         Perl_gv_stashpv(aTHX_ a,b)
                                                      ^
/Volumes/amaretto/Users/ether/perl5/perlbrew/perls/23.6/lib/5.23.6/darwin-2level/CORE/embed.h:586:46: note: expanded from macro 'sv_bless'
#define sv_bless(a,b)           Perl_sv_bless(aTHX_ a,b)
                                                      ^
In file included from Syck.xs:8:
./perl_syck.h:497:78: warning: data argument not used by format string [-Wformat-extra-args]
                                                                sv_bless(sv, gv_stashpv(form((type == NULL) ? "%s" : "%s::%s", lang, type), TRUE));
                                                                                                              ~~~~                   ^
/Volumes/amaretto/Users/ether/perl5/perlbrew/perls/23.6/lib/5.23.6/darwin-2level/CORE/embed.h:216:48: note: expanded from macro 'gv_stashpv'
#define gv_stashpv(a,b)         Perl_gv_stashpv(aTHX_ a,b)
                                                      ^
/Volumes/amaretto/Users/ether/perl5/perlbrew/perls/23.6/lib/5.23.6/darwin-2level/CORE/embed.h:586:46: note: expanded from macro 'sv_bless'
#define sv_bless(a,b)           Perl_sv_bless(aTHX_ a,b)
                                                      ^
In file included from Syck.xs:8:
./perl_syck.h:545:77: warning: data argument not used by format string [-Wformat-extra-args]
                                                        sv_bless(sv, gv_stashpv(form((type == NULL) ? "%s" : "%s::%s", lang, type), TRUE));
                                                                                                      ~~~~                   ^
/Volumes/amaretto/Users/ether/perl5/perlbrew/perls/23.6/lib/5.23.6/darwin-2level/CORE/embed.h:216:48: note: expanded from macro 'gv_stashpv'
#define gv_stashpv(a,b)         Perl_gv_stashpv(aTHX_ a,b)
                                                      ^
/Volumes/amaretto/Users/ether/perl5/perlbrew/perls/23.6/lib/5.23.6/darwin-2level/CORE/embed.h:586:46: note: expanded from macro 'sv_bless'
#define sv_bless(a,b)           Perl_sv_bless(aTHX_ a,b)
                                                      ^
In file included from Syck.xs:8:
./perl_syck.h:603:77: warning: data argument not used by format string [-Wformat-extra-args]
                                                        sv_bless(sv, gv_stashpv(form((type == NULL) ? "%s" : "%s::%s", lang, type), TRUE));
                                                                                                      ~~~~                   ^
/Volumes/amaretto/Users/ether/perl5/perlbrew/perls/23.6/lib/5.23.6/darwin-2level/CORE/embed.h:216:48: note: expanded from macro 'gv_stashpv'
#define gv_stashpv(a,b)         Perl_gv_stashpv(aTHX_ a,b)
                                                      ^
/Volumes/amaretto/Users/ether/perl5/perlbrew/perls/23.6/lib/5.23.6/darwin-2level/CORE/embed.h:586:46: note: expanded from macro 'sv_bless'
#define sv_bless(a,b)           Perl_sv_bless(aTHX_ a,b)
                                                      ^
In file included from Syck.xs:8:
./perl_syck.h:838:13: warning: 15 enumeration values not handled in switch: 'SVt_NULL', 'SVt_IV', 'SVt_NV'... [-Wswitch]
    switch (SvTYPE(sv)) {
            ^
/Volumes/amaretto/Users/ether/perl5/perlbrew/perls/23.6/lib/5.23.6/darwin-2level/CORE/sv.h:351:20: note: expanded from macro 'SvTYPE'
#define SvTYPE(sv)      ((svtype)((sv)->sv_flags & SVTYPEMASK))
                        ^
In file included from Syck.xs:8:
./perl_syck.h:910:17: warning: 11 enumeration values not handled in switch: 'SVt_NULL', 'SVt_IV', 'SVt_NV'... [-Wswitch]
        switch (SvTYPE(SvRV(sv))) {
                ^
/Volumes/amaretto/Users/ether/perl5/perlbrew/perls/23.6/lib/5.23.6/darwin-2level/CORE/sv.h:351:20: note: expanded from macro 'SvTYPE'
#define SvTYPE(sv)      ((svtype)((sv)->sv_flags & SVTYPEMASK))
                        ^
10 warnings generated.
rm -f blib/arch/auto/YAML/Syck/Syck.bundle
env MACOSX_DEPLOYMENT_TARGET=10.3 cc  -bundle -undefined dynamic_lookup -L/opt/local/lib -fstack-protector-strong -o blib/arch/auto/YAML/Syck/Syck.bundle  bytecode.o emitter.o gram.o handler.o implicit.o node.o syck_.o syck_st.o token.o Syck.o  \
	      \
	  
ld: warning: ld: warning: object file (emitter.o) was built for newer OSX version (10.10) than being linked (10.4)object file (bytecode.o) was built for newer OSX version (10.10) than being linked (10.4)

ld: warning: object file (gram.o) was built for newer OSX version (10.10) than being linked (10.4)
ld: warning: object file (handler.o) was built for newer OSX version (10.10) than being linked (10.4)
ld: warning: object file (implicit.o) was built for newer OSX version (10.10) than being linked (10.4)
ld: warning: object file (node.o) was built for newer OSX version (10.10) than being linked (10.4)ld: warning: 
object file (syck_.o) was built for newer OSX version (10.10) than being linked (10.4)ld: warning: ld: warning: 
object file (syck_st.o) was built for newer OSX version (10.10) than being linked (10.4)object file (token.o) was built for newer OSX version (10.10) than being linked (10.4)
ld: warning: 
object file (Syck.o) was built for newer OSX version (10.10) than being linked (10.4)
chmod 755 blib/arch/auto/YAML/Syck/Syck.bundle
Manifying 2 pod documents
"/Volumes/amaretto/Users/ether/perl5/perlbrew/perls/23.6/bin/perl5.23.6" "-Iinc" -MExtUtils::Command::MM -e 'cp_nonempty' -- Syck.bs blib/arch/auto/YAML/Syck/Syck.bs 644
PERL_DL_NONLAZY=1 "/Volumes/amaretto/Users/ether/perl5/perlbrew/perls/23.6/bin/perl5.23.6" "-MExtUtils::Command::MM" "-MTest::Harness" "-e" "undef *Test::Harness::Switches; test_harness(0, 'inc', 'blib/lib', 'blib/arch')" t/*.t t/*/*.t
t/1-basic.t ................... ok
t/11-loadfile.t ............... ok
t/12-dumpfile.t ............... ok
t/4-perl_tag_scheme.t ......... ok
t/bug/doesnt-stringify.t ...... ok
t/bug/rt-49404-double_free.t .. ok
t/bug/rt-54167.t .............. ok
t/3-objects.t ................. ok
t/json-circular-ref.t ......... ok
t/2-scalars.t ................. ok
t/json-crlf.t ................. ok
t/json-dumpinto.t ............. ok
t/json-empty.t ................ ok
t/json-indent.t ............... ok
t/json-basic.t ................ ok
t/json-minus.t ................ ok
t/json-newline.t .............. ok
t/json-loadfile.t ............. ok
t/json-null.t ................. ok
t/json-refs.t ................. ok
t/json-numbers.t .............. ok
t/json-singlequote.t .......... ok
t/leak.t ...................... ok
t/load-blessed.t .............. ok
t/yaml-alias.t ................ ok
t/meta.t ...................... ok
t/yaml-blessed-ref.t .......... ok
t/yaml-implicit-warnings.t .... ok
t/yaml-dumpinto.t ............. ok
t/yaml-tie.t .................. ok
t/yaml-utf.t .................. ok
t/yaml-str-colon-first.t ...... ok
All tests successful.

Test Summary Report
-------------------
t/json-basic.t              (Wstat: 0 Tests: 104 Failed: 0)
  TODO passed:   81-82, 85-86, 93-94, 97-98
Files=32, Tests=628,  0 wallclock secs ( 0.15 usr  0.05 sys +  1.03 cusr  0.20 csys =  1.43 CPU)
Result: PASS

------------------------------
PREREQUISITES
------------------------------

Prerequisite modules loaded:

    No requirements found

------------------------------
ENVIRONMENT AND OTHER CONTEXT
------------------------------

Environment variables:

    LANG = en_CA.UTF-8
    PATH = /Volumes/amaretto/Users/ether/.perlbrew/libs/23.6@std/bin:/Volumes/amaretto/Users/ether/perl5/perlbrew/bin:/Volumes/amaretto/Users/ether/perl5/perlbrew/perls/23.6/bin:/Volumes/amaretto/Users/ether/bin:/Volumes/amaretto/Users/ether/git/misc/install/jaeger/bin:/Volumes/amaretto/Users/ether/git/misc/install/generic/bin:/opt/local/bin:/opt/local/sbin:/Volumes/amaretto/Users/ether/git/git-hub/lib:/usr/local/bin:/usr/bin:/bin:/usr/sbin:/sbin:/opt/local/share/git-core/contrib/workdir
    PERL5LIB = /Volumes/amaretto/Users/ether/.perlbrew/libs/23.6@std/lib/perl5
    PERLBREW_BASHRC_VERSION = 0.74
    PERLBREW_HOME = /Volumes/amaretto/Users/ether/.perlbrew
    PERLBREW_LIB = std
    PERLBREW_MANPATH = /Volumes/amaretto/Users/ether/.perlbrew/libs/23.6@std/man:/Volumes/amaretto/Users/ether/perl5/perlbrew/perls/23.6/man
    PERLBREW_PATH = /Volumes/amaretto/Users/ether/.perlbrew/libs/23.6@std/bin:/Volumes/amaretto/Users/ether/perl5/perlbrew/bin:/Volumes/amaretto/Users/ether/perl5/perlbrew/perls/23.6/bin
    PERLBREW_PERL = 23.6
    PERLBREW_ROOT = /Volumes/amaretto/Users/ether/perl5/perlbrew
    PERLBREW_VERSION = 0.74
    PERLDOC_PAGER = less -sicMr
    PERL_AUTOINSTALL_PREFER_CPAN = 1
    PERL_INSTALL_QUIET = 1
    PERL_LOCAL_LIB_ROOT = /Volumes/amaretto/Users/ether/.perlbrew/libs/23.6@std
    PERL_MB_OPT = --install_base /Volumes/amaretto/Users/ether/.perlbrew/libs/23.6@std
    PERL_MM_OPT = INSTALL_BASE=/Volumes/amaretto/Users/ether/.perlbrew/libs/23.6@std
    SHELL = /bin/bash
    TERM = xterm-color

Perl special variables (and OS-specific diagnostics, for MSWin32):

    EGID = 20 20 12 61 79 80 81 98 701 33 100 204 395 398 399
    EUID = 502
    EXECUTABLE_NAME = /Volumes/amaretto/Users/ether/perl5/perlbrew/perls/23.6/bin/perl5.23.6
    GID = 20 20 12 61 79 80 81 98 701 33 100 204 395 398 399
    UID = 502

Perl module toolchain versions installed:

    Module              Have    
    ------------------- --------
    CPAN                2.11    
    CPAN::Meta          2.150005
    Cwd                 3.60    
    ExtUtils::CBuilder  0.280224
    ExtUtils::Command   7.11_03 
    ExtUtils::Install   2.04    
    ExtUtils::MakeMaker 7.11_03 
    ExtUtils::Manifest  1.70    
    ExtUtils::ParseXS   3.30    
    File::Spec          3.60    
    JSON                2.90    
    JSON::PP            2.27300 
    Module::Build       0.4214  
    Module::Signature   n/a     
    Parse::CPAN::Meta   1.4417  
    Test::Harness       3.35    
    Test::More          1.001014
    YAML                1.15    
    YAML::Syck          1.29    
    version             0.9909  


--

Summary of my perl5 (revision 5 version 23 subversion 6) configuration:
   
  Platform:
    osname=darwin, osvers=14.5.0, archname=darwin-2level
    uname='darwin jaeger 14.5.0 darwin kernel version 14.5.0: tue sep 1 21:23:09 pdt 2015; root:xnu-2782.50.1~1release_x86_64 x86_64 '
    config_args='-de -Dprefix=/Volumes/amaretto/Users/ether/perl5/perlbrew/perls/23.6 -Dman1dir=none -Dman3dir=none -Dusedevel -Aeval:scriptdir=/Volumes/amaretto/Users/ether/perl5/perlbrew/perls/23.6/bin'
    hint=recommended, useposix=true, d_sigaction=define
    useithreads=undef, usemultiplicity=undef
    use64bitint=define, use64bitall=define, uselongdouble=undef
    usemymalloc=n, bincompat5005=undef
  Compiler:
    cc='cc', ccflags ='-fno-common -DPERL_DARWIN -fno-strict-aliasing -pipe -fstack-protector-strong -I/opt/local/include',
    optimize='-O3',
    cppflags='-fno-common -DPERL_DARWIN -fno-strict-aliasing -pipe -fstack-protector-strong -I/opt/local/include'
    ccversion='', gccversion='4.2.1 Compatible Apple LLVM 7.0.2 (clang-700.1.81)', gccosandvers=''
    intsize=4, longsize=8, ptrsize=8, doublesize=8, byteorder=12345678, doublekind=3
    d_longlong=define, longlongsize=8, d_longdbl=define, longdblsize=16, longdblkind=3
    ivtype='long', ivsize=8, nvtype='double', nvsize=8, Off_t='off_t', lseeksize=8
    alignbytes=8, prototype=define
  Linker and Libraries:
    ld='env MACOSX_DEPLOYMENT_TARGET=10.3 cc', ldflags =' -fstack-protector-strong -L/opt/local/lib'
    libpth=/Applications/Xcode.app/Contents/Developer/Toolchains/XcodeDefault.xctoolchain/usr/bin/../lib/clang/7.0.2/lib /Applications/Xcode.app/Contents/Developer/Toolchains/XcodeDefault.xctoolchain/usr/lib /usr/lib /opt/local/lib
    libs=-lpthread -lgdbm -ldbm -ldl -lm -lutil -lc
    perllibs=-lpthread -ldl -lm -lutil -lc
    libc=, so=dylib, useshrplib=false, libperl=libperl.a
    gnulibc_version=''
  Dynamic Linking:
    dlsrc=dl_dlopen.xs, dlext=bundle, d_dlsymun=undef, ccdlflags=' '
    cccdlflags=' ', lddlflags=' -bundle -undefined dynamic_lookup -L/opt/local/lib -fstack-protector-strong'


Characteristics of this binary (from libperl): 
  Compile-time options: HAS_TIMES PERLIO_LAYERS PERL_COPY_ON_WRITE
                        PERL_DONT_CREATE_GVSV
                        PERL_HASH_FUNC_ONE_AT_A_TIME_HARD PERL_MALLOC_WRAP
                        PERL_PRESERVE_IVUV PERL_USE_DEVEL USE_64_BIT_ALL
                        USE_64_BIT_INT USE_LARGE_FILES USE_LOCALE
                        USE_LOCALE_COLLATE USE_LOCALE_CTYPE
                        USE_LOCALE_NUMERIC USE_LOCALE_TIME USE_PERLIO
                        USE_PERL_ATOF
  Locally applied patches:
	Devel::PatchPerl 1.34
  Built under darwin
  Compiled at Dec 21 2015 16:22:06
  %ENV:
    PERL5LIB="/Volumes/amaretto/Users/ether/.perlbrew/libs/23.6@std/lib/perl5"
    PERLBREW_BASHRC_VERSION="0.74"
    PERLBREW_HOME="/Volumes/amaretto/Users/ether/.perlbrew"
    PERLBREW_LIB="std"
    PERLBREW_MANPATH="/Volumes/amaretto/Users/ether/.perlbrew/libs/23.6@std/man:/Volumes/amaretto/Users/ether/perl5/perlbrew/perls/23.6/man"
    PERLBREW_PATH="/Volumes/amaretto/Users/ether/.perlbrew/libs/23.6@std/bin:/Volumes/amaretto/Users/ether/perl5/perlbrew/bin:/Volumes/amaretto/Users/ether/perl5/perlbrew/perls/23.6/bin"
    PERLBREW_PERL="23.6"
    PERLBREW_ROOT="/Volumes/amaretto/Users/ether/perl5/perlbrew"
    PERLBREW_VERSION="0.74"
    PERLDOC_PAGER="less -sicMr"
    PERL_AUTOINSTALL_PREFER_CPAN="1"
    PERL_INSTALL_QUIET="1"
    PERL_LOCAL_LIB_ROOT="/Volumes/amaretto/Users/ether/.perlbrew/libs/23.6@std"
    PERL_MB_OPT="--install_base /Volumes/amaretto/Users/ether/.perlbrew/libs/23.6@std"
    PERL_MM_OPT="INSTALL_BASE=/Volumes/amaretto/Users/ether/.perlbrew/libs/23.6@std"
  @INC:
    /Volumes/amaretto/Users/ether/.perlbrew/libs/23.6@std/lib/perl5/darwin-2level
    /Volumes/amaretto/Users/ether/.perlbrew/libs/23.6@std/lib/perl5
    /Volumes/amaretto/Users/ether/perl5/perlbrew/perls/23.6/lib/site_perl/5.23.6/darwin-2level
    /Volumes/amaretto/Users/ether/perl5/perlbrew/perls/23.6/lib/site_perl/5.23.6
    /Volumes/amaretto/Users/ether/perl5/perlbrew/perls/23.6/lib/5.23.6/darwin-2level
    /Volumes/amaretto/Users/ether/perl5/perlbrew/perls/23.6/lib/5.23.6
    .