Mojolicious-Plugin-OpenAPI-Modern v0.014 Perl 5 v5.38.2 OpenBSD.amd64-openbsd

Status
Pass
From
David Cantrell (DCANTRELL)
Dist
Mojolicious-Plugin-OpenAPI-Modern v0.014
Platform
Perl 5 v5.38.2 OpenBSD.amd64-openbsd
Date
2025-01-28 02:55:13
ID
4ba4f7a8-dd23-11ef-bf5c-8ba2dd0a95fc
This distribution has been tested as part of the CPAN Testers
project, supporting the Perl programming language.  See
http://wiki.cpantesters.org/ for more information or email
questions to cpan-testers-discuss@perl.org


--
Dear Karen Etheridge,

This is a computer-generated report for Mojolicious-Plugin-OpenAPI-Modern-0.014
on perl 5.38.2, created by CPAN-Reporter-1.2020.

Thank you for uploading your work to CPAN.  Congratulations!
All tests were successful.

Sections of this report:

    * Tester comments
    * Program output
    * Prerequisites
    * Environment and other context

------------------------------
TESTER COMMENTS
------------------------------

Additional comments from tester:

this report is from an automated smoke testing program
and was not reviewed by a human for accuracy

------------------------------
PROGRAM OUTPUT
------------------------------

Output from './Build test':

# 
# Versions for all modules listed in MYMETA.json (including optional ones):
# 
# === Configure Requires ===
# 
#     Module               Want     Have
#     ------------------- ----- --------
#     Module::Build::Tiny 0.034    0.051
#     perl                5.020 5.038002
# 
# === Test Requires ===
# 
#     Module                           Want     Have
#     ------------------------------- ----- --------
#     File::Spec                        any     3.88
#     JSON::Schema::Modern::Utilities   any    0.599
#     Module::Metadata                  any 1.000038
#     Test::Deep                        any    1.204
#     Test::Memory::Cycle               any     1.06
#     Test::Mojo                        any    undef
#     Test::More                       0.88 1.302207
#     Test::Warnings                  0.033    0.033
#     constant                          any     1.33
#     experimental                      any    0.033
#     lib                               any     0.65
#     open                              any     1.13
#     perl                            5.020 5.038002
#     stable                          0.031    0.033
#     strict                            any     1.12
#     warnings                          any     1.65
# 
# === Test Recommends ===
# 
#     Module         Want     Have
#     ---------- -------- --------
#     CPAN::Meta 2.120900 2.150010
# 
# === Runtime Requires ===
# 
#     Module                                   Want     Have
#     --------------------------------------- ----- --------
#     Feature::Compat::Try                      any     0.05
#     JSON::Schema::Modern                    0.549    0.599
#     JSON::Schema::Modern::Document::OpenAPI 0.024    0.078
#     Mojo::Base                                any    undef
#     Mojo::JSON                                any    undef
#     OpenAPI::Modern                         0.074    0.078
#     Path::Tiny                                any    0.146
#     Safe::Isa                                 any 1.000010
#     YAML::PP                                  any  v0.38.0
#     if                                        any   0.0608
#     namespace::clean                          any     0.27
#     perl                                    5.020 5.038002
#     strictures                                  2 2.000006
# 
# === Other Modules ===
# 
#     Module                     Have
#     ----------------------- -------
#     Cpanel::JSON::XS           4.38
#     Encode                     3.21
#     File::ShareDir            1.118
#     File::ShareDir::Install    0.14
#     File::Temp               0.2311
#     JSON::PP                   4.16
#     JSON::XS                missing
#     Module::Runtime           0.016
#     Mojolicious                9.39
#     Pod::Coverage           missing
#     Sub::Name                  0.28
#     YAML                       1.31
#     autodie                    2.37
# 
t/00-report-prereqs.t .......... ok
t/initialization.t ............. ok
t/validate_request_response.t .. ok
All tests successful.
Files=3, Tests=6, 27 wallclock secs ( 0.07 usr  0.05 sys + 12.10 cusr  0.97 csys = 13.19 CPU)
Result: PASS

------------------------------
PREREQUISITES
------------------------------

Prerequisite modules loaded:

requires:

    Module                                  Need  Have    
    --------------------------------------- ----- --------
    Feature::Compat::Try                    0     0.05    
    if                                      0     0.0608  
    JSON::Schema::Modern                    0.549 0.599   
    JSON::Schema::Modern::Document::OpenAPI 0.024 0.078   
    Mojo::Base                              0     0       
    Mojo::JSON                              0     0       
    namespace::clean                        0     0.27    
    OpenAPI::Modern                         0.074 0.078   
    Path::Tiny                              0     0.146   
    perl                                    5.020 5.038002
    Safe::Isa                               0     1.000010
    strictures                              2     2.000006
    YAML::PP                                0     v0.38.0 

build_requires:

    Module                                  Need  Have    
    --------------------------------------- ----- --------
    constant                                0     1.33    
    experimental                            0     0.033   
    File::Spec                              0     3.88    
    JSON::Schema::Modern::Utilities         0     0.599   
    lib                                     0     0.65    
    Module::Metadata                        0     1.000038
    open                                    0     1.13    
    perl                                    5.020 5.038002
    stable                                  0.031 0.033   
    strict                                  0     1.12    
    Test::Deep                              0     1.204   
    Test::Memory::Cycle                     0     1.06    
    Test::Mojo                              0     0       
    Test::More                              0.88  1.302207
    Test::Warnings                          0.033 0.033   
    warnings                                0     1.65    

configure_requires:

    Module                                  Need  Have    
    --------------------------------------- ----- --------
    Module::Build::Tiny                     0.034 0.051   
    perl                                    5.020 5.038002


------------------------------
ENVIRONMENT AND OTHER CONTEXT
------------------------------

Environment variables:

    AUTOMATED_TESTING = 1
    NONINTERACTIVE_TESTING = 1
    PATH = /home/david/perl5/perlbrew/bin:/home/david/perl5/perlbrew/perls/perl-5.32.0/bin:/home/david/bin:/bin:/sbin:/usr/bin:/usr/sbin:/usr/X11R6/bin:/usr/local/bin:/usr/local/sbin:/usr/games:/home/david/.fzf/bin
    PERL = 5.38.2
    PERL5LIB = 
    PERL5OPT = 
    PERL5_CPANPLUS_IS_RUNNING = 98857
    PERL5_CPAN_IS_RUNNING = 98857
    PERLBREW_HOME = /home/david/.perlbrew
    PERLBREW_MANPATH = /home/david/perl5/perlbrew/perls/perl-5.32.0/man
    PERLBREW_PATH = /home/david/perl5/perlbrew/bin:/home/david/perl5/perlbrew/perls/perl-5.32.0/bin
    PERLBREW_PERL = perl-5.32.0
    PERLBREW_ROOT = /home/david/perl5/perlbrew
    PERLBREW_SHELLRC_VERSION = 1.00
    PERLBREW_VERSION = 1.00
    PERLVER = 5.38.2
    PERL_INLINE_DIRECTORY = /home/david/.Inline-5.38.2
    PERL_MM_USE_DEFAULT = 1
    PERL_USE_UNSAFE_INC = 0
    SHELL = /usr/local/bin/bash
    TERM = screen

Perl special variables (and OS-specific diagnostics, for MSWin32):

    $^X = /home/david/cpantesting/perl-5.38.2/bin/perl
    $UID/$EUID = 1000 / 1000
    $GID = 1000 1000 0
    $EGID = 1000 1000 0

Perl module toolchain versions installed:

    Module              Have    
    ------------------- --------
    CPAN                2.37    
    CPAN::Meta          2.150010
    Cwd                 3.89    
    ExtUtils::CBuilder  0.280236
    ExtUtils::Command   7.70    
    ExtUtils::Install   2.22    
    ExtUtils::MakeMaker 7.70    
    ExtUtils::Manifest  1.75    
    ExtUtils::ParseXS   3.51    
    File::Spec          3.88    
    JSON                4.10    
    JSON::PP            4.16    
    Module::Build       0.4234  
    Module::Signature   n/a     
    Parse::CPAN::Meta   2.150010
    Test2               1.302207
    Test::Harness       3.50    
    Test::More          1.302207
    YAML                1.31    
    YAML::Syck          n/a     
    version             0.9933  


--

Summary of my perl5 (revision 5 version 38 subversion 2) configuration:
   
  Platform:
    osname=openbsd
    osvers=7.6
    archname=OpenBSD.amd64-openbsd
    uname='openbsd cpantesting-openbsd 7.6 generic#332 amd64 '
    config_args='-de -Dprefix=/home/david/cpantesting/perl-5.38.2'
    hint=recommended
    useposix=true
    d_sigaction=define
    useithreads=undef
    usemultiplicity=undef
    use64bitint=define
    use64bitall=define
    uselongdouble=undef
    usemymalloc=n
    default_inc_excludes_dot=define
  Compiler:
    cc='cc'
    ccflags ='-fno-strict-aliasing -pipe -fstack-protector-strong -I/usr/local/include'
    optimize='-O2'
    cppflags='-fno-strict-aliasing -pipe -fstack-protector-strong -I/usr/local/include'
    ccversion=''
    gccversion='OpenBSD Clang 16.0.6'
    gccosandvers=''
    intsize=4
    longsize=8
    ptrsize=8
    doublesize=8
    byteorder=12345678
    doublekind=3
    d_longlong=define
    longlongsize=8
    d_longdbl=define
    longdblsize=16
    longdblkind=3
    ivtype='long'
    ivsize=8
    nvtype='double'
    nvsize=8
    Off_t='off_t'
    lseeksize=8
    alignbytes=8
    prototype=define
  Linker and Libraries:
    ld='cc'
    ldflags ='-Wl,-E  -fstack-protector-strong -L/usr/local/lib'
    libpth=/usr/lib/clang/16/lib /usr/lib /usr/local/lib
    libs=-lpthread -lm -lutil -lc
    perllibs=-lpthread -lm -lutil -lc
    libc=/usr/lib/libc.so.100.3
    so=so
    useshrplib=false
    libperl=libperl.a
    gnulibc_version=''
  Dynamic Linking:
    dlsrc=dl_dlopen.xs
    dlext=so
    d_dlsymun=undef
    ccdlflags=' '
    cccdlflags='-DPIC -fPIC '
    lddlflags='-shared -fPIC  -L/usr/local/lib -fstack-protector-strong'


Characteristics of this binary (from libperl): 
  Compile-time options:
    HAS_LONG_DOUBLE
    HAS_STRTOLD
    HAS_TIMES
    PERLIO_LAYERS
    PERL_COPY_ON_WRITE
    PERL_DONT_CREATE_GVSV
    PERL_HASH_FUNC_SIPHASH13
    PERL_HASH_USE_SBOX32
    PERL_MALLOC_WRAP
    PERL_OP_PARENT
    PERL_PRESERVE_IVUV
    PERL_USE_SAFE_PUTENV
    USE_64_BIT_ALL
    USE_64_BIT_INT
    USE_LARGE_FILES
    USE_LOCALE
    USE_LOCALE_COLLATE
    USE_LOCALE_CTYPE
    USE_LOCALE_NUMERIC
    USE_LOCALE_TIME
    USE_PERLIO
    USE_PERL_ATOF
  Built under openbsd
  Compiled at Oct 31 2024 22:48:50
  %ENV:
    PERL="5.38.2"
    PERL5LIB=""
    PERL5OPT=""
    PERL5_CPANPLUS_IS_RUNNING="98857"
    PERL5_CPAN_IS_RUNNING="98857"
    PERLBREW_HOME="/home/david/.perlbrew"
    PERLBREW_MANPATH="/home/david/perl5/perlbrew/perls/perl-5.32.0/man"
    PERLBREW_PATH="/home/david/perl5/perlbrew/bin:/home/david/perl5/perlbrew/perls/perl-5.32.0/bin"
    PERLBREW_PERL="perl-5.32.0"
    PERLBREW_ROOT="/home/david/perl5/perlbrew"
    PERLBREW_SHELLRC_VERSION="1.00"
    PERLBREW_VERSION="1.00"
    PERLVER="5.38.2"
    PERL_INLINE_DIRECTORY="/home/david/.Inline-5.38.2"
    PERL_MM_USE_DEFAULT="1"
    PERL_USE_UNSAFE_INC="0"
  @INC:
    /home/david/cpantesting/perl-5.38.2/lib/site_perl/5.38.2/OpenBSD.amd64-openbsd
    /home/david/cpantesting/perl-5.38.2/lib/site_perl/5.38.2
    /home/david/cpantesting/perl-5.38.2/lib/5.38.2/OpenBSD.amd64-openbsd
    /home/david/cpantesting/perl-5.38.2/lib/5.38.2