Mail-Mbox-MessageParser v1.5111 Perl 5 v5.18.4 amd64-netbsd

Status
Pass
From
Nigel Horne
Dist
Mail-Mbox-MessageParser v1.5111
Platform
Perl 5 v5.18.4 amd64-netbsd
Date
2018-07-12 13:05:48
ID
4b9d0ce4-85d4-11e8-9219-08b662b887d7
This distribution has been tested as part of the CPAN Testers
project, supporting the Perl programming language.  See
http://wiki.cpantesters.org/ for more information or email
questions to cpan-testers-discuss@perl.org


--
Dear David Coppit,

This is a computer-generated report for Mail-Mbox-MessageParser-1.5111
on perl 5.18.4, created by CPAN-Reporter-1.2018.

Thank you for uploading your work to CPAN.  Congratulations!
All tests were successful.

Sections of this report:

    * Tester comments
    * Program output
    * Prerequisites
    * Environment and other context

------------------------------
TESTER COMMENTS
------------------------------

Additional comments from tester:

this report is from an automated smoke testing program
and was not reviewed by a human for accuracy

------------------------------
PROGRAM OUTPUT
------------------------------

Output from '/usr/bin/make test':

PERL_DL_NONLAZY=1 "/home/njh/perl5/perlbrew/perls/perl-5.18.4/bin/perl" "-MExtUtils::Command::MM" "-MTest::Harness" "-e" "undef *Test::Harness::Switches; test_harness(1, 'blib/lib', 'blib/arch')" t/*.t
t/000_standard__compile.t ....... 
1..6
ok 1 - Compile test for blib/lib/Mail/Mbox/MessageParser.pm
ok 2 - Compile test for blib/lib/Mail/Mbox/MessageParser/Grep.pm
ok 3 - Compile test for blib/lib/Mail/Mbox/MessageParser/Perl.pm
ok 4 - Compile test for blib/lib/Mail/Mbox/MessageParser/Config.pm
ok 5 - Compile test for blib/lib/Mail/Mbox/MessageParser/Cache.pm
ok 6 - Compile test for blib/lib/Mail/Mbox/MessageParser/MetaInfo.pm
ok
t/000_standard__perl_critic.t ... skipped: Author test. Set $ENV{TEST_AUTHOR} to a true value to run.
t/000_standard__pod.t ........... 
1..6
ok 1 - POD test for blib/lib/Mail/Mbox/MessageParser.pm
ok 2 - POD test for blib/lib/Mail/Mbox/MessageParser/Grep.pm
ok 3 - POD test for blib/lib/Mail/Mbox/MessageParser/Perl.pm
ok 4 - POD test for blib/lib/Mail/Mbox/MessageParser/Config.pm
ok 5 - POD test for blib/lib/Mail/Mbox/MessageParser/Cache.pm
ok 6 - POD test for blib/lib/Mail/Mbox/MessageParser/MetaInfo.pm
ok
t/000_standard__pod_coverage.t .. 
1..6
ok 1 - Pod coverage on Mail::Mbox::MessageParser
ok 2 - Pod coverage on Mail::Mbox::MessageParser::Grep
ok 3 - Pod coverage on Mail::Mbox::MessageParser::Perl
ok 4 - Pod coverage on Mail::Mbox::MessageParser::Config
ok 5 - Pod coverage on Mail::Mbox::MessageParser::Cache
ok 6 - Pod coverage on Mail::Mbox::MessageParser::MetaInfo
ok
t/appended_mailbox.t ............ 
1..6
Testing modified mailbox with Perl implementation
Comparing /tmp/testwrapper.25202/0LMrLylOqB to t/mailboxes/mailarc-1.txt
Output /tmp/testwrapper.25202/0LMrLylOqB looks good.
ok 1 - Computing differences
Testing modified mailbox with Cache implementation
Comparing /tmp/testwrapper.25202/us8Au9FUoC to t/mailboxes/mailarc-1.txt
Output /tmp/testwrapper.25202/us8Au9FUoC looks good.
ok 2 - Computing differences
Testing modified mailbox with Grep implementation
ok 3 # skip GNU grep not available
Testing modified mailbox with Perl implementation
Comparing /tmp/testwrapper.25202/5shGH1MzmH to t/mailboxes/mailarc-1.txt
Output /tmp/testwrapper.25202/5shGH1MzmH looks good.
ok 4 - Computing differences
Testing modified mailbox with Cache implementation
Comparing /tmp/testwrapper.25202/WNvmtaXYBv to t/mailboxes/mailarc-1.txt
Output /tmp/testwrapper.25202/WNvmtaXYBv looks good.
ok 5 - Computing differences
Testing modified mailbox with Grep implementation
ok 6 # skip GNU grep not available
ok
t/bzip2.t ....................... 
1..1
Running test:
  "/bin/cat" "t/mailboxes/mailarc-2.txt.bz2" | "/usr/bin/bzip2" -cd
Comparing /tmp/testwrapper.25202/ME190MgG2l to t/results/mailarc-2.txt
Output /tmp/testwrapper.25202/ME190MgG2l looks good.
Comparing /tmp/testwrapper.25202/dzOZl_Q5M5 to t/results/none
Output /tmp/testwrapper.25202/dzOZl_Q5M5 looks good.
ok 1 - Computing differences
ok
t/endline.t ..................... 
1..8
Testing filename: t/mailboxes/mailarc-1-dos.txt
ok 1 - Dos endline expected
ok 2 - Dos endline expected
ok 3 - Dos endline expected
ok 4 # skip GNU grep not available
Testing filename: t/mailboxes/mailarc-1.txt
ok 5 - Unix endline expected
ok 6 - Unix endline expected
ok 7 - Unix endline expected
ok 8 # skip GNU grep not available
ok
t/filehandle_compressed.t ....... 
1..16
Testing filename: t/mailboxes/mailarc-2.txt.bz2
Comparing /tmp/testwrapper.25202/wEuGTf79Lv to t/mailboxes/mailarc-2.txt
Output /tmp/testwrapper.25202/wEuGTf79Lv looks good.
ok 1 - Computing differences
Comparing /tmp/testwrapper.25202/3bWff8yVfx to t/mailboxes/mailarc-2.txt
Output /tmp/testwrapper.25202/3bWff8yVfx looks good.
ok 2 - Computing differences
Comparing /tmp/testwrapper.25202/Xk34CYMOT8 to t/mailboxes/mailarc-2.txt
Output /tmp/testwrapper.25202/Xk34CYMOT8 looks good.
ok 3 - Computing differences
ok 4 # skip GNU grep not available
Testing filename: t/mailboxes/mailarc-2.txt.gz
Comparing /tmp/testwrapper.25202/4PftpqaeFV to t/mailboxes/mailarc-2.txt
Output /tmp/testwrapper.25202/4PftpqaeFV looks good.
ok 5 - Computing differences
Comparing /tmp/testwrapper.25202/ie7N35_Khq to t/mailboxes/mailarc-2.txt
Output /tmp/testwrapper.25202/ie7N35_Khq looks good.
ok 6 - Computing differences
Comparing /tmp/testwrapper.25202/Hsz5py4lLr to t/mailboxes/mailarc-2.txt
Output /tmp/testwrapper.25202/Hsz5py4lLr looks good.
ok 7 - Computing differences
ok 8 # skip GNU grep not available
Testing filename: t/mailboxes/mailarc-2.txt.lz
ok 9 # skip lzip not available
ok 10 # skip lzip not available
ok 11 # skip lzip not available
ok 12 # skip lzip not available
Testing filename: t/mailboxes/mailarc-2.txt.xz
Comparing /tmp/testwrapper.25202/LmDiajnCPh to t/mailboxes/mailarc-2.txt
Output /tmp/testwrapper.25202/LmDiajnCPh looks good.
ok 13 - Computing differences
Comparing /tmp/testwrapper.25202/SrVy35N46P to t/mailboxes/mailarc-2.txt
Output /tmp/testwrapper.25202/SrVy35N46P looks good.
ok 14 - Computing differences
Comparing /tmp/testwrapper.25202/wpk24ji0cw to t/mailboxes/mailarc-2.txt
Output /tmp/testwrapper.25202/wpk24ji0cw looks good.
ok 15 - Computing differences
ok 16 # skip GNU grep not available
ok
t/filehandle_noncompressed.t .... 
1..44
Testing filename: t/mailboxes/binary_body.txt
Comparing /tmp/testwrapper.25202/GAYzATvBqW to t/mailboxes/binary_body.txt
Output /tmp/testwrapper.25202/GAYzATvBqW looks good.
ok 1 - Computing differences
Comparing /tmp/testwrapper.25202/iDMzQcY1M3 to t/mailboxes/binary_body.txt
Output /tmp/testwrapper.25202/iDMzQcY1M3 looks good.
ok 2 - Computing differences
Comparing /tmp/testwrapper.25202/BcSDcjF05j to t/mailboxes/binary_body.txt
Output /tmp/testwrapper.25202/BcSDcjF05j looks good.
ok 3 - Computing differences
ok 4 # skip GNU grep not available
Testing filename: t/mailboxes/hessbug.txt
Comparing /tmp/testwrapper.25202/K7wGr2vPlP to t/mailboxes/hessbug.txt
Output /tmp/testwrapper.25202/K7wGr2vPlP looks good.
ok 5 - Computing differences
Comparing /tmp/testwrapper.25202/Hn5peh4pb2 to t/mailboxes/hessbug.txt
Output /tmp/testwrapper.25202/Hn5peh4pb2 looks good.
ok 6 - Computing differences
Comparing /tmp/testwrapper.25202/5PhPkTcl9o to t/mailboxes/hessbug.txt
Output /tmp/testwrapper.25202/5PhPkTcl9o looks good.
ok 7 - Computing differences
ok 8 # skip GNU grep not available
Testing filename: t/mailboxes/invalid-boundaries.txt
Comparing /tmp/testwrapper.25202/eO7yvF3cSU to t/mailboxes/invalid-boundaries.txt
Output /tmp/testwrapper.25202/eO7yvF3cSU looks good.
ok 9 - Computing differences
Comparing /tmp/testwrapper.25202/_sjNSSM0Zs to t/mailboxes/invalid-boundaries.txt
Output /tmp/testwrapper.25202/_sjNSSM0Zs looks good.
ok 10 - Computing differences
Comparing /tmp/testwrapper.25202/l0wcypohc7 to t/mailboxes/invalid-boundaries.txt
Output /tmp/testwrapper.25202/l0wcypohc7 looks good.
ok 11 - Computing differences
ok 12 # skip GNU grep not available
Testing filename: t/mailboxes/mailarc-1-dos.txt
Comparing /tmp/testwrapper.25202/749ovZtkO0 to t/mailboxes/mailarc-1-dos.txt
Output /tmp/testwrapper.25202/749ovZtkO0 looks good.
ok 13 - Computing differences
Comparing /tmp/testwrapper.25202/zg3vIDw2g0 to t/mailboxes/mailarc-1-dos.txt
Output /tmp/testwrapper.25202/zg3vIDw2g0 looks good.
ok 14 - Computing differences
Comparing /tmp/testwrapper.25202/E3hizER7zH to t/mailboxes/mailarc-1-dos.txt
Output /tmp/testwrapper.25202/E3hizER7zH looks good.
ok 15 - Computing differences
ok 16 # skip GNU grep not available
Testing filename: t/mailboxes/mailarc-1.txt
Comparing /tmp/testwrapper.25202/BP0kp4Q8mg to t/mailboxes/mailarc-1.txt
Output /tmp/testwrapper.25202/BP0kp4Q8mg looks good.
ok 17 - Computing differences
Comparing /tmp/testwrapper.25202/cebKnzHbzi to t/mailboxes/mailarc-1.txt
Output /tmp/testwrapper.25202/cebKnzHbzi looks good.
ok 18 - Computing differences
Comparing /tmp/testwrapper.25202/e5SJRZsujN to t/mailboxes/mailarc-1.txt
Output /tmp/testwrapper.25202/e5SJRZsujN looks good.
ok 19 - Computing differences
ok 20 # skip GNU grep not available
Testing filename: t/mailboxes/mailarc-2.txt
Comparing /tmp/testwrapper.25202/ycPTauvw3n to t/mailboxes/mailarc-2.txt
Output /tmp/testwrapper.25202/ycPTauvw3n looks good.
ok 21 - Computing differences
Comparing /tmp/testwrapper.25202/2bMZeZR025 to t/mailboxes/mailarc-2.txt
Output /tmp/testwrapper.25202/2bMZeZR025 looks good.
ok 22 - Computing differences
Comparing /tmp/testwrapper.25202/PpnIH4rvEs to t/mailboxes/mailarc-2.txt
Output /tmp/testwrapper.25202/PpnIH4rvEs looks good.
ok 23 - Computing differences
ok 24 # skip GNU grep not available
Testing filename: t/mailboxes/mailarc-3.txt
Comparing /tmp/testwrapper.25202/NekzV5k5Vi to t/mailboxes/mailarc-3.txt
Output /tmp/testwrapper.25202/NekzV5k5Vi looks good.
ok 25 - Computing differences
Comparing /tmp/testwrapper.25202/t9um4Zj1px to t/mailboxes/mailarc-3.txt
Output /tmp/testwrapper.25202/t9um4Zj1px looks good.
ok 26 - Computing differences
Comparing /tmp/testwrapper.25202/w5RGxkmKgL to t/mailboxes/mailarc-3.txt
Output /tmp/testwrapper.25202/w5RGxkmKgL looks good.
ok 27 - Computing differences
ok 28 # skip GNU grep not available
Testing filename: t/mailboxes/mailseparators.txt
Comparing /tmp/testwrapper.25202/vGRl77o7S7 to t/mailboxes/mailseparators.txt
Output /tmp/testwrapper.25202/vGRl77o7S7 looks good.
ok 29 - Computing differences
Comparing /tmp/testwrapper.25202/n75D2ca4X0 to t/mailboxes/mailseparators.txt
Output /tmp/testwrapper.25202/n75D2ca4X0 looks good.
ok 30 - Computing differences
Comparing /tmp/testwrapper.25202/jv_p2tEDNX to t/mailboxes/mailseparators.txt
Output /tmp/testwrapper.25202/jv_p2tEDNX looks good.
ok 31 - Computing differences
ok 32 # skip GNU grep not available
Testing filename: t/mailboxes/malformed.txt
Comparing /tmp/testwrapper.25202/ucORtxnCmT to t/mailboxes/malformed.txt
Output /tmp/testwrapper.25202/ucORtxnCmT looks good.
ok 33 - Computing differences
Comparing /tmp/testwrapper.25202/jE5mPhwq7l to t/mailboxes/malformed.txt
Output /tmp/testwrapper.25202/jE5mPhwq7l looks good.
ok 34 - Computing differences
Comparing /tmp/testwrapper.25202/uWzI6ugihf to t/mailboxes/malformed.txt
Output /tmp/testwrapper.25202/uWzI6ugihf looks good.
ok 35 - Computing differences
ok 36 # skip GNU grep not available
Testing filename: t/mailboxes/newlines_at_beginning.txt
Comparing /tmp/testwrapper.25202/kXXofvVRik to t/mailboxes/newlines_at_beginning.txt
Output /tmp/testwrapper.25202/kXXofvVRik looks good.
ok 37 - Computing differences
Comparing /tmp/testwrapper.25202/4nI08j0jRB to t/mailboxes/newlines_at_beginning.txt
Output /tmp/testwrapper.25202/4nI08j0jRB looks good.
ok 38 - Computing differences
Comparing /tmp/testwrapper.25202/zQY3MVxOfk to t/mailboxes/newlines_at_beginning.txt
Output /tmp/testwrapper.25202/zQY3MVxOfk looks good.
ok 39 - Computing differences
ok 40 # skip GNU grep not available
Testing filename: t/mailboxes/vm-emacs.txt
Comparing /tmp/testwrapper.25202/KRGspt9B04 to t/mailboxes/vm-emacs.txt
Output /tmp/testwrapper.25202/KRGspt9B04 looks good.
ok 41 - Computing differences
Comparing /tmp/testwrapper.25202/1YyVOYgXk3 to t/mailboxes/vm-emacs.txt
Output /tmp/testwrapper.25202/1YyVOYgXk3 looks good.
ok 42 - Computing differences
Comparing /tmp/testwrapper.25202/0r7_gu8VH8 to t/mailboxes/vm-emacs.txt
Output /tmp/testwrapper.25202/0r7_gu8VH8 looks good.
ok 43 - Computing differences
ok 44 # skip GNU grep not available
ok
t/filename_compressed.t ......... 
1..4
Testing filename: t/mailboxes/mailarc-2.txt.bz2
Comparing /tmp/testwrapper.25202/uddbw_QDv6 to t/mailboxes/mailarc-2.txt
Output /tmp/testwrapper.25202/uddbw_QDv6 looks good.
ok 1 - Computing differences
Testing filename: t/mailboxes/mailarc-2.txt.gz
Comparing /tmp/testwrapper.25202/kpVPqJoieg to t/mailboxes/mailarc-2.txt
Output /tmp/testwrapper.25202/kpVPqJoieg looks good.
ok 2 - Computing differences
Testing filename: t/mailboxes/mailarc-2.txt.lz
ok 3 # skip lzip not available
Testing filename: t/mailboxes/mailarc-2.txt.xz
Comparing /tmp/testwrapper.25202/B5IgBvPURn to t/mailboxes/mailarc-2.txt
Output /tmp/testwrapper.25202/B5IgBvPURn looks good.
ok 4 - Computing differences
ok
t/filename_noncompressed.t ...... 
1..11
Testing filename: t/mailboxes/binary_body.txt
Comparing /tmp/testwrapper.25202/uFiour6u_W to t/mailboxes/binary_body.txt
Output /tmp/testwrapper.25202/uFiour6u_W looks good.
ok 1 - Computing differences
Testing filename: t/mailboxes/hessbug.txt
Comparing /tmp/testwrapper.25202/v1gbZjaVYK to t/mailboxes/hessbug.txt
Output /tmp/testwrapper.25202/v1gbZjaVYK looks good.
ok 2 - Computing differences
Testing filename: t/mailboxes/invalid-boundaries.txt
Comparing /tmp/testwrapper.25202/5VqrP3OdTV to t/mailboxes/invalid-boundaries.txt
Output /tmp/testwrapper.25202/5VqrP3OdTV looks good.
ok 3 - Computing differences
Testing filename: t/mailboxes/mailarc-1-dos.txt
Comparing /tmp/testwrapper.25202/88QCsvaXvb to t/mailboxes/mailarc-1-dos.txt
Output /tmp/testwrapper.25202/88QCsvaXvb looks good.
ok 4 - Computing differences
Testing filename: t/mailboxes/mailarc-1.txt
Comparing /tmp/testwrapper.25202/quCQsFoNSu to t/mailboxes/mailarc-1.txt
Output /tmp/testwrapper.25202/quCQsFoNSu looks good.
ok 5 - Computing differences
Testing filename: t/mailboxes/mailarc-2.txt
Comparing /tmp/testwrapper.25202/HcGSw6Aqo0 to t/mailboxes/mailarc-2.txt
Output /tmp/testwrapper.25202/HcGSw6Aqo0 looks good.
ok 6 - Computing differences
Testing filename: t/mailboxes/mailarc-3.txt
Comparing /tmp/testwrapper.25202/zVroEvmc5v to t/mailboxes/mailarc-3.txt
Output /tmp/testwrapper.25202/zVroEvmc5v looks good.
ok 7 - Computing differences
Testing filename: t/mailboxes/mailseparators.txt
Comparing /tmp/testwrapper.25202/oWBycxXsus to t/mailboxes/mailseparators.txt
Output /tmp/testwrapper.25202/oWBycxXsus looks good.
ok 8 - Computing differences
Testing filename: t/mailboxes/malformed.txt
Comparing /tmp/testwrapper.25202/DU2ArZlZT7 to t/mailboxes/malformed.txt
Output /tmp/testwrapper.25202/DU2ArZlZT7 looks good.
ok 9 - Computing differences
Testing filename: t/mailboxes/newlines_at_beginning.txt
Comparing /tmp/testwrapper.25202/POVGZ8G9Yo to t/mailboxes/newlines_at_beginning.txt
Output /tmp/testwrapper.25202/POVGZ8G9Yo looks good.
ok 10 - Computing differences
Testing filename: t/mailboxes/vm-emacs.txt
Comparing /tmp/testwrapper.25202/L1AZuihotz to t/mailboxes/vm-emacs.txt
Output /tmp/testwrapper.25202/L1AZuihotz looks good.
ok 11 - Computing differences
ok
t/grep.t ........................ 
1..4
Running test:
  unset LC_ALL LC_COLLATE LANG LC_CTYPE LC_MESSAGES; grep --extended-regexp --line-number --byte-offset --binary-files=text "^From [^:]+(:[0-9][0-9]){1,2}(  *([A-Z]{2,6}|[+-]?[0-9]{4})){1,3}( remote from .*)?
?$" t/mailboxes/mailarc-1.txt
ok 1 # skip 1
Running test:
  unset LC_ALL LC_COLLATE LANG LC_CTYPE LC_MESSAGES; grep --extended-regexp --line-number --byte-offset --binary-files=text "^From [^:]+(:[0-9][0-9]){1,2}(  *([A-Z]{2,6}|[+-]?[0-9]{4})){1,3}( remote from .*)?
?$" t/mailboxes/mailarc-2.txt
ok 2 # skip 1
Running test:
  unset LC_ALL LC_COLLATE LANG LC_CTYPE LC_MESSAGES; grep --extended-regexp --line-number --byte-offset --binary-files=text "^From [^:]+(:[0-9][0-9]){1,2}(  *([A-Z]{2,6}|[+-]?[0-9]{4})){1,3}( remote from .*)?
?$" t/mailboxes/mailarc-3.txt
ok 3 # skip 1
Running test:
  unset LC_ALL LC_COLLATE LANG LC_CTYPE LC_MESSAGES; grep --extended-regexp --line-number --byte-offset --binary-files=text "^From [^:]+(:[0-9][0-9]){1,2}(  *([A-Z]{2,6}|[+-]?[0-9]{4})){1,3}( remote from .*)?
?$" t/mailboxes/mailseparators.txt
ok 4 # skip 1
ok
t/gzip.t ........................ 
1..1
Running test:
  "/bin/cat" "t/mailboxes/mailarc-2.txt.gz" | "/usr/bin/gzip" -cd
Comparing /tmp/testwrapper.25202/HJOcvanzr4 to t/results/mailarc-2.txt
Output /tmp/testwrapper.25202/HJOcvanzr4 looks good.
Comparing /tmp/testwrapper.25202/7NFplSKleY to t/results/none
Output /tmp/testwrapper.25202/7NFplSKleY looks good.
ok 1 - Computing differences
ok
t/length.t ...................... 
1..30
Testing filename: t/mailboxes/binary_body.txt
Comparing /tmp/testwrapper.25202/swqFAtsPVI to t/results/length_binary_body.stdout
Output /tmp/testwrapper.25202/swqFAtsPVI looks good.
ok 1 - Computing differences
Comparing /tmp/testwrapper.25202/w8R60rMRgb to t/results/length_binary_body.stdout
Output /tmp/testwrapper.25202/w8R60rMRgb looks good.
ok 2 - Computing differences
ok 3 # skip GNU grep not available
Testing filename: t/mailboxes/hessbug.txt
Comparing /tmp/testwrapper.25202/lTfastW4RY to t/results/length_hessbug.stdout
Output /tmp/testwrapper.25202/lTfastW4RY looks good.
ok 4 - Computing differences
Comparing /tmp/testwrapper.25202/NYX_80OYjC to t/results/length_hessbug.stdout
Output /tmp/testwrapper.25202/NYX_80OYjC looks good.
ok 5 - Computing differences
ok 6 # skip GNU grep not available
Testing filename: t/mailboxes/invalid-boundaries.txt
Comparing /tmp/testwrapper.25202/evGoadpiLo to t/results/length_invalid-boundaries.stdout
Output /tmp/testwrapper.25202/evGoadpiLo looks good.
ok 7 - Computing differences
Comparing /tmp/testwrapper.25202/tnAXsIdemu to t/results/length_invalid-boundaries.stdout
Output /tmp/testwrapper.25202/tnAXsIdemu looks good.
ok 8 - Computing differences
ok 9 # skip GNU grep not available
Testing filename: t/mailboxes/mailarc-1-dos.txt
Comparing /tmp/testwrapper.25202/D1wpEi7esk to t/results/length_mailarc-1-dos.stdout
Output /tmp/testwrapper.25202/D1wpEi7esk looks good.
ok 10 - Computing differences
Comparing /tmp/testwrapper.25202/bC3uoBkSWS to t/results/length_mailarc-1-dos.stdout
Output /tmp/testwrapper.25202/bC3uoBkSWS looks good.
ok 11 - Computing differences
ok 12 # skip GNU grep not available
Testing filename: t/mailboxes/mailarc-1.txt
Comparing /tmp/testwrapper.25202/H0MYxmYBfW to t/results/length_mailarc-1.stdout
Output /tmp/testwrapper.25202/H0MYxmYBfW looks good.
ok 13 - Computing differences
Comparing /tmp/testwrapper.25202/FDTwvOI9VV to t/results/length_mailarc-1.stdout
Output /tmp/testwrapper.25202/FDTwvOI9VV looks good.
ok 14 - Computing differences
ok 15 # skip GNU grep not available
Testing filename: t/mailboxes/mailarc-2.txt
Comparing /tmp/testwrapper.25202/6gvgDo2G0C to t/results/length_mailarc-2.stdout
Output /tmp/testwrapper.25202/6gvgDo2G0C looks good.
ok 16 - Computing differences
Comparing /tmp/testwrapper.25202/FTxVo72chy to t/results/length_mailarc-2.stdout
Output /tmp/testwrapper.25202/FTxVo72chy looks good.
ok 17 - Computing differences
ok 18 # skip GNU grep not available
Testing filename: t/mailboxes/mailarc-3.txt
Comparing /tmp/testwrapper.25202/x1RZ3tUsWb to t/results/length_mailarc-3.stdout
Output /tmp/testwrapper.25202/x1RZ3tUsWb looks good.
ok 19 - Computing differences
Comparing /tmp/testwrapper.25202/qPor2fIlfc to t/results/length_mailarc-3.stdout
Output /tmp/testwrapper.25202/qPor2fIlfc looks good.
ok 20 - Computing differences
ok 21 # skip GNU grep not available
Testing filename: t/mailboxes/mailseparators.txt
Comparing /tmp/testwrapper.25202/siHHRPx2In to t/results/length_mailseparators.stdout
Output /tmp/testwrapper.25202/siHHRPx2In looks good.
ok 22 - Computing differences
Comparing /tmp/testwrapper.25202/ZqzKhGAc80 to t/results/length_mailseparators.stdout
Output /tmp/testwrapper.25202/ZqzKhGAc80 looks good.
ok 23 - Computing differences
ok 24 # skip GNU grep not available
Testing filename: t/mailboxes/malformed.txt
Comparing /tmp/testwrapper.25202/VcAJ1PTnie to t/results/length_malformed.stdout
Output /tmp/testwrapper.25202/VcAJ1PTnie looks good.
ok 25 - Computing differences
Comparing /tmp/testwrapper.25202/9VeUyszhFE to t/results/length_malformed.stdout
Output /tmp/testwrapper.25202/9VeUyszhFE looks good.
ok 26 - Computing differences
ok 27 # skip GNU grep not available
Testing filename: t/mailboxes/newlines_at_beginning.txt
Comparing /tmp/testwrapper.25202/0n6meZietH to t/results/length_newlines_at_beginning.stdout
Output /tmp/testwrapper.25202/0n6meZietH looks good.
ok 28 - Computing differences
Comparing /tmp/testwrapper.25202/aJV1QbRsL8 to t/results/length_newlines_at_beginning.stdout
Output /tmp/testwrapper.25202/aJV1QbRsL8 looks good.
ok 29 - Computing differences
ok 30 # skip GNU grep not available
ok
t/line_number.t ................. 
1..30
Testing filename: t/mailboxes/binary_body.txt
Comparing /tmp/testwrapper.25202/UB2Hzg3jFj to t/results/line_number_binary_body.stdout
Output /tmp/testwrapper.25202/UB2Hzg3jFj looks good.
ok 1 - Computing differences
Comparing /tmp/testwrapper.25202/9vpNRg6PoY to t/results/line_number_binary_body.stdout
Output /tmp/testwrapper.25202/9vpNRg6PoY looks good.
ok 2 - Computing differences
ok 3 # skip GNU grep not available
Testing filename: t/mailboxes/hessbug.txt
Comparing /tmp/testwrapper.25202/wJmv1F4rl8 to t/results/line_number_hessbug.stdout
Output /tmp/testwrapper.25202/wJmv1F4rl8 looks good.
ok 4 - Computing differences
Comparing /tmp/testwrapper.25202/nlC6of7X0e to t/results/line_number_hessbug.stdout
Output /tmp/testwrapper.25202/nlC6of7X0e looks good.
ok 5 - Computing differences
ok 6 # skip GNU grep not available
Testing filename: t/mailboxes/invalid-boundaries.txt
Comparing /tmp/testwrapper.25202/2ObEU_sG3l to t/results/line_number_invalid-boundaries.stdout
Output /tmp/testwrapper.25202/2ObEU_sG3l looks good.
ok 7 - Computing differences
Comparing /tmp/testwrapper.25202/MRmKXnLEbJ to t/results/line_number_invalid-boundaries.stdout
Output /tmp/testwrapper.25202/MRmKXnLEbJ looks good.
ok 8 - Computing differences
ok 9 # skip GNU grep not available
Testing filename: t/mailboxes/mailarc-1-dos.txt
Comparing /tmp/testwrapper.25202/ZbFOU4skrk to t/results/line_number_mailarc-1-dos.stdout
Output /tmp/testwrapper.25202/ZbFOU4skrk looks good.
ok 10 - Computing differences
Comparing /tmp/testwrapper.25202/vbabSWQvL8 to t/results/line_number_mailarc-1-dos.stdout
Output /tmp/testwrapper.25202/vbabSWQvL8 looks good.
ok 11 - Computing differences
ok 12 # skip GNU grep not available
Testing filename: t/mailboxes/mailarc-1.txt
Comparing /tmp/testwrapper.25202/8s10MggjR3 to t/results/line_number_mailarc-1.stdout
Output /tmp/testwrapper.25202/8s10MggjR3 looks good.
ok 13 - Computing differences
Comparing /tmp/testwrapper.25202/rBlXeh7uj2 to t/results/line_number_mailarc-1.stdout
Output /tmp/testwrapper.25202/rBlXeh7uj2 looks good.
ok 14 - Computing differences
ok 15 # skip GNU grep not available
Testing filename: t/mailboxes/mailarc-2.txt
Comparing /tmp/testwrapper.25202/oRhlZrtFCu to t/results/line_number_mailarc-2.stdout
Output /tmp/testwrapper.25202/oRhlZrtFCu looks good.
ok 16 - Computing differences
Comparing /tmp/testwrapper.25202/u_oIaaeHs1 to t/results/line_number_mailarc-2.stdout
Output /tmp/testwrapper.25202/u_oIaaeHs1 looks good.
ok 17 - Computing differences
ok 18 # skip GNU grep not available
Testing filename: t/mailboxes/mailarc-3.txt
Comparing /tmp/testwrapper.25202/qLOzzJf1tv to t/results/line_number_mailarc-3.stdout
Output /tmp/testwrapper.25202/qLOzzJf1tv looks good.
ok 19 - Computing differences
Comparing /tmp/testwrapper.25202/ELkSwvq5K_ to t/results/line_number_mailarc-3.stdout
Output /tmp/testwrapper.25202/ELkSwvq5K_ looks good.
ok 20 - Computing differences
ok 21 # skip GNU grep not available
Testing filename: t/mailboxes/mailseparators.txt
Comparing /tmp/testwrapper.25202/iMBaBahmXa to t/results/line_number_mailseparators.stdout
Output /tmp/testwrapper.25202/iMBaBahmXa looks good.
ok 22 - Computing differences
Comparing /tmp/testwrapper.25202/qXY88YA3xs to t/results/line_number_mailseparators.stdout
Output /tmp/testwrapper.25202/qXY88YA3xs looks good.
ok 23 - Computing differences
ok 24 # skip GNU grep not available
Testing filename: t/mailboxes/malformed.txt
Comparing /tmp/testwrapper.25202/0G5LBTN1tA to t/results/line_number_malformed.stdout
Output /tmp/testwrapper.25202/0G5LBTN1tA looks good.
ok 25 - Computing differences
Comparing /tmp/testwrapper.25202/QFEgCkywhA to t/results/line_number_malformed.stdout
Output /tmp/testwrapper.25202/QFEgCkywhA looks good.
ok 26 - Computing differences
ok 27 # skip GNU grep not available
Testing filename: t/mailboxes/newlines_at_beginning.txt
Comparing /tmp/testwrapper.25202/eOK9phGei4 to t/results/line_number_newlines_at_beginning.stdout
Output /tmp/testwrapper.25202/eOK9phGei4 looks good.
ok 28 - Computing differences
Comparing /tmp/testwrapper.25202/Rbs4KPasj3 to t/results/line_number_newlines_at_beginning.stdout
Output /tmp/testwrapper.25202/Rbs4KPasj3 looks good.
ok 29 - Computing differences
ok 30 # skip GNU grep not available
ok
t/lzip.t ........................ 
1..1
Running test:
  "/bin/cat" "t/mailboxes/mailarc-2.txt.lz" | "lzip" -cd
ok 1 # skip lzip not available
ok
t/number.t ...................... 
1..30
Testing filename: t/mailboxes/binary_body.txt
Comparing /tmp/testwrapper.25202/B_NPIEj6mv to t/results/number_binary_body.stdout
Output /tmp/testwrapper.25202/B_NPIEj6mv looks good.
ok 1 - Computing differences
Comparing /tmp/testwrapper.25202/TVqObTD8Vb to t/results/number_binary_body.stdout
Output /tmp/testwrapper.25202/TVqObTD8Vb looks good.
ok 2 - Computing differences
ok 3 # skip GNU grep not available
Testing filename: t/mailboxes/hessbug.txt
Comparing /tmp/testwrapper.25202/cts11_3QKo to t/results/number_hessbug.stdout
Output /tmp/testwrapper.25202/cts11_3QKo looks good.
ok 4 - Computing differences
Comparing /tmp/testwrapper.25202/KfnWlff8zM to t/results/number_hessbug.stdout
Output /tmp/testwrapper.25202/KfnWlff8zM looks good.
ok 5 - Computing differences
ok 6 # skip GNU grep not available
Testing filename: t/mailboxes/invalid-boundaries.txt
Comparing /tmp/testwrapper.25202/VPpmuIuisT to t/results/number_invalid-boundaries.stdout
Output /tmp/testwrapper.25202/VPpmuIuisT looks good.
ok 7 - Computing differences
Comparing /tmp/testwrapper.25202/K7tbK5iKyt to t/results/number_invalid-boundaries.stdout
Output /tmp/testwrapper.25202/K7tbK5iKyt looks good.
ok 8 - Computing differences
ok 9 # skip GNU grep not available
Testing filename: t/mailboxes/mailarc-1-dos.txt
Comparing /tmp/testwrapper.25202/RgYved8GNy to t/results/number_mailarc-1-dos.stdout
Output /tmp/testwrapper.25202/RgYved8GNy looks good.
ok 10 - Computing differences
Comparing /tmp/testwrapper.25202/RncAEL7XFI to t/results/number_mailarc-1-dos.stdout
Output /tmp/testwrapper.25202/RncAEL7XFI looks good.
ok 11 - Computing differences
ok 12 # skip GNU grep not available
Testing filename: t/mailboxes/mailarc-1.txt
Comparing /tmp/testwrapper.25202/VnHrN7PHXB to t/results/number_mailarc-1.stdout
Output /tmp/testwrapper.25202/VnHrN7PHXB looks good.
ok 13 - Computing differences
Comparing /tmp/testwrapper.25202/kh6q11NpvJ to t/results/number_mailarc-1.stdout
Output /tmp/testwrapper.25202/kh6q11NpvJ looks good.
ok 14 - Computing differences
ok 15 # skip GNU grep not available
Testing filename: t/mailboxes/mailarc-2.txt
Comparing /tmp/testwrapper.25202/wCwqs7Od4g to t/results/number_mailarc-2.stdout
Output /tmp/testwrapper.25202/wCwqs7Od4g looks good.
ok 16 - Computing differences
Comparing /tmp/testwrapper.25202/6RCwEZIOra to t/results/number_mailarc-2.stdout
Output /tmp/testwrapper.25202/6RCwEZIOra looks good.
ok 17 - Computing differences
ok 18 # skip GNU grep not available
Testing filename: t/mailboxes/mailarc-3.txt
Comparing /tmp/testwrapper.25202/Qih81nMOJA to t/results/number_mailarc-3.stdout
Output /tmp/testwrapper.25202/Qih81nMOJA looks good.
ok 19 - Computing differences
Comparing /tmp/testwrapper.25202/0_7THAqurU to t/results/number_mailarc-3.stdout
Output /tmp/testwrapper.25202/0_7THAqurU looks good.
ok 20 - Computing differences
ok 21 # skip GNU grep not available
Testing filename: t/mailboxes/mailseparators.txt
Comparing /tmp/testwrapper.25202/oeuOpwofau to t/results/number_mailseparators.stdout
Output /tmp/testwrapper.25202/oeuOpwofau looks good.
ok 22 - Computing differences
Comparing /tmp/testwrapper.25202/_6_5VuzmXl to t/results/number_mailseparators.stdout
Output /tmp/testwrapper.25202/_6_5VuzmXl looks good.
ok 23 - Computing differences
ok 24 # skip GNU grep not available
Testing filename: t/mailboxes/malformed.txt
Comparing /tmp/testwrapper.25202/wBICnRHAKK to t/results/number_malformed.stdout
Output /tmp/testwrapper.25202/wBICnRHAKK looks good.
ok 25 - Computing differences
Comparing /tmp/testwrapper.25202/bpoHkCIw7m to t/results/number_malformed.stdout
Output /tmp/testwrapper.25202/bpoHkCIw7m looks good.
ok 26 - Computing differences
ok 27 # skip GNU grep not available
Testing filename: t/mailboxes/newlines_at_beginning.txt
Comparing /tmp/testwrapper.25202/9XE9fQ3tJ0 to t/results/number_newlines_at_beginning.stdout
Output /tmp/testwrapper.25202/9XE9fQ3tJ0 looks good.
ok 28 - Computing differences
Comparing /tmp/testwrapper.25202/QDa8qADQyq to t/results/number_newlines_at_beginning.stdout
Output /tmp/testwrapper.25202/QDa8qADQyq looks good.
ok 29 - Computing differences
ok 30 # skip GNU grep not available
ok
t/offset.t ...................... 
1..30
Testing filename: t/mailboxes/binary_body.txt
Comparing /tmp/testwrapper.25202/e1meCt2gCA to t/results/offset_binary_body.stdout
Output /tmp/testwrapper.25202/e1meCt2gCA looks good.
ok 1 - Computing differences
Comparing /tmp/testwrapper.25202/DzfzFN08mD to t/results/offset_binary_body.stdout
Output /tmp/testwrapper.25202/DzfzFN08mD looks good.
ok 2 - Computing differences
ok 3 # skip GNU grep not available
Testing filename: t/mailboxes/hessbug.txt
Comparing /tmp/testwrapper.25202/tjPO5kWnQZ to t/results/offset_hessbug.stdout
Output /tmp/testwrapper.25202/tjPO5kWnQZ looks good.
ok 4 - Computing differences
Comparing /tmp/testwrapper.25202/7seLnO7OJp to t/results/offset_hessbug.stdout
Output /tmp/testwrapper.25202/7seLnO7OJp looks good.
ok 5 - Computing differences
ok 6 # skip GNU grep not available
Testing filename: t/mailboxes/invalid-boundaries.txt
Comparing /tmp/testwrapper.25202/PIYEmLZCfo to t/results/offset_invalid-boundaries.stdout
Output /tmp/testwrapper.25202/PIYEmLZCfo looks good.
ok 7 - Computing differences
Comparing /tmp/testwrapper.25202/GloQ5dnnVK to t/results/offset_invalid-boundaries.stdout
Output /tmp/testwrapper.25202/GloQ5dnnVK looks good.
ok 8 - Computing differences
ok 9 # skip GNU grep not available
Testing filename: t/mailboxes/mailarc-1-dos.txt
Comparing /tmp/testwrapper.25202/7C9TDVR3gV to t/results/offset_mailarc-1-dos.stdout
Output /tmp/testwrapper.25202/7C9TDVR3gV looks good.
ok 10 - Computing differences
Comparing /tmp/testwrapper.25202/brqjx9Y97B to t/results/offset_mailarc-1-dos.stdout
Output /tmp/testwrapper.25202/brqjx9Y97B looks good.
ok 11 - Computing differences
ok 12 # skip GNU grep not available
Testing filename: t/mailboxes/mailarc-1.txt
Comparing /tmp/testwrapper.25202/OoJDjzKmn4 to t/results/offset_mailarc-1.stdout
Output /tmp/testwrapper.25202/OoJDjzKmn4 looks good.
ok 13 - Computing differences
Comparing /tmp/testwrapper.25202/mW8Y1P4F3x to t/results/offset_mailarc-1.stdout
Output /tmp/testwrapper.25202/mW8Y1P4F3x looks good.
ok 14 - Computing differences
ok 15 # skip GNU grep not available
Testing filename: t/mailboxes/mailarc-2.txt
Comparing /tmp/testwrapper.25202/I0n4miA8FG to t/results/offset_mailarc-2.stdout
Output /tmp/testwrapper.25202/I0n4miA8FG looks good.
ok 16 - Computing differences
Comparing /tmp/testwrapper.25202/dedz2GcJ0n to t/results/offset_mailarc-2.stdout
Output /tmp/testwrapper.25202/dedz2GcJ0n looks good.
ok 17 - Computing differences
ok 18 # skip GNU grep not available
Testing filename: t/mailboxes/mailarc-3.txt
Comparing /tmp/testwrapper.25202/i_Sfm9gTDH to t/results/offset_mailarc-3.stdout
Output /tmp/testwrapper.25202/i_Sfm9gTDH looks good.
ok 19 - Computing differences
Comparing /tmp/testwrapper.25202/BYpe97n_Iv to t/results/offset_mailarc-3.stdout
Output /tmp/testwrapper.25202/BYpe97n_Iv looks good.
ok 20 - Computing differences
ok 21 # skip GNU grep not available
Testing filename: t/mailboxes/mailseparators.txt
Comparing /tmp/testwrapper.25202/Te1Glrpu1n to t/results/offset_mailseparators.stdout
Output /tmp/testwrapper.25202/Te1Glrpu1n looks good.
ok 22 - Computing differences
Comparing /tmp/testwrapper.25202/xKKq2uA82F to t/results/offset_mailseparators.stdout
Output /tmp/testwrapper.25202/xKKq2uA82F looks good.
ok 23 - Computing differences
ok 24 # skip GNU grep not available
Testing filename: t/mailboxes/malformed.txt
Comparing /tmp/testwrapper.25202/M02fv7rWtB to t/results/offset_malformed.stdout
Output /tmp/testwrapper.25202/M02fv7rWtB looks good.
ok 25 - Computing differences
Comparing /tmp/testwrapper.25202/E7Hbm5eqRU to t/results/offset_malformed.stdout
Output /tmp/testwrapper.25202/E7Hbm5eqRU looks good.
ok 26 - Computing differences
ok 27 # skip GNU grep not available
Testing filename: t/mailboxes/newlines_at_beginning.txt
Comparing /tmp/testwrapper.25202/nbxJ8dxO1F to t/results/offset_newlines_at_beginning.stdout
Output /tmp/testwrapper.25202/nbxJ8dxO1F looks good.
ok 28 - Computing differences
Comparing /tmp/testwrapper.25202/bhyZTkgKoV to t/results/offset_newlines_at_beginning.stdout
Output /tmp/testwrapper.25202/bhyZTkgKoV looks good.
ok 29 - Computing differences
ok 30 # skip GNU grep not available
ok
t/prologue.t .................... 
1..33
Testing filename: t/mailboxes/binary_body.txt
Comparing /tmp/testwrapper.25202/M6_1Fa8arZ to t/mailboxes/binary_body.txt
Output /tmp/testwrapper.25202/M6_1Fa8arZ looks good.
ok 1 - Computing differences
Comparing /tmp/testwrapper.25202/RSC6v3SbMR to t/mailboxes/binary_body.txt
Output /tmp/testwrapper.25202/RSC6v3SbMR looks good.
ok 2 - Computing differences
ok 3 # skip GNU grep not available
Testing filename: t/mailboxes/hessbug.txt
Comparing /tmp/testwrapper.25202/j_VuOS0XzA to t/mailboxes/hessbug.txt
Output /tmp/testwrapper.25202/j_VuOS0XzA looks good.
ok 4 - Computing differences
Comparing /tmp/testwrapper.25202/DcC30Y3uKo to t/mailboxes/hessbug.txt
Output /tmp/testwrapper.25202/DcC30Y3uKo looks good.
ok 5 - Computing differences
ok 6 # skip GNU grep not available
Testing filename: t/mailboxes/invalid-boundaries.txt
Comparing /tmp/testwrapper.25202/6jmJcrcJun to t/mailboxes/invalid-boundaries.txt
Output /tmp/testwrapper.25202/6jmJcrcJun looks good.
ok 7 - Computing differences
Comparing /tmp/testwrapper.25202/6UHKEXmjHE to t/mailboxes/invalid-boundaries.txt
Output /tmp/testwrapper.25202/6UHKEXmjHE looks good.
ok 8 - Computing differences
ok 9 # skip GNU grep not available
Testing filename: t/mailboxes/mailarc-1-dos.txt
Comparing /tmp/testwrapper.25202/6OucCv1fkx to t/mailboxes/mailarc-1-dos.txt
Output /tmp/testwrapper.25202/6OucCv1fkx looks good.
ok 10 - Computing differences
Comparing /tmp/testwrapper.25202/xIhfiiOhIF to t/mailboxes/mailarc-1-dos.txt
Output /tmp/testwrapper.25202/xIhfiiOhIF looks good.
ok 11 - Computing differences
ok 12 # skip GNU grep not available
Testing filename: t/mailboxes/mailarc-1.txt
Comparing /tmp/testwrapper.25202/Segxl8xKmj to t/mailboxes/mailarc-1.txt
Output /tmp/testwrapper.25202/Segxl8xKmj looks good.
ok 13 - Computing differences
Comparing /tmp/testwrapper.25202/auY5EQHXgL to t/mailboxes/mailarc-1.txt
Output /tmp/testwrapper.25202/auY5EQHXgL looks good.
ok 14 - Computing differences
ok 15 # skip GNU grep not available
Testing filename: t/mailboxes/mailarc-2.txt
Comparing /tmp/testwrapper.25202/35bzvdUtgJ to t/mailboxes/mailarc-2.txt
Output /tmp/testwrapper.25202/35bzvdUtgJ looks good.
ok 16 - Computing differences
Comparing /tmp/testwrapper.25202/QuyCFwSLIX to t/mailboxes/mailarc-2.txt
Output /tmp/testwrapper.25202/QuyCFwSLIX looks good.
ok 17 - Computing differences
ok 18 # skip GNU grep not available
Testing filename: t/mailboxes/mailarc-3.txt
Comparing /tmp/testwrapper.25202/y9H5_D39qt to t/mailboxes/mailarc-3.txt
Output /tmp/testwrapper.25202/y9H5_D39qt looks good.
ok 19 - Computing differences
Comparing /tmp/testwrapper.25202/FXLVq9W5E4 to t/mailboxes/mailarc-3.txt
Output /tmp/testwrapper.25202/FXLVq9W5E4 looks good.
ok 20 - Computing differences
ok 21 # skip GNU grep not available
Testing filename: t/mailboxes/mailseparators.txt
Comparing /tmp/testwrapper.25202/yr9MsXvR5K to t/mailboxes/mailseparators.txt
Output /tmp/testwrapper.25202/yr9MsXvR5K looks good.
ok 22 - Computing differences
Comparing /tmp/testwrapper.25202/OAqEpVVn8S to t/mailboxes/mailseparators.txt
Output /tmp/testwrapper.25202/OAqEpVVn8S looks good.
ok 23 - Computing differences
ok 24 # skip GNU grep not available
Testing filename: t/mailboxes/malformed.txt
Comparing /tmp/testwrapper.25202/tEwbfgva_u to t/mailboxes/malformed.txt
Output /tmp/testwrapper.25202/tEwbfgva_u looks good.
ok 25 - Computing differences
Comparing /tmp/testwrapper.25202/79Zdy3x5uL to t/mailboxes/malformed.txt
Output /tmp/testwrapper.25202/79Zdy3x5uL looks good.
ok 26 - Computing differences
ok 27 # skip GNU grep not available
Testing filename: t/mailboxes/newlines_at_beginning.txt
Comparing /tmp/testwrapper.25202/Ed6UZAYXtm to t/mailboxes/newlines_at_beginning.txt
Output /tmp/testwrapper.25202/Ed6UZAYXtm looks good.
ok 28 - Computing differences
Comparing /tmp/testwrapper.25202/S8Sw1uj6It to t/mailboxes/newlines_at_beginning.txt
Output /tmp/testwrapper.25202/S8Sw1uj6It looks good.
ok 29 - Computing differences
ok 30 # skip GNU grep not available
Testing filename: t/mailboxes/vm-emacs.txt
Comparing /tmp/testwrapper.25202/Qb2x2zfR0t to t/mailboxes/vm-emacs.txt
Output /tmp/testwrapper.25202/Qb2x2zfR0t looks good.
ok 31 - Computing differences
Comparing /tmp/testwrapper.25202/aKtyyHtrKY to t/mailboxes/vm-emacs.txt
Output /tmp/testwrapper.25202/aKtyyHtrKY looks good.
ok 32 - Computing differences
ok 33 # skip GNU grep not available
ok
t/reset.t ....................... 
1..60
Testing filename: t/mailboxes/binary_body.txt
Testing partial mailbox reset with Perl implementation
Comparing /tmp/testwrapper.25202/DUSq8GDWEc to t/results/reset_binary_body.stdout
Output /tmp/testwrapper.25202/DUSq8GDWEc looks good.
ok 1 - Computing differences
Testing partial mailbox reset with Cache implementation
Comparing /tmp/testwrapper.25202/VwK3HtbkRd to t/results/reset_binary_body.stdout
Output /tmp/testwrapper.25202/VwK3HtbkRd looks good.
ok 2 - Computing differences
Testing partial mailbox reset with Grep implementation
ok 3 # skip GNU grep not available
Testing full mailbox reset with Perl implementation
Comparing /tmp/testwrapper.25202/3w_oCD8K6G to t/results/reset_binary_body.stdout
Output /tmp/testwrapper.25202/3w_oCD8K6G looks good.
ok 4 - Computing differences
Testing full mailbox reset with Cache implementation
Comparing /tmp/testwrapper.25202/pRsECDQgHb to t/results/reset_binary_body.stdout
Output /tmp/testwrapper.25202/pRsECDQgHb looks good.
ok 5 - Computing differences
Testing full mailbox reset with Grep implementation
ok 6 # skip GNU grep not available
Testing filename: t/mailboxes/hessbug.txt
Testing partial mailbox reset with Perl implementation
Comparing /tmp/testwrapper.25202/6KFQdBg1SD to t/results/reset_hessbug.stdout
Output /tmp/testwrapper.25202/6KFQdBg1SD looks good.
ok 7 - Computing differences
Testing partial mailbox reset with Cache implementation
Comparing /tmp/testwrapper.25202/pF1YIHb0fh to t/results/reset_hessbug.stdout
Output /tmp/testwrapper.25202/pF1YIHb0fh looks good.
ok 8 - Computing differences
Testing partial mailbox reset with Grep implementation
ok 9 # skip GNU grep not available
Testing full mailbox reset with Perl implementation
Comparing /tmp/testwrapper.25202/FbBhCqth7Z to t/results/reset_hessbug.stdout
Output /tmp/testwrapper.25202/FbBhCqth7Z looks good.
ok 10 - Computing differences
Testing full mailbox reset with Cache implementation
Comparing /tmp/testwrapper.25202/H8OQlloRHW to t/results/reset_hessbug.stdout
Output /tmp/testwrapper.25202/H8OQlloRHW looks good.
ok 11 - Computing differences
Testing full mailbox reset with Grep implementation
ok 12 # skip GNU grep not available
Testing filename: t/mailboxes/invalid-boundaries.txt
Testing partial mailbox reset with Perl implementation
Comparing /tmp/testwrapper.25202/0ISt8Wq3F1 to t/results/reset_invalid-boundaries.stdout
Output /tmp/testwrapper.25202/0ISt8Wq3F1 looks good.
ok 13 - Computing differences
Testing partial mailbox reset with Cache implementation
Comparing /tmp/testwrapper.25202/cNpt6zzZv_ to t/results/reset_invalid-boundaries.stdout
Output /tmp/testwrapper.25202/cNpt6zzZv_ looks good.
ok 14 - Computing differences
Testing partial mailbox reset with Grep implementation
ok 15 # skip GNU grep not available
Testing full mailbox reset with Perl implementation
Comparing /tmp/testwrapper.25202/cFFs8FQfVD to t/results/reset_invalid-boundaries.stdout
Output /tmp/testwrapper.25202/cFFs8FQfVD looks good.
ok 16 - Computing differences
Testing full mailbox reset with Cache implementation
Comparing /tmp/testwrapper.25202/6ZROX7W0be to t/results/reset_invalid-boundaries.stdout
Output /tmp/testwrapper.25202/6ZROX7W0be looks good.
ok 17 - Computing differences
Testing full mailbox reset with Grep implementation
ok 18 # skip GNU grep not available
Testing filename: t/mailboxes/mailarc-1-dos.txt
Testing partial mailbox reset with Perl implementation
Comparing /tmp/testwrapper.25202/u4CBBcklI6 to t/results/reset_mailarc-1-dos.stdout
Output /tmp/testwrapper.25202/u4CBBcklI6 looks good.
ok 19 - Computing differences
Testing partial mailbox reset with Cache implementation
Comparing /tmp/testwrapper.25202/NNXVBE4NoJ to t/results/reset_mailarc-1-dos.stdout
Output /tmp/testwrapper.25202/NNXVBE4NoJ looks good.
ok 20 - Computing differences
Testing partial mailbox reset with Grep implementation
ok 21 # skip GNU grep not available
Testing full mailbox reset with Perl implementation
Comparing /tmp/testwrapper.25202/kCiU3lk7JG to t/results/reset_mailarc-1-dos.stdout
Output /tmp/testwrapper.25202/kCiU3lk7JG looks good.
ok 22 - Computing differences
Testing full mailbox reset with Cache implementation
Comparing /tmp/testwrapper.25202/8n0Jw4XVTw to t/results/reset_mailarc-1-dos.stdout
Output /tmp/testwrapper.25202/8n0Jw4XVTw looks good.
ok 23 - Computing differences
Testing full mailbox reset with Grep implementation
ok 24 # skip GNU grep not available
Testing filename: t/mailboxes/mailarc-1.txt
Testing partial mailbox reset with Perl implementation
Comparing /tmp/testwrapper.25202/EDqWDrMD47 to t/results/reset_mailarc-1.stdout
Output /tmp/testwrapper.25202/EDqWDrMD47 looks good.
ok 25 - Computing differences
Testing partial mailbox reset with Cache implementation
Comparing /tmp/testwrapper.25202/C00wWG6IK8 to t/results/reset_mailarc-1.stdout
Output /tmp/testwrapper.25202/C00wWG6IK8 looks good.
ok 26 - Computing differences
Testing partial mailbox reset with Grep implementation
ok 27 # skip GNU grep not available
Testing full mailbox reset with Perl implementation
Comparing /tmp/testwrapper.25202/HROlpqihZ_ to t/results/reset_mailarc-1.stdout
Output /tmp/testwrapper.25202/HROlpqihZ_ looks good.
ok 28 - Computing differences
Testing full mailbox reset with Cache implementation
Comparing /tmp/testwrapper.25202/8DzHUq6jAn to t/results/reset_mailarc-1.stdout
Output /tmp/testwrapper.25202/8DzHUq6jAn looks good.
ok 29 - Computing differences
Testing full mailbox reset with Grep implementation
ok 30 # skip GNU grep not available
Testing filename: t/mailboxes/mailarc-2.txt
Testing partial mailbox reset with Perl implementation
Comparing /tmp/testwrapper.25202/bhWfIOEXZA to t/results/reset_mailarc-2.stdout
Output /tmp/testwrapper.25202/bhWfIOEXZA looks good.
ok 31 - Computing differences
Testing partial mailbox reset with Cache implementation
Comparing /tmp/testwrapper.25202/xAelRRmamY to t/results/reset_mailarc-2.stdout
Output /tmp/testwrapper.25202/xAelRRmamY looks good.
ok 32 - Computing differences
Testing partial mailbox reset with Grep implementation
ok 33 # skip GNU grep not available
Testing full mailbox reset with Perl implementation
Comparing /tmp/testwrapper.25202/yJmQXrkuGE to t/results/reset_mailarc-2.stdout
Output /tmp/testwrapper.25202/yJmQXrkuGE looks good.
ok 34 - Computing differences
Testing full mailbox reset with Cache implementation
Comparing /tmp/testwrapper.25202/VK7EZiMadS to t/results/reset_mailarc-2.stdout
Output /tmp/testwrapper.25202/VK7EZiMadS looks good.
ok 35 - Computing differences
Testing full mailbox reset with Grep implementation
ok 36 # skip GNU grep not available
Testing filename: t/mailboxes/mailarc-3.txt
Testing partial mailbox reset with Perl implementation
Comparing /tmp/testwrapper.25202/RhH8GV2HJT to t/results/reset_mailarc-3.stdout
Output /tmp/testwrapper.25202/RhH8GV2HJT looks good.
ok 37 - Computing differences
Testing partial mailbox reset with Cache implementation
Comparing /tmp/testwrapper.25202/AuxTz9_kR9 to t/results/reset_mailarc-3.stdout
Output /tmp/testwrapper.25202/AuxTz9_kR9 looks good.
ok 38 - Computing differences
Testing partial mailbox reset with Grep implementation
ok 39 # skip GNU grep not available
Testing full mailbox reset with Perl implementation
Comparing /tmp/testwrapper.25202/hfrfDOQAoe to t/results/reset_mailarc-3.stdout
Output /tmp/testwrapper.25202/hfrfDOQAoe looks good.
ok 40 - Computing differences
Testing full mailbox reset with Cache implementation
Comparing /tmp/testwrapper.25202/0gyBZKGEpd to t/results/reset_mailarc-3.stdout
Output /tmp/testwrapper.25202/0gyBZKGEpd looks good.
ok 41 - Computing differences
Testing full mailbox reset with Grep implementation
ok 42 # skip GNU grep not available
Testing filename: t/mailboxes/mailseparators.txt
Testing partial mailbox reset with Perl implementation
Comparing /tmp/testwrapper.25202/EdYM48gs9g to t/results/reset_mailseparators.stdout
Output /tmp/testwrapper.25202/EdYM48gs9g looks good.
ok 43 - Computing differences
Testing partial mailbox reset with Cache implementation
Comparing /tmp/testwrapper.25202/6jMb0yXM1F to t/results/reset_mailseparators.stdout
Output /tmp/testwrapper.25202/6jMb0yXM1F looks good.
ok 44 - Computing differences
Testing partial mailbox reset with Grep implementation
ok 45 # skip GNU grep not available
Testing full mailbox reset with Perl implementation
Comparing /tmp/testwrapper.25202/6Zl6k1aNBW to t/results/reset_mailseparators.stdout
Output /tmp/testwrapper.25202/6Zl6k1aNBW looks good.
ok 46 - Computing differences
Testing full mailbox reset with Cache implementation
Comparing /tmp/testwrapper.25202/VBYL4YMXDu to t/results/reset_mailseparators.stdout
Output /tmp/testwrapper.25202/VBYL4YMXDu looks good.
ok 47 - Computing differences
Testing full mailbox reset with Grep implementation
ok 48 # skip GNU grep not available
Testing filename: t/mailboxes/malformed.txt
Testing partial mailbox reset with Perl implementation
Comparing /tmp/testwrapper.25202/UWgW5a2f2X to t/results/reset_malformed.stdout
Output /tmp/testwrapper.25202/UWgW5a2f2X looks good.
ok 49 - Computing differences
Testing partial mailbox reset with Cache implementation
Comparing /tmp/testwrapper.25202/f08FoMyjI5 to t/results/reset_malformed.stdout
Output /tmp/testwrapper.25202/f08FoMyjI5 looks good.
ok 50 - Computing differences
Testing partial mailbox reset with Grep implementation
ok 51 # skip GNU grep not available
Testing full mailbox reset with Perl implementation
Comparing /tmp/testwrapper.25202/5fr89YJphx to t/results/reset_malformed.stdout
Output /tmp/testwrapper.25202/5fr89YJphx looks good.
ok 52 - Computing differences
Testing full mailbox reset with Cache implementation
Comparing /tmp/testwrapper.25202/R0_fA6Cpr6 to t/results/reset_malformed.stdout
Output /tmp/testwrapper.25202/R0_fA6Cpr6 looks good.
ok 53 - Computing differences
Testing full mailbox reset with Grep implementation
ok 54 # skip GNU grep not available
Testing filename: t/mailboxes/newlines_at_beginning.txt
Testing partial mailbox reset with Perl implementation
Comparing /tmp/testwrapper.25202/84wBxg5ZSg to t/results/reset_newlines_at_beginning.stdout
Output /tmp/testwrapper.25202/84wBxg5ZSg looks good.
ok 55 - Computing differences
Testing partial mailbox reset with Cache implementation
Comparing /tmp/testwrapper.25202/R3M2hrO5V0 to t/results/reset_newlines_at_beginning.stdout
Output /tmp/testwrapper.25202/R3M2hrO5V0 looks good.
ok 56 - Computing differences
Testing partial mailbox reset with Grep implementation
ok 57 # skip GNU grep not available
Testing full mailbox reset with Perl implementation
Comparing /tmp/testwrapper.25202/_oYpe0bSEG to t/results/reset_newlines_at_beginning.stdout
Output /tmp/testwrapper.25202/_oYpe0bSEG looks good.
ok 58 - Computing differences
Testing full mailbox reset with Cache implementation
Comparing /tmp/testwrapper.25202/FdlcpFrokR to t/results/reset_newlines_at_beginning.stdout
Output /tmp/testwrapper.25202/FdlcpFrokR looks good.
ok 59 - Computing differences
Testing full mailbox reset with Grep implementation
ok 60 # skip GNU grep not available
ok
t/separators.t .................. 
1..6
Testing filename: t/mailboxes/separators1.sep
ok 1 - Number of emails in t/mailboxes/separators1.sep
ok 2 - Number of emails in t/mailboxes/separators1.sep
ok 3 # skip GNU grep not available
Testing filename: t/mailboxes/separators2.sep
ok 4 - Number of emails in t/mailboxes/separators2.sep
ok 5 - Number of emails in t/mailboxes/separators2.sep
ok 6 # skip GNU grep not available
ok
t/stdin_compressed.t ............ 
1..4
Testing filename: t/mailboxes/mailarc-2.txt.bz2
Comparing /tmp/testwrapper.25202/SFadDd0Seq to t/mailboxes/mailarc-2.txt
Output /tmp/testwrapper.25202/SFadDd0Seq looks good.
ok 1 - Computing differences
Testing filename: t/mailboxes/mailarc-2.txt.gz
Comparing /tmp/testwrapper.25202/41UhnKNNW2 to t/mailboxes/mailarc-2.txt
Output /tmp/testwrapper.25202/41UhnKNNW2 looks good.
ok 2 - Computing differences
Testing filename: t/mailboxes/mailarc-2.txt.lz
ok 3 # skip lzip not available
Testing filename: t/mailboxes/mailarc-2.txt.xz
Comparing /tmp/testwrapper.25202/DOJ9tWXZ2y to t/mailboxes/mailarc-2.txt
Output /tmp/testwrapper.25202/DOJ9tWXZ2y looks good.
ok 4 - Computing differences
ok
t/stdin_uncompressed.t .......... 
1..11
Testing filename: t/mailboxes/binary_body.txt
Comparing /tmp/testwrapper.25202/lMhyaTylFo to t/mailboxes/binary_body.txt
Output /tmp/testwrapper.25202/lMhyaTylFo looks good.
ok 1 - Computing differences
Testing filename: t/mailboxes/hessbug.txt
Comparing /tmp/testwrapper.25202/uybsH84J42 to t/mailboxes/hessbug.txt
Output /tmp/testwrapper.25202/uybsH84J42 looks good.
ok 2 - Computing differences
Testing filename: t/mailboxes/invalid-boundaries.txt
Comparing /tmp/testwrapper.25202/Uun3m7wGJj to t/mailboxes/invalid-boundaries.txt
Output /tmp/testwrapper.25202/Uun3m7wGJj looks good.
ok 3 - Computing differences
Testing filename: t/mailboxes/mailarc-1-dos.txt
Comparing /tmp/testwrapper.25202/Oj2J48uB9R to t/mailboxes/mailarc-1-dos.txt
Output /tmp/testwrapper.25202/Oj2J48uB9R looks good.
ok 4 - Computing differences
Testing filename: t/mailboxes/mailarc-1.txt
Comparing /tmp/testwrapper.25202/0vWo4vb0Tt to t/mailboxes/mailarc-1.txt
Output /tmp/testwrapper.25202/0vWo4vb0Tt looks good.
ok 5 - Computing differences
Testing filename: t/mailboxes/mailarc-2.txt
Comparing /tmp/testwrapper.25202/GLhVDPMGOq to t/mailboxes/mailarc-2.txt
Output /tmp/testwrapper.25202/GLhVDPMGOq looks good.
ok 6 - Computing differences
Testing filename: t/mailboxes/mailarc-3.txt
Comparing /tmp/testwrapper.25202/FjfPciSLv_ to t/mailboxes/mailarc-3.txt
Output /tmp/testwrapper.25202/FjfPciSLv_ looks good.
ok 7 - Computing differences
Testing filename: t/mailboxes/mailseparators.txt
Comparing /tmp/testwrapper.25202/ViU0RwCE9g to t/mailboxes/mailseparators.txt
Output /tmp/testwrapper.25202/ViU0RwCE9g looks good.
ok 8 - Computing differences
Testing filename: t/mailboxes/malformed.txt
Comparing /tmp/testwrapper.25202/iQ4amCyhFD to t/mailboxes/malformed.txt
Output /tmp/testwrapper.25202/iQ4amCyhFD looks good.
ok 9 - Computing differences
Testing filename: t/mailboxes/newlines_at_beginning.txt
Comparing /tmp/testwrapper.25202/Zd7OGEklQ8 to t/mailboxes/newlines_at_beginning.txt
Output /tmp/testwrapper.25202/Zd7OGEklQ8 looks good.
ok 10 - Computing differences
Testing filename: t/mailboxes/vm-emacs.txt
Comparing /tmp/testwrapper.25202/jurI7CRB9u to t/mailboxes/vm-emacs.txt
Output /tmp/testwrapper.25202/jurI7CRB9u looks good.
ok 11 - Computing differences
ok
t/undef_return_value.t .......... 
1..33
Testing Perl 
Comparing /tmp/testwrapper.25202/eXXSxDJMbc to t/mailboxes/binary_body.txt
Output /tmp/testwrapper.25202/eXXSxDJMbc looks good.
ok 1 - Computing differences
Testing Cache implementation
Comparing /tmp/testwrapper.25202/FxTasH2PkA to t/mailboxes/binary_body.txt
Output /tmp/testwrapper.25202/FxTasH2PkA looks good.
ok 2 - Computing differences
ok 3 # skip GNU grep not available
Testing Perl 
Comparing /tmp/testwrapper.25202/3O1SjG3c_H to t/mailboxes/hessbug.txt
Output /tmp/testwrapper.25202/3O1SjG3c_H looks good.
ok 4 - Computing differences
Testing Cache implementation
Comparing /tmp/testwrapper.25202/izcOdzPxta to t/mailboxes/hessbug.txt
Output /tmp/testwrapper.25202/izcOdzPxta looks good.
ok 5 - Computing differences
ok 6 # skip GNU grep not available
Testing Perl 
Comparing /tmp/testwrapper.25202/QJcg1VNnbL to t/mailboxes/invalid-boundaries.txt
Output /tmp/testwrapper.25202/QJcg1VNnbL looks good.
ok 7 - Computing differences
Testing Cache implementation
Comparing /tmp/testwrapper.25202/fvixkjcy0N to t/mailboxes/invalid-boundaries.txt
Output /tmp/testwrapper.25202/fvixkjcy0N looks good.
ok 8 - Computing differences
ok 9 # skip GNU grep not available
Testing Perl 
Comparing /tmp/testwrapper.25202/FbA3G1vI7b to t/mailboxes/mailarc-1-dos.txt
Output /tmp/testwrapper.25202/FbA3G1vI7b looks good.
ok 10 - Computing differences
Testing Cache implementation
Comparing /tmp/testwrapper.25202/aFXas0zAg4 to t/mailboxes/mailarc-1-dos.txt
Output /tmp/testwrapper.25202/aFXas0zAg4 looks good.
ok 11 - Computing differences
ok 12 # skip GNU grep not available
Testing Perl 
Comparing /tmp/testwrapper.25202/BSbl5waHnm to t/mailboxes/mailarc-1.txt
Output /tmp/testwrapper.25202/BSbl5waHnm looks good.
ok 13 - Computing differences
Testing Cache implementation
Comparing /tmp/testwrapper.25202/rG63gpw4Gl to t/mailboxes/mailarc-1.txt
Output /tmp/testwrapper.25202/rG63gpw4Gl looks good.
ok 14 - Computing differences
ok 15 # skip GNU grep not available
Testing Perl 
Comparing /tmp/testwrapper.25202/Tkw8BavLqv to t/mailboxes/mailarc-2.txt
Output /tmp/testwrapper.25202/Tkw8BavLqv looks good.
ok 16 - Computing differences
Testing Cache implementation
Comparing /tmp/testwrapper.25202/JFtH0Qiy2G to t/mailboxes/mailarc-2.txt
Output /tmp/testwrapper.25202/JFtH0Qiy2G looks good.
ok 17 - Computing differences
ok 18 # skip GNU grep not available
Testing Perl 
Comparing /tmp/testwrapper.25202/AXAgkI7GwM to t/mailboxes/mailarc-3.txt
Output /tmp/testwrapper.25202/AXAgkI7GwM looks good.
ok 19 - Computing differences
Testing Cache implementation
Comparing /tmp/testwrapper.25202/qswZPXkKAI to t/mailboxes/mailarc-3.txt
Output /tmp/testwrapper.25202/qswZPXkKAI looks good.
ok 20 - Computing differences
ok 21 # skip GNU grep not available
Testing Perl 
Comparing /tmp/testwrapper.25202/SvXh_vvoHk to t/mailboxes/mailseparators.txt
Output /tmp/testwrapper.25202/SvXh_vvoHk looks good.
ok 22 - Computing differences
Testing Cache implementation
Comparing /tmp/testwrapper.25202/lNqEJ9f6Yc to t/mailboxes/mailseparators.txt
Output /tmp/testwrapper.25202/lNqEJ9f6Yc looks good.
ok 23 - Computing differences
ok 24 # skip GNU grep not available
Testing Perl 
Comparing /tmp/testwrapper.25202/Yh1lGlmOqD to t/mailboxes/malformed.txt
Output /tmp/testwrapper.25202/Yh1lGlmOqD looks good.
ok 25 - Computing differences
Testing Cache implementation
Comparing /tmp/testwrapper.25202/oO8LAWEaE4 to t/mailboxes/malformed.txt
Output /tmp/testwrapper.25202/oO8LAWEaE4 looks good.
ok 26 - Computing differences
ok 27 # skip GNU grep not available
Testing Perl 
Comparing /tmp/testwrapper.25202/oNrrvNpo3s to t/mailboxes/newlines_at_beginning.txt
Output /tmp/testwrapper.25202/oNrrvNpo3s looks good.
ok 28 - Computing differences
Testing Cache implementation
Comparing /tmp/testwrapper.25202/fQN5o9y6tG to t/mailboxes/newlines_at_beginning.txt
Output /tmp/testwrapper.25202/fQN5o9y6tG looks good.
ok 29 - Computing differences
ok 30 # skip GNU grep not available
Testing Perl 
Comparing /tmp/testwrapper.25202/roDoKPTV4b to t/mailboxes/vm-emacs.txt
Output /tmp/testwrapper.25202/roDoKPTV4b looks good.
ok 31 - Computing differences
Testing Cache implementation
Comparing /tmp/testwrapper.25202/BYP8TCA5YN to t/mailboxes/vm-emacs.txt
Output /tmp/testwrapper.25202/BYP8TCA5YN looks good.
ok 32 - Computing differences
ok 33 # skip GNU grep not available
ok
t/xz.t .......................... 
1..1
Running test:
  "/bin/cat" "t/mailboxes/mailarc-2.txt.xz" | "/usr/bin/xz" -cd
Comparing /tmp/testwrapper.25202/SYfC9h51IT to t/results/mailarc-2.txt
Output /tmp/testwrapper.25202/SYfC9h51IT looks good.
Comparing /tmp/testwrapper.25202/TIg9hTDoGi to t/results/none
Output /tmp/testwrapper.25202/TIg9hTDoGi looks good.
ok 1 - Computing differences
ok
All tests successful.
Files=25, Tests=382, 11 wallclock secs ( 0.26 usr  0.11 sys +  6.52 cusr  3.10 csys =  9.99 CPU)
Result: PASS

------------------------------
PREREQUISITES
------------------------------

Prerequisite modules loaded:

requires:

    Module              Need  Have    
    ------------------- ----- --------
    FileHandle::Unget   0     0.1634  
    perl                5.005 5.018004
    Storable            0     3.11    

build_requires:

    Module              Need  Have    
    ------------------- ----- --------
    ExtUtils::MakeMaker 6.36  7.34    
    File::Path          2.08  2.15    
    File::Slurper       0     0.012   
    Test::Compile       0     v1.3.0  
    Test::More          0     1.302136
    Text::Diff          0     1.45    
    UNIVERSAL::require  0     0.18    
    URI::Escape         0     3.31    

configure_requires:

    Module              Need  Have    
    ------------------- ----- --------
    ExtUtils::MakeMaker 6.36  7.34    
    URI::Escape         0     3.31    


------------------------------
ENVIRONMENT AND OTHER CONTEXT
------------------------------

Environment variables:

    AUTOMATED_TESTING = 1
    PATH = /home/njh/perl5/perlbrew/bin:/home/njh/perl5/perlbrew/perls/perl-5.18.4/bin:/home/njh/src/njh/smoker/bin:/usr/bin:/bin:/usr/pkg/bin:/usr/local/bin
    PERL5LIB = /home/njh/.cpan/build/Getargs-Long-1.1012-0/blib/arch:/home/njh/.cpan/build/Getargs-Long-1.1012-0/blib/lib:/home/njh/.cpan/build/Log-Agent-1.003-0/blib/arch:/home/njh/.cpan/build/Log-Agent-1.003-0/blib/lib:/home/njh/.cpan/build/FileHandle-Unget-0.1634-0/blib/arch:/home/njh/.cpan/build/FileHandle-Unget-0.1634-0/blib/lib:/home/njh/.cpan/build/CGI-Cache-1.4213-0/blib/arch:/home/njh/.cpan/build/CGI-Cache-1.4213-0/blib/lib:/home/njh/.cpan/build/Tie-Restore-0.11-0/blib/arch:/home/njh/.cpan/build/Tie-Restore-0.11-0/blib/lib:/home/njh/.cpan/build/Cache-Cache-1.08-0/blib/arch:/home/njh/.cpan/build/Cache-Cache-1.08-0/blib/lib:/home/njh/.cpan/build/Error-0.17026-0/blib/arch:/home/njh/.cpan/build/Error-0.17026-0/blib/lib:/home/njh/.cpan/build/Digest-SHA1-2.13-0/blib/arch:/home/njh/.cpan/build/Digest-SHA1-2.13-0/blib/lib:/home/njh/.cpan/build/Benchmark-Timer-0.7112-0/blib/arch:/home/njh/.cpan/build/Benchmark-Timer-0.7112-0/blib/lib:/home/njh/.cpan/build/XSConfig-6.27-0/blib/arch:/home/njh/.cpan/build/XSConfig-6.27-0/blib/lib:/home/njh/.cpan/build/OSPF-LSDB-1.08-0/blib/arch:/home/njh/.cpan/build/OSPF-LSDB-1.08-0/blib/lib:/home/njh/.cpan/build/Regexp-IPv6-0.03-0/blib/arch:/home/njh/.cpan/build/Regexp-IPv6-0.03-0/blib/lib:/home/njh/.cpan/build/Data-Validate-Struct-0.1-0/blib/arch:/home/njh/.cpan/build/Data-Validate-Struct-0.1-0/blib/lib:/home/njh/.cpan/build/Regexp-Common-2017060201-0/blib/arch:/home/njh/.cpan/build/Regexp-Common-2017060201-0/blib/lib:/home/njh/.cpan/build/Data-Validate-IP-0.27-0/blib/arch:/home/njh/.cpan/build/Data-Validate-IP-0.27-0/blib/lib:/home/njh/.cpan/build/NetAddr-IP-4.079-0/blib/arch:/home/njh/.cpan/build/NetAddr-IP-4.079-0/blib/lib:/home/njh/.cpan/build/Data-Validate-0.09-0/blib/arch:/home/njh/.cpan/build/Data-Validate-0.09-0/blib/lib
    PERL5OPT = 
    PERL5_CPANPLUS_IS_RUNNING = 23104
    PERL5_CPAN_IS_RUNNING = 23104
    PERLBREW_HOME = /home/njh/.perlbrew
    PERLBREW_MANPATH = /home/njh/perl5/perlbrew/perls/perl-5.18.4/man
    PERLBREW_PATH = /home/njh/perl5/perlbrew/bin:/home/njh/perl5/perlbrew/perls/perl-5.18.4/bin
    PERLBREW_PERL = perl-5.18.4
    PERLBREW_ROOT = /home/njh/perl5/perlbrew
    PERLBREW_SHELLRC_VERSION = 0.82
    PERLBREW_VERSION = 0.82
    SHELL = /bin/sh
    TMPDIR = /tmp/testwrapper.25202

Perl special variables (and OS-specific diagnostics, for MSWin32):

    $^X = /home/njh/perl5/perlbrew/perls/perl-5.18.4/bin/perl
    $UID/$EUID = 1000 / 1000
    $GID = 100 100 0
    $EGID = 100 100 0

Perl module toolchain versions installed:

    Module              Have    
    ------------------- --------
    CPAN                2.16    
    CPAN::Meta          2.150010
    Cwd                 3.74    
    ExtUtils::CBuilder  0.280230
    ExtUtils::Command   7.34    
    ExtUtils::Install   2.14    
    ExtUtils::MakeMaker 7.34    
    ExtUtils::Manifest  1.71    
    ExtUtils::ParseXS   3.35    
    File::Spec          3.74    
    JSON                2.97001 
    JSON::PP            2.97001 
    Module::Build       0.4224  
    Module::Signature   n/a     
    Parse::CPAN::Meta   2.150010
    Test::Harness       3.42    
    Test::More          1.302136
    YAML                1.26    
    YAML::Syck          1.30    
    version             0.9924  


--

Summary of my perl5 (revision 5 version 18 subversion 4) configuration:
   
  Platform:
    osname=netbsd, osvers=7.1.2, archname=amd64-netbsd
    uname='netbsd njh2.vultr.com 7.1.2 netbsd 7.1.2 (generic.201803151611z) amd64 '
    config_args='-de -Dprefix=/home/njh/perl5/perlbrew/perls/perl-5.18.4 -Aeval:scriptdir=/home/njh/perl5/perlbrew/perls/perl-5.18.4/bin'
    hint=recommended, useposix=true, d_sigaction=define
    useithreads=undef, usemultiplicity=undef
    useperlio=define, d_sfio=undef, uselargefiles=define, usesocks=undef
    use64bitint=define, use64bitall=define, uselongdouble=undef
    usemymalloc=n, bincompat5005=undef
  Compiler:
    cc='cc', ccflags ='-fno-strict-aliasing -pipe -fstack-protector -I/usr/pkg/include',
    optimize='-O',
    cppflags='-fno-strict-aliasing -pipe -fstack-protector -I/usr/pkg/include'
    ccversion='', gccversion='4.8.5', gccosandvers=''
    intsize=4, longsize=8, ptrsize=8, doublesize=8, byteorder=12345678
    d_longlong=define, longlongsize=8, d_longdbl=define, longdblsize=16
    ivtype='long', ivsize=8, nvtype='double', nvsize=8, Off_t='off_t', lseeksize=8
    alignbytes=8, prototype=define
  Linker and Libraries:
    ld='cc', ldflags =' -Wl,-rpath,/usr/pkg/lib -Wl,-rpath,/usr/local/lib -fstack-protector -L/usr/pkg/lib'
    libpth=/usr/pkg/lib /lib /usr/lib
    libs=-lm -lcrypt -lutil -lc -lposix
    perllibs=-lm -lcrypt -lutil -lc -lposix
    libc=/lib/libc.so, so=so, useshrplib=false, libperl=libperl.a
    gnulibc_version=''
  Dynamic Linking:
    dlsrc=dl_dlopen.xs, dlext=so, d_dlsymun=undef, ccdlflags='-Wl,-E '
    cccdlflags='-DPIC -fPIC ', lddlflags='-shared  -L/usr/pkg/lib -fstack-protector'


Characteristics of this binary (from libperl): 
  Compile-time options: HAS_TIMES PERLIO_LAYERS PERL_DONT_CREATE_GVSV
                        PERL_HASH_FUNC_ONE_AT_A_TIME_HARD PERL_MALLOC_WRAP
                        PERL_PRESERVE_IVUV PERL_SAWAMPERSAND USE_64_BIT_ALL
                        USE_64_BIT_INT USE_LARGE_FILES USE_LOCALE
                        USE_LOCALE_COLLATE USE_LOCALE_CTYPE
                        USE_LOCALE_NUMERIC USE_PERLIO USE_PERL_ATOF
  Locally applied patches:
	Devel::PatchPerl 1.48
  Built under netbsd
  Compiled at Jun  3 2018 17:15:15
  %ENV:
    PERL5LIB="/home/njh/.cpan/build/Getargs-Long-1.1012-0/blib/arch:/home/njh/.cpan/build/Getargs-Long-1.1012-0/blib/lib:/home/njh/.cpan/build/Log-Agent-1.003-0/blib/arch:/home/njh/.cpan/build/Log-Agent-1.003-0/blib/lib:/home/njh/.cpan/build/FileHandle-Unget-0.1634-0/blib/arch:/home/njh/.cpan/build/FileHandle-Unget-0.1634-0/blib/lib:/home/njh/.cpan/build/CGI-Cache-1.4213-0/blib/arch:/home/njh/.cpan/build/CGI-Cache-1.4213-0/blib/lib:/home/njh/.cpan/build/Tie-Restore-0.11-0/blib/arch:/home/njh/.cpan/build/Tie-Restore-0.11-0/blib/lib:/home/njh/.cpan/build/Cache-Cache-1.08-0/blib/arch:/home/njh/.cpan/build/Cache-Cache-1.08-0/blib/lib:/home/njh/.cpan/build/Error-0.17026-0/blib/arch:/home/njh/.cpan/build/Error-0.17026-0/blib/lib:/home/njh/.cpan/build/Digest-SHA1-2.13-0/blib/arch:/home/njh/.cpan/build/Digest-SHA1-2.13-0/blib/lib:/home/njh/.cpan/build/Benchmark-Timer-0.7112-0/blib/arch:/home/njh/.cpan/build/Benchmark-Timer-0.7112-0/blib/lib:/home/njh/.cpan/build/XSConfig-6.27-0/blib/arch:/home/njh/.cpan/build/XSConfig-6.27-0/blib/lib:/home/njh/.cpan/build/OSPF-LSDB-1.08-0/blib/arch:/home/njh/.cpan/build/OSPF-LSDB-1.08-0/blib/lib:/home/njh/.cpan/build/Regexp-IPv6-0.03-0/blib/arch:/home/njh/.cpan/build/Regexp-IPv6-0.03-0/blib/lib:/home/njh/.cpan/build/Data-Validate-Struct-0.1-0/blib/arch:/home/njh/.cpan/build/Data-Validate-Struct-0.1-0/blib/lib:/home/njh/.cpan/build/Regexp-Common-2017060201-0/blib/arch:/home/njh/.cpan/build/Regexp-Common-2017060201-0/blib/lib:/home/njh/.cpan/build/Data-Validate-IP-0.27-0/blib/arch:/home/njh/.cpan/build/Data-Validate-IP-0.27-0/blib/lib:/home/njh/.cpan/build/NetAddr-IP-4.079-0/blib/arch:/home/njh/.cpan/build/NetAddr-IP-4.079-0/blib/lib:/home/njh/.cpan/build/Data-Validate-0.09-0/blib/arch:/home/njh/.cpan/build/Data-Validate-0.09-0/blib/lib"
    PERL5OPT=""
    PERL5_CPANPLUS_IS_RUNNING="23104"
    PERL5_CPAN_IS_RUNNING="23104"
    PERLBREW_HOME="/home/njh/.perlbrew"
    PERLBREW_MANPATH="/home/njh/perl5/perlbrew/perls/perl-5.18.4/man"
    PERLBREW_PATH="/home/njh/perl5/perlbrew/bin:/home/njh/perl5/perlbrew/perls/perl-5.18.4/bin"
    PERLBREW_PERL="perl-5.18.4"
    PERLBREW_ROOT="/home/njh/perl5/perlbrew"
    PERLBREW_SHELLRC_VERSION="0.82"
    PERLBREW_VERSION="0.82"
  @INC:
    /home/njh/.cpan/build/Getargs-Long-1.1012-0/blib/arch
    /home/njh/.cpan/build/Getargs-Long-1.1012-0/blib/lib
    /home/njh/.cpan/build/Log-Agent-1.003-0/blib/arch
    /home/njh/.cpan/build/Log-Agent-1.003-0/blib/lib
    /home/njh/.cpan/build/FileHandle-Unget-0.1634-0/blib/arch
    /home/njh/.cpan/build/FileHandle-Unget-0.1634-0/blib/lib
    /home/njh/.cpan/build/CGI-Cache-1.4213-0/blib/arch
    /home/njh/.cpan/build/CGI-Cache-1.4213-0/blib/lib
    /home/njh/.cpan/build/Tie-Restore-0.11-0/blib/arch
    /home/njh/.cpan/build/Tie-Restore-0.11-0/blib/lib
    /home/njh/.cpan/build/Cache-Cache-1.08-0/blib/arch
    /home/njh/.cpan/build/Cache-Cache-1.08-0/blib/lib
    /home/njh/.cpan/build/Error-0.17026-0/blib/arch
    /home/njh/.cpan/build/Error-0.17026-0/blib/lib
    /home/njh/.cpan/build/Digest-SHA1-2.13-0/blib/arch
    /home/njh/.cpan/build/Digest-SHA1-2.13-0/blib/lib
    /home/njh/.cpan/build/Benchmark-Timer-0.7112-0/blib/arch
    /home/njh/.cpan/build/Benchmark-Timer-0.7112-0/blib/lib
    /home/njh/.cpan/build/XSConfig-6.27-0/blib/arch
    /home/njh/.cpan/build/XSConfig-6.27-0/blib/lib
    /home/njh/.cpan/build/OSPF-LSDB-1.08-0/blib/arch
    /home/njh/.cpan/build/OSPF-LSDB-1.08-0/blib/lib
    /home/njh/.cpan/build/Regexp-IPv6-0.03-0/blib/arch
    /home/njh/.cpan/build/Regexp-IPv6-0.03-0/blib/lib
    /home/njh/.cpan/build/Data-Validate-Struct-0.1-0/blib/arch
    /home/njh/.cpan/build/Data-Validate-Struct-0.1-0/blib/lib
    /home/njh/.cpan/build/Regexp-Common-2017060201-0/blib/arch
    /home/njh/.cpan/build/Regexp-Common-2017060201-0/blib/lib
    /home/njh/.cpan/build/Data-Validate-IP-0.27-0/blib/arch
    /home/njh/.cpan/build/Data-Validate-IP-0.27-0/blib/lib
    /home/njh/.cpan/build/NetAddr-IP-4.079-0/blib/arch
    /home/njh/.cpan/build/NetAddr-IP-4.079-0/blib/lib
    /home/njh/.cpan/build/Data-Validate-0.09-0/blib/arch
    /home/njh/.cpan/build/Data-Validate-0.09-0/blib/lib
    /home/njh/perl5/perlbrew/perls/perl-5.18.4/lib/site_perl/5.18.4/amd64-netbsd
    /home/njh/perl5/perlbrew/perls/perl-5.18.4/lib/site_perl/5.18.4
    /home/njh/perl5/perlbrew/perls/perl-5.18.4/lib/5.18.4/amd64-netbsd
    /home/njh/perl5/perlbrew/perls/perl-5.18.4/lib/5.18.4
    .