Report for MarpaX-Languages-ECMAScript-AST-0.020

Back
From: metabase:user:314402c4-2aae-11df-837a-5e0a49663a4f
Subject: PASS MarpaX-Languages-ECMAScript-AST-0.020 v5.24.1 GNU/Linux
Date: 2017-01-31T00:36:24Z

This distribution has been tested as part of the CPAN Testers
project, supporting the Perl programming language.  See
http://wiki.cpantesters.org/ for more information or email
questions to cpan-testers-discuss@perl.org


--
Dear Jean-Damien Durand,

This is a computer-generated report for MarpaX-Languages-ECMAScript-AST-0.020
on perl 5.24.1, created by CPAN-Reporter-1.2018.

Thank you for uploading your work to CPAN.  Congratulations!
All tests were successful.

Sections of this report:

    * Tester comments
    * Program output
    * Prerequisites
    * Environment and other context

------------------------------
TESTER COMMENTS
------------------------------

Additional comments from tester:

none provided

------------------------------
PROGRAM OUTPUT
------------------------------

Output from '/usr/bin/make test':

PERL_DL_NONLAZY=1 "/opt/perl-5.24.1/bin/perl5.24.1" "-MExtUtils::Command::MM" "-MTest::Harness" "-e" "undef *Test::Harness::Switches; test_harness(0, 'blib/lib', 'blib/arch')" t/*.t
t/00-compile.t .................... ok
# 
# Versions for all modules listed in MYMETA.json (including optional ones):
# 
# === Configure Requires ===
# 
#     Module              Want Have
#     ------------------- ---- ----
#     ExtUtils::MakeMaker  any 7.24
# 
# === Build Requires ===
# 
#     Module              Want Have
#     ------------------- ---- ----
#     ExtUtils::MakeMaker  any 7.24
# 
# === Test Requires ===
# 
#     Module              Want     Have
#     ------------------- ---- --------
#     ExtUtils::MakeMaker  any     7.24
#     File::Spec           any     3.62
#     File::Temp           any   0.2304
#     IO::Handle           any     1.36
#     IPC::Open3           any     1.20
#     Test::Differences    any     0.64
#     Test::More           any 1.302075
# 
# === Test Recommends ===
# 
#     Module         Want     Have
#     ---------- -------- --------
#     CPAN::Meta 2.120900 2.150010
# 
# === Runtime Requires ===
# 
#     Module                        Want       Have
#     ------------------------- -------- ----------
#     CHI                            any       0.60
#     Carp                           any       1.38
#     Class::Singleton               any        1.5
#     Data::Compare                  any       1.25
#     Data::Dumper                   any      2.161
#     Data::Float                    any      0.012
#     Digest::MD4                    any        1.9
#     Encode                         any       2.88
#     Exception::Class               any       1.42
#     Exporter                       any       5.72
#     File::Basename                 any       2.85
#     File::HomeDir                 0.93       1.00
#     File::Spec                     any       3.62
#     Import::Into                   any   1.002005
#     List::Compare::Functional     0.21       0.53
#     Log::Any                       any      1.045
#     Marpa::R2                 2.080000   3.000000
#     Math::BigFloat                 any   1.999808
#     Module::Util                   any       1.09
#     SUPER                          any 1.20141117
#     Scalar::Util                   any       1.47
#     Scalar::Util::Numeric          any       0.40
#     Sereal                         any      3.015
#     Unicode::Normalize             any       1.25
#     base                           any       2.23
#     constant                       any       1.33
#     diagnostics                    any       1.34
#     parent                         any      0.236
#     strict                         any       1.11
#     version                       0.77     0.9917
#     warnings                       any       1.36
# 
t/00-report-prereqs.t ............. ok
t/asi.t ........................... ok
t/backbone-1.1.0.min.t ............ ok
t/backbone-1.1.0.t ................ ok
t/github_issue_0001.t ............. ok
t/github_issue_0003.t ............. ok
t/github_issue_0004.t ............. ok
t/jquery-1.10.2.min.t ............. ok
t/jquery-1.10.2.t ................. ok
t/jquery-2.0.3.min.t .............. ok
t/jquery-2.0.3.t .................. ok
t/JSON.t .......................... ok
============================================================
* THE MARPA SEMANTICS PRODUCED A FATAL ERROR
* THIS IS WHAT MARPA WAS DOING WHEN THE PROBLEM OCCURRED:
Computing value for rule: 7: Term -> Atom Quantifier
* THIS WAS THE FATAL ERROR MESSAGE:
Exception thrown as object inside Marpa closure
    This is not allowed
    Exception as string is "Bad quantifier {6,4} in regular expression"
Marpa::R2 exception at /home/cpansand/.cpan/build/2017013100/MarpaX-Languages-ECMAScript-AST-0.020-0/blib/lib/MarpaX/Languages/ECMAScript/AST/Impl.pm line 76.
t/pattern.t ....................... ok
t/stringNumericLiteralBigFloat.t .. ok
t/stringNumericLiteralNative.t .... ok
t/underscore-1.5.2.min.t .......... ok
t/underscore-1.5.2.t .............. ok
t/URI.t ........................... ok
All tests successful.
Files=19, Tests=162, 120 wallclock secs ( 0.14 usr  0.03 sys + 111.12 cusr  6.80 csys = 118.09 CPU)
Result: PASS

------------------------------
PREREQUISITES
------------------------------

Prerequisite modules loaded:

requires:

    Module                    Need     Have      
    ------------------------- -------- ----------
    base                      0        2.23      
    Carp                      0        1.38      
    CHI                       0        0.60      
    Class::Singleton          0        1.5       
    constant                  0        1.33      
    Data::Compare             0        1.25      
    Data::Dumper              0        2.161     
    Data::Float               0        0.012     
    diagnostics               0        1.34      
    Digest::MD4               0        1.9       
    Encode                    0        2.88      
    Exception::Class          0        1.42      
    Exporter                  0        5.72      
    File::Basename            0        2.85      
    File::HomeDir             0.93     1.00      
    File::Spec                0        3.62      
    Import::Into              0        1.002005  
    List::Compare::Functional 0.21     0.53      
    Log::Any                  0        1.045     
    Marpa::R2                 2.080000 3.000000  
    Math::BigFloat            0        1.999808  
    Module::Util              0        1.09      
    parent                    0        0.236     
    perl                      5.010    5.024001  
    Scalar::Util              0        1.47      
    Scalar::Util::Numeric     0        0.40      
    Sereal                    0        3.015     
    strict                    0        1.11      
    SUPER                     0        1.20141117
    Unicode::Normalize        0        1.25      
    version                   0.77     0.9917    
    warnings                  0        1.36      

build_requires:

    Module                    Need     Have      
    ------------------------- -------- ----------
    ExtUtils::MakeMaker       0        7.24      
    File::Spec                0        3.62      
    File::Temp                0        0.2304    
    IO::Handle                0        1.36      
    IPC::Open3                0        1.20      
    Test::Differences         0        0.64      
    Test::More                0        1.302075  

configure_requires:

    Module                    Need     Have      
    ------------------------- -------- ----------
    ExtUtils::MakeMaker       0        7.24      
    perl                      5.010    5.024001  


------------------------------
ENVIRONMENT AND OTHER CONTEXT
------------------------------

Environment variables:

    LANG = de_DE.utf8
    LANGUAGE = de_DE.utf8
    LC_ALL = de_DE.utf8
    PATH = /usr/local/bin:/usr/bin:/bin:/usr/local/sbin:/usr/sbin:/sbin:/home/cpansand/bin/linux-gnu:/home/cpansand/bin/sh:/home/cpansand/bin:/usr/games:/home/cpansand/devel:/home/eserte/src/srezic-misc/scripts
    PERL5LIB = 
    PERL5OPT = 
    PERL5_CPANPLUS_IS_RUNNING = 21621
    PERL5_CPAN_IS_RUNNING = 21621
    PERL5_CPAN_IS_RUNNING_IN_RECURSION = 22407,21621
    PERLDOC = -MPod::Perldoc::ToTextOverstrike
    PERL_BATCH = yes
    PERL_CANARY_STABILITY_NOPROMPT = 1
    PERL_CPAN_REPORTER_CONFIG = /var/tmp/cpansmoker-1001/2017012906/cpanreporter_000_config.ini
    PERL_EXTUTILS_AUTOINSTALL = --defaultdeps
    SHELL = /bin/zsh
    TERM = screen
    TMPDIR = /var/tmp/cpansmoker-1001/2017012906

Perl special variables (and OS-specific diagnostics, for MSWin32):

    $^X = /opt/perl-5.24.1/bin/perl5.24.1
    $UID/$EUID = 1001 / 1001
    $GID = 1001 1001
    $EGID = 1001 1001

Perl module toolchain versions installed:

    Module              Have    
    ------------------- --------
    CPAN                2.14    
    CPAN::Meta          2.150010
    Cwd                 3.62    
    ExtUtils::CBuilder  0.280224
    ExtUtils::Command   7.24    
    ExtUtils::Install   2.04    
    ExtUtils::MakeMaker 7.24    
    ExtUtils::Manifest  1.70    
    ExtUtils::ParseXS   3.30    
    File::Spec          3.62    
    JSON                2.90    
    JSON::PP            2.27400 
    Module::Build       0.4220  
    Module::Signature   0.81    
    Parse::CPAN::Meta   2.150010
    Test::Harness       3.36    
    Test::More          1.302075
    YAML                1.21    
    YAML::Syck          1.29    
    version             0.9917  


--

Summary of my perl5 (revision 5 version 24 subversion 1) configuration:
   
  Platform:
    osname=linux, osvers=3.10.0-042stab120.6, archname=x86_64-linux
    uname='linux h1980015.stratoserver.net 3.10.0-042stab120.6 #1 smp thu oct 27 16:59:03 msk 2016 x86_64 x86_64 x86_64 gnulinux '
    config_args='-ds -e -Dprefix=/opt/perl-5.24.1 -Dcf_email=srezic@cpan.org'
    hint=previous, useposix=true, d_sigaction=define
    useithreads=undef, usemultiplicity=undef
    use64bitint=define, use64bitall=define, uselongdouble=undef
    usemymalloc=n, bincompat5005=undef
  Compiler:
    cc='cc', ccflags ='-fwrapv -fno-strict-aliasing -pipe -fstack-protector-strong -I/usr/local/include -D_LARGEFILE_SOURCE -D_FILE_OFFSET_BITS=64 -D_FORTIFY_SOURCE=2',
    optimize='-O2',
    cppflags='-fwrapv -fno-strict-aliasing -pipe -fstack-protector-strong -I/usr/local/include'
    ccversion='', gccversion='4.8.5 20150623 (Red Hat 4.8.5-11)', gccosandvers=''
    intsize=4, longsize=8, ptrsize=8, doublesize=8, byteorder=12345678, doublekind=3
    d_longlong=define, longlongsize=8, d_longdbl=define, longdblsize=16, longdblkind=3
    ivtype='long', ivsize=8, nvtype='double', nvsize=8, Off_t='off_t', lseeksize=8
    alignbytes=8, prototype=define
  Linker and Libraries:
    ld='cc', ldflags =' -fstack-protector-strong -L/usr/local/lib'
    libpth=/usr/local/lib /usr/lib /lib/../lib64 /usr/lib/../lib64 /lib /lib64 /usr/lib64 /usr/local/lib64 /usr/local/lib /usr/lib
    libs=-lpthread -lnsl -lgdbm -ldb -ldl -lm -lcrypt -lutil -lc -lgdbm_compat
    perllibs=-lpthread -lnsl -ldl -lm -lcrypt -lutil -lc
    libc=libc-2.17.so, so=so, useshrplib=false, libperl=libperl.a
    gnulibc_version='2.17'
  Dynamic Linking:
    dlsrc=dl_dlopen.xs, dlext=so, d_dlsymun=undef, ccdlflags='-Wl,-E'
    cccdlflags='-fPIC', lddlflags='-shared -O2 -L/usr/local/lib -fstack-protector-strong'


Characteristics of this binary (from libperl): 
  Compile-time options: HAS_TIMES PERLIO_LAYERS PERL_COPY_ON_WRITE
                        PERL_DONT_CREATE_GVSV
                        PERL_HASH_FUNC_ONE_AT_A_TIME_HARD PERL_MALLOC_WRAP
                        PERL_PRESERVE_IVUV USE_64_BIT_ALL USE_64_BIT_INT
                        USE_LARGE_FILES USE_LOCALE USE_LOCALE_COLLATE
                        USE_LOCALE_CTYPE USE_LOCALE_NUMERIC USE_LOCALE_TIME
                        USE_PERLIO USE_PERL_ATOF
  Built under linux
  Compiled at Jan 21 2017 20:32:30
  %ENV:
    PERL5LIB=""
    PERL5OPT=""
    PERL5_CPANPLUS_IS_RUNNING="21621"
    PERL5_CPAN_IS_RUNNING="21621"
    PERL5_CPAN_IS_RUNNING_IN_RECURSION="22407,21621"
    PERLDOC="-MPod::Perldoc::ToTextOverstrike"
    PERL_BATCH="yes"
    PERL_CANARY_STABILITY_NOPROMPT="1"
    PERL_CPAN_REPORTER_CONFIG="/var/tmp/cpansmoker-1001/2017012906/cpanreporter_000_config.ini"
    PERL_EXTUTILS_AUTOINSTALL="--defaultdeps"
  @INC:
    /opt/perl-5.24.1/lib/site_perl/5.24.1/x86_64-linux
    /opt/perl-5.24.1/lib/site_perl/5.24.1
    /opt/perl-5.24.1/lib/5.24.1/x86_64-linux
    /opt/perl-5.24.1/lib/5.24.1
    .