Report for Test-Pod-LinkCheck-0.007

Back
From: metabase:user:0b91ce32-3676-11e1-a1bc-bfed0df65b4f
Subject: PASS Test-Pod-LinkCheck-0.007 v5.14.2 GNU/Linux
Date: 2012-04-26T07:06:07Z

This distribution has been tested as part of the CPAN Testers
project, supporting the Perl programming language.  See
http://wiki.cpantesters.org/ for more information or email
questions to cpan-testers-discuss@perl.org


--
Dear Apocalypse,

This is a computer-generated report for Test-Pod-LinkCheck-0.007
on perl 5.14.2, created by CPAN-Reporter-1.2006.

Thank you for uploading your work to CPAN.  Congratulations!
All tests were successful.

Sections of this report:

    * Tester comments
    * Program output
    * Prerequisites
    * Environment and other context

------------------------------
TESTER COMMENTS
------------------------------

Additional comments from tester:

none provided

------------------------------
PROGRAM OUTPUT
------------------------------

Output from '/usr/bin/make test':

PERL_DL_NONLAZY=1 /opt/perl32-5.14.2/bin/perl "-MExtUtils::Command::MM" "-e" "test_harness(0, 'blib/lib', 'blib/arch')" t/*.t
[00:05:12] t/00-compile.t ................ ok     2347 ms
# 
You should load Test::Tester before Test::Builder (or anything that loads Test::Builder) at /opt/perl32-5.14.2/lib/5.14.2/Test/Tester.pm line 9.
# 
# Generated by Dist::Zilla::Plugin::ReportVersions::Tiny v1.03
# perl: v5.14.2 (wanted 5.006) on linux from /opt/perl32-5.14.2/bin/perl
# 
# App::PodLinkCheck::ParseLinks                 => 8          (want 4)      
# App::PodLinkCheck::ParseSections              => 8          (want any version)
# Capture::Tiny                                 => 0.17       (want any version)
# Config                                        => <undef>    (want any version)
# Exporter                                      => 5.64_03    (want any version)
# File::Find                                    => 1.19       (want any version)
# File::Spec                                    => 3.33       (want any version)
# File::Temp                                    => 0.22       (want any version)
# Module::Build                                 => 0.4        (want 0.3601) 
# Moose                                         => 2.0403     (want 1.01)   
# Moose::Util::TypeConstraints                  => 2.0403     (want 1.01)   
# Pod::Find                                     => 1.35       (want any version)
# Test::Builder                                 => 0.98       (want 0.94)   
# Test::More                                    => 0.98       (want 0.88)   
# Test::Pod                                     => 1.45       (want 1.44)   
# Test::Tester                                  => 0.108      (want any version)
# parent                                        => 0.225      (want any version)
# 
# Thanks for using my code.  I hope it works for you.
# If not, please try and include this output in the bug report.
# That will help me reproduce the issue and solve your problem.
# 
[00:05:13] t/000-report-versions-tiny.t .. ok     1519 ms
[00:05:13] t/apocalypse.t ................ skipped: Test::Apocalypse required for validating the distribution
[ERROR] No such key 'allow_unknown_prereqs' in field 'conf'

[00:05:34] t/cpan_backend.t .............. ok    20899 ms
[00:05:35] t/functions.t ................. ok     1211 ms
[ERROR] No such key 'allow_unknown_prereqs' in field 'conf'

[00:06:02] t/simple.t .................... ok    26242 ms
[00:06:02]
All tests successful.

Test Summary Report
-------------------
t/cpan_backend.t            (Wstat: 0 Tests: 12 Failed: 0)
  TODO passed:   1-12
Files=6, Tests=118, 53 wallclock secs ( 0.15 usr  0.03 sys + 32.72 cusr  2.64 csys = 35.54 CPU)
Result: PASS

------------------------------
PREREQUISITES
------------------------------

Prerequisite modules loaded:

requires:

    Module                           Need   Have   
    -------------------------------- ------ -------
    App::PodLinkCheck::ParseLinks    4      8      
    App::PodLinkCheck::ParseSections 0      8      
    Capture::Tiny                    0      0.17   
    Config                           0      0      
    Exporter                         0      5.64_03
    File::Spec                       0      3.33   
    Moose                            1.01   2.0403 
    Moose::Util::TypeConstraints     1.01   2.0403 
    parent                           0      0.225  
    Pod::Find                        0      1.35   
    Test::Builder                    0.94   0.98   
    Test::Pod                        1.44   1.45   

build_requires:

    Module                           Need   Have   
    -------------------------------- ------ -------
    ExtUtils::MakeMaker              6.31   6.62   
    File::Find                       0      1.19   
    File::Temp                       0      0.22   
    Test::More                       0.88   0.98   
    Test::Tester                     0      0.108  

configure_requires:

    Module                           Need   Have   
    -------------------------------- ------ -------
    Module::Build                    0.3601 0.40   


------------------------------
ENVIRONMENT AND OTHER CONTEXT
------------------------------

Environment variables:

    AUTHOR_TESTING = 1
    LANG = en_US.UTF-8
    PATH = /usr/kerberos/sbin:/usr/kerberos/bin:/usr/local/sbin:/usr/local/bin:/sbin:/bin:/usr/sbin:/usr/bin:/opt/real/RealPlayer:/root/bin:/opt/real/RealPlayer
    PERL5LIB = 
    PERL5OPT = 
    PERL5_CPANPLUS_IS_RUNNING = 3861
    PERL5_CPAN_IS_RUNNING = 3861
    PERL_MM_USE_DEFAULTS = 1
    SHELL = /bin/bash
    TERM = xterm

Perl special variables (and OS-specific diagnostics, for MSWin32):

    $^X = /opt/perl32-5.14.2/bin/perl
    $UID/$EUID = 0 / 0
    $GID = 0 0 1 2 3 4 6 10
    $EGID = 0 0 1 2 3 4 6 10

Perl module toolchain versions installed:

    Module              Have    
    ------------------- --------
    CPAN                1.9800  
    CPAN::Meta          2.112150
    Cwd                 3.33    
    ExtUtils::CBuilder  0.280205
    ExtUtils::Command   1.17    
    ExtUtils::Install   1.56    
    ExtUtils::MakeMaker 6.62    
    ExtUtils::Manifest  1.58    
    ExtUtils::ParseXS   2.2210  
    File::Spec          3.33    
    JSON                2.53    
    JSON::PP            2.27200 
    Module::Build       0.40    
    Module::Signature   0.68    
    Parse::CPAN::Meta   1.4404  
    Test::Harness       3.23    
    Test::More          0.98    
    YAML                0.81    
    YAML::Syck          n/a     
    version             0.88    


--

Summary of my perl5 (revision 5 version 14 subversion 2) configuration:
   
  Platform:
    osname=linux, osvers=2.6.18-1.2798.fc6, archname=i686-linux-thread-multi
    uname='linux localhost.localdomain 2.6.18-1.2798.fc6 #1 smp mon oct 16 14:37:32 edt 2006 i686 i686 i386 gnulinux '
    config_args='-Dcc=gcc -Dprefix=/opt/perl32-5.14.2 -DDEBUGGING'
    hint=recommended, useposix=true, d_sigaction=define
    useithreads=define, usemultiplicity=define
    useperlio=define, d_sfio=undef, uselargefiles=undef, usesocks=undef
    use64bitint=undef, use64bitall=undef, uselongdouble=undef
    usemymalloc=n, bincompat5005=undef
  Compiler:
    cc='gcc', ccflags ='-D_REENTRANT -D_GNU_SOURCE -DDEBUGGING -fno-strict-aliasing -pipe -fstack-protector -I/usr/local/include',
    optimize='-O2 -g',
    cppflags='-D_REENTRANT -D_GNU_SOURCE -DDEBUGGING -fno-strict-aliasing -pipe -fstack-protector -I/usr/local/include'
    ccversion='', gccversion='4.1.1 20061011 (Red Hat 4.1.1-30)', gccosandvers=''
    intsize=4, longsize=4, ptrsize=4, doublesize=8, byteorder=1234
    d_longlong=define, longlongsize=8, d_longdbl=define, longdblsize=12
    ivtype='long', ivsize=4, nvtype='double', nvsize=8, Off_t='off_t', lseeksize=4
    alignbytes=4, prototype=define
  Linker and Libraries:
    ld='gcc', ldflags =' -fstack-protector -L/usr/local/lib'
    libpth=/usr/local/lib /lib /usr/lib
    libs=-lnsl -lgdbm -ldb -ldl -lm -lcrypt -lutil -lpthread -lc
    perllibs=-lnsl -ldl -lm -lcrypt -lutil -lpthread -lc
    libc=/lib/libc-2.5.so, so=so, useshrplib=true, libperl=libperl.so
    gnulibc_version='2.5'
  Dynamic Linking:
    dlsrc=dl_dlopen.xs, dlext=so, d_dlsymun=undef, ccdlflags='-Wl,-E -Wl,-rpath,/opt/perl32-5.14.2/lib/5.14.2/i686-linux-thread-multi/CORE'
    cccdlflags='-fPIC', lddlflags='-shared -O2 -g -L/usr/local/lib -fstack-protector'


Characteristics of this binary (from libperl): 
  Compile-time options: DEBUGGING MULTIPLICITY PERL_DONT_CREATE_GVSV
                        PERL_IMPLICIT_CONTEXT PERL_MALLOC_WRAP
                        PERL_PRESERVE_IVUV PERL_TRACK_MEMPOOL USE_ITHREADS
                        USE_PERLIO USE_PERL_ATOF USE_REENTRANT_API
  Built under linux
  Compiled at Apr 21 2012 22:37:13
  %ENV:
    PERL5LIB=""
    PERL5OPT=""
    PERL5_CPANPLUS_IS_RUNNING="3861"
    PERL5_CPAN_IS_RUNNING="3861"
    PERL_MM_USE_DEFAULTS="1"
  @INC:
    /opt/perl32-5.14.2/lib/site_perl/5.14.2/i686-linux-thread-multi
    /opt/perl32-5.14.2/lib/site_perl/5.14.2
    /opt/perl32-5.14.2/lib/5.14.2/i686-linux-thread-multi
    /opt/perl32-5.14.2/lib/5.14.2
    .