Text-MultiMarkdown v1.003 Perl 5 v5.34.1 MSWin32-x86-multi-thread-64int
- Status
- Pass
- From
- twata
- Dist
-
Text-MultiMarkdown v1.003
- Platform
- Perl 5 v5.34.1 MSWin32-x86-multi-thread-64int
- Date
- 2024-10-27 03:13:01
- ID
- 4b83d579-74a2-1014-bd37-d1cb07c19ce6
This distribution has been tested as part of the CPAN Testers
project, supporting the Perl programming language. See
http://wiki.cpantesters.org/ for more information or email
questions to cpan-testers-discuss@perl.org
--
Dear brian d foy,
This is a computer-generated report for Text-MultiMarkdown-1.003
on perl 5.34.1, created by CPAN-Reporter-1.2020.
Thank you for uploading your work to CPAN. Congratulations!
All tests were successful.
Sections of this report:
* Tester comments
* Program output
* Prerequisites
* Environment and other context
------------------------------
TESTER COMMENTS
------------------------------
Additional comments from tester:
none provided
------------------------------
PROGRAM OUTPUT
------------------------------
Output from '"C:\Program Files\Microsoft Visual Studio 12.0\VC\BIN\nmake.EXE" test':
Microsoft (R) Program Maintenance Utility Version 12.00.21005.1
Copyright (C) Microsoft Corporation. All rights reserved.
"C:\perl32a\bin\perl.exe" "-MExtUtils::Command::MM" "-MTest::Harness" "-e" "undef *Test::Harness::Switches; test_harness(0, 'blib\lib', 'blib\arch')" t\*.t
t\01-use.t ................................. ok
t\02-pod.t ................................. skipped: set TEST_POD to enable this test
t\03-podcoverage.t ......................... skipped: set TEST_POD to enable this test
t\03-podspelling.t ......................... skipped: set TEST_SPELLING to enable this test
t\04-markdown.t ............................ ok
t\05-options.t ............................. ok
t\06-wiki.t ................................ ok
t\07-fulldoc.t ............................. ok
t\08-exporter.t ............................ ok
t\09-base_url.t ............................ ok
t\10-use_metadata.t ........................ ok
t\11-docment_format.t ...................... ok
t\12-empty_element_suffix.t ................ ok
t\13-header-labels.t ....................... ok
t\13-heading_ids_spaces_to_dash.t .......... ok
t\13-multimarkdown-nometadata-firstpara.t .. ok
t\14-unicode.t ............................. ok
t\16-headingsinlists.t ..................... ok
t\17-olulreportedonlist.t .................. ok
t\18-codespanextra.t ....................... ok
t\20-fulldocs-text-multimarkdown.t ......... ok
t\22-fulldocs-multimarkdown-todo.t ......... ok
t\23-afulldocs-multimarkdown.t ............. ok
t\24-fulldocs-pythonmarkdown2-tm.t ......... ok
t\29-fulldocs-maruku-unittest.t ............ skipped: This test needs HTML::Tidy installed to pass correctly, skipping
t\30-disable_multimarkdown_features.t ...... ok
t\35-commandlinemultimarkdown.t ............ ok
t\36-footnotes.t ........................... ok
t\37-deflists.t ............................ ok
t\38-self_url.t ............................ ok
All tests successful.
Files=30, Tests=79, 30 wallclock secs ( 0.30 usr + 0.14 sys = 0.44 CPU)
Result: PASS
------------------------------
PREREQUISITES
------------------------------
Prerequisite modules loaded:
requires:
Module Need Have
--------------------- ------- --------
Digest::MD5 0 2.59
Encode 0 3.21
HTML::Entities 0 3.83
perl 5.008 5.034001
Text::Markdown v1.0.26 1.000031
Text::Unidecode 0 1.30
build_requires:
Module Need Have
--------------------- ------- --------
FindBin 0 1.54
List::MoreUtils 0 0.430
Test::Exception 0 0.43
Test::More 0.42 1.302204
configure_requires:
Module Need Have
--------------------- ------- --------
ExtUtils::MakeMaker 6.64 7.71_01
File::Spec::Functions 0 3.80
------------------------------
ENVIRONMENT AND OTHER CONTEXT
------------------------------
Environment variables:
COMSPEC = C:\windows\system32\cmd.exe
INCLUDE = C:\Program Files\Microsoft Visual Studio 12.0\VC\INCLUDE;C:\Program Files\Microsoft Visual Studio 12.0\VC\ATLMFC\INCLUDE;C:\Program Files\Windows Kits\8.1\include\shared;C:\Program Files\Windows Kits\8.1\include\um;C:\Program Files\Windows Kits\8.1\include\winrt;;C:\ext\lib\zlib-1.3.1\include;C:\perl32a\local\include
LC_ALL = C
LIB = C:\Program Files\Microsoft Visual Studio 12.0\VC\LIB;C:\Program Files\Microsoft Visual Studio 12.0\VC\ATLMFC\LIB;C:\Program Files\Windows Kits\8.1\lib\winv6.3\um\x86;;C:\ext\lib\zlib-1.3.1\lib
NONINTERACTIVE_TESTING = 1
NUMBER_OF_PROCESSORS = 4
PATH = C:\home\earth1a\perl5\bin;C:\perl32a\bin;C:\build-openssl\bin;C:\ext\lib\zlib-1.3.1\bin;C:\Program Files\Microsoft Visual Studio 12.0\Common7\IDE\CommonExtensions\Microsoft\TestWindow;C:\Program Files\Microsoft SDKs\F#\3.1\Framework\v4.0\;C:\Program Files\MSBuild\12.0\bin;C:\Program Files\Microsoft Visual Studio 12.0\Common7\IDE\;C:\Program Files\Microsoft Visual Studio 12.0\VC\BIN;C:\Program Files\Microsoft Visual Studio 12.0\Common7\Tools;C:\windows\Microsoft.NET\Framework\v4.0.30319;C:\Program Files\Microsoft Visual Studio 12.0\VC\VCPackages;C:\Program Files\HTML Help Workshop;C:\Program Files\Microsoft Visual Studio 12.0\Team Tools\Performance Tools;C:\Program Files\Windows Kits\8.1\bin\x86;C:\Program Files\Microsoft SDKs\Windows\v8.1A\bin\NETFX 4.5.1 Tools\;C:\Windows\System32;C:\Windows;C:\Windows\System32\Wbem;C:\windows\System32\WindowsPowerShell\v1.0\
PERL5LIB = C:\home\earth1a\perl5\lib\perl5
PERL5OPT =
PERL5_CPANPLUS_IS_RUNNING = 11148
PERL5_CPAN_IS_RUNNING = 11148
PERL_LOCAL_LIB_ROOT = C:\home\earth1a\perl5
PERL_MB_OPT = --install_base "C:\\home\\earth1a\\perl5"
PERL_MM_OPT = INSTALL_BASE=C:\\home\\earth1a\\perl5
PERL_MM_USE_DEFAULT = 1
PERL_USE_UNSAFE_INC = 1
PROCESSOR_IDENTIFIER = x86 Family 6 Model 37 Stepping 5, GenuineIntel
TEMP = C:\Users\user\AppData\Local\Temp
TERM = dumb
TUGI_PERLVER = 5.034001
Perl special variables (and OS-specific diagnostics, for MSWin32):
$^X = C:\perl32a\bin\perl.exe
$UID/$EUID = 0 / 0
$GID = 0
$EGID = 0
Win32::GetOSName = Win7
Win32::GetOSVersion = Service Pack 1, 6, 1, 7601, 2, 1, 0, 256, 1
Win32::FsType = NTFS
Win32::IsAdminUser = 0
Perl module toolchain versions installed:
Module Have
------------------- --------
CPAN 2.38
CPAN::Meta 2.150010
Cwd 3.80
ExtUtils::CBuilder 0.280236
ExtUtils::Command 7.71_01
ExtUtils::Install 2.20
ExtUtils::MakeMaker 7.71_01
ExtUtils::Manifest 1.75
ExtUtils::ParseXS 3.51
File::Spec 3.80
JSON 4.10
JSON::PP 4.17_01
Module::Build 0.4234
Module::Signature n/a
Parse::CPAN::Meta 2.150010
Test2 1.302204
Test::Harness 3.50
Test::More 1.302204
YAML 1.31
YAML::Syck 1.34
version 0.9933
--
Summary of my perl5 (revision 5 version 34 subversion 1) configuration:
Platform:
osname=MSWin32
osvers=6.1.7601
archname=MSWin32-x86-multi-thread-64int
uname=''
config_args='undef'
hint=recommended
useposix=true
d_sigaction=undef
useithreads=define
usemultiplicity=define
use64bitint=define
use64bitall=undef
uselongdouble=undef
usemymalloc=n
default_inc_excludes_dot=define
Compiler:
cc='cl'
ccflags ='-nologo -GF -W3 -MD -DWIN32 -D_CONSOLE -DNO_STRICT -D_CRT_SECURE_NO_DEPRECATE -D_CRT_NONSTDC_NO_DEPRECATE -DPERL_TEXTMODE_SCRIPTS -DPERL_IMPLICIT_CONTEXT -DPERL_IMPLICIT_SYS'
optimize='-O1 -Zi -GL'
cppflags='-DWIN32'
ccversion='18.00.40629'
gccversion=''
gccosandvers=''
intsize=4
longsize=4
ptrsize=4
doublesize=8
byteorder=12345678
doublekind=3
d_longlong=undef
longlongsize=8
d_longdbl=define
longdblsize=8
longdblkind=0
ivtype='__int64'
ivsize=8
nvtype='double'
nvsize=8
Off_t='__int64'
lseeksize=8
alignbytes=8
prototype=define
Linker and Libraries:
ld='link'
ldflags ='-nologo -nodefaultlib -debug -opt:ref,icf -ltcg -libpath:"c:\Perl32a\lib\CORE" -machine:x86 -subsystem:console,"5.01"'
libpth="C:\Program Files\Microsoft Visual Studio 12.0\VC\\lib"
libs=oldnames.lib kernel32.lib user32.lib gdi32.lib winspool.lib comdlg32.lib advapi32.lib shell32.lib ole32.lib oleaut32.lib netapi32.lib uuid.lib ws2_32.lib mpr.lib winmm.lib version.lib odbc32.lib odbccp32.lib comctl32.lib msvcrt.lib
perllibs=oldnames.lib kernel32.lib user32.lib gdi32.lib winspool.lib comdlg32.lib advapi32.lib shell32.lib ole32.lib oleaut32.lib netapi32.lib uuid.lib ws2_32.lib mpr.lib winmm.lib version.lib odbc32.lib odbccp32.lib comctl32.lib msvcrt.lib
libc=msvcrt.lib
so=dll
useshrplib=true
libperl=perl534.lib
gnulibc_version=''
Dynamic Linking:
dlsrc=dl_win32.xs
dlext=dll
d_dlsymun=undef
ccdlflags=' '
cccdlflags=' '
lddlflags='-dll -nologo -nodefaultlib -debug -opt:ref,icf -ltcg -libpath:"c:\Perl32a\lib\CORE" -machine:x86 -subsystem:console,"5.01"'
Characteristics of this binary (from libperl):
Compile-time options:
HAS_TIMES
HAVE_INTERP_INTERN
MULTIPLICITY
PERLIO_LAYERS
PERL_COPY_ON_WRITE
PERL_DONT_CREATE_GVSV
PERL_IMPLICIT_CONTEXT
PERL_IMPLICIT_SYS
PERL_MALLOC_WRAP
PERL_OP_PARENT
PERL_PRESERVE_IVUV
USE_64_BIT_INT
USE_ITHREADS
USE_LARGE_FILES
USE_LOCALE
USE_LOCALE_COLLATE
USE_LOCALE_CTYPE
USE_LOCALE_NUMERIC
USE_LOCALE_TIME
USE_PERLIO
USE_PERL_ATOF
USE_THREAD_SAFE_LOCALE
Locally applied patches:
VS2013: [GH #19138] Fix 5.34 test failures with Inf NaN numbers on Windows
VS2013: [GH #20008] File::Find: fix "follow => 1" on Windows
Built under MSWin32
Compiled at Jun 4 2023 20:06:12
%ENV:
PERL5LIB="C:\home\earth1a\perl5\lib\perl5"
PERL5_CPANPLUS_IS_RUNNING="11148"
PERL5_CPAN_IS_RUNNING="11148"
PERL_LOCAL_LIB_ROOT="C:\home\earth1a\perl5"
PERL_MB_OPT="--install_base "C:\\home\\earth1a\\perl5""
PERL_MM_OPT="INSTALL_BASE=C:\\home\\earth1a\\perl5"
PERL_MM_USE_DEFAULT="1"
PERL_USE_UNSAFE_INC="1"
@INC:
C:\home\earth1a\perl5\lib\perl5/MSWin32-x86-multi-thread-64int
C:\home\earth1a\perl5\lib\perl5
C:/Perl32a/site/lib
C:/Perl32a/lib
.