Report for Catalyst-View-HTML-Zoom-0.003

Back
From: metabase:user:320bfe00-2aae-11df-837a-5e0a49663a4f
Subject: PASS Catalyst-View-HTML-Zoom-0.003 v5.14.0 GNU/Linux
Date: 2017-07-30T23:46:23Z

This distribution has been tested as part of the CPAN Testers
project, supporting the Perl programming language.  See
http://wiki.cpantesters.org/ for more information or email
questions to cpan-testers-discuss@perl.org


--
Dear Oliver Charles,

This is a computer-generated report for Catalyst-View-HTML-Zoom-0.003
on perl 5.14.0, created by CPAN-Reporter-1.2018.

Thank you for uploading your work to CPAN.  Congratulations!
All tests were successful.

Sections of this report:

    * Tester comments
    * Program output
    * Prerequisites
    * Environment and other context

------------------------------
TESTER COMMENTS
------------------------------

Additional comments from tester:

this report is from an automated smoke testing program
and was not reviewed by a human for accuracy

------------------------------
PROGRAM OUTPUT
------------------------------

Output from '/usr/bin/make test':

PERL_DL_NONLAZY=1 "/home/sand/src/perl/repoperls/installed-perls/host/k93msid/v5.14.0/276a/bin/perl" "-MExtUtils::Command::MM" "-MTest::Harness" "-e" "undef *Test::Harness::Switches; test_harness(0, 'blib/lib', 'blib/arch')" t/*.t
t/00-load.t ............... ok
t/author-pod-coverage.t ... skipped: these tests are for testing by the author
t/author-pod.t ............ skipped: these tests are for testing by the author
Class::MOP::load_class is deprecated at /home/sand/src/perl/repoperls/installed-perls/host/k93msid/v5.14.0/276a/lib/site_perl/5.14.0/x86_64-linux-thread-multi/Class/MOP.pm line 69, <> line 1.
	Class::MOP::load_class("TestAppAltRoot::View::HTML::Root") called at /tmp/loop_over_bdir-14141-AnQnkO/Catalyst-View-HTML-Zoom-0.003-0/blib/lib/Catalyst/View/HTML/Zoom.pm line 138
	Catalyst::View::HTML::Zoom::_zoomer_class_from_context(TestAppAltRoot::View::HTML=HASH(0x559cad1eb6e0), TestAppAltRoot=HASH(0x559cad333868)) called at /tmp/loop_over_bdir-14141-AnQnkO/Catalyst-View-HTML-Zoom-0.003-0/blib/lib/Catalyst/View/HTML/Zoom.pm line 90
	Catalyst::View::HTML::Zoom::_build_renderer_from_zoomer_class(TestAppAltRoot::View::HTML=HASH(0x559cad1eb6e0), TestAppAltRoot=HASH(0x559cad333868)) called at /tmp/loop_over_bdir-14141-AnQnkO/Catalyst-View-HTML-Zoom-0.003-0/blib/lib/Catalyst/View/HTML/Zoom.pm line 76
	Catalyst::View::HTML::Zoom::_build_renderer_from(TestAppAltRoot::View::HTML=HASH(0x559cad1eb6e0), TestAppAltRoot=HASH(0x559cad333868), undef) called at /tmp/loop_over_bdir-14141-AnQnkO/Catalyst-View-HTML-Zoom-0.003-0/blib/lib/Catalyst/View/HTML/Zoom.pm line 67
	Catalyst::View::HTML::Zoom::render(TestAppAltRoot::View::HTML=HASH(0x559cad1eb6e0), TestAppAltRoot=HASH(0x559cad333868), "/main") called at /tmp/loop_over_bdir-14141-AnQnkO/Catalyst-View-HTML-Zoom-0.003-0/blib/lib/Catalyst/View/HTML/Zoom.pm line 41
	Catalyst::View::HTML::Zoom::process(TestAppAltRoot::View::HTML=HASH(0x559cad1eb6e0), TestAppAltRoot=HASH(0x559cad333868)) called at /home/sand/src/perl/repoperls/installed-perls/host/k93msid/v5.14.0/276a/lib/site_perl/5.14.0/Catalyst/Action.pm line 358
	Catalyst::Action::execute(Catalyst::Action=HASH(0x559cad3bead8), TestAppAltRoot::View::HTML=HASH(0x559cad1eb6e0), TestAppAltRoot=HASH(0x559cad333868)) called at /home/sand/src/perl/repoperls/installed-perls/host/k93msid/v5.14.0/276a/lib/site_perl/5.14.0/Catalyst.pm line 2052
	eval {...} called at /home/sand/src/perl/repoperls/installed-perls/host/k93msid/v5.14.0/276a/lib/site_perl/5.14.0/Catalyst.pm line 2052
	Catalyst::execute(TestAppAltRoot=HASH(0x559cad333868), "TestAppAltRoot::View::HTML", Catalyst::Action=HASH(0x559cad3bead8)) called at /home/sand/src/perl/repoperls/installed-perls/host/k93msid/v5.14.0/276a/lib/site_perl/5.14.0/Catalyst/Action.pm line 353
	Catalyst::Action::dispatch(Catalyst::Action=HASH(0x559cad3bead8), TestAppAltRoot=HASH(0x559cad333868)) called at /home/sand/src/perl/repoperls/installed-perls/host/k93msid/v5.14.0/276a/lib/site_perl/5.14.0/Catalyst/Dispatcher.pm line 262
	Catalyst::Dispatcher::_do_forward(Catalyst::Dispatcher=HASH(0x559cacd815d0), "forward", TestAppAltRoot=HASH(0x559cad333868), TestAppAltRoot::View::HTML=HASH(0x559cad1eb6e0)) called at /home/sand/src/perl/repoperls/installed-perls/host/k93msid/v5.14.0/276a/lib/site_perl/5.14.0/Catalyst/Dispatcher.pm line 242
	Catalyst::Dispatcher::forward(Catalyst::Dispatcher=HASH(0x559cacd815d0), TestAppAltRoot=HASH(0x559cad333868), TestAppAltRoot::View::HTML=HASH(0x559cad1eb6e0)) called at /home/sand/src/perl/repoperls/installed-perls/host/k93msid/v5.14.0/276a/lib/site_perl/5.14.0/Catalyst.pm line 477
	Catalyst::forward(TestAppAltRoot=HASH(0x559cad333868), TestAppAltRoot::View::HTML=HASH(0x559cad1eb6e0)) called at /home/sand/src/perl/repoperls/installed-perls/host/k93msid/v5.14.0/276a/lib/site_perl/5.14.0/Catalyst/Action/RenderView.pm line 57
	Catalyst::Action::RenderView::execute(Catalyst::Action::RenderView=HASH(0x559cad2f57b0), TestAppAltRoot::Controller::Root=HASH(0x559cad1e85a8), TestAppAltRoot=HASH(0x559cad333868)) called at /home/sand/src/perl/repoperls/installed-perls/host/k93msid/v5.14.0/276a/lib/site_perl/5.14.0/Catalyst.pm line 2052
	eval {...} called at /home/sand/src/perl/repoperls/installed-perls/host/k93msid/v5.14.0/276a/lib/site_perl/5.14.0/Catalyst.pm line 2052
	Catalyst::execute(TestAppAltRoot=HASH(0x559cad333868), "TestAppAltRoot::Controller::Root", Catalyst::Action::RenderView=HASH(0x559cad2f57b0)) called at /home/sand/src/perl/repoperls/installed-perls/host/k93msid/v5.14.0/276a/lib/site_perl/5.14.0/Catalyst/Action.pm line 353
	Catalyst::Action::dispatch(Catalyst::Action::RenderView=HASH(0x559cad2f57b0), TestAppAltRoot=HASH(0x559cad333868)) called at /home/sand/src/perl/repoperls/installed-perls/host/k93msid/v5.14.0/276a/lib/site_perl/5.14.0/Catalyst/Controller.pm line 189
	Catalyst::Controller::_END(TestAppAltRoot::Controller::Root=HASH(0x559cad1e85a8), TestAppAltRoot=HASH(0x559cad333868)) called at /home/sand/src/perl/repoperls/installed-perls/host/k93msid/v5.14.0/276a/lib/site_perl/5.14.0/Catalyst/Action.pm line 358
	Catalyst::Action::execute(Catalyst::Action=HASH(0x559cad219da0), TestAppAltRoot::Controller::Root=HASH(0x559cad1e85a8), TestAppAltRoot=HASH(0x559cad333868)) called at /home/sand/src/perl/repoperls/installed-perls/host/k93msid/v5.14.0/276a/lib/site_perl/5.14.0/Catalyst.pm line 2052
	eval {...} called at /home/sand/src/perl/repoperls/installed-perls/host/k93msid/v5.14.0/276a/lib/site_perl/5.14.0/Catalyst.pm line 2052
	Catalyst::execute(TestAppAltRoot=HASH(0x559cad333868), "TestAppAltRoot::Controller::Root", Catalyst::Action=HASH(0x559cad219da0)) called at /home/sand/src/perl/repoperls/installed-perls/host/k93msid/v5.14.0/276a/lib/site_perl/5.14.0/Catalyst/Action.pm line 353
	Catalyst::Action::dispatch(Catalyst::Action=HASH(0x559cad219da0), TestAppAltRoot=HASH(0x559cad333868)) called at /home/sand/src/perl/repoperls/installed-perls/host/k93msid/v5.14.0/276a/lib/site_perl/5.14.0/Catalyst/Dispatcher.pm line 262
	Catalyst::Dispatcher::_do_forward(Catalyst::Dispatcher=HASH(0x559cacd815d0), "forward", TestAppAltRoot=HASH(0x559cad333868), "_END") called at /home/sand/src/perl/repoperls/installed-perls/host/k93msid/v5.14.0/276a/lib/site_perl/5.14.0/Catalyst/Dispatcher.pm line 242
	Catalyst::Dispatcher::forward(Catalyst::Dispatcher=HASH(0x559cacd815d0), TestAppAltRoot=HASH(0x559cad333868), "_END") called at /home/sand/src/perl/repoperls/installed-perls/host/k93msid/v5.14.0/276a/lib/site_perl/5.14.0/Catalyst.pm line 477
	Catalyst::forward(TestAppAltRoot=HASH(0x559cad333868), "_END") called at /home/sand/src/perl/repoperls/installed-perls/host/k93msid/v5.14.0/276a/lib/site_perl/5.14.0/Catalyst/Controller.pm line 138
	Catalyst::Controller::_DISPATCH(TestAppAltRoot::Controller::Root=HASH(0x559cad1e85a8), TestAppAltRoot=HASH(0x559cad333868)) called at /home/sand/src/perl/repoperls/installed-perls/host/k93msid/v5.14.0/276a/lib/site_perl/5.14.0/Catalyst/Action.pm line 358
	Catalyst::Action::execute(Catalyst::Action=HASH(0x559cad244340), TestAppAltRoot::Controller::Root=HASH(0x559cad1e85a8), TestAppAltRoot=HASH(0x559cad333868)) called at /home/sand/src/perl/repoperls/installed-perls/host/k93msid/v5.14.0/276a/lib/site_perl/5.14.0/Catalyst.pm line 2052
	eval {...} called at /home/sand/src/perl/repoperls/installed-perls/host/k93msid/v5.14.0/276a/lib/site_perl/5.14.0/Catalyst.pm line 2052
	Catalyst::execute(TestAppAltRoot=HASH(0x559cad333868), "TestAppAltRoot::Controller::Root", Catalyst::Action=HASH(0x559cad244340)) called at /home/sand/src/perl/repoperls/installed-perls/host/k93msid/v5.14.0/276a/lib/site_perl/5.14.0/Catalyst/Action.pm line 353
	Catalyst::Action::dispatch(Catalyst::Action=HASH(0x559cad244340), TestAppAltRoot=HASH(0x559cad333868)) called at /home/sand/src/perl/repoperls/installed-perls/host/k93msid/v5.14.0/276a/lib/site_perl/5.14.0/Catalyst/Dispatcher.pm line 262
	Catalyst::Dispatcher::_do_forward(Catalyst::Dispatcher=HASH(0x559cacd815d0), "forward", TestAppAltRoot=HASH(0x559cad333868), "//_DISPATCH") called at /home/sand/src/perl/repoperls/installed-perls/host/k93msid/v5.14.0/276a/lib/site_perl/5.14.0/Catalyst/Dispatcher.pm line 242
	Catalyst::Dispatcher::forward(Catalyst::Dispatcher=HASH(0x559cacd815d0), TestAppAltRoot=HASH(0x559cad333868), "//_DISPATCH") called at /home/sand/src/perl/repoperls/installed-perls/host/k93msid/v5.14.0/276a/lib/site_perl/5.14.0/Catalyst.pm line 477
	Catalyst::forward(TestAppAltRoot=HASH(0x559cad333868), "//_DISPATCH") called at /home/sand/src/perl/repoperls/installed-perls/host/k93msid/v5.14.0/276a/lib/site_perl/5.14.0/Catalyst/Dispatcher.pm line 107
	Catalyst::Dispatcher::dispatch(Catalyst::Dispatcher=HASH(0x559cacd815d0), TestAppAltRoot=HASH(0x559cad333868)) called at /home/sand/src/perl/repoperls/installed-perls/host/k93msid/v5.14.0/276a/lib/site_perl/5.14.0/Catalyst.pm line 1998
	Catalyst::dispatch(TestAppAltRoot=HASH(0x559cad333868)) called at /home/sand/src/perl/repoperls/installed-perls/host/k93msid/v5.14.0/276a/lib/site_perl/5.14.0/x86_64-linux-thread-multi/Class/MOP/Method/Wrapped.pm line 50
	TestAppAltRoot::_wrapped_dispatch(TestAppAltRoot=HASH(0x559cad333868)) called at /home/sand/src/perl/repoperls/installed-perls/host/k93msid/v5.14.0/276a/lib/site_perl/5.14.0/x86_64-linux-thread-multi/Class/MOP/Method/Wrapped.pm line 95
	TestAppAltRoot::dispatch(TestAppAltRoot=HASH(0x559cad333868)) called at /home/sand/src/perl/repoperls/installed-perls/host/k93msid/v5.14.0/276a/lib/site_perl/5.14.0/Catalyst.pm line 2393
	Catalyst::try {...} () called at /home/sand/src/perl/repoperls/installed-perls/host/k93msid/v5.14.0/276a/lib/site_perl/5.14.0/Try/Tiny.pm line 103
	eval {...} called at /home/sand/src/perl/repoperls/installed-perls/host/k93msid/v5.14.0/276a/lib/site_perl/5.14.0/Try/Tiny.pm line 94
	Try::Tiny::try(CODE(0x559cad3accc0), Try::Tiny::Catch=REF(0x559cad3acaf8)) called at /home/sand/src/perl/repoperls/installed-perls/host/k93msid/v5.14.0/276a/lib/site_perl/5.14.0/Catalyst.pm line 2402
	Catalyst::handle_request("TestAppAltRoot", "env", HASH(0x559cad3a2360), "response_cb", CODE(0x559cad3acb58)) called at /home/sand/src/perl/repoperls/installed-perls/host/k93msid/v5.14.0/276a/lib/site_perl/5.14.0/Catalyst/Engine.pm line 800
	Catalyst::Engine::__ANON__(CODE(0x559cad3acb58)) called at /home/sand/src/perl/repoperls/installed-perls/host/k93msid/v5.14.0/276a/lib/site_perl/5.14.0/Plack/Middleware/HTTPExceptions.pm line 32
	Plack::Middleware::HTTPExceptions::try {...} () called at /home/sand/src/perl/repoperls/installed-perls/host/k93msid/v5.14.0/276a/lib/site_perl/5.14.0/Try/Tiny.pm line 103
	eval {...} called at /home/sand/src/perl/repoperls/installed-perls/host/k93msid/v5.14.0/276a/lib/site_perl/5.14.0/Try/Tiny.pm line 94
	Try::Tiny::try(CODE(0x559cad3ac918), Try::Tiny::Catch=REF(0x559cad3588a0)) called at /home/sand/src/perl/repoperls/installed-perls/host/k93msid/v5.14.0/276a/lib/site_perl/5.14.0/Plack/Middleware/HTTPExceptions.pm line 41
	Plack::Middleware::HTTPExceptions::__ANON__(CODE(0x559cad3ac7e0)) called at /home/sand/src/perl/repoperls/installed-perls/host/k93msid/v5.14.0/276a/lib/site_perl/5.14.0/Plack/Util.pm line 339
	Plack::Util::__ANON__(CODE(0x559cad3ac6a8)) called at /home/sand/src/perl/repoperls/installed-perls/host/k93msid/v5.14.0/276a/lib/site_perl/5.14.0/Plack/Util.pm line 339
	Plack::Util::__ANON__(CODE(0x559cad3ac570)) called at /home/sand/src/perl/repoperls/installed-perls/host/k93msid/v5.14.0/276a/lib/site_perl/5.14.0/Plack/Util.pm line 339
	Plack::Util::__ANON__(CODE(0x559cad3ac4c8)) called at /home/sand/src/perl/repoperls/installed-perls/host/k93msid/v5.14.0/276a/lib/site_perl/5.14.0/HTTP/Message/PSGI.pm line 100
	HTTP::Message::PSGI::res_from_psgi(CODE(0x559cad3586f0)) called at /home/sand/src/perl/repoperls/installed-perls/host/k93msid/v5.14.0/276a/lib/site_perl/5.14.0/HTTP/Message/PSGI.pm line 156
	HTTP::Response::from_psgi("HTTP::Response", CODE(0x559cad3586f0)) called at /home/sand/src/perl/repoperls/installed-perls/host/k93msid/v5.14.0/276a/lib/site_perl/5.14.0/Plack/Test/MockHTTP.pm line 24
	Plack::Test::MockHTTP::try {...} () called at /home/sand/src/perl/repoperls/installed-perls/host/k93msid/v5.14.0/276a/lib/site_perl/5.14.0/Try/Tiny.pm line 98
	eval {...} called at /home/sand/src/perl/repoperls/installed-perls/host/k93msid/v5.14.0/276a/lib/site_perl/5.14.0/Try/Tiny.pm line 94
	Try::Tiny::try(CODE(0x559cad243f98), Try::Tiny::Catch=REF(0x559cad3356f0)) called at /home/sand/src/perl/repoperls/installed-perls/host/k93msid/v5.14.0/276a/lib/site_perl/5.14.0/Plack/Test/MockHTTP.pm line 27
	Plack::Test::MockHTTP::request(Plack::Test::MockHTTP=HASH(0x559cad351dc8), HTTP::Request=HASH(0x559cad3518b8)) called at /home/sand/src/perl/repoperls/installed-perls/host/k93msid/v5.14.0/276a/lib/site_perl/5.14.0/Plack/Test.pm line 38
	Plack::Test::__ANON__(HTTP::Request=HASH(0x559cad3518b8)) called at /home/sand/src/perl/repoperls/installed-perls/host/k93msid/v5.14.0/276a/lib/site_perl/5.14.0/Catalyst/Test.pm line 281
	Catalyst::Test::__ANON__(CODE(0x559cad351c18)) called at /home/sand/src/perl/repoperls/installed-perls/host/k93msid/v5.14.0/276a/lib/site_perl/5.14.0/Plack/Test.pm line 38
	Plack::Test::test_psgi("app", CODE(0x559cad344988), "mangle_response", CODE(0x559cabe0cc70), "app", CODE(0x559cad3519f0), "client", CODE(0x559cad351ac8)) called at /home/sand/src/perl/repoperls/installed-perls/host/k93msid/v5.14.0/276a/lib/site_perl/5.14.0/Catalyst/Test.pm line 284
	Catalyst::Test::_request(HASH(0x559cad3448c8), "/") called at /home/sand/src/perl/repoperls/installed-perls/host/k93msid/v5.14.0/276a/lib/site_perl/5.14.0/Catalyst/Test.pm line 327
	Catalyst::Test::_local_request("TestAppAltRoot", "/") called at /home/sand/src/perl/repoperls/installed-perls/host/k93msid/v5.14.0/276a/lib/site_perl/5.14.0/Catalyst/Test.pm line 32
	Catalyst::Test::__ANON__("/") called at /home/sand/src/perl/repoperls/installed-perls/host/k93msid/v5.14.0/276a/lib/site_perl/5.14.0/Catalyst/Test.pm line 72
	Catalyst::Test::__ANON__("/") called at t/live-test-alt-root.t line 14
t/live-test-alt-root.t .... ok
Class::MOP::load_class is deprecated at /home/sand/src/perl/repoperls/installed-perls/host/k93msid/v5.14.0/276a/lib/site_perl/5.14.0/x86_64-linux-thread-multi/Class/MOP.pm line 69, <> line 1.
	Class::MOP::load_class("TestApp::View::HTML::Root") called at /tmp/loop_over_bdir-14141-AnQnkO/Catalyst-View-HTML-Zoom-0.003-0/blib/lib/Catalyst/View/HTML/Zoom.pm line 138
	Catalyst::View::HTML::Zoom::_zoomer_class_from_context(TestApp::View::HTML=HASH(0x559d02df1d60), TestApp=HASH(0x559d02f3c0f8)) called at /tmp/loop_over_bdir-14141-AnQnkO/Catalyst-View-HTML-Zoom-0.003-0/blib/lib/Catalyst/View/HTML/Zoom.pm line 90
	Catalyst::View::HTML::Zoom::_build_renderer_from_zoomer_class(TestApp::View::HTML=HASH(0x559d02df1d60), TestApp=HASH(0x559d02f3c0f8)) called at /tmp/loop_over_bdir-14141-AnQnkO/Catalyst-View-HTML-Zoom-0.003-0/blib/lib/Catalyst/View/HTML/Zoom.pm line 76
	Catalyst::View::HTML::Zoom::_build_renderer_from(TestApp::View::HTML=HASH(0x559d02df1d60), TestApp=HASH(0x559d02f3c0f8), undef) called at /tmp/loop_over_bdir-14141-AnQnkO/Catalyst-View-HTML-Zoom-0.003-0/blib/lib/Catalyst/View/HTML/Zoom.pm line 67
	Catalyst::View::HTML::Zoom::render(TestApp::View::HTML=HASH(0x559d02df1d60), TestApp=HASH(0x559d02f3c0f8), "/main") called at /tmp/loop_over_bdir-14141-AnQnkO/Catalyst-View-HTML-Zoom-0.003-0/blib/lib/Catalyst/View/HTML/Zoom.pm line 41
	Catalyst::View::HTML::Zoom::process(TestApp::View::HTML=HASH(0x559d02df1d60), TestApp=HASH(0x559d02f3c0f8)) called at /home/sand/src/perl/repoperls/installed-perls/host/k93msid/v5.14.0/276a/lib/site_perl/5.14.0/Catalyst/Action.pm line 358
	Catalyst::Action::execute(Catalyst::Action=HASH(0x559d02fcd438), TestApp::View::HTML=HASH(0x559d02df1d60), TestApp=HASH(0x559d02f3c0f8)) called at /home/sand/src/perl/repoperls/installed-perls/host/k93msid/v5.14.0/276a/lib/site_perl/5.14.0/Catalyst.pm line 2052
	eval {...} called at /home/sand/src/perl/repoperls/installed-perls/host/k93msid/v5.14.0/276a/lib/site_perl/5.14.0/Catalyst.pm line 2052
	Catalyst::execute(TestApp=HASH(0x559d02f3c0f8), "TestApp::View::HTML", Catalyst::Action=HASH(0x559d02fcd438)) called at /home/sand/src/perl/repoperls/installed-perls/host/k93msid/v5.14.0/276a/lib/site_perl/5.14.0/Catalyst/Action.pm line 353
	Catalyst::Action::dispatch(Catalyst::Action=HASH(0x559d02fcd438), TestApp=HASH(0x559d02f3c0f8)) called at /home/sand/src/perl/repoperls/installed-perls/host/k93msid/v5.14.0/276a/lib/site_perl/5.14.0/Catalyst/Dispatcher.pm line 262
	Catalyst::Dispatcher::_do_forward(Catalyst::Dispatcher=HASH(0x559d01a18730), "forward", TestApp=HASH(0x559d02f3c0f8), TestApp::View::HTML=HASH(0x559d02df1d60)) called at /home/sand/src/perl/repoperls/installed-perls/host/k93msid/v5.14.0/276a/lib/site_perl/5.14.0/Catalyst/Dispatcher.pm line 242
	Catalyst::Dispatcher::forward(Catalyst::Dispatcher=HASH(0x559d01a18730), TestApp=HASH(0x559d02f3c0f8), TestApp::View::HTML=HASH(0x559d02df1d60)) called at /home/sand/src/perl/repoperls/installed-perls/host/k93msid/v5.14.0/276a/lib/site_perl/5.14.0/Catalyst.pm line 477
	Catalyst::forward(TestApp=HASH(0x559d02f3c0f8), TestApp::View::HTML=HASH(0x559d02df1d60)) called at /home/sand/src/perl/repoperls/installed-perls/host/k93msid/v5.14.0/276a/lib/site_perl/5.14.0/Catalyst/Action/RenderView.pm line 57
	Catalyst::Action::RenderView::execute(Catalyst::Action::RenderView=HASH(0x559d02efaf28), TestApp::Controller::Root=HASH(0x559d02df82c0), TestApp=HASH(0x559d02f3c0f8)) called at /home/sand/src/perl/repoperls/installed-perls/host/k93msid/v5.14.0/276a/lib/site_perl/5.14.0/Catalyst.pm line 2052
	eval {...} called at /home/sand/src/perl/repoperls/installed-perls/host/k93msid/v5.14.0/276a/lib/site_perl/5.14.0/Catalyst.pm line 2052
	Catalyst::execute(TestApp=HASH(0x559d02f3c0f8), "TestApp::Controller::Root", Catalyst::Action::RenderView=HASH(0x559d02efaf28)) called at /home/sand/src/perl/repoperls/installed-perls/host/k93msid/v5.14.0/276a/lib/site_perl/5.14.0/Catalyst/Action.pm line 353
	Catalyst::Action::dispatch(Catalyst::Action::RenderView=HASH(0x559d02efaf28), TestApp=HASH(0x559d02f3c0f8)) called at /home/sand/src/perl/repoperls/installed-perls/host/k93msid/v5.14.0/276a/lib/site_perl/5.14.0/Catalyst/Controller.pm line 189
	Catalyst::Controller::_END(TestApp::Controller::Root=HASH(0x559d02df82c0), TestApp=HASH(0x559d02f3c0f8)) called at /home/sand/src/perl/repoperls/installed-perls/host/k93msid/v5.14.0/276a/lib/site_perl/5.14.0/Catalyst/Action.pm line 358
	Catalyst::Action::execute(Catalyst::Action=HASH(0x559d02e4ebd8), TestApp::Controller::Root=HASH(0x559d02df82c0), TestApp=HASH(0x559d02f3c0f8)) called at /home/sand/src/perl/repoperls/installed-perls/host/k93msid/v5.14.0/276a/lib/site_perl/5.14.0/Catalyst.pm line 2052
	eval {...} called at /home/sand/src/perl/repoperls/installed-perls/host/k93msid/v5.14.0/276a/lib/site_perl/5.14.0/Catalyst.pm line 2052
	Catalyst::execute(TestApp=HASH(0x559d02f3c0f8), "TestApp::Controller::Root", Catalyst::Action=HASH(0x559d02e4ebd8)) called at /home/sand/src/perl/repoperls/installed-perls/host/k93msid/v5.14.0/276a/lib/site_perl/5.14.0/Catalyst/Action.pm line 353
	Catalyst::Action::dispatch(Catalyst::Action=HASH(0x559d02e4ebd8), TestApp=HASH(0x559d02f3c0f8)) called at /home/sand/src/perl/repoperls/installed-perls/host/k93msid/v5.14.0/276a/lib/site_perl/5.14.0/Catalyst/Dispatcher.pm line 262
	Catalyst::Dispatcher::_do_forward(Catalyst::Dispatcher=HASH(0x559d01a18730), "forward", TestApp=HASH(0x559d02f3c0f8), "_END") called at /home/sand/src/perl/repoperls/installed-perls/host/k93msid/v5.14.0/276a/lib/site_perl/5.14.0/Catalyst/Dispatcher.pm line 242
	Catalyst::Dispatcher::forward(Catalyst::Dispatcher=HASH(0x559d01a18730), TestApp=HASH(0x559d02f3c0f8), "_END") called at /home/sand/src/perl/repoperls/installed-perls/host/k93msid/v5.14.0/276a/lib/site_perl/5.14.0/Catalyst.pm line 477
	Catalyst::forward(TestApp=HASH(0x559d02f3c0f8), "_END") called at /home/sand/src/perl/repoperls/installed-perls/host/k93msid/v5.14.0/276a/lib/site_perl/5.14.0/Catalyst/Controller.pm line 138
	Catalyst::Controller::_DISPATCH(TestApp::Controller::Root=HASH(0x559d02df82c0), TestApp=HASH(0x559d02f3c0f8)) called at /home/sand/src/perl/repoperls/installed-perls/host/k93msid/v5.14.0/276a/lib/site_perl/5.14.0/Catalyst/Action.pm line 358
	Catalyst::Action::execute(Catalyst::Action=HASH(0x559d02e4f6d0), TestApp::Controller::Root=HASH(0x559d02df82c0), TestApp=HASH(0x559d02f3c0f8)) called at /home/sand/src/perl/repoperls/installed-perls/host/k93msid/v5.14.0/276a/lib/site_perl/5.14.0/Catalyst.pm line 2052
	eval {...} called at /home/sand/src/perl/repoperls/installed-perls/host/k93msid/v5.14.0/276a/lib/site_perl/5.14.0/Catalyst.pm line 2052
	Catalyst::execute(TestApp=HASH(0x559d02f3c0f8), "TestApp::Controller::Root", Catalyst::Action=HASH(0x559d02e4f6d0)) called at /home/sand/src/perl/repoperls/installed-perls/host/k93msid/v5.14.0/276a/lib/site_perl/5.14.0/Catalyst/Action.pm line 353
	Catalyst::Action::dispatch(Catalyst::Action=HASH(0x559d02e4f6d0), TestApp=HASH(0x559d02f3c0f8)) called at /home/sand/src/perl/repoperls/installed-perls/host/k93msid/v5.14.0/276a/lib/site_perl/5.14.0/Catalyst/Dispatcher.pm line 262
	Catalyst::Dispatcher::_do_forward(Catalyst::Dispatcher=HASH(0x559d01a18730), "forward", TestApp=HASH(0x559d02f3c0f8), "//_DISPATCH") called at /home/sand/src/perl/repoperls/installed-perls/host/k93msid/v5.14.0/276a/lib/site_perl/5.14.0/Catalyst/Dispatcher.pm line 242
	Catalyst::Dispatcher::forward(Catalyst::Dispatcher=HASH(0x559d01a18730), TestApp=HASH(0x559d02f3c0f8), "//_DISPATCH") called at /home/sand/src/perl/repoperls/installed-perls/host/k93msid/v5.14.0/276a/lib/site_perl/5.14.0/Catalyst.pm line 477
	Catalyst::forward(TestApp=HASH(0x559d02f3c0f8), "//_DISPATCH") called at /home/sand/src/perl/repoperls/installed-perls/host/k93msid/v5.14.0/276a/lib/site_perl/5.14.0/Catalyst/Dispatcher.pm line 107
	Catalyst::Dispatcher::dispatch(Catalyst::Dispatcher=HASH(0x559d01a18730), TestApp=HASH(0x559d02f3c0f8)) called at /home/sand/src/perl/repoperls/installed-perls/host/k93msid/v5.14.0/276a/lib/site_perl/5.14.0/Catalyst.pm line 1998
	Catalyst::dispatch(TestApp=HASH(0x559d02f3c0f8)) called at /home/sand/src/perl/repoperls/installed-perls/host/k93msid/v5.14.0/276a/lib/site_perl/5.14.0/x86_64-linux-thread-multi/Class/MOP/Method/Wrapped.pm line 50
	TestApp::_wrapped_dispatch(TestApp=HASH(0x559d02f3c0f8)) called at /home/sand/src/perl/repoperls/installed-perls/host/k93msid/v5.14.0/276a/lib/site_perl/5.14.0/x86_64-linux-thread-multi/Class/MOP/Method/Wrapped.pm line 95
	TestApp::dispatch(TestApp=HASH(0x559d02f3c0f8)) called at /home/sand/src/perl/repoperls/installed-perls/host/k93msid/v5.14.0/276a/lib/site_perl/5.14.0/Catalyst.pm line 2393
	Catalyst::try {...} () called at /home/sand/src/perl/repoperls/installed-perls/host/k93msid/v5.14.0/276a/lib/site_perl/5.14.0/Try/Tiny.pm line 103
	eval {...} called at /home/sand/src/perl/repoperls/installed-perls/host/k93msid/v5.14.0/276a/lib/site_perl/5.14.0/Try/Tiny.pm line 94
	Try::Tiny::try(CODE(0x559d02fbc460), Try::Tiny::Catch=REF(0x559d02fb9520)) called at /home/sand/src/perl/repoperls/installed-perls/host/k93msid/v5.14.0/276a/lib/site_perl/5.14.0/Catalyst.pm line 2402
	Catalyst::handle_request("TestApp", "env", HASH(0x559d02cb3958), "response_cb", CODE(0x559d02fb9580)) called at /home/sand/src/perl/repoperls/installed-perls/host/k93msid/v5.14.0/276a/lib/site_perl/5.14.0/Catalyst/Engine.pm line 800
	Catalyst::Engine::__ANON__(CODE(0x559d02fb9580)) called at /home/sand/src/perl/repoperls/installed-perls/host/k93msid/v5.14.0/276a/lib/site_perl/5.14.0/Plack/Middleware/HTTPExceptions.pm line 32
	Plack::Middleware::HTTPExceptions::try {...} () called at /home/sand/src/perl/repoperls/installed-perls/host/k93msid/v5.14.0/276a/lib/site_perl/5.14.0/Try/Tiny.pm line 103
	eval {...} called at /home/sand/src/perl/repoperls/installed-perls/host/k93msid/v5.14.0/276a/lib/site_perl/5.14.0/Try/Tiny.pm line 94
	Try::Tiny::try(CODE(0x559d02fb9340), Try::Tiny::Catch=REF(0x559d02fb7108)) called at /home/sand/src/perl/repoperls/installed-perls/host/k93msid/v5.14.0/276a/lib/site_perl/5.14.0/Plack/Middleware/HTTPExceptions.pm line 41
	Plack::Middleware::HTTPExceptions::__ANON__(CODE(0x559d02fb9208)) called at /home/sand/src/perl/repoperls/installed-perls/host/k93msid/v5.14.0/276a/lib/site_perl/5.14.0/Plack/Util.pm line 339
	Plack::Util::__ANON__(CODE(0x559d02fb90d0)) called at /home/sand/src/perl/repoperls/installed-perls/host/k93msid/v5.14.0/276a/lib/site_perl/5.14.0/Plack/Util.pm line 339
	Plack::Util::__ANON__(CODE(0x559d02fb8f98)) called at /home/sand/src/perl/repoperls/installed-perls/host/k93msid/v5.14.0/276a/lib/site_perl/5.14.0/Plack/Util.pm line 339
	Plack::Util::__ANON__(CODE(0x559d02fb8ef0)) called at /home/sand/src/perl/repoperls/installed-perls/host/k93msid/v5.14.0/276a/lib/site_perl/5.14.0/HTTP/Message/PSGI.pm line 100
	HTTP::Message::PSGI::res_from_psgi(CODE(0x559d02fb6f58)) called at /home/sand/src/perl/repoperls/installed-perls/host/k93msid/v5.14.0/276a/lib/site_perl/5.14.0/HTTP/Message/PSGI.pm line 156
	HTTP::Response::from_psgi("HTTP::Response", CODE(0x559d02fb6f58)) called at /home/sand/src/perl/repoperls/installed-perls/host/k93msid/v5.14.0/276a/lib/site_perl/5.14.0/Plack/Test/MockHTTP.pm line 24
	Plack::Test::MockHTTP::try {...} () called at /home/sand/src/perl/repoperls/installed-perls/host/k93msid/v5.14.0/276a/lib/site_perl/5.14.0/Try/Tiny.pm line 98
	eval {...} called at /home/sand/src/perl/repoperls/installed-perls/host/k93msid/v5.14.0/276a/lib/site_perl/5.14.0/Try/Tiny.pm line 94
	Try::Tiny::try(CODE(0x559d02e46da0), Try::Tiny::Catch=REF(0x559d02f42fa0)) called at /home/sand/src/perl/repoperls/installed-perls/host/k93msid/v5.14.0/276a/lib/site_perl/5.14.0/Plack/Test/MockHTTP.pm line 27
	Plack::Test::MockHTTP::request(Plack::Test::MockHTTP=HASH(0x559d02f5a1c0), HTTP::Request=HASH(0x559d02f59cb0)) called at /home/sand/src/perl/repoperls/installed-perls/host/k93msid/v5.14.0/276a/lib/site_perl/5.14.0/Plack/Test.pm line 38
	Plack::Test::__ANON__(HTTP::Request=HASH(0x559d02f59cb0)) called at /home/sand/src/perl/repoperls/installed-perls/host/k93msid/v5.14.0/276a/lib/site_perl/5.14.0/Catalyst/Test.pm line 281
	Catalyst::Test::__ANON__(CODE(0x559d02f5a010)) called at /home/sand/src/perl/repoperls/installed-perls/host/k93msid/v5.14.0/276a/lib/site_perl/5.14.0/Plack/Test.pm line 38
	Plack::Test::test_psgi("app", CODE(0x559d02f59620), "mangle_response", CODE(0x559d019f2d00), "app", CODE(0x559d02f59de8), "client", CODE(0x559d02f59ec0)) called at /home/sand/src/perl/repoperls/installed-perls/host/k93msid/v5.14.0/276a/lib/site_perl/5.14.0/Catalyst/Test.pm line 284
	Catalyst::Test::_request(HASH(0x559d02f59878), "/") called at /home/sand/src/perl/repoperls/installed-perls/host/k93msid/v5.14.0/276a/lib/site_perl/5.14.0/Catalyst/Test.pm line 327
	Catalyst::Test::_local_request("TestApp", "/") called at /home/sand/src/perl/repoperls/installed-perls/host/k93msid/v5.14.0/276a/lib/site_perl/5.14.0/Catalyst/Test.pm line 32
	Catalyst::Test::__ANON__("/") called at /home/sand/src/perl/repoperls/installed-perls/host/k93msid/v5.14.0/276a/lib/site_perl/5.14.0/Catalyst/Test.pm line 72
	Catalyst::Test::__ANON__("/") called at t/live-test.t line 14
t/live-test.t ............. ok
t/release-pod-coverage.t .. skipped: these tests are for release candidate testing
t/release-pod-syntax.t .... skipped: these tests are for release candidate testing
All tests successful.
Files=7, Tests=17,  4 wallclock secs ( 0.03 usr  0.04 sys +  1.80 cusr  0.18 csys =  2.05 CPU)
Result: PASS

------------------------------
PREREQUISITES
------------------------------

Prerequisite modules loaded:

requires:

    Module                       Need  Have    
    ---------------------------- ----- --------
    Class::MOP                   1.12  2.2006  
    HTML::Zoom                   0.009 0.009009
    Moose                        1.21  2.2006  
    namespace::autoclean         0.09  0.28    
    Path::Class                  0.23  0.37    

build_requires:

    Module                       Need  Have    
    ---------------------------- ----- --------
    Catalyst::Action::RenderView 0.14  0.16    
    Catalyst::Runtime            5.8   5.90115 
    Test::More                   0.96  1.302090

configure_requires:

    Module                       Need  Have    
    ---------------------------- ----- --------
    ExtUtils::MakeMaker          6.31  7.30    


------------------------------
ENVIRONMENT AND OTHER CONTEXT
------------------------------

Environment variables:

    AUTOMATED_TESTING = 1
    LANG = en_US.UTF-8
    PATH = /home/sand/bin:/usr/local/bin:/usr/bin:/bin:/usr/games:/usr/local/perl/bin:/usr/X11/bin:/sbin:/usr/sbin
    PERL5LIB = 
    PERL5OPT = 
    PERL5_CPANPLUS_IS_RUNNING = 14169
    PERL5_CPAN_IS_RUNNING = 14169
    PERL_CANARY_STABILITY_NOPROMPT = 1
    PERL_MM_USE_DEFAULT = 1
    PERL_USE_UNSAFE_INC = 1
    SHELL = /usr/bin/zsh
    TERM = screen

Perl special variables (and OS-specific diagnostics, for MSWin32):

    $^X = /home/sand/src/perl/repoperls/installed-perls/host/k93msid/v5.14.0/276a/bin/perl
    $UID/$EUID = 1005 / 1005
    $GID = 1005 1005
    $EGID = 1005 1005

Perl module toolchain versions installed:

    Module              Have    
    ------------------- --------
    CPAN                2.18    
    CPAN::Meta          2.150010
    Cwd                 3.62    
    ExtUtils::CBuilder  0.280226
    ExtUtils::Command   7.30    
    ExtUtils::Install   2.06    
    ExtUtils::MakeMaker 7.30    
    ExtUtils::Manifest  1.70    
    ExtUtils::ParseXS   3.30    
    File::Spec          3.62    
    JSON                2.94    
    JSON::PP            2.94    
    Module::Build       0.4224  
    Module::Signature   0.81    
    Parse::CPAN::Meta   2.150010
    Test::Harness       3.39    
    Test::More          1.302090
    YAML                1.23    
    YAML::Syck          1.30    
    version             0.9918  


--

Summary of my perl5 (revision 5 version 14 subversion 0) configuration:
  Derived from: a35ef416833511da752c4b5b836b7a8915712aab
  Platform:
    osname=linux, osvers=4.9.0-2-amd64, archname=x86_64-linux-thread-multi
    uname='linux k93msid 4.9.0-2-amd64 #1 smp debian 4.9.18-1 (2017-03-30) x86_64 gnulinux '
    config_args='-Dprefix=/home/sand/src/perl/repoperls/installed-perls/host/k93msid/v5.14.0/276a -Dmyhostname=k93msid -Dinstallusrbinperl=n -Uversiononly -Dusedevel -des -Ui_db -Dlibswanted=cl pthread socket inet nsl gdbm dbm malloc dl ld sun m crypt sec util c cposix posix ucb BSD gdbm_compat -Duseithreads -Uuselongdouble -DDEBUGGING=both'
    hint=recommended, useposix=true, d_sigaction=define
    useithreads=define, usemultiplicity=define
    useperlio=define, d_sfio=undef, uselargefiles=define, usesocks=undef
    use64bitint=define, use64bitall=define, uselongdouble=undef
    usemymalloc=n, bincompat5005=undef
  Compiler:
    cc='cc', ccflags ='-D_REENTRANT -D_GNU_SOURCE -DDEBUGGING -fno-strict-aliasing -pipe -fstack-protector -I/usr/local/include -D_LARGEFILE_SOURCE -D_FILE_OFFSET_BITS=64',
    optimize='-O2 -g',
    cppflags='-D_REENTRANT -D_GNU_SOURCE -DDEBUGGING -fno-strict-aliasing -pipe -fstack-protector -I/usr/local/include'
    ccversion='', gccversion='6.3.0 20170406', gccosandvers=''
    intsize=4, longsize=8, ptrsize=8, doublesize=8, byteorder=12345678
    d_longlong=define, longlongsize=8, d_longdbl=define, longdblsize=16
    ivtype='long', ivsize=8, nvtype='double', nvsize=8, Off_t='off_t', lseeksize=8
    alignbytes=8, prototype=define
  Linker and Libraries:
    ld='cc', ldflags =' -fstack-protector -L/usr/local/lib'
    libpth=/usr/local/lib /lib/x86_64-linux-gnu /lib/../lib /usr/lib/x86_64-linux-gnu /usr/lib/../lib /lib /usr/lib
    libs=-lpthread -lnsl -ldl -lm -lcrypt -lutil -lc
    perllibs=-lpthread -lnsl -ldl -lm -lcrypt -lutil -lc
    libc=libc-2.24.so, so=so, useshrplib=false, libperl=libperl.a
    gnulibc_version='2.24'
  Dynamic Linking:
    dlsrc=dl_dlopen.xs, dlext=so, d_dlsymun=undef, ccdlflags='-Wl,-E'
    cccdlflags='-fPIC', lddlflags='-shared -O2 -g -L/usr/local/lib -fstack-protector'


Characteristics of this binary (from libperl): 
  Compile-time options: DEBUGGING MULTIPLICITY PERL_DONT_CREATE_GVSV
                        PERL_IMPLICIT_CONTEXT PERL_MALLOC_WRAP
                        PERL_PRESERVE_IVUV PERL_TRACK_MEMPOOL PERL_USE_DEVEL
                        USE_64_BIT_ALL USE_64_BIT_INT USE_ITHREADS
                        USE_LARGE_FILES USE_PERLIO USE_PERL_ATOF
                        USE_REENTRANT_API
  Locally applied patches:
	uncommitted-changes
  Built under linux
  Compiled at Jul  2 2017 20:13:25
  %ENV:
    PERL5LIB=""
    PERL5OPT=""
    PERL5_CPANPLUS_IS_RUNNING="14169"
    PERL5_CPAN_IS_RUNNING="14169"
    PERL_CANARY_STABILITY_NOPROMPT="1"
    PERL_MM_USE_DEFAULT="1"
    PERL_USE_UNSAFE_INC="1"
  @INC:
    /home/sand/src/perl/repoperls/installed-perls/host/k93msid/v5.14.0/276a/lib/site_perl/5.14.0/x86_64-linux-thread-multi
    /home/sand/src/perl/repoperls/installed-perls/host/k93msid/v5.14.0/276a/lib/site_perl/5.14.0
    /home/sand/src/perl/repoperls/installed-perls/host/k93msid/v5.14.0/276a/lib/5.14.0/x86_64-linux-thread-multi
    /home/sand/src/perl/repoperls/installed-perls/host/k93msid/v5.14.0/276a/lib/5.14.0
    .