Term-ProgressSpinner v1.01 Perl 5 v5.24.1 amd64-freebsd
- Status
- Pass
- From
- Slaven Rezić
- Dist
-
Term-ProgressSpinner v1.01
- Platform
- Perl 5 v5.24.1 amd64-freebsd
- Date
- 2025-04-21 21:48:00
- ID
- 4b5410e0-1efa-11f0-aa1f-0edf6d8775ea
This distribution has been tested as part of the CPAN Testers
project, supporting the Perl programming language. See
http://wiki.cpantesters.org/ for more information or email
questions to cpan-testers-discuss@perl.org
--
Dear Robert Acock,
This is a computer-generated report for Term-ProgressSpinner-1.01
on perl 5.24.1, created by CPAN-Reporter-1.2019.
Thank you for uploading your work to CPAN. Congratulations!
All tests were successful.
Sections of this report:
* Tester comments
* Program output
* Prerequisites
* Environment and other context
------------------------------
TESTER COMMENTS
------------------------------
Additional comments from tester:
none provided
------------------------------
PROGRAM OUTPUT
------------------------------
Output from '/usr/bin/make test':
PERL_DL_NONLAZY=1 "/usr/perl5.24.1p/bin/perl5.24.1" "-MExtUtils::Command::MM" "-MTest::Harness" "-e" "undef *Test::Harness::Switches; test_harness(0, 'blib/lib', 'blib/arch')" t/*.t
# Testing Term::ProgressSpinner 1.01, Perl 5.024001, /usr/perl5.24.1p/bin/perl5.24.1
t/00-load.t ....... ok
[1;1f[2J
[2K[?25l
[3;1f
[2K[37mâÂÂâ âÂÂ[30;100m [37mâ Ââ Â[30;100m processed [37m5%[30;100m of [37m1[30;100m/[37m20[30;100m [37m0.11[30;100m/[37m2.09[30;100m[0m
[3;1f
[2K[37mâÂÂâÂÂâ âÂÂ[30;100m [37mâ¢Ââ Â[30;100m processed [37m10%[30;100m of [37m2[30;100m/[37m20[30;100m [37m0.21[30;100m/[37m1.89[30;100m[0m
[3;1f
[2K[37mâÂÂâÂÂâÂÂâ âÂÂ[30;100m [37mâ¡Ââ Â[30;100m processed [37m15%[30;100m of [37m3[30;100m/[37m20[30;100m [37m0.32[30;100m/[37m1.81[30;100m[0m
[3;1f
[2K[37mâÂÂâÂÂâÂÂâÂÂâ âÂÂ[30;100m [37mâ Â
â Â[30;100m processed [37m20%[30;100m of [37m4[30;100m/[37m20[30;100m [37m0.43[30;100m/[37m1.72[30;100m[0m
[3;1f
[2K[37mâÂÂâÂÂâÂÂâÂÂâÂÂâ âÂÂ[30;100m [37mâ¢Ââ Â[30;100m processed [37m25%[30;100m of [37m5[30;100m/[37m20[30;100m [37m0.54[30;100m/[37m1.62[30;100m[0m
[3;1f
[2K[37mâÂÂâÂÂâÂÂâÂÂâÂÂâÂÂâ âÂÂ[30;100m [37mâ¡Ââ Â[30;100m processed [37m30%[30;100m of [37m6[30;100m/[37m20[30;100m [37m0.64[30;100m/[37m1.49[30;100m[0m
[3;1f
[2K[37mâÂÂâÂÂâÂÂâÂÂâÂÂâÂÂâÂÂâ âÂÂ[30;100m [37mâ Ââ Â[30;100m processed [37m35%[30;100m of [37m7[30;100m/[37m20[30;100m [37m0.75[30;100m/[37m1.39[30;100m[0m
[3;1f
[2K[37mâÂÂâÂÂâÂÂâÂÂâÂÂâÂÂâÂÂâÂÂâ âÂÂ[30;100m [37mâ¢Ââ Â[30;100m processed [37m40%[30;100m of [37m8[30;100m/[37m20[30;100m [37m0.86[30;100m/[37m1.29[30;100m[0m
[3;1f
[2K[37mâÂÂâÂÂâÂÂâÂÂâÂÂâÂÂâÂÂâÂÂâÂÂâ âÂÂ[30;100m [37mâ¡Ââ Â[30;100m processed [37m45%[30;100m of [37m9[30;100m/[37m20[30;100m [37m0.96[30;100m/[37m1.17[30;100m[0m
[3;1f
[2K[37mâÂÂâÂÂâÂÂâÂÂâÂÂâÂÂâÂÂâÂÂâÂÂâÂÂâ âÂÂ[30;100m [37mâ Ââ Â[30;100m processed [37m50%[30;100m of [37m10[30;100m/[37m20[30;100m [37m1.07[30;100m/[37m1.07[30;100m[0m
[3;1f
[2K[37mâÂÂâÂÂâÂÂâÂÂâÂÂâÂÂâÂÂâÂÂâÂÂâÂÂâÂÂâ âÂÂ[30;100m [37mâ¢Ââ Â[30;100m processed [37m55%[30;100m of [37m11[30;100m/[37m20[30;100m [37m1.18[30;100m/[37m0.97[30;100m[0m
[3;1f
[2K[37mâÂÂâÂÂâÂÂâÂÂâÂÂâÂÂâÂÂâÂÂâÂÂâÂÂâÂÂâÂÂâ âÂÂ[30;100m [37mâ¡Ââ Â[30;100m processed [37m60%[30;100m of [37m12[30;100m/[37m20[30;100m [37m1.28[30;100m/[37m0.85[30;100m[0m
[3;1f
[2K[37mâÂÂâÂÂâÂÂâÂÂâÂÂâÂÂâÂÂâÂÂâÂÂâÂÂâÂÂâÂÂâÂÂâ âÂÂ[30;100m [37mâ Ââ Â[30;100m processed [37m65%[30;100m of [37m13[30;100m/[37m20[30;100m [37m1.38[30;100m/[37m0.74[30;100m[0m
[3;1f
[2K[37mâÂÂâÂÂâÂÂâÂÂâÂÂâÂÂâÂÂâÂÂâÂÂâÂÂâÂÂâÂÂâÂÂâÂÂâ âÂÂ[30;100m [37mâ Ââ Â[30;100m processed [37m70%[30;100m of [37m14[30;100m/[37m20[30;100m [37m1.48[30;100m/[37m0.63[30;100m[0m
[3;1f
[2K[37mâÂÂâÂÂâÂÂâÂÂâÂÂâÂÂâÂÂâÂÂâÂÂâÂÂâÂÂâÂÂâÂÂâÂÂâÂÂâ âÂÂ[30;100m [37mâ Ââ Â[30;100m processed [37m75%[30;100m of [37m15[30;100m/[37m20[30;100m [37m1.59[30;100m/[37m0.53[30;100m[0m
[3;1f
[2K[37mâÂÂâÂÂâÂÂâÂÂâÂÂâÂÂâÂÂâÂÂâÂÂâÂÂâÂÂâÂÂâÂÂâÂÂâÂÂâÂÂâ âÂÂ[30;100m [37mâ Ââ Â[30;100m processed [37m80%[30;100m of [37m16[30;100m/[37m20[30;100m [37m1.69[30;100m/[37m0.42[30;100m[0m
[3;1f
[2K[37mâÂÂâÂÂâÂÂâÂÂâÂÂâÂÂâÂÂâÂÂâÂÂâÂÂâÂÂâÂÂâÂÂâÂÂâÂÂâÂÂâÂÂâ âÂÂ[30;100m [37mâ Ââ Â[30;100m processed [37m85%[30;100m of [37m17[30;100m/[37m20[30;100m [37m1.8[30;100m/[37m0.32[30;100m[0m
[3;1f
[2K[37mâÂÂâÂÂâÂÂâÂÂâÂÂâÂÂâÂÂâÂÂâÂÂâÂÂâÂÂâÂÂâÂÂâÂÂâÂÂâÂÂâÂÂâÂÂâ âÂÂ[30;100m [37mâ Ââ ©[30;100m processed [37m90%[30;100m of [37m18[30;100m/[37m20[30;100m [37m1.9[30;100m/[37m0.21[30;100m[0m
[3;1f
[2K[37mâÂÂâÂÂâÂÂâÂÂâÂÂâÂÂâÂÂâÂÂâÂÂâÂÂâÂÂâÂÂâÂÂâÂÂâÂÂâÂÂâÂÂâÂÂâÂÂâ âÂÂ[30;100m [37mâ Ââ¢Â[30;100m processed [37m95%[30;100m of [37m19[30;100m/[37m20[30;100m [37m2.01[30;100m/[37m0.11[30;100m[0m
[3;1f
[2K[37mâÂÂâÂÂâÂÂâÂÂâÂÂâÂÂâÂÂâÂÂâÂÂâÂÂâÂÂâÂÂâÂÂâÂÂâÂÂâÂÂâÂÂâÂÂâÂÂâÂÂâÂÂâÂÂ[30;100m [37mâ Ââ¡Â[30;100m processed [37m100%[30;100m of [37m20[30;100m/[37m20[30;100m [37m2.11[30;100m/[37m0[30;100m[0m
[?25h
[2K[?25l
[5;1f
[2K[37mâÂÂâ âÂÂ[30;100m [37mâÂÂâÂÂâÂÂ[30;100m processed [37m5%[30;100m of [37m1[30;100m/[37m20[30;100m [37m0.11[30;100m/[37m2.09[30;100m[0m
[5;1f
[2K[37mâÂÂâÂÂâ âÂÂ[30;100m [37mâÂÂâÂÂ
âÂÂ[30;100m processed [37m10%[30;100m of [37m2[30;100m/[37m20[30;100m [37m0.22[30;100m/[37m1.98[30;100m[0m
[5;1f
[2K[37mâÂÂâÂÂâÂÂâ âÂÂ[30;100m [37mâÂÂâÂÂâÂÂ[30;100m processed [37m15%[30;100m of [37m3[30;100m/[37m20[30;100m [37m0.33[30;100m/[37m1.87[30;100m[0m
[5;1f
[2K[37mâÂÂâÂÂâÂÂâÂÂâ âÂÂ[30;100m [37mâÂÂâÂÂâÂÂ[30;100m processed [37m20%[30;100m of [37m4[30;100m/[37m20[30;100m [37m0.43[30;100m/[37m1.72[30;100m[0m
[5;1f
[2K[37mâÂÂâÂÂâÂÂâÂÂâÂÂâ âÂÂ[30;100m [37mâÂÂâÂÂâÂÂ[30;100m processed [37m25%[30;100m of [37m5[30;100m/[37m20[30;100m [37m0.54[30;100m/[37m1.62[30;100m[0m
[5;1f
[2K[37mâÂÂâÂÂâÂÂâÂÂâÂÂâÂÂâ âÂÂ[30;100m [37mâÂÂâÂÂâÂÂ
[30;100m processed [37m30%[30;100m of [37m6[30;100m/[37m20[30;100m [37m0.65[30;100m/[37m1.52[30;100m[0m
[5;1f
[2K[37mâÂÂâÂÂâÂÂâÂÂâÂÂâÂÂâÂÂâ âÂÂ[30;100m [37mâÂÂâÂÂâÂÂ[30;100m processed [37m35%[30;100m of [37m7[30;100m/[37m20[30;100m [37m0.76[30;100m/[37m1.41[30;100m[0m
[5;1f
[2K[37mâÂÂâÂÂâÂÂâÂÂâÂÂâÂÂâÂÂâÂÂâ âÂÂ[30;100m [37mâÂÂ
âÂÂâÂÂ[30;100m processed [37m40%[30;100m of [37m8[30;100m/[37m20[30;100m [37m0.86[30;100m/[37m1.29[30;100m[0m
[5;1f
[2K[37mâÂÂâÂÂâÂÂâÂÂâÂÂâÂÂâÂÂâÂÂâÂÂâ âÂÂ[30;100m [37mâÂÂâÂÂâÂÂ[30;100m processed [37m45%[30;100m of [37m9[30;100m/[37m20[30;100m [37m0.97[30;100m/[37m1.19[30;100m[0m
[5;1f
[2K[37mâÂÂâÂÂâÂÂâÂÂâÂÂâÂÂâÂÂâÂÂâÂÂâÂÂâ âÂÂ[30;100m [37mâÂÂâÂÂ
âÂÂ[30;100m processed [37m50%[30;100m of [37m10[30;100m/[37m20[30;100m [37m1.07[30;100m/[37m1.07[30;100m[0m
[5;1f
[2K[37mâÂÂâÂÂâÂÂâÂÂâÂÂâÂÂâÂÂâÂÂâÂÂâÂÂâÂÂâ âÂÂ[30;100m [37mâÂÂâÂÂâÂÂ[30;100m processed [37m55%[30;100m of [37m11[30;100m/[37m20[30;100m [37m1.17[30;100m/[37m0.96[30;100m[0m
[5;1f
[2K[37mâÂÂâÂÂâÂÂâÂÂâÂÂâÂÂâÂÂâÂÂâÂÂâÂÂâÂÂâÂÂâ âÂÂ[30;100m [37mâÂÂâÂÂâÂÂ[30;100m processed [37m60%[30;100m of [37m12[30;100m/[37m20[30;100m [37m1.28[30;100m/[37m0.85[30;100m[0m
[5;1f
[2K[37mâÂÂâÂÂâÂÂâÂÂâÂÂâÂÂâÂÂâÂÂâÂÂâÂÂâÂÂâÂÂâÂÂâ âÂÂ[30;100m [37mâÂÂâÂÂâÂÂ[30;100m processed [37m65%[30;100m of [37m13[30;100m/[37m20[30;100m [37m1.39[30;100m/[37m0.75[30;100m[0m
[5;1f
[2K[37mâÂÂâÂÂâÂÂâÂÂâÂÂâÂÂâÂÂâÂÂâÂÂâÂÂâÂÂâÂÂâÂÂâÂÂâ âÂÂ[30;100m [37mâÂÂâÂÂâÂÂ
[30;100m processed [37m70%[30;100m of [37m14[30;100m/[37m20[30;100m [37m1.5[30;100m/[37m0.64[30;100m[0m
[5;1f
[2K[37mâÂÂâÂÂâÂÂâÂÂâÂÂâÂÂâÂÂâÂÂâÂÂâÂÂâÂÂâÂÂâÂÂâÂÂâÂÂâ âÂÂ[30;100m [37mâÂÂâÂÂâÂÂ[30;100m processed [37m75%[30;100m of [37m15[30;100m/[37m20[30;100m [37m1.6[30;100m/[37m0.53[30;100m[0m
[5;1f
[2K[37mâÂÂâÂÂâÂÂâÂÂâÂÂâÂÂâÂÂâÂÂâÂÂâÂÂâÂÂâÂÂâÂÂâÂÂâÂÂâÂÂâ âÂÂ[30;100m [37mâÂÂ
âÂÂâÂÂ[30;100m processed [37m80%[30;100m of [37m16[30;100m/[37m20[30;100m [37m1.71[30;100m/[37m0.43[30;100m[0m
[5;1f
[2K[37mâÂÂâÂÂâÂÂâÂÂâÂÂâÂÂâÂÂâÂÂâÂÂâÂÂâÂÂâÂÂâÂÂâÂÂâÂÂâÂÂâÂÂâ âÂÂ[30;100m [37mâÂÂâÂÂâÂÂ[30;100m processed [37m85%[30;100m of [37m17[30;100m/[37m20[30;100m [37m1.82[30;100m/[37m0.32[30;100m[0m
[5;1f
[2K[37mâÂÂâÂÂâÂÂâÂÂâÂÂâÂÂâÂÂâÂÂâÂÂâÂÂâÂÂâÂÂâÂÂâÂÂâÂÂâÂÂâÂÂâÂÂâ âÂÂ[30;100m [37mâÂÂâÂÂ
âÂÂ[30;100m processed [37m90%[30;100m of [37m18[30;100m/[37m20[30;100m [37m1.93[30;100m/[37m0.21[30;100m[0m
[5;1f
[2K[37mâÂÂâÂÂâÂÂâÂÂâÂÂâÂÂâÂÂâÂÂâÂÂâÂÂâÂÂâÂÂâÂÂâÂÂâÂÂâÂÂâÂÂâÂÂâÂÂâ âÂÂ[30;100m [37mâÂÂâÂÂâÂÂ[30;100m processed [37m95%[30;100m of [37m19[30;100m/[37m20[30;100m [37m2.04[30;100m/[37m0.11[30;100m[0m
[5;1f
[2K[37mâÂÂâÂÂâÂÂâÂÂâÂÂâÂÂâÂÂâÂÂâÂÂâÂÂâÂÂâÂÂâÂÂâÂÂâÂÂâÂÂâÂÂâÂÂâÂÂâÂÂâÂÂâÂÂ[30;100m [37mâÂÂâÂÂâÂÂ[30;100m processed [37m100%[30;100m of [37m20[30;100m/[37m20[30;100m [37m2.14[30;100m/[37m0[30;100m[0m
[?25h
[2K[?25l
[7;1f
[2K[37mãÂÂ= ãÂÂ[30;100m [37mâÂÂ[30;100m processed [37m5%[30;100m of [37m1[30;100m/[37m20[30;100m [37m0.1[30;100m/[37m1.9[30;100m[0m
[7;1f
[2K[37mãÂÂ== ãÂÂ[30;100m [37mâÂÂ[30;100m processed [37m10%[30;100m of [37m2[30;100m/[37m20[30;100m [37m0.2[30;100m/[37m1.8[30;100m[0m
[7;1f
[2K[37mãÂÂ=== ãÂÂ[30;100m [37mâÂÂ[30;100m processed [37m15%[30;100m of [37m3[30;100m/[37m20[30;100m [37m0.3[30;100m/[37m1.7[30;100m[0m
[7;1f
[2K[37mãÂÂ==== ãÂÂ[30;100m [37mâÂÂ[30;100m processed [37m20%[30;100m of [37m4[30;100m/[37m20[30;100m [37m0.41[30;100m/[37m1.64[30;100m[0m
[7;1f
[2K[37mãÂÂ===== ãÂÂ[30;100m [37m⦿[30;100m processed [37m25%[30;100m of [37m5[30;100m/[37m20[30;100m [37m0.52[30;100m/[37m1.56[30;100m[0m
[7;1f
[2K[37mãÂÂ====== ãÂÂ[30;100m [37mâÂÂ[30;100m processed [37m30%[30;100m of [37m6[30;100m/[37m20[30;100m [37m0.62[30;100m/[37m1.45[30;100m[0m
[7;1f
[2K[37mãÂÂ======= ãÂÂ[30;100m [37mâÂÂ[30;100m processed [37m35%[30;100m of [37m7[30;100m/[37m20[30;100m [37m0.73[30;100m/[37m1.36[30;100m[0m
[7;1f
[2K[37mãÂÂ======== ãÂÂ[30;100m [37mâÂÂ[30;100m processed [37m40%[30;100m of [37m8[30;100m/[37m20[30;100m [37m0.84[30;100m/[37m1.26[30;100m[0m
[7;1f
[2K[37mãÂÂ========= ãÂÂ[30;100m [37mâ¦[30;100m processed [37m45%[30;100m of [37m9[30;100m/[37m20[30;100m [37m0.94[30;100m/[37m1.15[30;100m[0m
[7;1f
[2K[37mãÂÂ========== ãÂÂ[30;100m [37mã»[30;100m processed [37m50%[30;100m of [37m10[30;100m/[37m20[30;100m [37m1.05[30;100m/[37m1.05[30;100m[0m
[7;1f
[2K[37mãÂÂ=========== ãÂÂ[30;100m [37mã»[30;100m processed [37m55%[30;100m of [37m11[30;100m/[37m20[30;100m [37m1.16[30;100m/[37m0.95[30;100m[0m
[7;1f
[2K[37mãÂÂ============ ãÂÂ[30;100m [37mâ¦[30;100m processed [37m60%[30;100m of [37m12[30;100m/[37m20[30;100m [37m1.26[30;100m/[37m0.84[30;100m[0m
[7;1f
[2K[37mãÂÂ============= ãÂÂ[30;100m [37mâÂÂ[30;100m processed [37m65%[30;100m of [37m13[30;100m/[37m20[30;100m [37m1.37[30;100m/[37m0.74[30;100m[0m
[7;1f
[2K[37mãÂÂ============== ãÂÂ[30;100m [37mâÂÂ[30;100m processed [37m70%[30;100m of [37m14[30;100m/[37m20[30;100m [37m1.48[30;100m/[37m0.63[30;100m[0m
[7;1f
[2K[37mãÂÂ=============== ãÂÂ[30;100m [37mâÂÂ[30;100m processed [37m75%[30;100m of [37m15[30;100m/[37m20[30;100m [37m1.59[30;100m/[37m0.53[30;100m[0m
[7;1f
[2K[37mãÂÂ================ ãÂÂ[30;100m [37mâÂÂ[30;100m processed [37m80%[30;100m of [37m16[30;100m/[37m20[30;100m [37m1.69[30;100m/[37m0.42[30;100m[0m
[7;1f
[2K[37mãÂÂ================= ãÂÂ[30;100m [37m⦿[30;100m processed [37m85%[30;100m of [37m17[30;100m/[37m20[30;100m [37m1.8[30;100m/[37m0.32[30;100m[0m
[7;1f
[2K[37mãÂÂ================== ãÂÂ[30;100m [37mâÂÂ[30;100m processed [37m90%[30;100m of [37m18[30;100m/[37m20[30;100m [37m1.9[30;100m/[37m0.21[30;100m[0m
[7;1f
[2K[37mãÂÂ=================== ãÂÂ[30;100m [37mâÂÂ[30;100m processed [37m95%[30;100m of [37m19[30;100m/[37m20[30;100m [37m2.01[30;100m/[37m0.11[30;100m[0m
[7;1f
[2K[37mãÂÂ====================ãÂÂ[30;100m [37mâÂÂ[30;100m processed [37m100%[30;100m of [37m20[30;100m/[37m20[30;100m [37m2.11[30;100m/[37m0[30;100m[0m
[?25h
[2K[?25l
[9;1f
[2K[37mâÂÂâ âÂÂ[30;100m [37mâÂÂ[30;100m processed [37m5%[30;100m of [37m1[30;100m/[37m20[30;100m [37m0.11[30;100m/[37m2.09[30;100m[0m
[9;1f
[2K[37mâÂÂâÂÂâ âÂÂ[30;100m [37mâÂÂ[30;100m processed [37m10%[30;100m of [37m2[30;100m/[37m20[30;100m [37m0.21[30;100m/[37m1.89[30;100m[0m
[9;1f
[2K[37mâÂÂâÂÂâÂÂâ âÂÂ[30;100m [37mâÂÂ[30;100m processed [37m15%[30;100m of [37m3[30;100m/[37m20[30;100m [37m0.32[30;100m/[37m1.81[30;100m[0m
[9;1f
[2K[37mâÂÂâÂÂâÂÂâÂÂâ âÂÂ[30;100m [37mâÂÂ[30;100m processed [37m20%[30;100m of [37m4[30;100m/[37m20[30;100m [37m0.42[30;100m/[37m1.68[30;100m[0m
[9;1f
[2K[37mâÂÂâÂÂâÂÂâÂÂâÂÂâ âÂÂ[30;100m [37mâÂÂ[30;100m processed [37m25%[30;100m of [37m5[30;100m/[37m20[30;100m [37m0.53[30;100m/[37m1.59[30;100m[0m
[9;1f
[2K[37mâÂÂâÂÂâÂÂâÂÂâÂÂâÂÂâ âÂÂ[30;100m [37mâÂÂ[30;100m processed [37m30%[30;100m of [37m6[30;100m/[37m20[30;100m [37m0.64[30;100m/[37m1.49[30;100m[0m
[9;1f
[2K[37mâÂÂâÂÂâÂÂâÂÂâÂÂâÂÂâÂÂâ âÂÂ[30;100m [37mâÂÂ[30;100m processed [37m35%[30;100m of [37m7[30;100m/[37m20[30;100m [37m0.75[30;100m/[37m1.39[30;100m[0m
[9;1f
[2K[37mâÂÂâÂÂâÂÂâÂÂâÂÂâÂÂâÂÂâÂÂâ âÂÂ[30;100m [37mâÂÂ[30;100m processed [37m40%[30;100m of [37m8[30;100m/[37m20[30;100m [37m0.85[30;100m/[37m1.27[30;100m[0m
[9;1f
[2K[37mâÂÂâÂÂâÂÂâÂÂâÂÂâÂÂâÂÂâÂÂâÂÂâ âÂÂ[30;100m [37mâÂÂ[30;100m processed [37m45%[30;100m of [37m9[30;100m/[37m20[30;100m [37m0.96[30;100m/[37m1.17[30;100m[0m
[9;1f
[2K[37mâÂÂâÂÂâÂÂâÂÂâÂÂâÂÂâÂÂâÂÂâÂÂâÂÂâ âÂÂ[30;100m [37mâÂÂ[30;100m processed [37m50%[30;100m of [37m10[30;100m/[37m20[30;100m [37m1.07[30;100m/[37m1.07[30;100m[0m
[9;1f
[2K[37mâÂÂâÂÂâÂÂâÂÂâÂÂâÂÂâÂÂâÂÂâÂÂâÂÂâÂÂâ âÂÂ[30;100m [37mâÂÂ[30;100m processed [37m55%[30;100m of [37m11[30;100m/[37m20[30;100m [37m1.17[30;100m/[37m0.96[30;100m[0m
[9;1f
[2K[37mâÂÂâÂÂâÂÂâÂÂâÂÂâÂÂâÂÂâÂÂâÂÂâÂÂâÂÂâÂÂâ âÂÂ[30;100m [37mâÂÂ[30;100m processed [37m60%[30;100m of [37m12[30;100m/[37m20[30;100m [37m1.28[30;100m/[37m0.85[30;100m[0m
[9;1f
[2K[37mâÂÂâÂÂâÂÂâÂÂâÂÂâÂÂâÂÂâÂÂâÂÂâÂÂâÂÂâÂÂâÂÂâ âÂÂ[30;100m [37mâÂÂ[30;100m processed [37m65%[30;100m of [37m13[30;100m/[37m20[30;100m [37m1.39[30;100m/[37m0.75[30;100m[0m
[9;1f
[2K[37mâÂÂâÂÂâÂÂâÂÂâÂÂâÂÂâÂÂâÂÂâÂÂâÂÂâÂÂâÂÂâÂÂâÂÂâ âÂÂ[30;100m [37mâÂÂ[30;100m processed [37m70%[30;100m of [37m14[30;100m/[37m20[30;100m [37m1.5[30;100m/[37m0.64[30;100m[0m
[9;1f
[2K[37mâÂÂâÂÂâÂÂâÂÂâÂÂâÂÂâÂÂâÂÂâÂÂâÂÂâÂÂâÂÂâÂÂâÂÂâÂÂâ âÂÂ[30;100m [37mâÂÂ[30;100m processed [37m75%[30;100m of [37m15[30;100m/[37m20[30;100m [37m1.61[30;100m/[37m0.54[30;100m[0m
[9;1f
[2K[37mâÂÂâÂÂâÂÂâÂÂâÂÂâÂÂâÂÂâÂÂâÂÂâÂÂâÂÂâÂÂâÂÂâÂÂâÂÂâÂÂâ âÂÂ[30;100m [37mâÂÂ[30;100m processed [37m80%[30;100m of [37m16[30;100m/[37m20[30;100m [37m1.72[30;100m/[37m0.43[30;100m[0m
[9;1f
[2K[37mâÂÂâÂÂâÂÂâÂÂâÂÂâÂÂâÂÂâÂÂâÂÂâÂÂâÂÂâÂÂâÂÂâÂÂâÂÂâÂÂâÂÂâ âÂÂ[30;100m [37mâÂÂ[30;100m processed [37m85%[30;100m of [37m17[30;100m/[37m20[30;100m [37m1.83[30;100m/[37m0.32[30;100m[0m
[9;1f
[2K[37mâÂÂâÂÂâÂÂâÂÂâÂÂâÂÂâÂÂâÂÂâÂÂâÂÂâÂÂâÂÂâÂÂâÂÂâÂÂâÂÂâÂÂâÂÂâ âÂÂ[30;100m [37mâÂÂ[30;100m processed [37m90%[30;100m of [37m18[30;100m/[37m20[30;100m [37m1.94[30;100m/[37m0.22[30;100m[0m
[9;1f
[2K[37mâÂÂâÂÂâÂÂâÂÂâÂÂâÂÂâÂÂâÂÂâÂÂâÂÂâÂÂâÂÂâÂÂâÂÂâÂÂâÂÂâÂÂâÂÂâÂÂâ âÂÂ[30;100m [37mâÂÂ[30;100m processed [37m95%[30;100m of [37m19[30;100m/[37m20[30;100m [37m2.05[30;100m/[37m0.11[30;100m[0m
[9;1f
[2K[37mâÂÂâÂÂâÂÂâÂÂâÂÂâÂÂâÂÂâÂÂâÂÂâÂÂâÂÂâÂÂâÂÂâÂÂâÂÂâÂÂâÂÂâÂÂâÂÂâÂÂâÂÂâÂÂ[30;100m [37mâÂÂ[30;100m processed [37m100%[30;100m of [37m20[30;100m/[37m20[30;100m [37m2.16[30;100m/[37m0[30;100m[0m
[?25h
[2K[?25l
[11;1f
[2K[37mâÂÂâ âÂÂ[30;100m [37mð [30;100m processed [37m5%[30;100m of [37m1[30;100m/[37m20[30;100m [37m0.11[30;100m/[37m2.09[30;100m[0m
[11;1f
[2K[37mâÂÂâÂÂâ âÂÂ[30;100m [37mð [30;100m processed [37m10%[30;100m of [37m2[30;100m/[37m20[30;100m [37m0.22[30;100m/[37m1.98[30;100m[0m
[11;1f
[2K[37mâÂÂâÂÂâÂÂâ âÂÂ[30;100m [37mð [30;100m processed [37m15%[30;100m of [37m3[30;100m/[37m20[30;100m [37m0.33[30;100m/[37m1.87[30;100m[0m
[11;1f
[2K[37mâÂÂâÂÂâÂÂâÂÂâ âÂÂ[30;100m [37mð [30;100m processed [37m20%[30;100m of [37m4[30;100m/[37m20[30;100m [37m0.44[30;100m/[37m1.76[30;100m[0m
[11;1f
[2K[37mâÂÂâÂÂâÂÂâÂÂâÂÂâ âÂÂ[30;100m [37mð [30;100m processed [37m25%[30;100m of [37m5[30;100m/[37m20[30;100m [37m0.55[30;100m/[37m1.65[30;100m[0m
[11;1f
[2K[37mâÂÂâÂÂâÂÂâÂÂâÂÂâÂÂâ âÂÂ[30;100m [37mð [30;100m processed [37m30%[30;100m of [37m6[30;100m/[37m20[30;100m [37m0.65[30;100m/[37m1.52[30;100m[0m
[11;1f
[2K[37mâÂÂâÂÂâÂÂâÂÂâÂÂâÂÂâÂÂâ âÂÂ[30;100m [37mð [30;100m processed [37m35%[30;100m of [37m7[30;100m/[37m20[30;100m [37m0.76[30;100m/[37m1.41[30;100m[0m
[11;1f
[2K[37mâÂÂâÂÂâÂÂâÂÂâÂÂâÂÂâÂÂâÂÂâ âÂÂ[30;100m [37mð [30;100m processed [37m40%[30;100m of [37m8[30;100m/[37m20[30;100m [37m0.87[30;100m/[37m1.3[30;100m[0m
[11;1f
[2K[37mâÂÂâÂÂâÂÂâÂÂâÂÂâÂÂâÂÂâÂÂâÂÂâ âÂÂ[30;100m [37mð [30;100m processed [37m45%[30;100m of [37m9[30;100m/[37m20[30;100m [37m0.98[30;100m/[37m1.2[30;100m[0m
[11;1f
[2K[37mâÂÂâÂÂâÂÂâÂÂâÂÂâÂÂâÂÂâÂÂâÂÂâÂÂâ âÂÂ[30;100m [37mð [30;100m processed [37m50%[30;100m of [37m10[30;100m/[37m20[30;100m [37m1.08[30;100m/[37m1.08[30;100m[0m
[11;1f
[2K[37mâÂÂâÂÂâÂÂâÂÂâÂÂâÂÂâÂÂâÂÂâÂÂâÂÂâÂÂâ âÂÂ[30;100m [37mð [30;100m processed [37m55%[30;100m of [37m11[30;100m/[37m20[30;100m [37m1.19[30;100m/[37m0.97[30;100m[0m
[11;1f
[2K[37mâÂÂâÂÂâÂÂâÂÂâÂÂâÂÂâÂÂâÂÂâÂÂâÂÂâÂÂâÂÂâ âÂÂ[30;100m [37mð [30;100m processed [37m60%[30;100m of [37m12[30;100m/[37m20[30;100m [37m1.3[30;100m/[37m0.87[30;100m[0m
[11;1f
[2K[37mâÂÂâÂÂâÂÂâÂÂâÂÂâÂÂâÂÂâÂÂâÂÂâÂÂâÂÂâÂÂâÂÂâ âÂÂ[30;100m [37mð [30;100m processed [37m65%[30;100m of [37m13[30;100m/[37m20[30;100m [37m1.41[30;100m/[37m0.76[30;100m[0m
[11;1f
[2K[37mâÂÂâÂÂâÂÂâÂÂâÂÂâÂÂâÂÂâÂÂâÂÂâÂÂâÂÂâÂÂâÂÂâÂÂâ âÂÂ[30;100m [37mð [30;100m processed [37m70%[30;100m of [37m14[30;100m/[37m20[30;100m [37m1.52[30;100m/[37m0.65[30;100m[0m
[11;1f
[2K[37mâÂÂâÂÂâÂÂâÂÂâÂÂâÂÂâÂÂâÂÂâÂÂâÂÂâÂÂâÂÂâÂÂâÂÂâÂÂâ âÂÂ[30;100m [37mð [30;100m processed [37m75%[30;100m of [37m15[30;100m/[37m20[30;100m [37m1.62[30;100m/[37m0.54[30;100m[0m
[11;1f
[2K[37mâÂÂâÂÂâÂÂâÂÂâÂÂâÂÂâÂÂâÂÂâÂÂâÂÂâÂÂâÂÂâÂÂâÂÂâÂÂâÂÂâ âÂÂ[30;100m [37mð [30;100m processed [37m80%[30;100m of [37m16[30;100m/[37m20[30;100m [37m1.73[30;100m/[37m0.43[30;100m[0m
[11;1f
[2K[37mâÂÂâÂÂâÂÂâÂÂâÂÂâÂÂâÂÂâÂÂâÂÂâÂÂâÂÂâÂÂâÂÂâÂÂâÂÂâÂÂâÂÂâ âÂÂ[30;100m [37mð [30;100m processed [37m85%[30;100m of [37m17[30;100m/[37m20[30;100m [37m1.83[30;100m/[37m0.32[30;100m[0m
[11;1f
[2K[37mâÂÂâÂÂâÂÂâÂÂâÂÂâÂÂâÂÂâÂÂâÂÂâÂÂâÂÂâÂÂâÂÂâÂÂâÂÂâÂÂâÂÂâÂÂâ âÂÂ[30;100m [37mð [30;100m processed [37m90%[30;100m of [37m18[30;100m/[37m20[30;100m [37m1.93[30;100m/[37m0.21[30;100m[0m
[11;1f
[2K[37mâÂÂâÂÂâÂÂâÂÂâÂÂâÂÂâÂÂâÂÂâÂÂâÂÂâÂÂâÂÂâÂÂâÂÂâÂÂâÂÂâÂÂâÂÂâÂÂâ âÂÂ[30;100m [37mð [30;100m processed [37m95%[30;100m of [37m19[30;100m/[37m20[30;100m [37m2.04[30;100m/[37m0.11[30;100m[0m
[11;1f
[2K[37mâÂÂâÂÂâÂÂâÂÂâÂÂâÂÂâÂÂâÂÂâÂÂâÂÂâÂÂâÂÂâÂÂâÂÂâÂÂâÂÂâÂÂâÂÂâÂÂâÂÂâÂÂâÂÂ[30;100m [37mð [30;100m processed [37m100%[30;100m of [37m20[30;100m/[37m20[30;100m [37m2.14[30;100m/[37m0[30;100m[0m
[?25h
[2K[?25l
[13;1f
[2K[37mâÂÂâ âÂÂ[30;100m [37mð¡[30;100m processed [37m5%[30;100m of [37m1[30;100m/[37m20[30;100m [37m0.1[30;100m/[37m1.9[30;100m[0m
[13;1f
[2K[37mâÂÂâÂÂâ âÂÂ[30;100m [37mð¢[30;100m processed [37m10%[30;100m of [37m2[30;100m/[37m20[30;100m [37m0.21[30;100m/[37m1.89[30;100m[0m
[13;1f
[2K[37mâÂÂâÂÂâÂÂâ âÂÂ[30;100m [37mðµ[30;100m processed [37m15%[30;100m of [37m3[30;100m/[37m20[30;100m [37m0.31[30;100m/[37m1.76[30;100m[0m
[13;1f
[2K[37mâÂÂâÂÂâÂÂâÂÂâ âÂÂ[30;100m [37mð£[30;100m processed [37m20%[30;100m of [37m4[30;100m/[37m20[30;100m [37m0.42[30;100m/[37m1.68[30;100m[0m
[13;1f
[2K[37mâÂÂâÂÂâÂÂâÂÂâÂÂâ âÂÂ[30;100m [37mâ«ï¸Â[30;100m processed [37m25%[30;100m of [37m5[30;100m/[37m20[30;100m [37m0.52[30;100m/[37m1.56[30;100m[0m
[13;1f
[2K[37mâÂÂâÂÂâÂÂâÂÂâÂÂâÂÂâ âÂÂ[30;100m [37mâªï¸Â[30;100m processed [37m30%[30;100m of [37m6[30;100m/[37m20[30;100m [37m0.62[30;100m/[37m1.45[30;100m[0m
[13;1f
[2K[37mâÂÂâÂÂâÂÂâÂÂâÂÂâÂÂâÂÂâ âÂÂ[30;100m [37mð¤[30;100m processed [37m35%[30;100m of [37m7[30;100m/[37m20[30;100m [37m0.73[30;100m/[37m1.36[30;100m[0m
[13;1f
[2K[37mâÂÂâÂÂâÂÂâÂÂâÂÂâÂÂâÂÂâÂÂâ âÂÂ[30;100m [37mð´[30;100m processed [37m40%[30;100m of [37m8[30;100m/[37m20[30;100m [37m0.84[30;100m/[37m1.26[30;100m[0m
[13;1f
[2K[37mâÂÂâÂÂâÂÂâÂÂâÂÂâÂÂâÂÂâÂÂâÂÂâ âÂÂ[30;100m [37mð [30;100m processed [37m45%[30;100m of [37m9[30;100m/[37m20[30;100m [37m0.95[30;100m/[37m1.16[30;100m[0m
[13;1f
[2K[37mâÂÂâÂÂâÂÂâÂÂâÂÂâÂÂâÂÂâÂÂâÂÂâÂÂâ âÂÂ[30;100m [37mð¡[30;100m processed [37m50%[30;100m of [37m10[30;100m/[37m20[30;100m [37m1.06[30;100m/[37m1.06[30;100m[0m
[13;1f
[2K[37mâÂÂâÂÂâÂÂâÂÂâÂÂâÂÂâÂÂâÂÂâÂÂâÂÂâÂÂâ âÂÂ[30;100m [37mð¢[30;100m processed [37m55%[30;100m of [37m11[30;100m/[37m20[30;100m [37m1.16[30;100m/[37m0.95[30;100m[0m
[13;1f
[2K[37mâÂÂâÂÂâÂÂâÂÂâÂÂâÂÂâÂÂâÂÂâÂÂâÂÂâÂÂâÂÂâ âÂÂ[30;100m [37mðµ[30;100m processed [37m60%[30;100m of [37m12[30;100m/[37m20[30;100m [37m1.27[30;100m/[37m0.85[30;100m[0m
[13;1f
[2K[37mâÂÂâÂÂâÂÂâÂÂâÂÂâÂÂâÂÂâÂÂâÂÂâÂÂâÂÂâÂÂâÂÂâ âÂÂ[30;100m [37mð£[30;100m processed [37m65%[30;100m of [37m13[30;100m/[37m20[30;100m [37m1.37[30;100m/[37m0.74[30;100m[0m
[13;1f
[2K[37mâÂÂâÂÂâÂÂâÂÂâÂÂâÂÂâÂÂâÂÂâÂÂâÂÂâÂÂâÂÂâÂÂâÂÂâ âÂÂ[30;100m [37mâ«ï¸Â[30;100m processed [37m70%[30;100m of [37m14[30;100m/[37m20[30;100m [37m1.48[30;100m/[37m0.63[30;100m[0m
[13;1f
[2K[37mâÂÂâÂÂâÂÂâÂÂâÂÂâÂÂâÂÂâÂÂâÂÂâÂÂâÂÂâÂÂâÂÂâÂÂâÂÂâ âÂÂ[30;100m [37mâªï¸Â[30;100m processed [37m75%[30;100m of [37m15[30;100m/[37m20[30;100m [37m1.59[30;100m/[37m0.53[30;100m[0m
[13;1f
[2K[37mâÂÂâÂÂâÂÂâÂÂâÂÂâÂÂâÂÂâÂÂâÂÂâÂÂâÂÂâÂÂâÂÂâÂÂâÂÂâÂÂâ âÂÂ[30;100m [37mð¤[30;100m processed [37m80%[30;100m of [37m16[30;100m/[37m20[30;100m [37m1.7[30;100m/[37m0.43[30;100m[0m
[13;1f
[2K[37mâÂÂâÂÂâÂÂâÂÂâÂÂâÂÂâÂÂâÂÂâÂÂâÂÂâÂÂâÂÂâÂÂâÂÂâÂÂâÂÂâÂÂâ âÂÂ[30;100m [37mð´[30;100m processed [37m85%[30;100m of [37m17[30;100m/[37m20[30;100m [37m1.8[30;100m/[37m0.32[30;100m[0m
[13;1f
[2K[37mâÂÂâÂÂâÂÂâÂÂâÂÂâÂÂâÂÂâÂÂâÂÂâÂÂâÂÂâÂÂâÂÂâÂÂâÂÂâÂÂâÂÂâÂÂâ âÂÂ[30;100m [37mð [30;100m processed [37m90%[30;100m of [37m18[30;100m/[37m20[30;100m [37m1.91[30;100m/[37m0.21[30;100m[0m
[13;1f
[2K[37mâÂÂâÂÂâÂÂâÂÂâÂÂâÂÂâÂÂâÂÂâÂÂâÂÂâÂÂâÂÂâÂÂâÂÂâÂÂâÂÂâÂÂâÂÂâÂÂâ âÂÂ[30;100m [37mð¡[30;100m processed [37m95%[30;100m of [37m19[30;100m/[37m20[30;100m [37m2.02[30;100m/[37m0.11[30;100m[0m
[13;1f
[2K[37mâÂÂâÂÂâÂÂâÂÂâÂÂâÂÂâÂÂâÂÂâÂÂâÂÂâÂÂâÂÂâÂÂâÂÂâÂÂâÂÂâÂÂâÂÂâÂÂâÂÂâÂÂâÂÂ[30;100m [37mð¢[30;100m processed [37m100%[30;100m of [37m20[30;100m/[37m20[30;100m [37m2.13[30;100m/[37m0[30;100m[0m
[?25h
[2K[?25l
[15;1f
[2K[37mâÂÂâÂÂ
âÂÂ[30;100m [37mð¡ð£ð¤[30;100m processed [37m5%[30;100m of [37m1[30;100m/[37m20[30;100m [37m0.11[30;100m/[37m2.09[30;100m[0m
[15;1f
[2K[37mâÂÂâÂÂ
âÂÂ
âÂÂ[30;100m [37mð¢â«ï¸Âð´[30;100m processed [37m10%[30;100m of [37m2[30;100m/[37m20[30;100m [37m0.21[30;100m/[37m1.89[30;100m[0m
[15;1f
[2K[37mâÂÂâÂÂ
âÂÂ
âÂÂ
âÂÂ[30;100m [37mðµâªï¸Âð [30;100m processed [37m15%[30;100m of [37m3[30;100m/[37m20[30;100m [37m0.32[30;100m/[37m1.81[30;100m[0m
[15;1f
[2K[37mâÂÂâÂÂ
âÂÂ
âÂÂ
âÂÂ
âÂÂ[30;100m [37mð£ð¤ð¡[30;100m processed [37m20%[30;100m of [37m4[30;100m/[37m20[30;100m [37m0.43[30;100m/[37m1.72[30;100m[0m
[15;1f
[2K[37mâÂÂâÂÂ
âÂÂ
âÂÂ
âÂÂ
âÂÂ
âÂÂ[30;100m [37mâ«ï¸Âð´ð¢[30;100m processed [37m25%[30;100m of [37m5[30;100m/[37m20[30;100m [37m0.54[30;100m/[37m1.62[30;100m[0m
[15;1f
[2K[37mâÂÂâÂÂ
âÂÂ
âÂÂ
âÂÂ
âÂÂ
âÂÂ
âÂÂ[30;100m [37mâªï¸Âð ðµ[30;100m processed [37m30%[30;100m of [37m6[30;100m/[37m20[30;100m [37m0.64[30;100m/[37m1.49[30;100m[0m
[15;1f
[2K[37mâÂÂâÂÂ
âÂÂ
âÂÂ
âÂÂ
âÂÂ
âÂÂ
âÂÂ
âÂÂ[30;100m [37mð¤ð¡ð£[30;100m processed [37m35%[30;100m of [37m7[30;100m/[37m20[30;100m [37m0.75[30;100m/[37m1.39[30;100m[0m
[15;1f
[2K[37mâÂÂâÂÂ
âÂÂ
âÂÂ
âÂÂ
âÂÂ
âÂÂ
âÂÂ
âÂÂ
âÂÂ[30;100m [37mð´ð¢â«ï¸Â[30;100m processed [37m40%[30;100m of [37m8[30;100m/[37m20[30;100m [37m0.85[30;100m/[37m1.27[30;100m[0m
[15;1f
[2K[37mâÂÂâÂÂ
âÂÂ
âÂÂ
âÂÂ
âÂÂ
âÂÂ
âÂÂ
âÂÂ
âÂÂ
âÂÂ[30;100m [37mð ðµâªï¸Â[30;100m processed [37m45%[30;100m of [37m9[30;100m/[37m20[30;100m [37m0.96[30;100m/[37m1.17[30;100m[0m
[15;1f
[2K[37mâÂÂâÂÂ
âÂÂ
âÂÂ
âÂÂ
âÂÂ
âÂÂ
âÂÂ
âÂÂ
âÂÂ
âÂÂ
âÂÂ[30;100m [37mð¡ð£ð¤[30;100m processed [37m50%[30;100m of [37m10[30;100m/[37m20[30;100m [37m1.06[30;100m/[37m1.06[30;100m[0m
[15;1f
[2K[37mâÂÂâÂÂ
âÂÂ
âÂÂ
âÂÂ
âÂÂ
âÂÂ
âÂÂ
âÂÂ
âÂÂ
âÂÂ
âÂÂ
âÂÂ[30;100m [37mð¢â«ï¸Âð´[30;100m processed [37m55%[30;100m of [37m11[30;100m/[37m20[30;100m [37m1.16[30;100m/[37m0.95[30;100m[0m
[15;1f
[2K[37mâÂÂâÂÂ
âÂÂ
âÂÂ
âÂÂ
âÂÂ
âÂÂ
âÂÂ
âÂÂ
âÂÂ
âÂÂ
âÂÂ
âÂÂ
âÂÂ[30;100m [37mðµâªï¸Âð [30;100m processed [37m60%[30;100m of [37m12[30;100m/[37m20[30;100m [37m1.27[30;100m/[37m0.85[30;100m[0m
[15;1f
[2K[37mâÂÂâÂÂ
âÂÂ
âÂÂ
âÂÂ
âÂÂ
âÂÂ
âÂÂ
âÂÂ
âÂÂ
âÂÂ
âÂÂ
âÂÂ
âÂÂ
âÂÂ[30;100m [37mð£ð¤ð¡[30;100m processed [37m65%[30;100m of [37m13[30;100m/[37m20[30;100m [37m1.37[30;100m/[37m0.74[30;100m[0m
[15;1f
[2K[37mâÂÂâÂÂ
âÂÂ
âÂÂ
âÂÂ
âÂÂ
âÂÂ
âÂÂ
âÂÂ
âÂÂ
âÂÂ
âÂÂ
âÂÂ
âÂÂ
âÂÂ
âÂÂ[30;100m [37mâ«ï¸Âð´ð¢[30;100m processed [37m70%[30;100m of [37m14[30;100m/[37m20[30;100m [37m1.48[30;100m/[37m0.63[30;100m[0m
[15;1f
[2K[37mâÂÂâÂÂ
âÂÂ
âÂÂ
âÂÂ
âÂÂ
âÂÂ
âÂÂ
âÂÂ
âÂÂ
âÂÂ
âÂÂ
âÂÂ
âÂÂ
âÂÂ
âÂÂ
âÂÂ[30;100m [37mâªï¸Âð ðµ[30;100m processed [37m75%[30;100m of [37m15[30;100m/[37m20[30;100m [37m1.59[30;100m/[37m0.53[30;100m[0m
[15;1f
[2K[37mâÂÂâÂÂ
âÂÂ
âÂÂ
âÂÂ
âÂÂ
âÂÂ
âÂÂ
âÂÂ
âÂÂ
âÂÂ
âÂÂ
âÂÂ
âÂÂ
âÂÂ
âÂÂ
âÂÂ
âÂÂ[30;100m [37mð¤ð¡ð£[30;100m processed [37m80%[30;100m of [37m16[30;100m/[37m20[30;100m [37m1.69[30;100m/[37m0.42[30;100m[0m
[15;1f
[2K[37mâÂÂâÂÂ
âÂÂ
âÂÂ
âÂÂ
âÂÂ
âÂÂ
âÂÂ
âÂÂ
âÂÂ
âÂÂ
âÂÂ
âÂÂ
âÂÂ
âÂÂ
âÂÂ
âÂÂ
âÂÂ
âÂÂ[30;100m [37mð´ð¢â«ï¸Â[30;100m processed [37m85%[30;100m of [37m17[30;100m/[37m20[30;100m [37m1.8[30;100m/[37m0.32[30;100m[0m
[15;1f
[2K[37mâÂÂâÂÂ
âÂÂ
âÂÂ
âÂÂ
âÂÂ
âÂÂ
âÂÂ
âÂÂ
âÂÂ
âÂÂ
âÂÂ
âÂÂ
âÂÂ
âÂÂ
âÂÂ
âÂÂ
âÂÂ
âÂÂ
âÂÂ[30;100m [37mð ðµâªï¸Â[30;100m processed [37m90%[30;100m of [37m18[30;100m/[37m20[30;100m [37m1.91[30;100m/[37m0.21[30;100m[0m
[15;1f
[2K[37mâÂÂâÂÂ
âÂÂ
âÂÂ
âÂÂ
âÂÂ
âÂÂ
âÂÂ
âÂÂ
âÂÂ
âÂÂ
âÂÂ
âÂÂ
âÂÂ
âÂÂ
âÂÂ
âÂÂ
âÂÂ
âÂÂ
âÂÂ
âÂÂ[30;100m [37mð¡ð£ð¤[30;100m processed [37m95%[30;100m of [37m19[30;100m/[37m20[30;100m [37m2.01[30;100m/[37m0.11[30;100m[0m
[15;1f
[2K[37mâÂÂâÂÂ
âÂÂ
âÂÂ
âÂÂ
âÂÂ
âÂÂ
âÂÂ
âÂÂ
âÂÂ
âÂÂ
âÂÂ
âÂÂ
âÂÂ
âÂÂ
âÂÂ
âÂÂ
âÂÂ
âÂÂ
âÂÂ
âÂÂ
âÂÂ[30;100m [37mð¢â«ï¸Âð´[30;100m processed [37m100%[30;100m of [37m20[30;100m/[37m20[30;100m [37m2.12[30;100m/[37m0[30;100m[0m
[?25h
[2K[?25l
[17;1f
[2K[37mâÂÂâ âÂÂ[30;100m [37mð¨[30;100m processed [37m5%[30;100m of [37m1[30;100m/[37m20[30;100m [37m0.1[30;100m/[37m1.9[30;100m[0m
[17;1f
[2K[37mâÂÂâÂÂâ âÂÂ[30;100m [37mð©[30;100m processed [37m10%[30;100m of [37m2[30;100m/[37m20[30;100m [37m0.21[30;100m/[37m1.89[30;100m[0m
[17;1f
[2K[37mâÂÂâÂÂâÂÂâ âÂÂ[30;100m [37mð¦[30;100m processed [37m15%[30;100m of [37m3[30;100m/[37m20[30;100m [37m0.32[30;100m/[37m1.81[30;100m[0m
[17;1f
[2K[37mâÂÂâÂÂâÂÂâÂÂâ âÂÂ[30;100m [37mðª[30;100m processed [37m20%[30;100m of [37m4[30;100m/[37m20[30;100m [37m0.42[30;100m/[37m1.68[30;100m[0m
[17;1f
[2K[37mâÂÂâÂÂâÂÂâÂÂâÂÂâ âÂÂ[30;100m [37mâ¬Âï¸Â[30;100m processed [37m25%[30;100m of [37m5[30;100m/[37m20[30;100m [37m0.52[30;100m/[37m1.56[30;100m[0m
[17;1f
[2K[37mâÂÂâÂÂâÂÂâÂÂâÂÂâÂÂâ âÂÂ[30;100m [37mâ¬Âï¸Â[30;100m processed [37m30%[30;100m of [37m6[30;100m/[37m20[30;100m [37m0.64[30;100m/[37m1.49[30;100m[0m
[17;1f
[2K[37mâÂÂâÂÂâÂÂâÂÂâÂÂâÂÂâÂÂâ âÂÂ[30;100m [37mð«[30;100m processed [37m35%[30;100m of [37m7[30;100m/[37m20[30;100m [37m0.75[30;100m/[37m1.39[30;100m[0m
[17;1f
[2K[37mâÂÂâÂÂâÂÂâÂÂâÂÂâÂÂâÂÂâÂÂâ âÂÂ[30;100m [37mðÂÂÂ¥[30;100m processed [37m40%[30;100m of [37m8[30;100m/[37m20[30;100m [37m0.85[30;100m/[37m1.27[30;100m[0m
[17;1f
[2K[37mâÂÂâÂÂâÂÂâÂÂâÂÂâÂÂâÂÂâÂÂâÂÂâ âÂÂ[30;100m [37mð§[30;100m processed [37m45%[30;100m of [37m9[30;100m/[37m20[30;100m [37m0.95[30;100m/[37m1.16[30;100m[0m
[17;1f
[2K[37mâÂÂâÂÂâÂÂâÂÂâÂÂâÂÂâÂÂâÂÂâÂÂâÂÂâ âÂÂ[30;100m [37mð¨[30;100m processed [37m50%[30;100m of [37m10[30;100m/[37m20[30;100m [37m1.06[30;100m/[37m1.06[30;100m[0m
[17;1f
[2K[37mâÂÂâÂÂâÂÂâÂÂâÂÂâÂÂâÂÂâÂÂâÂÂâÂÂâÂÂâ âÂÂ[30;100m [37mð©[30;100m processed [37m55%[30;100m of [37m11[30;100m/[37m20[30;100m [37m1.17[30;100m/[37m0.96[30;100m[0m
[17;1f
[2K[37mâÂÂâÂÂâÂÂâÂÂâÂÂâÂÂâÂÂâÂÂâÂÂâÂÂâÂÂâÂÂâ âÂÂ[30;100m [37mð¦[30;100m processed [37m60%[30;100m of [37m12[30;100m/[37m20[30;100m [37m1.28[30;100m/[37m0.85[30;100m[0m
[17;1f
[2K[37mâÂÂâÂÂâÂÂâÂÂâÂÂâÂÂâÂÂâÂÂâÂÂâÂÂâÂÂâÂÂâÂÂâ âÂÂ[30;100m [37mðª[30;100m processed [37m65%[30;100m of [37m13[30;100m/[37m20[30;100m [37m1.39[30;100m/[37m0.75[30;100m[0m
[17;1f
[2K[37mâÂÂâÂÂâÂÂâÂÂâÂÂâÂÂâÂÂâÂÂâÂÂâÂÂâÂÂâÂÂâÂÂâÂÂâ âÂÂ[30;100m [37mâ¬Âï¸Â[30;100m processed [37m70%[30;100m of [37m14[30;100m/[37m20[30;100m [37m1.49[30;100m/[37m0.64[30;100m[0m
[17;1f
[2K[37mâÂÂâÂÂâÂÂâÂÂâÂÂâÂÂâÂÂâÂÂâÂÂâÂÂâÂÂâÂÂâÂÂâÂÂâÂÂâ âÂÂ[30;100m [37mâ¬Âï¸Â[30;100m processed [37m75%[30;100m of [37m15[30;100m/[37m20[30;100m [37m1.6[30;100m/[37m0.53[30;100m[0m
[17;1f
[2K[37mâÂÂâÂÂâÂÂâÂÂâÂÂâÂÂâÂÂâÂÂâÂÂâÂÂâÂÂâÂÂâÂÂâÂÂâÂÂâÂÂâ âÂÂ[30;100m [37mð«[30;100m processed [37m80%[30;100m of [37m16[30;100m/[37m20[30;100m [37m1.71[30;100m/[37m0.43[30;100m[0m
[17;1f
[2K[37mâÂÂâÂÂâÂÂâÂÂâÂÂâÂÂâÂÂâÂÂâÂÂâÂÂâÂÂâÂÂâÂÂâÂÂâÂÂâÂÂâÂÂâ âÂÂ[30;100m [37mðÂÂÂ¥[30;100m processed [37m85%[30;100m of [37m17[30;100m/[37m20[30;100m [37m1.81[30;100m/[37m0.32[30;100m[0m
[17;1f
[2K[37mâÂÂâÂÂâÂÂâÂÂâÂÂâÂÂâÂÂâÂÂâÂÂâÂÂâÂÂâÂÂâÂÂâÂÂâÂÂâÂÂâÂÂâÂÂâ âÂÂ[30;100m [37mð§[30;100m processed [37m90%[30;100m of [37m18[30;100m/[37m20[30;100m [37m1.92[30;100m/[37m0.21[30;100m[0m
[17;1f
[2K[37mâÂÂâÂÂâÂÂâÂÂâÂÂâÂÂâÂÂâÂÂâÂÂâÂÂâÂÂâÂÂâÂÂâÂÂâÂÂâÂÂâÂÂâÂÂâÂÂâ âÂÂ[30;100m [37mð¨[30;100m processed [37m95%[30;100m of [37m19[30;100m/[37m20[30;100m [37m2.03[30;100m/[37m0.11[30;100m[0m
[17;1f
[2K[37mâÂÂâÂÂâÂÂâÂÂâÂÂâÂÂâÂÂâÂÂâÂÂâÂÂâÂÂâÂÂâÂÂâÂÂâÂÂâÂÂâÂÂâÂÂâÂÂâÂÂâÂÂâÂÂ[30;100m [37mð©[30;100m processed [37m100%[30;100m of [37m20[30;100m/[37m20[30;100m [37m2.14[30;100m/[37m0[30;100m[0m
[?25h
[2K[?25l
[19;1f
[2K[37m[= ][30;100m [37mð¨ð¦â¬Âï¸Â[30;100m processed [37m5%[30;100m of [37m1[30;100m/[37m20[30;100m [37m0.11[30;100m/[37m2.09[30;100m[0m
[19;1f
[2K[37m[== ][30;100m [37mð©ðªð«[30;100m processed [37m10%[30;100m of [37m2[30;100m/[37m20[30;100m [37m0.22[30;100m/[37m1.98[30;100m[0m
[19;1f
[2K[37m[=== ][30;100m [37mð¦â¬Âï¸ÂðÂÂÂ¥[30;100m processed [37m15%[30;100m of [37m3[30;100m/[37m20[30;100m [37m0.33[30;100m/[37m1.87[30;100m[0m
[19;1f
[2K[37m[==== ][30;100m [37mðªâ¬Âï¸Âð§[30;100m processed [37m20%[30;100m of [37m4[30;100m/[37m20[30;100m [37m0.44[30;100m/[37m1.76[30;100m[0m
[19;1f
[2K[37m[===== ][30;100m [37mâ¬Âï¸Âð«ð¨[30;100m processed [37m25%[30;100m of [37m5[30;100m/[37m20[30;100m [37m0.54[30;100m/[37m1.62[30;100m[0m
[19;1f
[2K[37m[====== ][30;100m [37mâ¬Âï¸ÂðÂÂ¥ð©[30;100m processed [37m30%[30;100m of [37m6[30;100m/[37m20[30;100m [37m0.65[30;100m/[37m1.52[30;100m[0m
[19;1f
[2K[37m[======= ][30;100m [37mð«ð§ð¦[30;100m processed [37m35%[30;100m of [37m7[30;100m/[37m20[30;100m [37m0.75[30;100m/[37m1.39[30;100m[0m
[19;1f
[2K[37m[======== ][30;100m [37mðÂÂ¥ð¨ðª[30;100m processed [37m40%[30;100m of [37m8[30;100m/[37m20[30;100m [37m0.86[30;100m/[37m1.29[30;100m[0m
[19;1f
[2K[37m[========= ][30;100m [37mð§ð©â¬Âï¸Â[30;100m processed [37m45%[30;100m of [37m9[30;100m/[37m20[30;100m [37m0.97[30;100m/[37m1.19[30;100m[0m
[19;1f
[2K[37m[========== ][30;100m [37mð¨ð¦â¬Âï¸Â[30;100m processed [37m50%[30;100m of [37m10[30;100m/[37m20[30;100m [37m1.08[30;100m/[37m1.08[30;100m[0m
[19;1f
[2K[37m[=========== ][30;100m [37mð©ðªð«[30;100m processed [37m55%[30;100m of [37m11[30;100m/[37m20[30;100m [37m1.19[30;100m/[37m0.97[30;100m[0m
[19;1f
[2K[37m[============ ][30;100m [37mð¦â¬Âï¸ÂðÂÂÂ¥[30;100m processed [37m60%[30;100m of [37m12[30;100m/[37m20[30;100m [37m1.29[30;100m/[37m0.86[30;100m[0m
[19;1f
[2K[37m[============= ][30;100m [37mðªâ¬Âï¸Âð§[30;100m processed [37m65%[30;100m of [37m13[30;100m/[37m20[30;100m [37m1.4[30;100m/[37m0.75[30;100m[0m
[19;1f
[2K[37m[============== ][30;100m [37mâ¬Âï¸Âð«ð¨[30;100m processed [37m70%[30;100m of [37m14[30;100m/[37m20[30;100m [37m1.51[30;100m/[37m0.65[30;100m[0m
[19;1f
[2K[37m[=============== ][30;100m [37mâ¬Âï¸ÂðÂÂ¥ð©[30;100m processed [37m75%[30;100m of [37m15[30;100m/[37m20[30;100m [37m1.62[30;100m/[37m0.54[30;100m[0m
[19;1f
[2K[37m[================ ][30;100m [37mð«ð§ð¦[30;100m processed [37m80%[30;100m of [37m16[30;100m/[37m20[30;100m [37m1.73[30;100m/[37m0.43[30;100m[0m
[19;1f
[2K[37m[================= ][30;100m [37mðÂÂ¥ð¨ðª[30;100m processed [37m85%[30;100m of [37m17[30;100m/[37m20[30;100m [37m1.84[30;100m/[37m0.32[30;100m[0m
[19;1f
[2K[37m[================== ][30;100m [37mð§ð©â¬Âï¸Â[30;100m processed [37m90%[30;100m of [37m18[30;100m/[37m20[30;100m [37m1.94[30;100m/[37m0.22[30;100m[0m
[19;1f
[2K[37m[=================== ][30;100m [37mð¨ð¦â¬Âï¸Â[30;100m processed [37m95%[30;100m of [37m19[30;100m/[37m20[30;100m [37m2.05[30;100m/[37m0.11[30;100m[0m
[19;1f
[2K[37m[====================][30;100m [37mð©ðªð«[30;100m processed [37m100%[30;100m of [37m20[30;100m/[37m20[30;100m [37m2.16[30;100m/[37m0[30;100m[0m
[?25h
[2K[?25l
[21;1f
[2K[37m[# ][30;100m [37mâ ¹[30;100m processed [37m5%[30;100m of [37m1[30;100m/[37m20[30;100m [37m0.1[30;100m/[37m1.9[30;100m[0m
[21;1f
[2K[37m[## ][30;100m [37mâ ¸[30;100m processed [37m10%[30;100m of [37m2[30;100m/[37m20[30;100m [37m0.21[30;100m/[37m1.89[30;100m[0m
[21;1f
[2K[37m[### ][30;100m [37mâ ¼[30;100m processed [37m15%[30;100m of [37m3[30;100m/[37m20[30;100m [37m0.31[30;100m/[37m1.76[30;100m[0m
[21;1f
[2K[37m[#### ][30;100m [37mâ ´[30;100m processed [37m20%[30;100m of [37m4[30;100m/[37m20[30;100m [37m0.42[30;100m/[37m1.68[30;100m[0m
[21;1f
[2K[37m[##### ][30;100m [37mâ ¦[30;100m processed [37m25%[30;100m of [37m5[30;100m/[37m20[30;100m [37m0.53[30;100m/[37m1.59[30;100m[0m
[21;1f
[2K[37m[###### ][30;100m [37mâ §[30;100m processed [37m30%[30;100m of [37m6[30;100m/[37m20[30;100m [37m0.64[30;100m/[37m1.49[30;100m[0m
[21;1f
[2K[37m[####### ][30;100m [37mâ Â[30;100m processed [37m35%[30;100m of [37m7[30;100m/[37m20[30;100m [37m0.75[30;100m/[37m1.39[30;100m[0m
[21;1f
[2K[37m[######## ][30;100m [37mâ Â[30;100m processed [37m40%[30;100m of [37m8[30;100m/[37m20[30;100m [37m0.86[30;100m/[37m1.29[30;100m[0m
[21;1f
[2K[37m[######### ][30;100m [37mâ Â[30;100m processed [37m45%[30;100m of [37m9[30;100m/[37m20[30;100m [37m0.97[30;100m/[37m1.19[30;100m[0m
[21;1f
[2K[37m[########## ][30;100m [37mâ Â[30;100m processed [37m50%[30;100m of [37m10[30;100m/[37m20[30;100m [37m1.07[30;100m/[37m1.07[30;100m[0m
[21;1f
[2K[37m[########### ][30;100m [37mâ ¹[30;100m processed [37m55%[30;100m of [37m11[30;100m/[37m20[30;100m [37m1.18[30;100m/[37m0.97[30;100m[0m
[21;1f
[2K[37m[############ ][30;100m [37mâ ¸[30;100m processed [37m60%[30;100m of [37m12[30;100m/[37m20[30;100m [37m1.29[30;100m/[37m0.86[30;100m[0m
[21;1f
[2K[37m[############# ][30;100m [37mâ ¼[30;100m processed [37m65%[30;100m of [37m13[30;100m/[37m20[30;100m [37m1.4[30;100m/[37m0.75[30;100m[0m
[21;1f
[2K[37m[############## ][30;100m [37mâ ´[30;100m processed [37m70%[30;100m of [37m14[30;100m/[37m20[30;100m [37m1.5[30;100m/[37m0.64[30;100m[0m
[21;1f
[2K[37m[############### ][30;100m [37mâ ¦[30;100m processed [37m75%[30;100m of [37m15[30;100m/[37m20[30;100m [37m1.61[30;100m/[37m0.54[30;100m[0m
[21;1f
[2K[37m[################ ][30;100m [37mâ §[30;100m processed [37m80%[30;100m of [37m16[30;100m/[37m20[30;100m [37m1.71[30;100m/[37m0.43[30;100m[0m
[21;1f
[2K[37m[################# ][30;100m [37mâ Â[30;100m processed [37m85%[30;100m of [37m17[30;100m/[37m20[30;100m [37m1.82[30;100m/[37m0.32[30;100m[0m
[21;1f
[2K[37m[################## ][30;100m [37mâ Â[30;100m processed [37m90%[30;100m of [37m18[30;100m/[37m20[30;100m [37m1.92[30;100m/[37m0.21[30;100m[0m
[21;1f
[2K[37m[################### ][30;100m [37mâ Â[30;100m processed [37m95%[30;100m of [37m19[30;100m/[37m20[30;100m [37m2.02[30;100m/[37m0.11[30;100m[0m
[21;1f
[2K[37m[####################][30;100m [37mâ Â[30;100m processed [37m100%[30;100m of [37m20[30;100m/[37m20[30;100m [37m2.13[30;100m/[37m0[30;100m[0m
[?25h
[2K[?25l
[23;1f
[2K[37mâÂÂ⤠âÂÂ[30;100m [37mðÂÂÂ[30;100m processed [37m5%[30;100m of [37m1[30;100m/[37m20[30;100m [37m0.11[30;100m/[37m2.09[30;100m[0m
[23;1f
[2K[37mâÂÂâ¤â¤ âÂÂ[30;100m [37mðÂÂÂ[30;100m processed [37m10%[30;100m of [37m2[30;100m/[37m20[30;100m [37m0.22[30;100m/[37m1.98[30;100m[0m
[23;1f
[2K[37mâÂÂâ¤â¤â¤ âÂÂ[30;100m [37mðÂÂÂ[30;100m processed [37m15%[30;100m of [37m3[30;100m/[37m20[30;100m [37m0.33[30;100m/[37m1.87[30;100m[0m
[23;1f
[2K[37mâÂÂâ¤â¤â¤â¤ âÂÂ[30;100m [37mðÂÂÂ[30;100m processed [37m20%[30;100m of [37m4[30;100m/[37m20[30;100m [37m0.44[30;100m/[37m1.76[30;100m[0m
[23;1f
[2K[37mâÂÂâ¤â¤â¤â¤â¤ âÂÂ[30;100m [37mðÂÂÂ[30;100m processed [37m25%[30;100m of [37m5[30;100m/[37m20[30;100m [37m0.55[30;100m/[37m1.65[30;100m[0m
[23;1f
[2K[37mâÂÂâ¤â¤â¤â¤â¤â¤ âÂÂ[30;100m [37mðÂÂÂ[30;100m processed [37m30%[30;100m of [37m6[30;100m/[37m20[30;100m [37m0.66[30;100m/[37m1.54[30;100m[0m
[23;1f
[2K[37mâÂÂâ¤â¤â¤â¤â¤â¤â¤ âÂÂ[30;100m [37mðÂÂÂ[30;100m processed [37m35%[30;100m of [37m7[30;100m/[37m20[30;100m [37m0.77[30;100m/[37m1.43[30;100m[0m
[23;1f
[2K[37mâÂÂâ¤â¤â¤â¤â¤â¤â¤â¤ âÂÂ[30;100m [37mðÂÂÂ[30;100m processed [37m40%[30;100m of [37m8[30;100m/[37m20[30;100m [37m0.88[30;100m/[37m1.32[30;100m[0m
[23;1f
[2K[37mâÂÂâ¤â¤â¤â¤â¤â¤â¤â¤â¤ âÂÂ[30;100m [37mðÂÂÂ[30;100m processed [37m45%[30;100m of [37m9[30;100m/[37m20[30;100m [37m0.99[30;100m/[37m1.21[30;100m[0m
[23;1f
[2K[37mâÂÂâ¤â¤â¤â¤â¤â¤â¤â¤â¤â¤ âÂÂ[30;100m [37mðÂÂÂ[30;100m processed [37m50%[30;100m of [37m10[30;100m/[37m20[30;100m [37m1.09[30;100m/[37m1.09[30;100m[0m
[23;1f
[2K[37mâÂÂâ¤â¤â¤â¤â¤â¤â¤â¤â¤â¤â¤ âÂÂ[30;100m [37mðÂÂÂ[30;100m processed [37m55%[30;100m of [37m11[30;100m/[37m20[30;100m [37m1.2[30;100m/[37m0.98[30;100m[0m
[23;1f
[2K[37mâÂÂâ¤â¤â¤â¤â¤â¤â¤â¤â¤â¤â¤â¤ âÂÂ[30;100m [37mðÂÂÂ[30;100m processed [37m60%[30;100m of [37m12[30;100m/[37m20[30;100m [37m1.31[30;100m/[37m0.87[30;100m[0m
[23;1f
[2K[37mâÂÂâ¤â¤â¤â¤â¤â¤â¤â¤â¤â¤â¤â¤â¤ âÂÂ[30;100m [37mðÂÂÂ[30;100m processed [37m65%[30;100m of [37m13[30;100m/[37m20[30;100m [37m1.42[30;100m/[37m0.76[30;100m[0m
[23;1f
[2K[37mâÂÂâ¤â¤â¤â¤â¤â¤â¤â¤â¤â¤â¤â¤â¤â¤ âÂÂ[30;100m [37mðÂÂÂ[30;100m processed [37m70%[30;100m of [37m14[30;100m/[37m20[30;100m [37m1.53[30;100m/[37m0.66[30;100m[0m
[23;1f
[2K[37mâÂÂâ¤â¤â¤â¤â¤â¤â¤â¤â¤â¤â¤â¤â¤â¤â¤ âÂÂ[30;100m [37mðÂÂÂ[30;100m processed [37m75%[30;100m of [37m15[30;100m/[37m20[30;100m [37m1.64[30;100m/[37m0.55[30;100m[0m
[23;1f
[2K[37mâÂÂâ¤â¤â¤â¤â¤â¤â¤â¤â¤â¤â¤â¤â¤â¤â¤â¤ âÂÂ[30;100m [37mðÂÂÂ[30;100m processed [37m80%[30;100m of [37m16[30;100m/[37m20[30;100m [37m1.74[30;100m/[37m0.43[30;100m[0m
[23;1f
[2K[37mâÂÂâ¤â¤â¤â¤â¤â¤â¤â¤â¤â¤â¤â¤â¤â¤â¤â¤â¤ âÂÂ[30;100m [37mðÂÂÂ[30;100m processed [37m85%[30;100m of [37m17[30;100m/[37m20[30;100m [37m1.85[30;100m/[37m0.33[30;100m[0m
[23;1f
[2K[37mâÂÂâ¤â¤â¤â¤â¤â¤â¤â¤â¤â¤â¤â¤â¤â¤â¤â¤â¤â¤ âÂÂ[30;100m [37mðÂÂÂ[30;100m processed [37m90%[30;100m of [37m18[30;100m/[37m20[30;100m [37m1.96[30;100m/[37m0.22[30;100m[0m
[23;1f
[2K[37mâÂÂâ¤â¤â¤â¤â¤â¤â¤â¤â¤â¤â¤â¤â¤â¤â¤â¤â¤â¤â¤ âÂÂ[30;100m [37mðÂÂÂ[30;100m processed [37m95%[30;100m of [37m19[30;100m/[37m20[30;100m [37m2.06[30;100m/[37m0.11[30;100m[0m
[23;1f
[2K[37mâÂÂâ¤â¤â¤â¤â¤â¤â¤â¤â¤â¤â¤â¤â¤â¤â¤â¤â¤â¤â¤â¤âÂÂ[30;100m [37mðÂÂÂ[30;100m processed [37m100%[30;100m of [37m20[30;100m/[37m20[30;100m [37m2.17[30;100m/[37m0[30;100m[0m
[?25h
[2K[?25l
[25;1f
[2K[37mâÂÂâ¡ âÂÂ[30;100m [37mâÂÂâÂÂâÂÂâÂÂâÂÂâÂÂâÂÂâÂÂâÂÂâÂÂâÂÂâÂÂâÂÂâÂÂâÂÂâÂÂâÂÂâÂÂâÂÂâÂÂ[30;100m processed [37m5%[30;100m of [37m1[30;100m/[37m20[30;100m [37m0.11[30;100m/[37m2.09[30;100m[0m
[25;1f
[2K[37mâÂÂâ¡â¡ âÂÂ[30;100m [37mâÂÂâÂÂâÂÂâÂÂâÂÂâÂÂâÂÂâÂÂâÂÂâÂÂâÂÂâÂÂâÂÂâÂÂâÂÂâÂÂâÂÂâÂÂâÂÂâÂÂ[30;100m processed [37m10%[30;100m of [37m2[30;100m/[37m20[30;100m [37m0.22[30;100m/[37m1.98[30;100m[0m
[25;1f
[2K[37mâÂÂâ¡â¡â¡ âÂÂ[30;100m [37mâÂÂâÂÂâÂÂâÂÂâÂÂâÂÂâÂÂâÂÂâÂÂâÂÂâÂÂâÂÂâÂÂâÂÂâÂÂâÂÂâÂÂâÂÂâÂÂâÂÂ[30;100m processed [37m15%[30;100m of [37m3[30;100m/[37m20[30;100m [37m0.33[30;100m/[37m1.87[30;100m[0m
[25;1f
[2K[37mâÂÂâ¡â¡â¡â¡ âÂÂ[30;100m [37mâÂÂâÂÂâÂÂâÂÂâÂÂâÂÂâÂÂâÂÂâÂÂâÂÂâÂÂâÂÂâÂÂâÂÂâÂÂâÂÂâÂÂâÂÂâÂÂâÂÂ[30;100m processed [37m20%[30;100m of [37m4[30;100m/[37m20[30;100m [37m0.44[30;100m/[37m1.76[30;100m[0m
[25;1f
[2K[37mâÂÂâ¡â¡â¡â¡â¡ âÂÂ[30;100m [37mâÂÂâÂÂâÂÂâÂÂâÂÂâÂÂâÂÂâÂÂâÂÂâÂÂâÂÂâÂÂâÂÂâÂÂâÂÂâÂÂâÂÂâÂÂâÂÂâÂÂ[30;100m processed [37m25%[30;100m of [37m5[30;100m/[37m20[30;100m [37m0.56[30;100m/[37m1.68[30;100m[0m
[25;1f
[2K[37mâÂÂâ¡â¡â¡â¡â¡â¡ âÂÂ[30;100m [37mâÂÂâÂÂâÂÂâÂÂâÂÂâÂÂâÂÂâÂÂâÂÂâÂÂâÂÂâÂÂâÂÂâÂÂâÂÂâÂÂâÂÂâÂÂâÂÂâÂÂ[30;100m processed [37m30%[30;100m of [37m6[30;100m/[37m20[30;100m [37m0.67[30;100m/[37m1.56[30;100m[0m
[25;1f
[2K[37mâÂÂâ¡â¡â¡â¡â¡â¡â¡ âÂÂ[30;100m [37mâÂÂâÂÂâÂÂâÂÂâÂÂâÂÂâÂÂâÂÂâÂÂâÂÂâÂÂâÂÂâÂÂâÂÂâÂÂâÂÂâÂÂâÂÂâÂÂâÂÂ[30;100m processed [37m35%[30;100m of [37m7[30;100m/[37m20[30;100m [37m0.78[30;100m/[37m1.45[30;100m[0m
[25;1f
[2K[37mâÂÂâ¡â¡â¡â¡â¡â¡â¡â¡ âÂÂ[30;100m [37mâÂÂâÂÂâÂÂâÂÂâÂÂâÂÂâÂÂâÂÂâÂÂâÂÂâÂÂâÂÂâÂÂâÂÂâÂÂâÂÂâÂÂâÂÂâÂÂâÂÂ[30;100m processed [37m40%[30;100m of [37m8[30;100m/[37m20[30;100m [37m0.88[30;100m/[37m1.32[30;100m[0m
[25;1f
[2K[37mâÂÂâ¡â¡â¡â¡â¡â¡â¡â¡â¡ âÂÂ[30;100m [37mâÂÂâÂÂâÂÂâÂÂâÂÂâÂÂâÂÂâÂÂâÂÂâÂÂâÂÂâÂÂâÂÂâÂÂâÂÂâÂÂâÂÂâÂÂâÂÂâÂÂ[30;100m processed [37m45%[30;100m of [37m9[30;100m/[37m20[30;100m [37m0.99[30;100m/[37m1.21[30;100m[0m
[25;1f
[2K[37mâÂÂâ¡â¡â¡â¡â¡â¡â¡â¡â¡â¡ âÂÂ[30;100m [37mâÂÂâÂÂâÂÂâÂÂâÂÂâÂÂâÂÂâÂÂâÂÂâÂÂâÂÂâÂÂâÂÂâÂÂâÂÂâÂÂâÂÂâÂÂâÂÂâÂÂ[30;100m processed [37m50%[30;100m of [37m10[30;100m/[37m20[30;100m [37m1.09[30;100m/[37m1.09[30;100m[0m
[25;1f
[2K[37mâÂÂâ¡â¡â¡â¡â¡â¡â¡â¡â¡â¡â¡ âÂÂ[30;100m [37mâÂÂâÂÂâÂÂâÂÂâÂÂâÂÂâÂÂâÂÂâÂÂâÂÂâÂÂâÂÂâÂÂâÂÂâÂÂâÂÂâÂÂâÂÂâÂÂâÂÂ[30;100m processed [37m55%[30;100m of [37m11[30;100m/[37m20[30;100m [37m1.2[30;100m/[37m0.98[30;100m[0m
[25;1f
[2K[37mâÂÂâ¡â¡â¡â¡â¡â¡â¡â¡â¡â¡â¡â¡ âÂÂ[30;100m [37mâÂÂâÂÂâÂÂâÂÂâÂÂâÂÂâÂÂâÂÂâÂÂâÂÂâÂÂâÂÂâÂÂâÂÂâÂÂâÂÂâÂÂâÂÂâÂÂâÂÂ[30;100m processed [37m60%[30;100m of [37m12[30;100m/[37m20[30;100m [37m1.31[30;100m/[37m0.87[30;100m[0m
[25;1f
[2K[37mâÂÂâ¡â¡â¡â¡â¡â¡â¡â¡â¡â¡â¡â¡â¡ âÂÂ[30;100m [37mâÂÂâÂÂâÂÂâÂÂâÂÂâÂÂâÂÂâÂÂâÂÂâÂÂâÂÂâÂÂâÂÂâÂÂâÂÂâÂÂâÂÂâÂÂâÂÂâÂÂ[30;100m processed [37m65%[30;100m of [37m13[30;100m/[37m20[30;100m [37m1.42[30;100m/[37m0.76[30;100m[0m
[25;1f
[2K[37mâÂÂâ¡â¡â¡â¡â¡â¡â¡â¡â¡â¡â¡â¡â¡â¡ âÂÂ[30;100m [37mâÂÂâÂÂâÂÂâÂÂâÂÂâÂÂâÂÂâÂÂâÂÂâÂÂâÂÂâÂÂâÂÂâÂÂâÂÂâÂÂâÂÂâÂÂâÂÂâÂÂ[30;100m processed [37m70%[30;100m of [37m14[30;100m/[37m20[30;100m [37m1.53[30;100m/[37m0.66[30;100m[0m
[25;1f
[2K[37mâÂÂâ¡â¡â¡â¡â¡â¡â¡â¡â¡â¡â¡â¡â¡â¡â¡ âÂÂ[30;100m [37mâÂÂâÂÂâÂÂâÂÂâÂÂâÂÂâÂÂâÂÂâÂÂâÂÂâÂÂâÂÂâÂÂâÂÂâÂÂâÂÂâÂÂâÂÂâÂÂâÂÂ[30;100m processed [37m75%[30;100m of [37m15[30;100m/[37m20[30;100m [37m1.64[30;100m/[37m0.55[30;100m[0m
[25;1f
[2K[37mâÂÂâ¡â¡â¡â¡â¡â¡â¡â¡â¡â¡â¡â¡â¡â¡â¡â¡ âÂÂ[30;100m [37mâÂÂâÂÂâÂÂâÂÂâÂÂâÂÂâÂÂâÂÂâÂÂâÂÂâÂÂâÂÂâÂÂâÂÂâÂÂâÂÂâÂÂâÂÂâÂÂâÂÂ[30;100m processed [37m80%[30;100m of [37m16[30;100m/[37m20[30;100m [37m1.74[30;100m/[37m0.43[30;100m[0m
[25;1f
[2K[37mâÂÂâ¡â¡â¡â¡â¡â¡â¡â¡â¡â¡â¡â¡â¡â¡â¡â¡â¡ âÂÂ[30;100m [37mâÂÂâÂÂâÂÂâÂÂâÂÂâÂÂâÂÂâÂÂâÂÂâÂÂâÂÂâÂÂâÂÂâÂÂâÂÂâÂÂâÂÂâÂÂâÂÂâÂÂ[30;100m processed [37m85%[30;100m of [37m17[30;100m/[37m20[30;100m [37m1.85[30;100m/[37m0.33[30;100m[0m
[25;1f
[2K[37mâÂÂâ¡â¡â¡â¡â¡â¡â¡â¡â¡â¡â¡â¡â¡â¡â¡â¡â¡â¡ âÂÂ[30;100m [37mâÂÂâÂÂâÂÂâÂÂâÂÂâÂÂâÂÂâÂÂâÂÂâÂÂâÂÂâÂÂâÂÂâÂÂâÂÂâÂÂâÂÂâÂÂâÂÂâÂÂ[30;100m processed [37m90%[30;100m of [37m18[30;100m/[37m20[30;100m [37m1.96[30;100m/[37m0.22[30;100m[0m
[25;1f
[2K[37mâÂÂâ¡â¡â¡â¡â¡â¡â¡â¡â¡â¡â¡â¡â¡â¡â¡â¡â¡â¡â¡ âÂÂ[30;100m [37mâÂÂâÂÂâÂÂâÂÂâÂÂâÂÂâÂÂâÂÂâÂÂâÂÂâÂÂâÂÂâÂÂâÂÂâÂÂâÂÂâÂÂâÂÂâÂÂâÂÂ[30;100m processed [37m95%[30;100m of [37m19[30;100m/[37m20[30;100m [37m2.06[30;100m/[37m0.11[30;100m[0m
[25;1f
[2K[37mâÂÂâ¡â¡â¡â¡â¡â¡â¡â¡â¡â¡â¡â¡â¡â¡â¡â¡â¡â¡â¡â¡âÂÂ[30;100m [37mâÂÂâÂÂâÂÂâÂÂâÂÂâÂÂâÂÂâÂÂâÂÂâÂÂâÂÂâÂÂâÂÂâÂÂâÂÂâÂÂâÂÂâÂÂâÂÂâÂÂ[30;100m processed [37m100%[30;100m of [37m20[30;100m/[37m20[30;100m [37m2.17[30;100m/[37m0[30;100m[0m
[?25h
[2K[?25l
[27;1f
[2K[37mâÂÂ⪠âÂÂ[30;100m [37mð [30;100m processed [37m5%[30;100m of [37m1[30;100m/[37m20[30;100m [37m0.11[30;100m/[37m2.09[30;100m[0m
[27;1f
[2K[37mâÂÂâªâª âÂÂ[30;100m [37mð [30;100m processed [37m10%[30;100m of [37m2[30;100m/[37m20[30;100m [37m0.22[30;100m/[37m1.98[30;100m[0m
[27;1f
[2K[37mâÂÂâªâªâª âÂÂ[30;100m [37mð [30;100m processed [37m15%[30;100m of [37m3[30;100m/[37m20[30;100m [37m0.33[30;100m/[37m1.87[30;100m[0m
[27;1f
[2K[37mâÂÂâªâªâªâª âÂÂ[30;100m [37mð [30;100m processed [37m20%[30;100m of [37m4[30;100m/[37m20[30;100m [37m0.44[30;100m/[37m1.76[30;100m[0m
[27;1f
[2K[37mâÂÂâªâªâªâªâª âÂÂ[30;100m [37mð [30;100m processed [37m25%[30;100m of [37m5[30;100m/[37m20[30;100m [37m0.54[30;100m/[37m1.62[30;100m[0m
[27;1f
[2K[37mâÂÂâªâªâªâªâªâª âÂÂ[30;100m [37mð [30;100m processed [37m30%[30;100m of [37m6[30;100m/[37m20[30;100m [37m0.65[30;100m/[37m1.52[30;100m[0m
[27;1f
[2K[37mâÂÂâªâªâªâªâªâªâª âÂÂ[30;100m [37mð [30;100m processed [37m35%[30;100m of [37m7[30;100m/[37m20[30;100m [37m0.75[30;100m/[37m1.39[30;100m[0m
[27;1f
[2K[37mâÂÂâªâªâªâªâªâªâªâª âÂÂ[30;100m [37mð [30;100m processed [37m40%[30;100m of [37m8[30;100m/[37m20[30;100m [37m0.87[30;100m/[37m1.3[30;100m[0m
[27;1f
[2K[37mâÂÂâªâªâªâªâªâªâªâªâª âÂÂ[30;100m [37mð [30;100m processed [37m45%[30;100m of [37m9[30;100m/[37m20[30;100m [37m0.98[30;100m/[37m1.2[30;100m[0m
[27;1f
[2K[37mâÂÂâªâªâªâªâªâªâªâªâªâª âÂÂ[30;100m [37mð [30;100m processed [37m50%[30;100m of [37m10[30;100m/[37m20[30;100m [37m1.09[30;100m/[37m1.09[30;100m[0m
[27;1f
[2K[37mâÂÂâªâªâªâªâªâªâªâªâªâªâª âÂÂ[30;100m [37mð [30;100m processed [37m55%[30;100m of [37m11[30;100m/[37m20[30;100m [37m1.19[30;100m/[37m0.97[30;100m[0m
[27;1f
[2K[37mâÂÂâªâªâªâªâªâªâªâªâªâªâªâª âÂÂ[30;100m [37mð [30;100m processed [37m60%[30;100m of [37m12[30;100m/[37m20[30;100m [37m1.3[30;100m/[37m0.87[30;100m[0m
[27;1f
[2K[37mâÂÂâªâªâªâªâªâªâªâªâªâªâªâªâª âÂÂ[30;100m [37mð [30;100m processed [37m65%[30;100m of [37m13[30;100m/[37m20[30;100m [37m1.4[30;100m/[37m0.75[30;100m[0m
[27;1f
[2K[37mâÂÂâªâªâªâªâªâªâªâªâªâªâªâªâªâª âÂÂ[30;100m [37mð [30;100m processed [37m70%[30;100m of [37m14[30;100m/[37m20[30;100m [37m1.51[30;100m/[37m0.65[30;100m[0m
[27;1f
[2K[37mâÂÂâªâªâªâªâªâªâªâªâªâªâªâªâªâªâª âÂÂ[30;100m [37mð [30;100m processed [37m75%[30;100m of [37m15[30;100m/[37m20[30;100m [37m1.62[30;100m/[37m0.54[30;100m[0m
[27;1f
[2K[37mâÂÂâªâªâªâªâªâªâªâªâªâªâªâªâªâªâªâª âÂÂ[30;100m [37mð [30;100m processed [37m80%[30;100m of [37m16[30;100m/[37m20[30;100m [37m1.73[30;100m/[37m0.43[30;100m[0m
[27;1f
[2K[37mâÂÂâªâªâªâªâªâªâªâªâªâªâªâªâªâªâªâªâª âÂÂ[30;100m [37mð [30;100m processed [37m85%[30;100m of [37m17[30;100m/[37m20[30;100m [37m1.84[30;100m/[37m0.32[30;100m[0m
[27;1f
[2K[37mâÂÂâªâªâªâªâªâªâªâªâªâªâªâªâªâªâªâªâªâª âÂÂ[30;100m [37mð [30;100m processed [37m90%[30;100m of [37m18[30;100m/[37m20[30;100m [37m1.95[30;100m/[37m0.22[30;100m[0m
[27;1f
[2K[37mâÂÂâªâªâªâªâªâªâªâªâªâªâªâªâªâªâªâªâªâªâª âÂÂ[30;100m [37mð [30;100m processed [37m95%[30;100m of [37m19[30;100m/[37m20[30;100m [37m2.06[30;100m/[37m0.11[30;100m[0m
[27;1f
[2K[37mâÂÂâªâªâªâªâªâªâªâªâªâªâªâªâªâªâªâªâªâªâªâªâÂÂ[30;100m [37mð [30;100m processed [37m100%[30;100m of [37m20[30;100m/[37m20[30;100m [37m2.16[30;100m/[37m0[30;100m[0m
[?25h
[2K[?25l
[29;1f
[2K[37mâÂÂâ âÂÂ[30;100m [37mâ´[30;100m processed [37m5%[30;100m of [37m1[30;100m/[37m20[30;100m [37m0.11[30;100m/[37m2.09[30;100m[0m
[29;1f
[2K[37mâÂÂâ â âÂÂ[30;100m [37mâÂÂ[30;100m processed [37m10%[30;100m of [37m2[30;100m/[37m20[30;100m [37m0.21[30;100m/[37m1.89[30;100m[0m
[29;1f
[2K[37mâÂÂâ â â âÂÂ[30;100m [37mâÂÂ[30;100m processed [37m15%[30;100m of [37m3[30;100m/[37m20[30;100m [37m0.32[30;100m/[37m1.81[30;100m[0m
[29;1f
[2K[37mâÂÂâ â â â âÂÂ[30;100m [37mâÂÂ[30;100m processed [37m20%[30;100m of [37m4[30;100m/[37m20[30;100m [37m0.43[30;100m/[37m1.72[30;100m[0m
[29;1f
[2K[37mâÂÂâ â â â â âÂÂ[30;100m [37mâ¬[30;100m processed [37m25%[30;100m of [37m5[30;100m/[37m20[30;100m [37m0.53[30;100m/[37m1.59[30;100m[0m
[29;1f
[2K[37mâÂÂâ â â â â â âÂÂ[30;100m [37mâÂÂ[30;100m processed [37m30%[30;100m of [37m6[30;100m/[37m20[30;100m [37m0.64[30;100m/[37m1.49[30;100m[0m
[29;1f
[2K[37mâÂÂâ â â â â â â âÂÂ[30;100m [37mâ¤[30;100m processed [37m35%[30;100m of [37m7[30;100m/[37m20[30;100m [37m0.76[30;100m/[37m1.41[30;100m[0m
[29;1f
[2K[37mâÂÂâ â â â â â â â âÂÂ[30;100m [37mâÂÂ[30;100m processed [37m40%[30;100m of [37m8[30;100m/[37m20[30;100m [37m0.86[30;100m/[37m1.29[30;100m[0m
[29;1f
[2K[37mâÂÂâ â â â â â â â â âÂÂ[30;100m [37mâ´[30;100m processed [37m45%[30;100m of [37m9[30;100m/[37m20[30;100m [37m0.97[30;100m/[37m1.19[30;100m[0m
[29;1f
[2K[37mâÂÂâ â â â â â â â â â âÂÂ[30;100m [37mâÂÂ[30;100m processed [37m50%[30;100m of [37m10[30;100m/[37m20[30;100m [37m1.08[30;100m/[37m1.08[30;100m[0m
[29;1f
[2K[37mâÂÂâ â â â â â â â â â â âÂÂ[30;100m [37mâÂÂ[30;100m processed [37m55%[30;100m of [37m11[30;100m/[37m20[30;100m [37m1.19[30;100m/[37m0.97[30;100m[0m
[29;1f
[2K[37mâÂÂâ â â â â â â â â â â â âÂÂ[30;100m [37mâÂÂ[30;100m processed [37m60%[30;100m of [37m12[30;100m/[37m20[30;100m [37m1.3[30;100m/[37m0.87[30;100m[0m
[29;1f
[2K[37mâÂÂâ â â â â â â â â â â â â âÂÂ[30;100m [37mâ¬[30;100m processed [37m65%[30;100m of [37m13[30;100m/[37m20[30;100m [37m1.41[30;100m/[37m0.76[30;100m[0m
[29;1f
[2K[37mâÂÂâ â â â â â â â â â â â â â âÂÂ[30;100m [37mâÂÂ[30;100m processed [37m70%[30;100m of [37m14[30;100m/[37m20[30;100m [37m1.51[30;100m/[37m0.65[30;100m[0m
[29;1f
[2K[37mâÂÂâ â â â â â â â â â â â â â â âÂÂ[30;100m [37mâ¤[30;100m processed [37m75%[30;100m of [37m15[30;100m/[37m20[30;100m [37m1.62[30;100m/[37m0.54[30;100m[0m
[29;1f
[2K[37mâÂÂâ â â â â â â â â â â â â â â â âÂÂ[30;100m [37mâÂÂ[30;100m processed [37m80%[30;100m of [37m16[30;100m/[37m20[30;100m [37m1.73[30;100m/[37m0.43[30;100m[0m
[29;1f
[2K[37mâÂÂâ â â â â â â â â â â â â â â â â âÂÂ[30;100m [37mâ´[30;100m processed [37m85%[30;100m of [37m17[30;100m/[37m20[30;100m [37m1.83[30;100m/[37m0.32[30;100m[0m
[29;1f
[2K[37mâÂÂâ â â â â â â â â â â â â â â â â â âÂÂ[30;100m [37mâÂÂ[30;100m processed [37m90%[30;100m of [37m18[30;100m/[37m20[30;100m [37m1.94[30;100m/[37m0.22[30;100m[0m
[29;1f
[2K[37mâÂÂâ â â â â â â â â â â â â â â â â â â âÂÂ[30;100m [37mâÂÂ[30;100m processed [37m95%[30;100m of [37m19[30;100m/[37m20[30;100m [37m2.05[30;100m/[37m0.11[30;100m[0m
[29;1f
[2K[37mâÂÂâ â â â â â â â â â â â â â â â â â â â âÂÂ[30;100m [37mâÂÂ[30;100m processed [37m100%[30;100m of [37m20[30;100m/[37m20[30;100m [37m2.16[30;100m/[37m0[30;100m[0m
[?25h
[2K[?25l
[31;1f
[2K[37mâÂÂâ¶︠âÂÂ[30;100m [37mâ ⠠âÂÂ[30;100m processed [37m5%[30;100m of [37m1[30;100m/[37m20[30;100m [37m0.11[30;100m/[37m2.09[30;100m[0m
[31;1f
[2K[37mâÂÂâ¶ï¸Ââ¶︠âÂÂ[30;100m [37mâ ⠠âÂÂ[30;100m processed [37m10%[30;100m of [37m2[30;100m/[37m20[30;100m [37m0.22[30;100m/[37m1.98[30;100m[0m
[31;1f
[2K[37mâÂÂâ¶ï¸Ââ¶ï¸Ââ¶︠âÂÂ[30;100m [37mâ ⡠âÂÂ[30;100m processed [37m15%[30;100m of [37m3[30;100m/[37m20[30;100m [37m0.33[30;100m/[37m1.87[30;100m[0m
[31;1f
[2K[37mâÂÂâ¶ï¸Ââ¶ï¸Ââ¶ï¸Ââ¶︠âÂÂ[30;100m [37mâ ⠠âÂÂ[30;100m processed [37m20%[30;100m of [37m4[30;100m/[37m20[30;100m [37m0.43[30;100m/[37m1.72[30;100m[0m
[31;1f
[2K[37mâÂÂâ¶ï¸Ââ¶ï¸Ââ¶ï¸Ââ¶ï¸Ââ¶︠âÂÂ[30;100m [37mâ ⠠âÂÂ[30;100m processed [37m25%[30;100m of [37m5[30;100m/[37m20[30;100m [37m0.54[30;100m/[37m1.62[30;100m[0m
[31;1f
[2K[37mâÂÂâ¶ï¸Ââ¶ï¸Ââ¶ï¸Ââ¶ï¸Ââ¶ï¸Ââ¶︠âÂÂ[30;100m [37mâ ⠠âÂÂ[30;100m processed [37m30%[30;100m of [37m6[30;100m/[37m20[30;100m [37m0.64[30;100m/[37m1.49[30;100m[0m
[31;1f
[2K[37mâÂÂâ¶ï¸Ââ¶ï¸Ââ¶ï¸Ââ¶ï¸Ââ¶ï¸Ââ¶ï¸Ââ¶︠âÂÂ[30;100m [37mâ ⠠âÂÂ[30;100m processed [37m35%[30;100m of [37m7[30;100m/[37m20[30;100m [37m0.75[30;100m/[37m1.39[30;100m[0m
[31;1f
[2K[37mâÂÂâ¶ï¸Ââ¶ï¸Ââ¶ï¸Ââ¶ï¸Ââ¶ï¸Ââ¶ï¸Ââ¶ï¸Ââ¶︠âÂÂ[30;100m [37mâ ⠠âÂÂ[30;100m processed [37m40%[30;100m of [37m8[30;100m/[37m20[30;100m [37m0.85[30;100m/[37m1.27[30;100m[0m
[31;1f
[2K[37mâÂÂâ¶ï¸Ââ¶ï¸Ââ¶ï¸Ââ¶ï¸Ââ¶ï¸Ââ¶ï¸Ââ¶ï¸Ââ¶ï¸Ââ¶︠âÂÂ[30;100m [37mâ ⡠âÂÂ[30;100m processed [37m45%[30;100m of [37m9[30;100m/[37m20[30;100m [37m0.96[30;100m/[37m1.17[30;100m[0m
[31;1f
[2K[37mâÂÂâ¶ï¸Ââ¶ï¸Ââ¶ï¸Ââ¶ï¸Ââ¶ï¸Ââ¶ï¸Ââ¶ï¸Ââ¶ï¸Ââ¶ï¸Ââ¶︠âÂÂ[30;100m [37mâ ⠠âÂÂ[30;100m processed [37m50%[30;100m of [37m10[30;100m/[37m20[30;100m [37m1.06[30;100m/[37m1.06[30;100m[0m
[31;1f
[2K[37mâÂÂâ¶ï¸Ââ¶ï¸Ââ¶ï¸Ââ¶ï¸Ââ¶ï¸Ââ¶ï¸Ââ¶ï¸Ââ¶ï¸Ââ¶ï¸Ââ¶ï¸Ââ¶︠âÂÂ[30;100m [37mâ ⠠âÂÂ[30;100m processed [37m55%[30;100m of [37m11[30;100m/[37m20[30;100m [37m1.17[30;100m/[37m0.96[30;100m[0m
[31;1f
[2K[37mâÂÂâ¶ï¸Ââ¶ï¸Ââ¶ï¸Ââ¶ï¸Ââ¶ï¸Ââ¶ï¸Ââ¶ï¸Ââ¶ï¸Ââ¶ï¸Ââ¶ï¸Ââ¶ï¸Ââ¶︠âÂÂ[30;100m [37mâ ⠠âÂÂ[30;100m processed [37m60%[30;100m of [37m12[30;100m/[37m20[30;100m [37m1.28[30;100m/[37m0.85[30;100m[0m
[31;1f
[2K[37mâÂÂâ¶ï¸Ââ¶ï¸Ââ¶ï¸Ââ¶ï¸Ââ¶ï¸Ââ¶ï¸Ââ¶ï¸Ââ¶ï¸Ââ¶ï¸Ââ¶ï¸Ââ¶ï¸Ââ¶ï¸Ââ¶︠âÂÂ[30;100m [37mâ â ÂâÂÂ[30;100m processed [37m65%[30;100m of [37m13[30;100m/[37m20[30;100m [37m1.39[30;100m/[37m0.75[30;100m[0m
[31;1f
[2K[37mâÂÂâ¶ï¸Ââ¶ï¸Ââ¶ï¸Ââ¶ï¸Ââ¶ï¸Ââ¶ï¸Ââ¶ï¸Ââ¶ï¸Ââ¶ï¸Ââ¶ï¸Ââ¶ï¸Ââ¶ï¸Ââ¶ï¸Ââ¶︠âÂÂ[30;100m [37mâ ⠠âÂÂ[30;100m processed [37m70%[30;100m of [37m14[30;100m/[37m20[30;100m [37m1.5[30;100m/[37m0.64[30;100m[0m
[31;1f
[2K[37mâÂÂâ¶ï¸Ââ¶ï¸Ââ¶ï¸Ââ¶ï¸Ââ¶ï¸Ââ¶ï¸Ââ¶ï¸Ââ¶ï¸Ââ¶ï¸Ââ¶ï¸Ââ¶ï¸Ââ¶ï¸Ââ¶ï¸Ââ¶ï¸Ââ¶︠âÂÂ[30;100m [37mâ â¡ÂâÂÂ[30;100m processed [37m75%[30;100m of [37m15[30;100m/[37m20[30;100m [37m1.61[30;100m/[37m0.54[30;100m[0m
[31;1f
[2K[37mâÂÂâ¶ï¸Ââ¶ï¸Ââ¶ï¸Ââ¶ï¸Ââ¶ï¸Ââ¶ï¸Ââ¶ï¸Ââ¶ï¸Ââ¶ï¸Ââ¶ï¸Ââ¶ï¸Ââ¶ï¸Ââ¶ï¸Ââ¶ï¸Ââ¶ï¸Ââ¶︠âÂÂ[30;100m [37mâ ⠠âÂÂ[30;100m processed [37m80%[30;100m of [37m16[30;100m/[37m20[30;100m [37m1.72[30;100m/[37m0.43[30;100m[0m
[31;1f
[2K[37mâÂÂâ¶ï¸Ââ¶ï¸Ââ¶ï¸Ââ¶ï¸Ââ¶ï¸Ââ¶ï¸Ââ¶ï¸Ââ¶ï¸Ââ¶ï¸Ââ¶ï¸Ââ¶ï¸Ââ¶ï¸Ââ¶ï¸Ââ¶ï¸Ââ¶ï¸Ââ¶ï¸Ââ¶︠âÂÂ[30;100m [37mâ ⠠âÂÂ[30;100m processed [37m85%[30;100m of [37m17[30;100m/[37m20[30;100m [37m1.82[30;100m/[37m0.32[30;100m[0m
[31;1f
[2K[37mâÂÂâ¶ï¸Ââ¶ï¸Ââ¶ï¸Ââ¶ï¸Ââ¶ï¸Ââ¶ï¸Ââ¶ï¸Ââ¶ï¸Ââ¶ï¸Ââ¶ï¸Ââ¶ï¸Ââ¶ï¸Ââ¶ï¸Ââ¶ï¸Ââ¶ï¸Ââ¶ï¸Ââ¶ï¸Ââ¶︠âÂÂ[30;100m [37mâ ⠠âÂÂ[30;100m processed [37m90%[30;100m of [37m18[30;100m/[37m20[30;100m [37m1.93[30;100m/[37m0.21[30;100m[0m
[31;1f
[2K[37mâÂÂâ¶ï¸Ââ¶ï¸Ââ¶ï¸Ââ¶ï¸Ââ¶ï¸Ââ¶ï¸Ââ¶ï¸Ââ¶ï¸Ââ¶ï¸Ââ¶ï¸Ââ¶ï¸Ââ¶ï¸Ââ¶ï¸Ââ¶ï¸Ââ¶ï¸Ââ¶ï¸Ââ¶ï¸Ââ¶ï¸Ââ¶︠âÂÂ[30;100m [37mâ ⠠âÂÂ[30;100m processed [37m95%[30;100m of [37m19[30;100m/[37m20[30;100m [37m2.04[30;100m/[37m0.11[30;100m[0m
[31;1f
[2K[37mâÂÂâ¶ï¸Ââ¶ï¸Ââ¶ï¸Ââ¶ï¸Ââ¶ï¸Ââ¶ï¸Ââ¶ï¸Ââ¶ï¸Ââ¶ï¸Ââ¶ï¸Ââ¶ï¸Ââ¶ï¸Ââ¶ï¸Ââ¶ï¸Ââ¶ï¸Ââ¶ï¸Ââ¶ï¸Ââ¶ï¸Ââ¶ï¸Ââ¶ï¸ÂâÂÂ[30;100m [37mâ ⠠âÂÂ[30;100m processed [37m100%[30;100m of [37m20[30;100m/[37m20[30;100m [37m2.15[30;100m/[37m0[30;100m[0m
[?25h[2J[1;1ft/01-test.t ....... ok
[1;1f[2J[?25l
[?25l
[?25l
[?25l
[1;1f
[2K[37mâÂÂâ âÂÂ[37m [37mâÂÂâÂÂâÂÂ[37m processed [37m5%[37m of [37m1[37m/[37m20[37m [37m0.105[37m/[37m1.995[37m[0m
[2;1f
[2K[37mâ âÂÂ[37m [37mâÂÂâÂÂâÂÂ[37m processed [37m0%[37m of [37m0[37m/[37m10[37m [37m0.106[37m/[37m0[37m[0m
[3;1f
[2K[37mâ âÂÂ[37m [37mâÂÂâÂÂâÂÂ[37m processed [37m0%[37m of [37m0[37m/[37m50[37m [37m0.109[37m/[37m0[37m[0m
[4;1f
[2K[37mâ âÂÂ[37m [37mâÂÂâÂÂâÂÂ[37m processed [37m0%[37m of [37m0[37m/[37m30[37m [37m0.111[37m/[37m0[37m[0m
[1;1f
[2K[37mâÂÂâ âÂÂ[37m [37mâÂÂâÂÂ
âÂÂ[37m processed [37m5%[37m of [37m1[37m/[37m20[37m [37m0.222[37m/[37m4.218[37m[0m
[2;1f
[2K[37mâÂÂâÂÂâ âÂÂ[37m [37mâÂÂâÂÂ
âÂÂ[37m processed [37m10%[37m of [37m1[37m/[37m10[37m [37m0.224[37m/[37m2.016[37m[0m
[3;1f
[2K[37mâ âÂÂ[37m [37mâÂÂâÂÂ
âÂÂ[37m processed [37m0%[37m of [37m0[37m/[37m50[37m [37m0.227[37m/[37m0[37m[0m
[4;1f
[2K[37mâ âÂÂ[37m [37mâÂÂâÂÂ
âÂÂ[37m processed [37m0%[37m of [37m0[37m/[37m30[37m [37m0.228[37m/[37m0[37m[0m
[1;1f
[2K[37mâÂÂâ âÂÂ[37m [37mâÂÂâÂÂâÂÂ[37m processed [37m5%[37m of [37m1[37m/[37m20[37m [37m0.341[37m/[37m6.479[37m[0m
[2;1f
[2K[37mâÂÂâÂÂâ âÂÂ[37m [37mâÂÂâÂÂâÂÂ[37m processed [37m10%[37m of [37m1[37m/[37m10[37m [37m0.341[37m/[37m3.069[37m[0m
[3;1f
[2K[37mâ âÂÂ[37m [37mâÂÂâÂÂâÂÂ[37m processed [37m2%[37m of [37m1[37m/[37m50[37m [37m0.342[37m/[37m16.758[37m[0m
[4;1f
[2K[37mâ âÂÂ[37m [37mâÂÂâÂÂâÂÂ[37m processed [37m0%[37m of [37m0[37m/[37m30[37m [37m0.342[37m/[37m0[37m[0m
[1;1f
[2K[37mâÂÂâ âÂÂ[37m [37mâÂÂâÂÂâÂÂ[37m processed [37m5%[37m of [37m1[37m/[37m20[37m [37m0.453[37m/[37m8.607[37m[0m
[2;1f
[2K[37mâÂÂâÂÂâ âÂÂ[37m [37mâÂÂâÂÂâÂÂ[37m processed [37m10%[37m of [37m1[37m/[37m10[37m [37m0.454[37m/[37m4.086[37m[0m
[3;1f
[2K[37mâ âÂÂ[37m [37mâÂÂâÂÂâÂÂ[37m processed [37m2%[37m of [37m1[37m/[37m50[37m [37m0.457[37m/[37m22.393[37m[0m
[4;1f
[2K[37mâÂÂâ âÂÂ[37m [37mâÂÂâÂÂâÂÂ[37m processed [37m3%[37m of [37m1[37m/[37m30[37m [37m0.459[37m/[37m14.841[37m[0m
[1;1f
[2K[37mâÂÂâÂÂâ âÂÂ[37m [37mâÂÂâÂÂâÂÂ[37m processed [37m10%[37m of [37m2[37m/[37m20[37m [37m0.571[37m/[37m5.139[37m[0m
[2;1f
[2K[37mâÂÂâÂÂâ âÂÂ[37m [37mâÂÂâÂÂâÂÂ[37m processed [37m10%[37m of [37m1[37m/[37m10[37m [37m0.573[37m/[37m5.157[37m[0m
[3;1f
[2K[37mâ âÂÂ[37m [37mâÂÂâÂÂâÂÂ[37m processed [37m2%[37m of [37m1[37m/[37m50[37m [37m0.576[37m/[37m28.224[37m[0m
[4;1f
[2K[37mâÂÂâ âÂÂ[37m [37mâÂÂâÂÂâÂÂ[37m processed [37m3%[37m of [37m1[37m/[37m30[37m [37m0.578[37m/[37m18.689[37m[0m
[1;1f
[2K[37mâÂÂâÂÂâ âÂÂ[37m [37mâÂÂâÂÂâÂÂ
[37m processed [37m10%[37m of [37m2[37m/[37m20[37m [37m0.69[37m/[37m6.21[37m[0m
[2;1f
[2K[37mâÂÂâÂÂâÂÂâÂÂâ âÂÂ[37m [37mâÂÂâÂÂâÂÂ
[37m processed [37m20%[37m of [37m2[37m/[37m10[37m [37m0.692[37m/[37m2.768[37m[0m
[3;1f
[2K[37mâ âÂÂ[37m [37mâÂÂâÂÂâÂÂ
[37m processed [37m2%[37m of [37m1[37m/[37m50[37m [37m0.695[37m/[37m34.055[37m[0m
[4;1f
[2K[37mâÂÂâ âÂÂ[37m [37mâÂÂâÂÂâÂÂ
[37m processed [37m3%[37m of [37m1[37m/[37m30[37m [37m0.698[37m/[37m22.569[37m[0m
[1;1f
[2K[37mâÂÂâÂÂâ âÂÂ[37m [37mâÂÂâÂÂâÂÂ[37m processed [37m10%[37m of [37m2[37m/[37m20[37m [37m0.81[37m/[37m7.29[37m[0m
[2;1f
[2K[37mâÂÂâÂÂâÂÂâÂÂâ âÂÂ[37m [37mâÂÂâÂÂâÂÂ[37m processed [37m20%[37m of [37m2[37m/[37m10[37m [37m0.812[37m/[37m3.248[37m[0m
[3;1f
[2K[37mâÂÂâ âÂÂ[37m [37mâÂÂâÂÂâÂÂ[37m processed [37m4%[37m of [37m2[37m/[37m50[37m [37m0.815[37m/[37m19.56[37m[0m
[4;1f
[2K[37mâÂÂâ âÂÂ[37m [37mâÂÂâÂÂâÂÂ[37m processed [37m3%[37m of [37m1[37m/[37m30[37m [37m0.818[37m/[37m26.449[37m[0m
[1;1f
[2K[37mâÂÂâÂÂâ âÂÂ[37m [37mâÂÂ
âÂÂâÂÂ[37m processed [37m10%[37m of [37m2[37m/[37m20[37m [37m0.929[37m/[37m8.361[37m[0m
[2;1f
[2K[37mâÂÂâÂÂâÂÂâÂÂâ âÂÂ[37m [37mâÂÂ
âÂÂâÂÂ[37m processed [37m20%[37m of [37m2[37m/[37m10[37m [37m0.928[37m/[37m3.712[37m[0m
[3;1f
[2K[37mâÂÂâ âÂÂ[37m [37mâÂÂ
âÂÂâÂÂ[37m processed [37m4%[37m of [37m2[37m/[37m50[37m [37m0.929[37m/[37m22.296[37m[0m
[4;1f
[2K[37mâÂÂâ âÂÂ[37m [37mâÂÂ
âÂÂâÂÂ[37m processed [37m6%[37m of [37m2[37m/[37m30[37m [37m0.928[37m/[37m14.539[37m[0m
[1;1f
[2K[37mâÂÂâÂÂâÂÂâ âÂÂ[37m [37mâÂÂâÂÂâÂÂ[37m processed [37m15%[37m of [37m3[37m/[37m20[37m [37m1.037[37m/[37m5.876[37m[0m
[2;1f
[2K[37mâÂÂâÂÂâÂÂâÂÂâ âÂÂ[37m [37mâÂÂâÂÂâÂÂ[37m processed [37m20%[37m of [37m2[37m/[37m10[37m [37m1.037[37m/[37m4.148[37m[0m
[3;1f
[2K[37mâÂÂâ âÂÂ[37m [37mâÂÂâÂÂâÂÂ[37m processed [37m4%[37m of [37m2[37m/[37m50[37m [37m1.038[37m/[37m24.912[37m[0m
[4;1f
[2K[37mâÂÂâ âÂÂ[37m [37mâÂÂâÂÂâÂÂ[37m processed [37m6%[37m of [37m2[37m/[37m30[37m [37m1.038[37m/[37m16.262[37m[0m
[1;1f
[2K[37mâÂÂâÂÂâÂÂâ âÂÂ[37m [37mâÂÂâÂÂ
âÂÂ[37m processed [37m15%[37m of [37m3[37m/[37m20[37m [37m1.144[37m/[37m6.483[37m[0m
[2;1f
[2K[37mâÂÂâÂÂâÂÂâÂÂâÂÂâÂÂâ âÂÂ[37m [37mâÂÂâÂÂ
âÂÂ[37m processed [37m30%[37m of [37m3[37m/[37m10[37m [37m1.143[37m/[37m2.667[37m[0m
[3;1f
[2K[37mâÂÂâ âÂÂ[37m [37mâÂÂâÂÂ
âÂÂ[37m processed [37m4%[37m of [37m2[37m/[37m50[37m [37m1.145[37m/[37m27.48[37m[0m
[4;1f
[2K[37mâÂÂâ âÂÂ[37m [37mâÂÂâÂÂ
âÂÂ[37m processed [37m6%[37m of [37m2[37m/[37m30[37m [37m1.144[37m/[37m17.923[37m[0m
[1;1f
[2K[37mâÂÂâÂÂâÂÂâ âÂÂ[37m [37mâÂÂâÂÂâÂÂ[37m processed [37m15%[37m of [37m3[37m/[37m20[37m [37m1.252[37m/[37m7.095[37m[0m
[2;1f
[2K[37mâÂÂâÂÂâÂÂâÂÂâÂÂâÂÂâ âÂÂ[37m [37mâÂÂâÂÂâÂÂ[37m processed [37m30%[37m of [37m3[37m/[37m10[37m [37m1.252[37m/[37m2.921[37m[0m
[3;1f
[2K[37mâÂÂâ âÂÂ[37m [37mâÂÂâÂÂâÂÂ[37m processed [37m6%[37m of [37m3[37m/[37m50[37m [37m1.253[37m/[37m19.63[37m[0m
[4;1f
[2K[37mâÂÂâ âÂÂ[37m [37mâÂÂâÂÂâÂÂ[37m processed [37m6%[37m of [37m2[37m/[37m30[37m [37m1.253[37m/[37m19.63[37m[0m
[1;1f
[2K[37mâÂÂâÂÂâÂÂâ âÂÂ[37m [37mâÂÂâÂÂâÂÂ[37m processed [37m15%[37m of [37m3[37m/[37m20[37m [37m1.358[37m/[37m7.695[37m[0m
[2;1f
[2K[37mâÂÂâÂÂâÂÂâÂÂâÂÂâÂÂâ âÂÂ[37m [37mâÂÂâÂÂâÂÂ[37m processed [37m30%[37m of [37m3[37m/[37m10[37m [37m1.359[37m/[37m3.171[37m[0m
[3;1f
[2K[37mâÂÂâ âÂÂ[37m [37mâÂÂâÂÂâÂÂ[37m processed [37m6%[37m of [37m3[37m/[37m50[37m [37m1.359[37m/[37m21.291[37m[0m
[4;1f
[2K[37mâÂÂâÂÂâ âÂÂ[37m [37mâÂÂâÂÂâÂÂ[37m processed [37m10%[37m of [37m3[37m/[37m30[37m [37m1.359[37m/[37m12.231[37m[0m
[1;1f
[2K[37mâÂÂâÂÂâÂÂâÂÂâ âÂÂ[37m [37mâÂÂâÂÂâÂÂ[37m processed [37m20%[37m of [37m4[37m/[37m20[37m [37m1.462[37m/[37m5.848[37m[0m
[2;1f
[2K[37mâÂÂâÂÂâÂÂâÂÂâÂÂâÂÂâ âÂÂ[37m [37mâÂÂâÂÂâÂÂ[37m processed [37m30%[37m of [37m3[37m/[37m10[37m [37m1.462[37m/[37m3.411[37m[0m
[3;1f
[2K[37mâÂÂâ âÂÂ[37m [37mâÂÂâÂÂâÂÂ[37m processed [37m6%[37m of [37m3[37m/[37m50[37m [37m1.463[37m/[37m22.92[37m[0m
[4;1f
[2K[37mâÂÂâÂÂâ âÂÂ[37m [37mâÂÂâÂÂâÂÂ[37m processed [37m10%[37m of [37m3[37m/[37m30[37m [37m1.463[37m/[37m13.167[37m[0m
[1;1f
[2K[37mâÂÂâÂÂâÂÂâÂÂâ âÂÂ[37m [37mâÂÂâÂÂâÂÂ
[37m processed [37m20%[37m of [37m4[37m/[37m20[37m [37m1.567[37m/[37m6.268[37m[0m
[2;1f
[2K[37mâÂÂâÂÂâÂÂâÂÂâÂÂâÂÂâÂÂâÂÂâ âÂÂ[37m [37mâÂÂâÂÂâÂÂ
[37m processed [37m40%[37m of [37m4[37m/[37m10[37m [37m1.567[37m/[37m2.351[37m[0m
[3;1f
[2K[37mâÂÂâ âÂÂ[37m [37mâÂÂâÂÂâÂÂ
[37m processed [37m6%[37m of [37m3[37m/[37m50[37m [37m1.568[37m/[37m24.565[37m[0m
[4;1f
[2K[37mâÂÂâÂÂâ âÂÂ[37m [37mâÂÂâÂÂâÂÂ
[37m processed [37m10%[37m of [37m3[37m/[37m30[37m [37m1.568[37m/[37m14.112[37m[0m
[1;1f
[2K[37mâÂÂâÂÂâÂÂâÂÂâ âÂÂ[37m [37mâÂÂâÂÂâÂÂ[37m processed [37m20%[37m of [37m4[37m/[37m20[37m [37m1.673[37m/[37m6.692[37m[0m
[2;1f
[2K[37mâÂÂâÂÂâÂÂâÂÂâÂÂâÂÂâÂÂâÂÂâ âÂÂ[37m [37mâÂÂâÂÂâÂÂ[37m processed [37m40%[37m of [37m4[37m/[37m10[37m [37m1.672[37m/[37m2.508[37m[0m
[3;1f
[2K[37mâÂÂâÂÂâ âÂÂ[37m [37mâÂÂâÂÂâÂÂ[37m processed [37m8%[37m of [37m4[37m/[37m50[37m [37m1.673[37m/[37m19.239[37m[0m
[4;1f
[2K[37mâÂÂâÂÂâ âÂÂ[37m [37mâÂÂâÂÂâÂÂ[37m processed [37m10%[37m of [37m3[37m/[37m30[37m [37m1.672[37m/[37m15.048[37m[0m
[1;1f
[2K[37mâÂÂâÂÂâÂÂâÂÂâ âÂÂ[37m [37mâÂÂ
âÂÂâÂÂ[37m processed [37m20%[37m of [37m4[37m/[37m20[37m [37m1.779[37m/[37m7.116[37m[0m
[2;1f
[2K[37mâÂÂâÂÂâÂÂâÂÂâÂÂâÂÂâÂÂâÂÂâ âÂÂ[37m [37mâÂÂ
âÂÂâÂÂ[37m processed [37m40%[37m of [37m4[37m/[37m10[37m [37m1.779[37m/[37m2.668[37m[0m
[3;1f
[2K[37mâÂÂâÂÂâ âÂÂ[37m [37mâÂÂ
âÂÂâÂÂ[37m processed [37m8%[37m of [37m4[37m/[37m50[37m [37m1.78[37m/[37m20.47[37m[0m
[4;1f
[2K[37mâÂÂâÂÂâÂÂâ âÂÂ[37m [37mâÂÂ
âÂÂâÂÂ[37m processed [37m13%[37m of [37m4[37m/[37m30[37m [37m1.779[37m/[37m11.906[37m[0m
[1;1f
[2K[37mâÂÂâÂÂâÂÂâÂÂâÂÂâ âÂÂ[37m [37mâÂÂâÂÂâÂÂ[37m processed [37m25%[37m of [37m5[37m/[37m20[37m [37m1.885[37m/[37m5.655[37m[0m
[2;1f
[2K[37mâÂÂâÂÂâÂÂâÂÂâÂÂâÂÂâÂÂâÂÂâ âÂÂ[37m [37mâÂÂâÂÂâÂÂ[37m processed [37m40%[37m of [37m4[37m/[37m10[37m [37m1.884[37m/[37m2.826[37m[0m
[3;1f
[2K[37mâÂÂâÂÂâ âÂÂ[37m [37mâÂÂâÂÂâÂÂ[37m processed [37m8%[37m of [37m4[37m/[37m50[37m [37m1.885[37m/[37m21.677[37m[0m
[4;1f
[2K[37mâÂÂâÂÂâÂÂâ âÂÂ[37m [37mâÂÂâÂÂâÂÂ[37m processed [37m13%[37m of [37m4[37m/[37m30[37m [37m1.885[37m/[37m12.615[37m[0m
[1;1f
[2K[37mâÂÂâÂÂâÂÂâÂÂâÂÂâ âÂÂ[37m [37mâÂÂâÂÂ
âÂÂ[37m processed [37m25%[37m of [37m5[37m/[37m20[37m [37m1.991[37m/[37m5.973[37m[0m
[2;1f
[2K[37mâÂÂâÂÂâÂÂâÂÂâÂÂâÂÂâÂÂâÂÂâÂÂâÂÂâ âÂÂ[37m [37mâÂÂâÂÂ
âÂÂ[37m processed [37m50%[37m of [37m5[37m/[37m10[37m [37m1.99[37m/[37m1.99[37m[0m
[3;1f
[2K[37mâÂÂâÂÂâ âÂÂ[37m [37mâÂÂâÂÂ
âÂÂ[37m processed [37m8%[37m of [37m4[37m/[37m50[37m [37m1.991[37m/[37m22.897[37m[0m
[4;1f
[2K[37mâÂÂâÂÂâÂÂâ âÂÂ[37m [37mâÂÂâÂÂ
âÂÂ[37m processed [37m13%[37m of [37m4[37m/[37m30[37m [37m1.991[37m/[37m13.324[37m[0m
[1;1f
[2K[37mâÂÂâÂÂâÂÂâÂÂâÂÂâ âÂÂ[37m [37mâÂÂâÂÂâÂÂ[37m processed [37m25%[37m of [37m5[37m/[37m20[37m [37m2.101[37m/[37m6.303[37m[0m
[2;1f
[2K[37mâÂÂâÂÂâÂÂâÂÂâÂÂâÂÂâÂÂâÂÂâÂÂâÂÂâ âÂÂ[37m [37mâÂÂâÂÂâÂÂ[37m processed [37m50%[37m of [37m5[37m/[37m10[37m [37m2.1[37m/[37m2.1[37m[0m
[3;1f
[2K[37mâÂÂâÂÂâ âÂÂ[37m [37mâÂÂâÂÂâÂÂ[37m processed [37m10%[37m of [37m5[37m/[37m50[37m [37m2.101[37m/[37m18.909[37m[0m
[4;1f
[2K[37mâÂÂâÂÂâÂÂâ âÂÂ[37m [37mâÂÂâÂÂâÂÂ[37m processed [37m13%[37m of [37m4[37m/[37m30[37m [37m2.1[37m/[37m14.054[37m[0m
[1;1f
[2K[37mâÂÂâÂÂâÂÂâÂÂâÂÂâ âÂÂ[37m [37mâÂÂâÂÂâÂÂ[37m processed [37m25%[37m of [37m5[37m/[37m20[37m [37m2.21[37m/[37m6.63[37m[0m
[2;1f
[2K[37mâÂÂâÂÂâÂÂâÂÂâÂÂâÂÂâÂÂâÂÂâÂÂâÂÂâ âÂÂ[37m [37mâÂÂâÂÂâÂÂ[37m processed [37m50%[37m of [37m5[37m/[37m10[37m [37m2.21[37m/[37m2.21[37m[0m
[3;1f
[2K[37mâÂÂâÂÂâ âÂÂ[37m [37mâÂÂâÂÂâÂÂ[37m processed [37m10%[37m of [37m5[37m/[37m50[37m [37m2.211[37m/[37m19.899[37m[0m
[4;1f
[2K[37mâÂÂâÂÂâÂÂâ âÂÂ[37m [37mâÂÂâÂÂâÂÂ[37m processed [37m16%[37m of [37m5[37m/[37m30[37m [37m2.21[37m/[37m11.602[37m[0m
[1;1f
[2K[37mâÂÂâÂÂâÂÂâÂÂâÂÂâÂÂâ âÂÂ[37m [37mâÂÂâÂÂâÂÂ[37m processed [37m30%[37m of [37m6[37m/[37m20[37m [37m2.322[37m/[37m5.418[37m[0m
[2;1f
[2K[37mâÂÂâÂÂâÂÂâÂÂâÂÂâÂÂâÂÂâÂÂâÂÂâÂÂâ âÂÂ[37m [37mâÂÂâÂÂâÂÂ[37m processed [37m50%[37m of [37m5[37m/[37m10[37m [37m2.323[37m/[37m2.323[37m[0m
[3;1f
[2K[37mâÂÂâÂÂâ âÂÂ[37m [37mâÂÂâÂÂâÂÂ[37m processed [37m10%[37m of [37m5[37m/[37m50[37m [37m2.324[37m/[37m20.916[37m[0m
[4;1f
[2K[37mâÂÂâÂÂâÂÂâ âÂÂ[37m [37mâÂÂâÂÂâÂÂ[37m processed [37m16%[37m of [37m5[37m/[37m30[37m [37m2.325[37m/[37m12.206[37m[0m
[1;1f
[2K[37mâÂÂâÂÂâÂÂâÂÂâÂÂâÂÂâ âÂÂ[37m [37mâÂÂâÂÂâÂÂ
[37m processed [37m30%[37m of [37m6[37m/[37m20[37m [37m2.435[37m/[37m5.682[37m[0m
[2;1f
[2K[37mâÂÂâÂÂâÂÂâÂÂâÂÂâÂÂâÂÂâÂÂâÂÂâÂÂâÂÂâÂÂâ âÂÂ[37m [37mâÂÂâÂÂâÂÂ
[37m processed [37m60%[37m of [37m6[37m/[37m10[37m [37m2.434[37m/[37m1.623[37m[0m
[3;1f
[2K[37mâÂÂâÂÂâ âÂÂ[37m [37mâÂÂâÂÂâÂÂ
[37m processed [37m10%[37m of [37m5[37m/[37m50[37m [37m2.434[37m/[37m21.906[37m[0m
[4;1f
[2K[37mâÂÂâÂÂâÂÂâ âÂÂ[37m [37mâÂÂâÂÂâÂÂ
[37m processed [37m16%[37m of [37m5[37m/[37m30[37m [37m2.438[37m/[37m12.8[37m[0m
[1;1f
[2K[37mâÂÂâÂÂâÂÂâÂÂâÂÂâÂÂâ âÂÂ[37m [37mâÂÂâÂÂâÂÂ[37m processed [37m30%[37m of [37m6[37m/[37m20[37m [37m2.548[37m/[37m5.945[37m[0m
[2;1f
[2K[37mâÂÂâÂÂâÂÂâÂÂâÂÂâÂÂâÂÂâÂÂâÂÂâÂÂâÂÂâÂÂâ âÂÂ[37m [37mâÂÂâÂÂâÂÂ[37m processed [37m60%[37m of [37m6[37m/[37m10[37m [37m2.55[37m/[37m1.7[37m[0m
[3;1f
[2K[37mâÂÂâÂÂâ âÂÂ[37m [37mâÂÂâÂÂâÂÂ[37m processed [37m12%[37m of [37m6[37m/[37m50[37m [37m2.552[37m/[37m18.715[37m[0m
[4;1f
[2K[37mâÂÂâÂÂâÂÂâ âÂÂ[37m [37mâÂÂâÂÂâÂÂ[37m processed [37m16%[37m of [37m5[37m/[37m30[37m [37m2.553[37m/[37m13.403[37m[0m
[1;1f
[2K[37mâÂÂâÂÂâÂÂâÂÂâÂÂâÂÂâ âÂÂ[37m [37mâÂÂ
âÂÂâÂÂ[37m processed [37m30%[37m of [37m6[37m/[37m20[37m [37m2.664[37m/[37m6.216[37m[0m
[2;1f
[2K[37mâÂÂâÂÂâÂÂâÂÂâÂÂâÂÂâÂÂâÂÂâÂÂâÂÂâÂÂâÂÂâ âÂÂ[37m [37mâÂÂ
âÂÂâÂÂ[37m processed [37m60%[37m of [37m6[37m/[37m10[37m [37m2.663[37m/[37m1.775[37m[0m
[3;1f
[2K[37mâÂÂâÂÂâ âÂÂ[37m [37mâÂÂ
âÂÂâÂÂ[37m processed [37m12%[37m of [37m6[37m/[37m50[37m [37m2.663[37m/[37m19.529[37m[0m
[4;1f
[2K[37mâÂÂâÂÂâÂÂâÂÂâ âÂÂ[37m [37mâÂÂ
âÂÂâÂÂ[37m processed [37m20%[37m of [37m6[37m/[37m30[37m [37m2.663[37m/[37m10.652[37m[0m
[1;1f
[2K[37mâÂÂâÂÂâÂÂâÂÂâÂÂâÂÂâÂÂâ âÂÂ[37m [37mâÂÂâÂÂâÂÂ[37m processed [37m35%[37m of [37m7[37m/[37m20[37m [37m2.771[37m/[37m5.146[37m[0m
[2;1f
[2K[37mâÂÂâÂÂâÂÂâÂÂâÂÂâÂÂâÂÂâÂÂâÂÂâÂÂâÂÂâÂÂâ âÂÂ[37m [37mâÂÂâÂÂâÂÂ[37m processed [37m60%[37m of [37m6[37m/[37m10[37m [37m2.771[37m/[37m1.847[37m[0m
[3;1f
[2K[37mâÂÂâÂÂâ âÂÂ[37m [37mâÂÂâÂÂâÂÂ[37m processed [37m12%[37m of [37m6[37m/[37m50[37m [37m2.775[37m/[37m20.35[37m[0m
[4;1f
[2K[37mâÂÂâÂÂâÂÂâÂÂâ âÂÂ[37m [37mâÂÂâÂÂâÂÂ[37m processed [37m20%[37m of [37m6[37m/[37m30[37m [37m2.775[37m/[37m11.1[37m[0m
[1;1f
[2K[37mâÂÂâÂÂâÂÂâÂÂâÂÂâÂÂâÂÂâ âÂÂ[37m [37mâÂÂâÂÂ
âÂÂ[37m processed [37m35%[37m of [37m7[37m/[37m20[37m [37m2.886[37m/[37m5.36[37m[0m
[2;1f
[2K[37mâÂÂâÂÂâÂÂâÂÂâÂÂâÂÂâÂÂâÂÂâÂÂâÂÂâÂÂâÂÂâÂÂâÂÂâ âÂÂ[37m [37mâÂÂâÂÂ
âÂÂ[37m processed [37m70%[37m of [37m7[37m/[37m10[37m [37m2.888[37m/[37m1.238[37m[0m
[3;1f
[2K[37mâÂÂâÂÂâ âÂÂ[37m [37mâÂÂâÂÂ
âÂÂ[37m processed [37m12%[37m of [37m6[37m/[37m50[37m [37m2.89[37m/[37m21.193[37m[0m
[4;1f
[2K[37mâÂÂâÂÂâÂÂâÂÂâ âÂÂ[37m [37mâÂÂâÂÂ
âÂÂ[37m processed [37m20%[37m of [37m6[37m/[37m30[37m [37m2.891[37m/[37m11.564[37m[0m
[1;1f
[2K[37mâÂÂâÂÂâÂÂâÂÂâÂÂâÂÂâÂÂâ âÂÂ[37m [37mâÂÂâÂÂâÂÂ[37m processed [37m35%[37m of [37m7[37m/[37m20[37m [37m2.999[37m/[37m5.57[37m[0m
[2;1f
[2K[37mâÂÂâÂÂâÂÂâÂÂâÂÂâÂÂâÂÂâÂÂâÂÂâÂÂâÂÂâÂÂâÂÂâÂÂâ âÂÂ[37m [37mâÂÂâÂÂâÂÂ[37m processed [37m70%[37m of [37m7[37m/[37m10[37m [37m3.001[37m/[37m1.286[37m[0m
[3;1f
[2K[37mâÂÂâÂÂâÂÂâ âÂÂ[37m [37mâÂÂâÂÂâÂÂ[37m processed [37m14%[37m of [37m7[37m/[37m50[37m [37m3.003[37m/[37m18.447[37m[0m
[4;1f
[2K[37mâÂÂâÂÂâÂÂâÂÂâ âÂÂ[37m [37mâÂÂâÂÂâÂÂ[37m processed [37m20%[37m of [37m6[37m/[37m30[37m [37m3.005[37m/[37m12.02[37m[0m
[1;1f
[2K[37mâÂÂâÂÂâÂÂâÂÂâÂÂâÂÂâÂÂâ âÂÂ[37m [37mâÂÂâÂÂâÂÂ[37m processed [37m35%[37m of [37m7[37m/[37m20[37m [37m3.116[37m/[37m5.787[37m[0m
[2;1f
[2K[37mâÂÂâÂÂâÂÂâÂÂâÂÂâÂÂâÂÂâÂÂâÂÂâÂÂâÂÂâÂÂâÂÂâÂÂâ âÂÂ[37m [37mâÂÂâÂÂâÂÂ[37m processed [37m70%[37m of [37m7[37m/[37m10[37m [37m3.118[37m/[37m1.336[37m[0m
[3;1f
[2K[37mâÂÂâÂÂâÂÂâ âÂÂ[37m [37mâÂÂâÂÂâÂÂ[37m processed [37m14%[37m of [37m7[37m/[37m50[37m [37m3.12[37m/[37m19.166[37m[0m
[4;1f
[2K[37mâÂÂâÂÂâÂÂâÂÂâÂÂâ âÂÂ[37m [37mâÂÂâÂÂâÂÂ[37m processed [37m23%[37m of [37m7[37m/[37m30[37m [37m3.121[37m/[37m10.449[37m[0m
[1;1f
[2K[37mâÂÂâÂÂâÂÂâÂÂâÂÂâÂÂâÂÂâÂÂâ âÂÂ[37m [37mâÂÂâÂÂâÂÂ[37m processed [37m40%[37m of [37m8[37m/[37m20[37m [37m3.23[37m/[37m4.845[37m[0m
[2;1f
[2K[37mâÂÂâÂÂâÂÂâÂÂâÂÂâÂÂâÂÂâÂÂâÂÂâÂÂâÂÂâÂÂâÂÂâÂÂâ âÂÂ[37m [37mâÂÂâÂÂâÂÂ[37m processed [37m70%[37m of [37m7[37m/[37m10[37m [37m3.231[37m/[37m1.385[37m[0m
[3;1f
[2K[37mâÂÂâÂÂâÂÂâ âÂÂ[37m [37mâÂÂâÂÂâÂÂ[37m processed [37m14%[37m of [37m7[37m/[37m50[37m [37m3.232[37m/[37m19.854[37m[0m
[4;1f
[2K[37mâÂÂâÂÂâÂÂâÂÂâÂÂâ âÂÂ[37m [37mâÂÂâÂÂâÂÂ[37m processed [37m23%[37m of [37m7[37m/[37m30[37m [37m3.233[37m/[37m10.824[37m[0m
[1;1f
[2K[37mâÂÂâÂÂâÂÂâÂÂâÂÂâÂÂâÂÂâÂÂâ âÂÂ[37m [37mâÂÂâÂÂâÂÂ
[37m processed [37m40%[37m of [37m8[37m/[37m20[37m [37m3.343[37m/[37m5.014[37m[0m
[2;1f
[2K[37mâÂÂâÂÂâÂÂâÂÂâÂÂâÂÂâÂÂâÂÂâÂÂâÂÂâÂÂâÂÂâÂÂâÂÂâÂÂâÂÂâ âÂÂ[37m [37mâÂÂâÂÂâÂÂ
[37m processed [37m80%[37m of [37m8[37m/[37m10[37m [37m3.345[37m/[37m0.836[37m[0m
[3;1f
[2K[37mâÂÂâÂÂâÂÂâ âÂÂ[37m [37mâÂÂâÂÂâÂÂ
[37m processed [37m14%[37m of [37m7[37m/[37m50[37m [37m3.347[37m/[37m20.56[37m[0m
[4;1f
[2K[37mâÂÂâÂÂâÂÂâÂÂâÂÂâ âÂÂ[37m [37mâÂÂâÂÂâÂÂ
[37m processed [37m23%[37m of [37m7[37m/[37m30[37m [37m3.347[37m/[37m11.205[37m[0m
[1;1f
[2K[37mâÂÂâÂÂâÂÂâÂÂâÂÂâÂÂâÂÂâÂÂâ âÂÂ[37m [37mâÂÂâÂÂâÂÂ[37m processed [37m40%[37m of [37m8[37m/[37m20[37m [37m3.458[37m/[37m5.187[37m[0m
[2;1f
[2K[37mâÂÂâÂÂâÂÂâÂÂâÂÂâÂÂâÂÂâÂÂâÂÂâÂÂâÂÂâÂÂâÂÂâÂÂâÂÂâÂÂâ âÂÂ[37m [37mâÂÂâÂÂâÂÂ[37m processed [37m80%[37m of [37m8[37m/[37m10[37m [37m3.46[37m/[37m0.865[37m[0m
[3;1f
[2K[37mâÂÂâÂÂâÂÂâ âÂÂ[37m [37mâÂÂâÂÂâÂÂ[37m processed [37m16%[37m of [37m8[37m/[37m50[37m [37m3.461[37m/[37m18.17[37m[0m
[4;1f
[2K[37mâÂÂâÂÂâÂÂâÂÂâÂÂâ âÂÂ[37m [37mâÂÂâÂÂâÂÂ[37m processed [37m23%[37m of [37m7[37m/[37m30[37m [37m3.461[37m/[37m11.587[37m[0m
[1;1f
[2K[37mâÂÂâÂÂâÂÂâÂÂâÂÂâÂÂâÂÂâÂÂâ âÂÂ[37m [37mâÂÂ
âÂÂâÂÂ[37m processed [37m40%[37m of [37m8[37m/[37m20[37m [37m3.569[37m/[37m5.353[37m[0m
[2;1f
[2K[37mâÂÂâÂÂâÂÂâÂÂâÂÂâÂÂâÂÂâÂÂâÂÂâÂÂâÂÂâÂÂâÂÂâÂÂâÂÂâÂÂâ âÂÂ[37m [37mâÂÂ
âÂÂâÂÂ[37m processed [37m80%[37m of [37m8[37m/[37m10[37m [37m3.569[37m/[37m0.892[37m[0m
[3;1f
[2K[37mâÂÂâÂÂâÂÂâ âÂÂ[37m [37mâÂÂ
âÂÂâÂÂ[37m processed [37m16%[37m of [37m8[37m/[37m50[37m [37m3.569[37m/[37m18.737[37m[0m
[4;1f
[2K[37mâÂÂâÂÂâÂÂâÂÂâÂÂâ âÂÂ[37m [37mâÂÂ
âÂÂâÂÂ[37m processed [37m26%[37m of [37m8[37m/[37m30[37m [37m3.569[37m/[37m10.158[37m[0m
[1;1f
[2K[37mâÂÂâÂÂâÂÂâÂÂâÂÂâÂÂâÂÂâÂÂâÂÂâ âÂÂ[37m [37mâÂÂâÂÂâÂÂ[37m processed [37m45%[37m of [37m9[37m/[37m20[37m [37m3.679[37m/[37m4.497[37m[0m
[2;1f
[2K[37mâÂÂâÂÂâÂÂâÂÂâÂÂâÂÂâÂÂâÂÂâÂÂâÂÂâÂÂâÂÂâÂÂâÂÂâÂÂâÂÂâ âÂÂ[37m [37mâÂÂâÂÂâÂÂ[37m processed [37m80%[37m of [37m8[37m/[37m10[37m [37m3.682[37m/[37m0.921[37m[0m
[3;1f
[2K[37mâÂÂâÂÂâÂÂâ âÂÂ[37m [37mâÂÂâÂÂâÂÂ[37m processed [37m16%[37m of [37m8[37m/[37m50[37m [37m3.684[37m/[37m19.341[37m[0m
[4;1f
[2K[37mâÂÂâÂÂâÂÂâÂÂâÂÂâ âÂÂ[37m [37mâÂÂâÂÂâÂÂ[37m processed [37m26%[37m of [37m8[37m/[37m30[37m [37m3.685[37m/[37m10.488[37m[0m
[1;1f
[2K[37mâÂÂâÂÂâÂÂâÂÂâÂÂâÂÂâÂÂâÂÂâÂÂâ âÂÂ[37m [37mâÂÂâÂÂ
âÂÂ[37m processed [37m45%[37m of [37m9[37m/[37m20[37m [37m3.796[37m/[37m4.64[37m[0m
[2;1f
[2K[37mâÂÂâÂÂâÂÂâÂÂâÂÂâÂÂâÂÂâÂÂâÂÂâÂÂâÂÂâÂÂâÂÂâÂÂâÂÂâÂÂâÂÂâÂÂâ âÂÂ[37m [37mâÂÂâÂÂ
âÂÂ[37m processed [37m90%[37m of [37m9[37m/[37m10[37m [37m3.798[37m/[37m0.422[37m[0m
[3;1f
[2K[37mâÂÂâÂÂâÂÂâ âÂÂ[37m [37mâÂÂâÂÂ
âÂÂ[37m processed [37m16%[37m of [37m8[37m/[37m50[37m [37m3.801[37m/[37m19.955[37m[0m
[4;1f
[2K[37mâÂÂâÂÂâÂÂâÂÂâÂÂâ âÂÂ[37m [37mâÂÂâÂÂ
âÂÂ[37m processed [37m26%[37m of [37m8[37m/[37m30[37m [37m3.802[37m/[37m10.821[37m[0m
[1;1f
[2K[37mâÂÂâÂÂâÂÂâÂÂâÂÂâÂÂâÂÂâÂÂâÂÂâ âÂÂ[37m [37mâÂÂâÂÂâÂÂ[37m processed [37m45%[37m of [37m9[37m/[37m20[37m [37m3.913[37m/[37m4.783[37m[0m
[2;1f
[2K[37mâÂÂâÂÂâÂÂâÂÂâÂÂâÂÂâÂÂâÂÂâÂÂâÂÂâÂÂâÂÂâÂÂâÂÂâÂÂâÂÂâÂÂâÂÂâ âÂÂ[37m [37mâÂÂâÂÂâÂÂ[37m processed [37m90%[37m of [37m9[37m/[37m10[37m [37m3.914[37m/[37m0.435[37m[0m
[3;1f
[2K[37mâÂÂâÂÂâÂÂâÂÂâ âÂÂ[37m [37mâÂÂâÂÂâÂÂ[37m processed [37m18%[37m of [37m9[37m/[37m50[37m [37m3.916[37m/[37m17.84[37m[0m
[4;1f
[2K[37mâÂÂâÂÂâÂÂâÂÂâÂÂâ âÂÂ[37m [37mâÂÂâÂÂâÂÂ[37m processed [37m26%[37m of [37m8[37m/[37m30[37m [37m3.916[37m/[37m11.146[37m[0m
[1;1f
[2K[37mâÂÂâÂÂâÂÂâÂÂâÂÂâÂÂâÂÂâÂÂâÂÂâ âÂÂ[37m [37mâÂÂâÂÂâÂÂ[37m processed [37m45%[37m of [37m9[37m/[37m20[37m [37m4.026[37m/[37m4.921[37m[0m
[2;1f
[2K[37mâÂÂâÂÂâÂÂâÂÂâÂÂâÂÂâÂÂâÂÂâÂÂâÂÂâÂÂâÂÂâÂÂâÂÂâÂÂâÂÂâÂÂâÂÂâ âÂÂ[37m [37mâÂÂâÂÂâÂÂ[37m processed [37m90%[37m of [37m9[37m/[37m10[37m [37m4.026[37m/[37m0.447[37m[0m
[3;1f
[2K[37mâÂÂâÂÂâÂÂâÂÂâ âÂÂ[37m [37mâÂÂâÂÂâÂÂ[37m processed [37m18%[37m of [37m9[37m/[37m50[37m [37m4.027[37m/[37m18.345[37m[0m
[4;1f
[2K[37mâÂÂâÂÂâÂÂâÂÂâÂÂâÂÂâ âÂÂ[37m [37mâÂÂâÂÂâÂÂ[37m processed [37m30%[37m of [37m9[37m/[37m30[37m [37m4.028[37m/[37m9.399[37m[0m
[1;1f
[2K[37mâÂÂâÂÂâÂÂâÂÂâÂÂâÂÂâÂÂâÂÂâÂÂâÂÂâ âÂÂ[37m [37mâÂÂâÂÂâÂÂ[37m processed [37m50%[37m of [37m10[37m/[37m20[37m [37m4.139[37m/[37m4.139[37m[0m
[2;1f
[2K[37mâÂÂâÂÂâÂÂâÂÂâÂÂâÂÂâÂÂâÂÂâÂÂâÂÂâÂÂâÂÂâÂÂâÂÂâÂÂâÂÂâÂÂâÂÂâ âÂÂ[37m [37mâÂÂâÂÂâÂÂ[37m processed [37m90%[37m of [37m9[37m/[37m10[37m [37m4.139[37m/[37m0.46[37m[0m
[3;1f
[2K[37mâÂÂâÂÂâÂÂâÂÂâ âÂÂ[37m [37mâÂÂâÂÂâÂÂ[37m processed [37m18%[37m of [37m9[37m/[37m50[37m [37m4.14[37m/[37m18.86[37m[0m
[4;1f
[2K[37mâÂÂâÂÂâÂÂâÂÂâÂÂâÂÂâ âÂÂ[37m [37mâÂÂâÂÂâÂÂ[37m processed [37m30%[37m of [37m9[37m/[37m30[37m [37m4.14[37m/[37m9.66[37m[0m
[1;1f
[2K[37mâÂÂâÂÂâÂÂâÂÂâÂÂâÂÂâÂÂâÂÂâÂÂâÂÂâ âÂÂ[37m [37mâÂÂâÂÂâÂÂ
[37m processed [37m50%[37m of [37m10[37m/[37m20[37m [37m4.248[37m/[37m4.248[37m[0m
[2;1f
[2K[37mâÂÂâÂÂâÂÂâÂÂâÂÂâÂÂâÂÂâÂÂâÂÂâÂÂâÂÂâÂÂâÂÂâÂÂâÂÂâÂÂâÂÂâÂÂâÂÂâÂÂâÂÂâÂÂ[37m [37mâÂÂâÂÂâÂÂ
[37m processed [37m100%[37m of [37m10[37m/[37m10[37m [37m4.248[37m/[37m0[37m[0m
[3;1f
[2K[37mâÂÂâÂÂâÂÂâÂÂâ âÂÂ[37m [37mâÂÂâÂÂâÂÂ
[37m processed [37m18%[37m of [37m9[37m/[37m50[37m [37m4.248[37m/[37m19.352[37m[0m
[4;1f
[2K[37mâÂÂâÂÂâÂÂâÂÂâÂÂâÂÂâ âÂÂ[37m [37mâÂÂâÂÂâÂÂ
[37m processed [37m30%[37m of [37m9[37m/[37m30[37m [37m4.248[37m/[37m9.912[37m[0m
[1;1f
[2K[37mâÂÂâÂÂâÂÂâÂÂâÂÂâÂÂâÂÂâÂÂâÂÂâÂÂâ âÂÂ[37m [37mâÂÂâÂÂâÂÂ[37m processed [37m50%[37m of [37m10[37m/[37m20[37m [37m4.36[37m/[37m4.36[37m[0m
[2;1f
[2K[37mâÂÂâÂÂâÂÂâÂÂâÂÂâÂÂâÂÂâÂÂâÂÂâÂÂâÂÂâÂÂâÂÂâÂÂâÂÂâÂÂâÂÂâÂÂâÂÂâÂÂâÂÂâÂÂ[37m [37mâÂÂâÂÂâÂÂ[37m processed [37m100%[37m of [37m10[37m/[37m10[37m [37m4.36[37m/[37m0[37m[0m
[3;1f
[2K[37mâÂÂâÂÂâÂÂâÂÂâ âÂÂ[37m [37mâÂÂâÂÂâÂÂ[37m processed [37m20%[37m of [37m10[37m/[37m50[37m [37m4.361[37m/[37m17.444[37m[0m
[4;1f
[2K[37mâÂÂâÂÂâÂÂâÂÂâÂÂâÂÂâ âÂÂ[37m [37mâÂÂâÂÂâÂÂ[37m processed [37m30%[37m of [37m9[37m/[37m30[37m [37m4.36[37m/[37m10.173[37m[0m
[1;1f
[2K[37mâÂÂâÂÂâÂÂâÂÂâÂÂâÂÂâÂÂâÂÂâÂÂâÂÂâ âÂÂ[37m [37mâÂÂ
âÂÂâÂÂ[37m processed [37m50%[37m of [37m10[37m/[37m20[37m [37m4.465[37m/[37m4.465[37m[0m
[2;1f
[2K[37mâÂÂâÂÂâÂÂâÂÂâÂÂâÂÂâÂÂâÂÂâÂÂâÂÂâÂÂâÂÂâÂÂâÂÂâÂÂâÂÂâÂÂâÂÂâÂÂâÂÂâÂÂâÂÂ[37m [37mâÂÂ
âÂÂâÂÂ[37m processed [37m100%[37m of [37m10[37m/[37m10[37m [37m4.465[37m/[37m0[37m[0m
[3;1f
[2K[37mâÂÂâÂÂâÂÂâÂÂâ âÂÂ[37m [37mâÂÂ
âÂÂâÂÂ[37m processed [37m20%[37m of [37m10[37m/[37m50[37m [37m4.465[37m/[37m17.86[37m[0m
[4;1f
[2K[37mâÂÂâÂÂâÂÂâÂÂâÂÂâÂÂâÂÂâ âÂÂ[37m [37mâÂÂ
âÂÂâÂÂ[37m processed [37m33%[37m of [37m10[37m/[37m30[37m [37m4.464[37m/[37m9.063[37m[0m
[1;1f
[2K[37mâÂÂâÂÂâÂÂâÂÂâÂÂâÂÂâÂÂâÂÂâÂÂâÂÂâÂÂâ âÂÂ[37m [37mâÂÂâÂÂâÂÂ[37m processed [37m55%[37m of [37m11[37m/[37m20[37m [37m4.574[37m/[37m3.742[37m[0m
[2;1f
[2K[37mâÂÂâÂÂâÂÂâÂÂâÂÂâÂÂâÂÂâÂÂâÂÂâÂÂâÂÂâÂÂâÂÂâÂÂâÂÂâÂÂâÂÂâÂÂâÂÂâÂÂâÂÂâÂÂ[37m [37mâÂÂâÂÂâÂÂ[37m processed [37m100%[37m of [37m10[37m/[37m10[37m [37m4.575[37m/[37m0[37m[0m
[3;1f
[2K[37mâÂÂâÂÂâÂÂâÂÂâ âÂÂ[37m [37mâÂÂâÂÂâÂÂ[37m processed [37m20%[37m of [37m10[37m/[37m50[37m [37m4.577[37m/[37m18.308[37m[0m
[4;1f
[2K[37mâÂÂâÂÂâÂÂâÂÂâÂÂâÂÂâÂÂâ âÂÂ[37m [37mâÂÂâÂÂâÂÂ[37m processed [37m33%[37m of [37m10[37m/[37m30[37m [37m4.577[37m/[37m9.293[37m[0m
[1;1f
[2K[37mâÂÂâÂÂâÂÂâÂÂâÂÂâÂÂâÂÂâÂÂâÂÂâÂÂâÂÂâ âÂÂ[37m [37mâÂÂâÂÂ
âÂÂ[37m processed [37m55%[37m of [37m11[37m/[37m20[37m [37m4.687[37m/[37m3.835[37m[0m
[3;1f
[2K[37mâÂÂâÂÂâÂÂâÂÂâ âÂÂ[37m [37mâÂÂâÂÂ
âÂÂ[37m processed [37m22%[37m of [37m11[37m/[37m50[37m [37m4.687[37m/[37m16.618[37m[0m
[4;1f
[2K[37mâÂÂâÂÂâÂÂâÂÂâÂÂâÂÂâÂÂâ âÂÂ[37m [37mâÂÂâÂÂ
âÂÂ[37m processed [37m33%[37m of [37m10[37m/[37m30[37m [37m4.687[37m/[37m9.516[37m[0m
[1;1f
[2K[37mâÂÂâÂÂâÂÂâÂÂâÂÂâÂÂâÂÂâÂÂâÂÂâÂÂâÂÂâ âÂÂ[37m [37mâÂÂâÂÂâÂÂ[37m processed [37m55%[37m of [37m11[37m/[37m20[37m [37m4.798[37m/[37m3.926[37m[0m
[3;1f
[2K[37mâÂÂâÂÂâÂÂâÂÂâ âÂÂ[37m [37mâÂÂâÂÂâÂÂ[37m processed [37m22%[37m of [37m11[37m/[37m50[37m [37m4.797[37m/[37m17.008[37m[0m
[4;1f
[2K[37mâÂÂâÂÂâÂÂâÂÂâÂÂâÂÂâÂÂâ âÂÂ[37m [37mâÂÂâÂÂâÂÂ[37m processed [37m36%[37m of [37m11[37m/[37m30[37m [37m4.796[37m/[37m8.526[37m[0m
[1;1f
[2K[37mâÂÂâÂÂâÂÂâÂÂâÂÂâÂÂâÂÂâÂÂâÂÂâÂÂâÂÂâÂÂâ âÂÂ[37m [37mâÂÂâÂÂâÂÂ[37m processed [37m60%[37m of [37m12[37m/[37m20[37m [37m4.907[37m/[37m3.271[37m[0m
[3;1f
[2K[37mâÂÂâÂÂâÂÂâÂÂâ âÂÂ[37m [37mâÂÂâÂÂâÂÂ[37m processed [37m22%[37m of [37m11[37m/[37m50[37m [37m4.909[37m/[37m17.405[37m[0m
[4;1f
[2K[37mâÂÂâÂÂâÂÂâÂÂâÂÂâÂÂâÂÂâ âÂÂ[37m [37mâÂÂâÂÂâÂÂ[37m processed [37m36%[37m of [37m11[37m/[37m30[37m [37m4.909[37m/[37m8.727[37m[0m
[1;1f
[2K[37mâÂÂâÂÂâÂÂâÂÂâÂÂâÂÂâÂÂâÂÂâÂÂâÂÂâÂÂâÂÂâ âÂÂ[37m [37mâÂÂâÂÂâÂÂ[37m processed [37m60%[37m of [37m12[37m/[37m20[37m [37m5.019[37m/[37m3.346[37m[0m
[3;1f
[2K[37mâÂÂâÂÂâÂÂâÂÂâÂÂâ âÂÂ[37m [37mâÂÂâÂÂâÂÂ[37m processed [37m24%[37m of [37m12[37m/[37m50[37m [37m5.022[37m/[37m15.903[37m[0m
[4;1f
[2K[37mâÂÂâÂÂâÂÂâÂÂâÂÂâÂÂâÂÂâ âÂÂ[37m [37mâÂÂâÂÂâÂÂ[37m processed [37m36%[37m of [37m11[37m/[37m30[37m [37m5.023[37m/[37m8.93[37m[0m
[1;1f
[2K[37mâÂÂâÂÂâÂÂâÂÂâÂÂâÂÂâÂÂâÂÂâÂÂâÂÂâÂÂâÂÂâ âÂÂ[37m [37mâÂÂâÂÂâÂÂ
[37m processed [37m60%[37m of [37m12[37m/[37m20[37m [37m5.132[37m/[37m3.421[37m[0m
[3;1f
[2K[37mâÂÂâÂÂâÂÂâÂÂâÂÂâ âÂÂ[37m [37mâÂÂâÂÂâÂÂ
[37m processed [37m24%[37m of [37m12[37m/[37m50[37m [37m5.132[37m/[37m16.251[37m[0m
[4;1f
[2K[37mâÂÂâÂÂâÂÂâÂÂâÂÂâÂÂâÂÂâÂÂâ âÂÂ[37m [37mâÂÂâÂÂâÂÂ
[37m processed [37m40%[37m of [37m12[37m/[37m30[37m [37m5.131[37m/[37m7.697[37m[0m
[1;1f
[2K[37mâÂÂâÂÂâÂÂâÂÂâÂÂâÂÂâÂÂâÂÂâÂÂâÂÂâÂÂâÂÂâÂÂâ âÂÂ[37m [37mâÂÂâÂÂâÂÂ[37m processed [37m65%[37m of [37m13[37m/[37m20[37m [37m5.241[37m/[37m2.822[37m[0m
[3;1f
[2K[37mâÂÂâÂÂâÂÂâÂÂâÂÂâ âÂÂ[37m [37mâÂÂâÂÂâÂÂ[37m processed [37m24%[37m of [37m12[37m/[37m50[37m [37m5.243[37m/[37m16.603[37m[0m
[4;1f
[2K[37mâÂÂâÂÂâÂÂâÂÂâÂÂâÂÂâÂÂâÂÂâ âÂÂ[37m [37mâÂÂâÂÂâÂÂ[37m processed [37m40%[37m of [37m12[37m/[37m30[37m [37m5.244[37m/[37m7.866[37m[0m
[1;1f
[2K[37mâÂÂâÂÂâÂÂâÂÂâÂÂâÂÂâÂÂâÂÂâÂÂâÂÂâÂÂâÂÂâÂÂâ âÂÂ[37m [37mâÂÂ
âÂÂâÂÂ[37m processed [37m65%[37m of [37m13[37m/[37m20[37m [37m5.356[37m/[37m2.884[37m[0m
[3;1f
[2K[37mâÂÂâÂÂâÂÂâÂÂâÂÂâ âÂÂ[37m [37mâÂÂ
âÂÂâÂÂ[37m processed [37m26%[37m of [37m13[37m/[37m50[37m [37m5.357[37m/[37m15.247[37m[0m
[4;1f
[2K[37mâÂÂâÂÂâÂÂâÂÂâÂÂâÂÂâÂÂâÂÂâ âÂÂ[37m [37mâÂÂ
âÂÂâÂÂ[37m processed [37m40%[37m of [37m12[37m/[37m30[37m [37m5.359[37m/[37m8.039[37m[0m
[1;1f
[2K[37mâÂÂâÂÂâÂÂâÂÂâÂÂâÂÂâÂÂâÂÂâÂÂâÂÂâÂÂâÂÂâÂÂâ âÂÂ[37m [37mâÂÂâÂÂâÂÂ[37m processed [37m65%[37m of [37m13[37m/[37m20[37m [37m5.469[37m/[37m2.945[37m[0m
[3;1f
[2K[37mâÂÂâÂÂâÂÂâÂÂâÂÂâ âÂÂ[37m [37mâÂÂâÂÂâÂÂ[37m processed [37m26%[37m of [37m13[37m/[37m50[37m [37m5.469[37m/[37m15.566[37m[0m
[4;1f
[2K[37mâÂÂâÂÂâÂÂâÂÂâÂÂâÂÂâÂÂâÂÂâÂÂâ âÂÂ[37m [37mâÂÂâÂÂâÂÂ[37m processed [37m43%[37m of [37m13[37m/[37m30[37m [37m5.469[37m/[37m7.25[37m[0m
[1;1f
[2K[37mâÂÂâÂÂâÂÂâÂÂâÂÂâÂÂâÂÂâÂÂâÂÂâÂÂâÂÂâÂÂâÂÂâÂÂâ âÂÂ[37m [37mâÂÂâÂÂ
âÂÂ[37m processed [37m70%[37m of [37m14[37m/[37m20[37m [37m5.573[37m/[37m2.388[37m[0m
[3;1f
[2K[37mâÂÂâÂÂâÂÂâÂÂâÂÂâ âÂÂ[37m [37mâÂÂâÂÂ
âÂÂ[37m processed [37m26%[37m of [37m13[37m/[37m50[37m [37m5.576[37m/[37m15.87[37m[0m
[4;1f
[2K[37mâÂÂâÂÂâÂÂâÂÂâÂÂâÂÂâÂÂâÂÂâÂÂâ âÂÂ[37m [37mâÂÂâÂÂ
âÂÂ[37m processed [37m43%[37m of [37m13[37m/[37m30[37m [37m5.578[37m/[37m7.394[37m[0m
[1;1f
[2K[37mâÂÂâÂÂâÂÂâÂÂâÂÂâÂÂâÂÂâÂÂâÂÂâÂÂâÂÂâÂÂâÂÂâÂÂâ âÂÂ[37m [37mâÂÂâÂÂâÂÂ[37m processed [37m70%[37m of [37m14[37m/[37m20[37m [37m5.686[37m/[37m2.437[37m[0m
[3;1f
[2K[37mâÂÂâÂÂâÂÂâÂÂâÂÂâÂÂâ âÂÂ[37m [37mâÂÂâÂÂâÂÂ[37m processed [37m28%[37m of [37m14[37m/[37m50[37m [37m5.687[37m/[37m14.624[37m[0m
[4;1f
[2K[37mâÂÂâÂÂâÂÂâÂÂâÂÂâÂÂâÂÂâÂÂâÂÂâ âÂÂ[37m [37mâÂÂâÂÂâÂÂ[37m processed [37m43%[37m of [37m13[37m/[37m30[37m [37m5.688[37m/[37m7.54[37m[0m
[1;1f
[2K[37mâÂÂâÂÂâÂÂâÂÂâÂÂâÂÂâÂÂâÂÂâÂÂâÂÂâÂÂâÂÂâÂÂâÂÂâ âÂÂ[37m [37mâÂÂâÂÂâÂÂ[37m processed [37m70%[37m of [37m14[37m/[37m20[37m [37m5.799[37m/[37m2.485[37m[0m
[3;1f
[2K[37mâÂÂâÂÂâÂÂâÂÂâÂÂâÂÂâ âÂÂ[37m [37mâÂÂâÂÂâÂÂ[37m processed [37m28%[37m of [37m14[37m/[37m50[37m [37m5.801[37m/[37m14.917[37m[0m
[4;1f
[2K[37mâÂÂâÂÂâÂÂâÂÂâÂÂâÂÂâÂÂâÂÂâÂÂâ âÂÂ[37m [37mâÂÂâÂÂâÂÂ[37m processed [37m46%[37m of [37m14[37m/[37m30[37m [37m5.802[37m/[37m6.811[37m[0m
[1;1f
[2K[37mâÂÂâÂÂâÂÂâÂÂâÂÂâÂÂâÂÂâÂÂâÂÂâÂÂâÂÂâÂÂâÂÂâÂÂâÂÂâ âÂÂ[37m [37mâÂÂâÂÂâÂÂ[37m processed [37m75%[37m of [37m15[37m/[37m20[37m [37m5.914[37m/[37m1.971[37m[0m
[3;1f
[2K[37mâÂÂâÂÂâÂÂâÂÂâÂÂâÂÂâ âÂÂ[37m [37mâÂÂâÂÂâÂÂ[37m processed [37m28%[37m of [37m14[37m/[37m50[37m [37m5.914[37m/[37m15.207[37m[0m
[4;1f
[2K[37mâÂÂâÂÂâÂÂâÂÂâÂÂâÂÂâÂÂâÂÂâÂÂâ âÂÂ[37m [37mâÂÂâÂÂâÂÂ[37m processed [37m46%[37m of [37m14[37m/[37m30[37m [37m5.913[37m/[37m6.941[37m[0m
[1;1f
[2K[37mâÂÂâÂÂâÂÂâÂÂâÂÂâÂÂâÂÂâÂÂâÂÂâÂÂâÂÂâÂÂâÂÂâÂÂâÂÂâ âÂÂ[37m [37mâÂÂâÂÂâÂÂ
[37m processed [37m75%[37m of [37m15[37m/[37m20[37m [37m6.023[37m/[37m2.008[37m[0m
[3;1f
[2K[37mâÂÂâÂÂâÂÂâÂÂâÂÂâÂÂâ âÂÂ[37m [37mâÂÂâÂÂâÂÂ
[37m processed [37m30%[37m of [37m15[37m/[37m50[37m [37m6.023[37m/[37m14.054[37m[0m
[4;1f
[2K[37mâÂÂâÂÂâÂÂâÂÂâÂÂâÂÂâÂÂâÂÂâÂÂâ âÂÂ[37m [37mâÂÂâÂÂâÂÂ
[37m processed [37m46%[37m of [37m14[37m/[37m30[37m [37m6.022[37m/[37m7.069[37m[0m
[1;1f
[2K[37mâÂÂâÂÂâÂÂâÂÂâÂÂâÂÂâÂÂâÂÂâÂÂâÂÂâÂÂâÂÂâÂÂâÂÂâÂÂâ âÂÂ[37m [37mâÂÂâÂÂâÂÂ[37m processed [37m75%[37m of [37m15[37m/[37m20[37m [37m6.133[37m/[37m2.044[37m[0m
[3;1f
[2K[37mâÂÂâÂÂâÂÂâÂÂâÂÂâÂÂâ âÂÂ[37m [37mâÂÂâÂÂâÂÂ[37m processed [37m30%[37m of [37m15[37m/[37m50[37m [37m6.133[37m/[37m14.31[37m[0m
[4;1f
[2K[37mâÂÂâÂÂâÂÂâÂÂâÂÂâÂÂâÂÂâÂÂâÂÂâÂÂâ âÂÂ[37m [37mâÂÂâÂÂâÂÂ[37m processed [37m50%[37m of [37m15[37m/[37m30[37m [37m6.134[37m/[37m6.134[37m[0m
[1;1f
[2K[37mâÂÂâÂÂâÂÂâÂÂâÂÂâÂÂâÂÂâÂÂâÂÂâÂÂâÂÂâÂÂâÂÂâÂÂâÂÂâÂÂâ âÂÂ[37m [37mâÂÂ
âÂÂâÂÂ[37m processed [37m80%[37m of [37m16[37m/[37m20[37m [37m6.245[37m/[37m1.561[37m[0m
[3;1f
[2K[37mâÂÂâÂÂâÂÂâÂÂâÂÂâÂÂâ âÂÂ[37m [37mâÂÂ
âÂÂâÂÂ[37m processed [37m30%[37m of [37m15[37m/[37m50[37m [37m6.245[37m/[37m14.572[37m[0m
[4;1f
[2K[37mâÂÂâÂÂâÂÂâÂÂâÂÂâÂÂâÂÂâÂÂâÂÂâÂÂâ âÂÂ[37m [37mâÂÂ
âÂÂâÂÂ[37m processed [37m50%[37m of [37m15[37m/[37m30[37m [37m6.245[37m/[37m6.245[37m[0m
[1;1f
[2K[37mâÂÂâÂÂâÂÂâÂÂâÂÂâÂÂâÂÂâÂÂâÂÂâÂÂâÂÂâÂÂâÂÂâÂÂâÂÂâÂÂâ âÂÂ[37m [37mâÂÂâÂÂâÂÂ[37m processed [37m80%[37m of [37m16[37m/[37m20[37m [37m6.353[37m/[37m1.588[37m[0m
[3;1f
[2K[37mâÂÂâÂÂâÂÂâÂÂâÂÂâÂÂâ âÂÂ[37m [37mâÂÂâÂÂâÂÂ[37m processed [37m32%[37m of [37m16[37m/[37m50[37m [37m6.353[37m/[37m13.5[37m[0m
[4;1f
[2K[37mâÂÂâÂÂâÂÂâÂÂâÂÂâÂÂâÂÂâÂÂâÂÂâÂÂâ âÂÂ[37m [37mâÂÂâÂÂâÂÂ[37m processed [37m50%[37m of [37m15[37m/[37m30[37m [37m6.352[37m/[37m6.352[37m[0m
[1;1f
[2K[37mâÂÂâÂÂâÂÂâÂÂâÂÂâÂÂâÂÂâÂÂâÂÂâÂÂâÂÂâÂÂâÂÂâÂÂâÂÂâÂÂâ âÂÂ[37m [37mâÂÂâÂÂ
âÂÂ[37m processed [37m80%[37m of [37m16[37m/[37m20[37m [37m6.462[37m/[37m1.616[37m[0m
[3;1f
[2K[37mâÂÂâÂÂâÂÂâÂÂâÂÂâÂÂâ âÂÂ[37m [37mâÂÂâÂÂ
âÂÂ[37m processed [37m32%[37m of [37m16[37m/[37m50[37m [37m6.461[37m/[37m13.73[37m[0m
[4;1f
[2K[37mâÂÂâÂÂâÂÂâÂÂâÂÂâÂÂâÂÂâÂÂâÂÂâÂÂâÂÂâ âÂÂ[37m [37mâÂÂâÂÂ
âÂÂ[37m processed [37m53%[37m of [37m16[37m/[37m30[37m [37m6.46[37m/[37m5.729[37m[0m
[1;1f
[2K[37mâÂÂâÂÂâÂÂâÂÂâÂÂâÂÂâÂÂâÂÂâÂÂâÂÂâÂÂâÂÂâÂÂâÂÂâÂÂâÂÂâÂÂâ âÂÂ[37m [37mâÂÂâÂÂâÂÂ[37m processed [37m85%[37m of [37m17[37m/[37m20[37m [37m6.571[37m/[37m1.16[37m[0m
[3;1f
[2K[37mâÂÂâÂÂâÂÂâÂÂâÂÂâÂÂâ âÂÂ[37m [37mâÂÂâÂÂâÂÂ[37m processed [37m32%[37m of [37m16[37m/[37m50[37m [37m6.572[37m/[37m13.966[37m[0m
[4;1f
[2K[37mâÂÂâÂÂâÂÂâÂÂâÂÂâÂÂâÂÂâÂÂâÂÂâÂÂâÂÂâ âÂÂ[37m [37mâÂÂâÂÂâÂÂ[37m processed [37m53%[37m of [37m16[37m/[37m30[37m [37m6.578[37m/[37m5.833[37m[0m
[1;1f
[2K[37mâÂÂâÂÂâÂÂâÂÂâÂÂâÂÂâÂÂâÂÂâÂÂâÂÂâÂÂâÂÂâÂÂâÂÂâÂÂâÂÂâÂÂâ âÂÂ[37m [37mâÂÂâÂÂâÂÂ[37m processed [37m85%[37m of [37m17[37m/[37m20[37m [37m6.688[37m/[37m1.18[37m[0m
[3;1f
[2K[37mâÂÂâÂÂâÂÂâÂÂâÂÂâÂÂâÂÂâ âÂÂ[37m [37mâÂÂâÂÂâÂÂ[37m processed [37m34%[37m of [37m17[37m/[37m50[37m [37m6.688[37m/[37m12.983[37m[0m
[4;1f
[2K[37mâÂÂâÂÂâÂÂâÂÂâÂÂâÂÂâÂÂâÂÂâÂÂâÂÂâÂÂâ âÂÂ[37m [37mâÂÂâÂÂâÂÂ[37m processed [37m53%[37m of [37m16[37m/[37m30[37m [37m6.687[37m/[37m5.93[37m[0m
[1;1f
[2K[37mâÂÂâÂÂâÂÂâÂÂâÂÂâÂÂâÂÂâÂÂâÂÂâÂÂâÂÂâÂÂâÂÂâÂÂâÂÂâÂÂâÂÂâ âÂÂ[37m [37mâÂÂâÂÂâÂÂ[37m processed [37m85%[37m of [37m17[37m/[37m20[37m [37m6.796[37m/[37m1.199[37m[0m
[3;1f
[2K[37mâÂÂâÂÂâÂÂâÂÂâÂÂâÂÂâÂÂâ âÂÂ[37m [37mâÂÂâÂÂâÂÂ[37m processed [37m34%[37m of [37m17[37m/[37m50[37m [37m6.796[37m/[37m13.192[37m[0m
[4;1f
[2K[37mâÂÂâÂÂâÂÂâÂÂâÂÂâÂÂâÂÂâÂÂâÂÂâÂÂâÂÂâ âÂÂ[37m [37mâÂÂâÂÂâÂÂ[37m processed [37m56%[37m of [37m17[37m/[37m30[37m [37m6.795[37m/[37m5.339[37m[0m
[1;1f
[2K[37mâÂÂâÂÂâÂÂâÂÂâÂÂâÂÂâÂÂâÂÂâÂÂâÂÂâÂÂâÂÂâÂÂâÂÂâÂÂâÂÂâÂÂâÂÂâ âÂÂ[37m [37mâÂÂâÂÂâÂÂ
[37m processed [37m90%[37m of [37m18[37m/[37m20[37m [37m6.905[37m/[37m0.767[37m[0m
[3;1f
[2K[37mâÂÂâÂÂâÂÂâÂÂâÂÂâÂÂâÂÂâ âÂÂ[37m [37mâÂÂâÂÂâÂÂ
[37m processed [37m34%[37m of [37m17[37m/[37m50[37m [37m6.904[37m/[37m13.402[37m[0m
[4;1f
[2K[37mâÂÂâÂÂâÂÂâÂÂâÂÂâÂÂâÂÂâÂÂâÂÂâÂÂâÂÂâ âÂÂ[37m [37mâÂÂâÂÂâÂÂ
[37m processed [37m56%[37m of [37m17[37m/[37m30[37m [37m6.903[37m/[37m5.424[37m[0m
[1;1f
[2K[37mâÂÂâÂÂâÂÂâÂÂâÂÂâÂÂâÂÂâÂÂâÂÂâÂÂâÂÂâÂÂâÂÂâÂÂâÂÂâÂÂâÂÂâÂÂâ âÂÂ[37m [37mâÂÂâÂÂâÂÂ[37m processed [37m90%[37m of [37m18[37m/[37m20[37m [37m7.013[37m/[37m0.779[37m[0m
[3;1f
[2K[37mâÂÂâÂÂâÂÂâÂÂâÂÂâÂÂâÂÂâ âÂÂ[37m [37mâÂÂâÂÂâÂÂ[37m processed [37m36%[37m of [37m18[37m/[37m50[37m [37m7.013[37m/[37m12.468[37m[0m
[4;1f
[2K[37mâÂÂâÂÂâÂÂâÂÂâÂÂâÂÂâÂÂâÂÂâÂÂâÂÂâÂÂâ âÂÂ[37m [37mâÂÂâÂÂâÂÂ[37m processed [37m56%[37m of [37m17[37m/[37m30[37m [37m7.012[37m/[37m5.509[37m[0m
[1;1f
[2K[37mâÂÂâÂÂâÂÂâÂÂâÂÂâÂÂâÂÂâÂÂâÂÂâÂÂâÂÂâÂÂâÂÂâÂÂâÂÂâÂÂâÂÂâÂÂâ âÂÂ[37m [37mâÂÂ
âÂÂâÂÂ[37m processed [37m90%[37m of [37m18[37m/[37m20[37m [37m7.123[37m/[37m0.791[37m[0m
[3;1f
[2K[37mâÂÂâÂÂâÂÂâÂÂâÂÂâÂÂâÂÂâ âÂÂ[37m [37mâÂÂ
âÂÂâÂÂ[37m processed [37m36%[37m of [37m18[37m/[37m50[37m [37m7.124[37m/[37m12.665[37m[0m
[4;1f
[2K[37mâÂÂâÂÂâÂÂâÂÂâÂÂâÂÂâÂÂâÂÂâÂÂâÂÂâÂÂâÂÂâ âÂÂ[37m [37mâÂÂ
âÂÂâÂÂ[37m processed [37m60%[37m of [37m18[37m/[37m30[37m [37m7.125[37m/[37m4.75[37m[0m
[1;1f
[2K[37mâÂÂâÂÂâÂÂâÂÂâÂÂâÂÂâÂÂâÂÂâÂÂâÂÂâÂÂâÂÂâÂÂâÂÂâÂÂâÂÂâÂÂâÂÂâÂÂâ âÂÂ[37m [37mâÂÂâÂÂâÂÂ[37m processed [37m95%[37m of [37m19[37m/[37m20[37m [37m7.231[37m/[37m0.381[37m[0m
[3;1f
[2K[37mâÂÂâÂÂâÂÂâÂÂâÂÂâÂÂâÂÂâ âÂÂ[37m [37mâÂÂâÂÂâÂÂ[37m processed [37m36%[37m of [37m18[37m/[37m50[37m [37m7.232[37m/[37m12.857[37m[0m
[4;1f
[2K[37mâÂÂâÂÂâÂÂâÂÂâÂÂâÂÂâÂÂâÂÂâÂÂâÂÂâÂÂâÂÂâ âÂÂ[37m [37mâÂÂâÂÂâÂÂ[37m processed [37m60%[37m of [37m18[37m/[37m30[37m [37m7.233[37m/[37m4.822[37m[0m
[1;1f
[2K[37mâÂÂâÂÂâÂÂâÂÂâÂÂâÂÂâÂÂâÂÂâÂÂâÂÂâÂÂâÂÂâÂÂâÂÂâÂÂâÂÂâÂÂâÂÂâÂÂâ âÂÂ[37m [37mâÂÂâÂÂ
âÂÂ[37m processed [37m95%[37m of [37m19[37m/[37m20[37m [37m7.344[37m/[37m0.387[37m[0m
[3;1f
[2K[37mâÂÂâÂÂâÂÂâÂÂâÂÂâÂÂâÂÂâÂÂâ âÂÂ[37m [37mâÂÂâÂÂ
âÂÂ[37m processed [37m38%[37m of [37m19[37m/[37m50[37m [37m7.346[37m/[37m11.986[37m[0m
[4;1f
[2K[37mâÂÂâÂÂâÂÂâÂÂâÂÂâÂÂâÂÂâÂÂâÂÂâÂÂâÂÂâÂÂâ âÂÂ[37m [37mâÂÂâÂÂ
âÂÂ[37m processed [37m60%[37m of [37m18[37m/[37m30[37m [37m7.348[37m/[37m4.899[37m[0m
[1;1f
[2K[37mâÂÂâÂÂâÂÂâÂÂâÂÂâÂÂâÂÂâÂÂâÂÂâÂÂâÂÂâÂÂâÂÂâÂÂâÂÂâÂÂâÂÂâÂÂâÂÂâ âÂÂ[37m [37mâÂÂâÂÂâÂÂ[37m processed [37m95%[37m of [37m19[37m/[37m20[37m [37m7.458[37m/[37m0.393[37m[0m
[3;1f
[2K[37mâÂÂâÂÂâÂÂâÂÂâÂÂâÂÂâÂÂâÂÂâ âÂÂ[37m [37mâÂÂâÂÂâÂÂ[37m processed [37m38%[37m of [37m19[37m/[37m50[37m [37m7.458[37m/[37m12.168[37m[0m
[4;1f
[2K[37mâÂÂâÂÂâÂÂâÂÂâÂÂâÂÂâÂÂâÂÂâÂÂâÂÂâÂÂâÂÂâÂÂâ âÂÂ[37m [37mâÂÂâÂÂâÂÂ[37m processed [37m63%[37m of [37m19[37m/[37m30[37m [37m7.457[37m/[37m4.38[37m[0m
[1;1f
[2K[37mâÂÂâÂÂâÂÂâÂÂâÂÂâÂÂâÂÂâÂÂâÂÂâÂÂâÂÂâÂÂâÂÂâÂÂâÂÂâÂÂâÂÂâÂÂâÂÂâÂÂâÂÂâÂÂ[37m [37mâÂÂâÂÂâÂÂ[37m processed [37m100%[37m of [37m20[37m/[37m20[37m [37m7.567[37m/[37m0[37m[0m
[3;1f
[2K[37mâÂÂâÂÂâÂÂâÂÂâÂÂâÂÂâÂÂâÂÂâ âÂÂ[37m [37mâÂÂâÂÂâÂÂ[37m processed [37m38%[37m of [37m19[37m/[37m50[37m [37m7.566[37m/[37m12.345[37m[0m
[4;1f
[2K[37mâÂÂâÂÂâÂÂâÂÂâÂÂâÂÂâÂÂâÂÂâÂÂâÂÂâÂÂâÂÂâÂÂâ âÂÂ[37m [37mâÂÂâÂÂâÂÂ[37m processed [37m63%[37m of [37m19[37m/[37m30[37m [37m7.567[37m/[37m4.444[37m[0m
[1;1f
[2K[37mâÂÂâÂÂâÂÂâÂÂâÂÂâÂÂâÂÂâÂÂâÂÂâÂÂâÂÂâÂÂâÂÂâÂÂâÂÂâÂÂâÂÂâÂÂâÂÂâÂÂâÂÂâÂÂ[37m [37mâÂÂâÂÂâÂÂ[37m processed [37m100%[37m of [37m20[37m/[37m20[37m [37m7.673[37m/[37m0[37m[0m
[3;1f
[2K[37mâÂÂâÂÂâÂÂâÂÂâÂÂâÂÂâÂÂâÂÂâ âÂÂ[37m [37mâÂÂâÂÂâÂÂ[37m processed [37m40%[37m of [37m20[37m/[37m50[37m [37m7.673[37m/[37m11.51[37m[0m
[4;1f
[2K[37mâÂÂâÂÂâÂÂâÂÂâÂÂâÂÂâÂÂâÂÂâÂÂâÂÂâÂÂâÂÂâÂÂâ âÂÂ[37m [37mâÂÂâÂÂâÂÂ[37m processed [37m63%[37m of [37m19[37m/[37m30[37m [37m7.672[37m/[37m4.506[37m[0m
[1;1f
[2K[37mâÂÂâÂÂâÂÂâÂÂâÂÂâÂÂâÂÂâÂÂâÂÂâÂÂâÂÂâÂÂâÂÂâÂÂâÂÂâÂÂâÂÂâÂÂâÂÂâÂÂâÂÂâÂÂ[37m [37mâÂÂâÂÂâÂÂ
[37m processed [37m100%[37m of [37m20[37m/[37m20[37m [37m7.781[37m/[37m0[37m[0m
[3;1f
[2K[37mâÂÂâÂÂâÂÂâÂÂâÂÂâÂÂâÂÂâÂÂâ âÂÂ[37m [37mâÂÂâÂÂâÂÂ
[37m processed [37m40%[37m of [37m20[37m/[37m50[37m [37m7.782[37m/[37m11.673[37m[0m
[4;1f
[2K[37mâÂÂâÂÂâÂÂâÂÂâÂÂâÂÂâÂÂâÂÂâÂÂâÂÂâÂÂâÂÂâÂÂâ âÂÂ[37m [37mâÂÂâÂÂâÂÂ
[37m processed [37m66%[37m of [37m20[37m/[37m30[37m [37m7.782[37m/[37m4.009[37m[0m
[3;1f
[2K[37mâÂÂâÂÂâÂÂâÂÂâÂÂâÂÂâÂÂâÂÂâ âÂÂ[37m [37mâÂÂâÂÂâÂÂ[37m processed [37m42%[37m of [37m21[37m/[37m50[37m [37m7.891[37m/[37m10.897[37m[0m
[4;1f
[2K[37mâÂÂâÂÂâÂÂâÂÂâÂÂâÂÂâÂÂâÂÂâÂÂâÂÂâÂÂâÂÂâÂÂâ âÂÂ[37m [37mâÂÂâÂÂâÂÂ[37m processed [37m66%[37m of [37m20[37m/[37m30[37m [37m7.892[37m/[37m4.066[37m[0m
[3;1f
[2K[37mâÂÂâÂÂâÂÂâÂÂâÂÂâÂÂâÂÂâÂÂâ âÂÂ[37m [37mâÂÂ
âÂÂâÂÂ[37m processed [37m42%[37m of [37m21[37m/[37m50[37m [37m8.003[37m/[37m11.052[37m[0m
[4;1f
[2K[37mâÂÂâÂÂâÂÂâÂÂâÂÂâÂÂâÂÂâÂÂâÂÂâÂÂâÂÂâÂÂâÂÂâÂÂâ âÂÂ[37m [37mâÂÂ
âÂÂâÂÂ[37m processed [37m70%[37m of [37m21[37m/[37m30[37m [37m8.005[37m/[37m3.431[37m[0m
[3;1f
[2K[37mâÂÂâÂÂâÂÂâÂÂâÂÂâÂÂâÂÂâÂÂâÂÂâ âÂÂ[37m [37mâÂÂâÂÂâÂÂ[37m processed [37m44%[37m of [37m22[37m/[37m50[37m [37m8.114[37m/[37m10.327[37m[0m
[4;1f
[2K[37mâÂÂâÂÂâÂÂâÂÂâÂÂâÂÂâÂÂâÂÂâÂÂâÂÂâÂÂâÂÂâÂÂâÂÂâ âÂÂ[37m [37mâÂÂâÂÂâÂÂ[37m processed [37m70%[37m of [37m21[37m/[37m30[37m [37m8.114[37m/[37m3.477[37m[0m
[3;1f
[2K[37mâÂÂâÂÂâÂÂâÂÂâÂÂâÂÂâÂÂâÂÂâÂÂâ âÂÂ[37m [37mâÂÂâÂÂ
âÂÂ[37m processed [37m44%[37m of [37m22[37m/[37m50[37m [37m8.223[37m/[37m10.466[37m[0m
[4;1f
[2K[37mâÂÂâÂÂâÂÂâÂÂâÂÂâÂÂâÂÂâÂÂâÂÂâÂÂâÂÂâÂÂâÂÂâÂÂâÂÂâ âÂÂ[37m [37mâÂÂâÂÂ
âÂÂ[37m processed [37m73%[37m of [37m22[37m/[37m30[37m [37m8.223[37m/[37m3.041[37m[0m
[3;1f
[2K[37mâÂÂâÂÂâÂÂâÂÂâÂÂâÂÂâÂÂâÂÂâÂÂâ âÂÂ[37m [37mâÂÂâÂÂâÂÂ[37m processed [37m46%[37m of [37m23[37m/[37m50[37m [37m8.331[37m/[37m9.78[37m[0m
[4;1f
[2K[37mâÂÂâÂÂâÂÂâÂÂâÂÂâÂÂâÂÂâÂÂâÂÂâÂÂâÂÂâÂÂâÂÂâÂÂâÂÂâ âÂÂ[37m [37mâÂÂâÂÂâÂÂ[37m processed [37m73%[37m of [37m22[37m/[37m30[37m [37m8.331[37m/[37m3.081[37m[0m
[3;1f
[2K[37mâÂÂâÂÂâÂÂâÂÂâÂÂâÂÂâÂÂâÂÂâÂÂâ âÂÂ[37m [37mâÂÂâÂÂâÂÂ[37m processed [37m46%[37m of [37m23[37m/[37m50[37m [37m8.439[37m/[37m9.907[37m[0m
[4;1f
[2K[37mâÂÂâÂÂâÂÂâÂÂâÂÂâÂÂâÂÂâÂÂâÂÂâÂÂâÂÂâÂÂâÂÂâÂÂâÂÂâ âÂÂ[37m [37mâÂÂâÂÂâÂÂ[37m processed [37m76%[37m of [37m23[37m/[37m30[37m [37m8.439[37m/[37m2.665[37m[0m
[3;1f
[2K[37mâÂÂâÂÂâÂÂâÂÂâÂÂâÂÂâÂÂâÂÂâÂÂâÂÂâ âÂÂ[37m [37mâÂÂâÂÂâÂÂ[37m processed [37m48%[37m of [37m24[37m/[37m50[37m [37m8.548[37m/[37m9.26[37m[0m
[4;1f
[2K[37mâÂÂâÂÂâÂÂâÂÂâÂÂâÂÂâÂÂâÂÂâÂÂâÂÂâÂÂâÂÂâÂÂâÂÂâÂÂâ âÂÂ[37m [37mâÂÂâÂÂâÂÂ[37m processed [37m76%[37m of [37m23[37m/[37m30[37m [37m8.548[37m/[37m2.699[37m[0m
[3;1f
[2K[37mâÂÂâÂÂâÂÂâÂÂâÂÂâÂÂâÂÂâÂÂâÂÂâÂÂâ âÂÂ[37m [37mâÂÂâÂÂâÂÂ
[37m processed [37m48%[37m of [37m24[37m/[37m50[37m [37m8.657[37m/[37m9.378[37m[0m
[4;1f
[2K[37mâÂÂâÂÂâÂÂâÂÂâÂÂâÂÂâÂÂâÂÂâÂÂâÂÂâÂÂâÂÂâÂÂâÂÂâÂÂâÂÂâ âÂÂ[37m [37mâÂÂâÂÂâÂÂ
[37m processed [37m80%[37m of [37m24[37m/[37m30[37m [37m8.657[37m/[37m2.164[37m[0m
[3;1f
[2K[37mâÂÂâÂÂâÂÂâÂÂâÂÂâÂÂâÂÂâÂÂâÂÂâÂÂâ âÂÂ[37m [37mâÂÂâÂÂâÂÂ[37m processed [37m50%[37m of [37m25[37m/[37m50[37m [37m8.766[37m/[37m8.766[37m[0m
[4;1f
[2K[37mâÂÂâÂÂâÂÂâÂÂâÂÂâÂÂâÂÂâÂÂâÂÂâÂÂâÂÂâÂÂâÂÂâÂÂâÂÂâÂÂâ âÂÂ[37m [37mâÂÂâÂÂâÂÂ[37m processed [37m80%[37m of [37m24[37m/[37m30[37m [37m8.766[37m/[37m2.192[37m[0m
[3;1f
[2K[37mâÂÂâÂÂâÂÂâÂÂâÂÂâÂÂâÂÂâÂÂâÂÂâÂÂâ âÂÂ[37m [37mâÂÂ
âÂÂâÂÂ[37m processed [37m50%[37m of [37m25[37m/[37m50[37m [37m8.869[37m/[37m8.869[37m[0m
[4;1f
[2K[37mâÂÂâÂÂâÂÂâÂÂâÂÂâÂÂâÂÂâÂÂâÂÂâÂÂâÂÂâÂÂâÂÂâÂÂâÂÂâÂÂâÂÂâ âÂÂ[37m [37mâÂÂ
âÂÂâÂÂ[37m processed [37m83%[37m of [37m25[37m/[37m30[37m [37m8.87[37m/[37m1.817[37m[0m
[3;1f
[2K[37mâÂÂâÂÂâÂÂâÂÂâÂÂâÂÂâÂÂâÂÂâÂÂâÂÂâ âÂÂ[37m [37mâÂÂâÂÂâÂÂ[37m processed [37m52%[37m of [37m26[37m/[37m50[37m [37m8.974[37m/[37m8.284[37m[0m
[4;1f
[2K[37mâÂÂâÂÂâÂÂâÂÂâÂÂâÂÂâÂÂâÂÂâÂÂâÂÂâÂÂâÂÂâÂÂâÂÂâÂÂâÂÂâÂÂâ âÂÂ[37m [37mâÂÂâÂÂâÂÂ[37m processed [37m83%[37m of [37m25[37m/[37m30[37m [37m8.974[37m/[37m1.838[37m[0m
[3;1f
[2K[37mâÂÂâÂÂâÂÂâÂÂâÂÂâÂÂâÂÂâÂÂâÂÂâÂÂâ âÂÂ[37m [37mâÂÂâÂÂ
âÂÂ[37m processed [37m52%[37m of [37m26[37m/[37m50[37m [37m9.081[37m/[37m8.382[37m[0m
[4;1f
[2K[37mâÂÂâÂÂâÂÂâÂÂâÂÂâÂÂâÂÂâÂÂâÂÂâÂÂâÂÂâÂÂâÂÂâÂÂâÂÂâÂÂâÂÂâ âÂÂ[37m [37mâÂÂâÂÂ
âÂÂ[37m processed [37m86%[37m of [37m26[37m/[37m30[37m [37m9.082[37m/[37m1.478[37m[0m
[3;1f
[2K[37mâÂÂâÂÂâÂÂâÂÂâÂÂâÂÂâÂÂâÂÂâÂÂâÂÂâÂÂâ âÂÂ[37m [37mâÂÂâÂÂâÂÂ[37m processed [37m54%[37m of [37m27[37m/[37m50[37m [37m9.187[37m/[37m7.826[37m[0m
[4;1f
[2K[37mâÂÂâÂÂâÂÂâÂÂâÂÂâÂÂâÂÂâÂÂâÂÂâÂÂâÂÂâÂÂâÂÂâÂÂâÂÂâÂÂâÂÂâ âÂÂ[37m [37mâÂÂâÂÂâÂÂ[37m processed [37m86%[37m of [37m26[37m/[37m30[37m [37m9.187[37m/[37m1.496[37m[0m
[3;1f
[2K[37mâÂÂâÂÂâÂÂâÂÂâÂÂâÂÂâÂÂâÂÂâÂÂâÂÂâÂÂâ âÂÂ[37m [37mâÂÂâÂÂâÂÂ[37m processed [37m54%[37m of [37m27[37m/[37m50[37m [37m9.297[37m/[37m7.92[37m[0m
[4;1f
[2K[37mâÂÂâÂÂâÂÂâÂÂâÂÂâÂÂâÂÂâÂÂâÂÂâÂÂâÂÂâÂÂâÂÂâÂÂâÂÂâÂÂâÂÂâÂÂâ âÂÂ[37m [37mâÂÂâÂÂâÂÂ[37m processed [37m90%[37m of [37m27[37m/[37m30[37m [37m9.298[37m/[37m1.033[37m[0m
[3;1f
[2K[37mâÂÂâÂÂâÂÂâÂÂâÂÂâÂÂâÂÂâÂÂâÂÂâÂÂâÂÂâ âÂÂ[37m [37mâÂÂâÂÂâÂÂ[37m processed [37m56%[37m of [37m28[37m/[37m50[37m [37m9.408[37m/[37m7.392[37m[0m
[4;1f
[2K[37mâÂÂâÂÂâÂÂâÂÂâÂÂâÂÂâÂÂâÂÂâÂÂâÂÂâÂÂâÂÂâÂÂâÂÂâÂÂâÂÂâÂÂâÂÂâ âÂÂ[37m [37mâÂÂâÂÂâÂÂ[37m processed [37m90%[37m of [37m27[37m/[37m30[37m [37m9.41[37m/[37m1.046[37m[0m
[3;1f
[2K[37mâÂÂâÂÂâÂÂâÂÂâÂÂâÂÂâÂÂâÂÂâÂÂâÂÂâÂÂâ âÂÂ[37m [37mâÂÂâÂÂâÂÂ
[37m processed [37m56%[37m of [37m28[37m/[37m50[37m [37m9.521[37m/[37m7.481[37m[0m
[4;1f
[2K[37mâÂÂâÂÂâÂÂâÂÂâÂÂâÂÂâÂÂâÂÂâÂÂâÂÂâÂÂâÂÂâÂÂâÂÂâÂÂâÂÂâÂÂâÂÂâÂÂâ âÂÂ[37m [37mâÂÂâÂÂâÂÂ
[37m processed [37m93%[37m of [37m28[37m/[37m30[37m [37m9.521[37m/[37m0.717[37m[0m
[3;1f
[2K[37mâÂÂâÂÂâÂÂâÂÂâÂÂâÂÂâÂÂâÂÂâÂÂâÂÂâÂÂâ âÂÂ[37m [37mâÂÂâÂÂâÂÂ[37m processed [37m57%[37m of [37m29[37m/[37m50[37m [37m9.63[37m/[37m7.265[37m[0m
[4;1f
[2K[37mâÂÂâÂÂâÂÂâÂÂâÂÂâÂÂâÂÂâÂÂâÂÂâÂÂâÂÂâÂÂâÂÂâÂÂâÂÂâÂÂâÂÂâÂÂâÂÂâ âÂÂ[37m [37mâÂÂâÂÂâÂÂ[37m processed [37m93%[37m of [37m28[37m/[37m30[37m [37m9.631[37m/[37m0.725[37m[0m
[3;1f
[2K[37mâÂÂâÂÂâÂÂâÂÂâÂÂâÂÂâÂÂâÂÂâÂÂâÂÂâÂÂâ âÂÂ[37m [37mâÂÂ
âÂÂâÂÂ[37m processed [37m57%[37m of [37m29[37m/[37m50[37m [37m9.74[37m/[37m7.348[37m[0m
[4;1f
[2K[37mâÂÂâÂÂâÂÂâÂÂâÂÂâÂÂâÂÂâÂÂâÂÂâÂÂâÂÂâÂÂâÂÂâÂÂâÂÂâÂÂâÂÂâÂÂâÂÂâ âÂÂ[37m [37mâÂÂ
âÂÂâÂÂ[37m processed [37m96%[37m of [37m29[37m/[37m30[37m [37m9.741[37m/[37m0.406[37m[0m
[3;1f
[2K[37mâÂÂâÂÂâÂÂâÂÂâÂÂâÂÂâÂÂâÂÂâÂÂâÂÂâÂÂâÂÂâ âÂÂ[37m [37mâÂÂâÂÂâÂÂ[37m processed [37m60%[37m of [37m30[37m/[37m50[37m [37m9.85[37m/[37m6.567[37m[0m
[4;1f
[2K[37mâÂÂâÂÂâÂÂâÂÂâÂÂâÂÂâÂÂâÂÂâÂÂâÂÂâÂÂâÂÂâÂÂâÂÂâÂÂâÂÂâÂÂâÂÂâÂÂâ âÂÂ[37m [37mâÂÂâÂÂâÂÂ[37m processed [37m96%[37m of [37m29[37m/[37m30[37m [37m9.85[37m/[37m0.41[37m[0m
[3;1f
[2K[37mâÂÂâÂÂâÂÂâÂÂâÂÂâÂÂâÂÂâÂÂâÂÂâÂÂâÂÂâÂÂâ âÂÂ[37m [37mâÂÂâÂÂ
âÂÂ[37m processed [37m60%[37m of [37m30[37m/[37m50[37m [37m9.959[37m/[37m6.639[37m[0m
[4;1f
[2K[37mâÂÂâÂÂâÂÂâÂÂâÂÂâÂÂâÂÂâÂÂâÂÂâÂÂâÂÂâÂÂâÂÂâÂÂâÂÂâÂÂâÂÂâÂÂâÂÂâÂÂâÂÂâÂÂ[37m [37mâÂÂâÂÂ
âÂÂ[37m processed [37m100%[37m of [37m30[37m/[37m30[37m [37m9.961[37m/[37m0[37m[0m
[3;1f
[2K[37mâÂÂâÂÂâÂÂâÂÂâÂÂâÂÂâÂÂâÂÂâÂÂâÂÂâÂÂâÂÂâ âÂÂ[37m [37mâÂÂâÂÂâÂÂ[37m processed [37m62%[37m of [37m31[37m/[37m50[37m [37m10.07[37m/[37m6.172[37m[0m
[4;1f
[2K[37mâÂÂâÂÂâÂÂâÂÂâÂÂâÂÂâÂÂâÂÂâÂÂâÂÂâÂÂâÂÂâÂÂâÂÂâÂÂâÂÂâÂÂâÂÂâÂÂâÂÂâÂÂâÂÂ[37m [37mâÂÂâÂÂâÂÂ[37m processed [37m100%[37m of [37m30[37m/[37m30[37m [37m10.07[37m/[37m0[37m[0m
[3;1f
[2K[37mâÂÂâÂÂâÂÂâÂÂâÂÂâÂÂâÂÂâÂÂâÂÂâÂÂâÂÂâÂÂâÂÂâ âÂÂ[37m [37mâÂÂâÂÂâÂÂ[37m processed [37m64%[37m of [37m32[37m/[37m50[37m [37m10.179[37m/[37m5.726[37m[0m
[3;1f
[2K[37mâÂÂâÂÂâÂÂâÂÂâÂÂâÂÂâÂÂâÂÂâÂÂâÂÂâÂÂâÂÂâÂÂâ âÂÂ[37m [37mâÂÂâÂÂâÂÂ[37m processed [37m66%[37m of [37m33[37m/[37m50[37m [37m10.287[37m/[37m5.299[37m[0m
[3;1f
[2K[37mâÂÂâÂÂâÂÂâÂÂâÂÂâÂÂâÂÂâÂÂâÂÂâÂÂâÂÂâÂÂâÂÂâÂÂâ âÂÂ[37m [37mâÂÂâÂÂâÂÂ
[37m processed [37m68%[37m of [37m34[37m/[37m50[37m [37m10.398[37m/[37m4.893[37m[0m
[3;1f
[2K[37mâÂÂâÂÂâÂÂâÂÂâÂÂâÂÂâÂÂâÂÂâÂÂâÂÂâÂÂâÂÂâÂÂâÂÂâ âÂÂ[37m [37mâÂÂâÂÂâÂÂ[37m processed [37m70%[37m of [37m35[37m/[37m50[37m [37m10.508[37m/[37m4.503[37m[0m
[3;1f
[2K[37mâÂÂâÂÂâÂÂâÂÂâÂÂâÂÂâÂÂâÂÂâÂÂâÂÂâÂÂâÂÂâÂÂâÂÂâ âÂÂ[37m [37mâÂÂ
âÂÂâÂÂ[37m processed [37m72%[37m of [37m36[37m/[37m50[37m [37m10.615[37m/[37m4.128[37m[0m
[3;1f
[2K[37mâÂÂâÂÂâÂÂâÂÂâÂÂâÂÂâÂÂâÂÂâÂÂâÂÂâÂÂâÂÂâÂÂâÂÂâÂÂâ âÂÂ[37m [37mâÂÂâÂÂâÂÂ[37m processed [37m74%[37m of [37m37[37m/[37m50[37m [37m10.723[37m/[37m3.768[37m[0m
[3;1f
[2K[37mâÂÂâÂÂâÂÂâÂÂâÂÂâÂÂâÂÂâÂÂâÂÂâÂÂâÂÂâÂÂâÂÂâÂÂâÂÂâ âÂÂ[37m [37mâÂÂâÂÂ
âÂÂ[37m processed [37m76%[37m of [37m38[37m/[37m50[37m [37m10.833[37m/[37m3.421[37m[0m
[3;1f
[2K[37mâÂÂâÂÂâÂÂâÂÂâÂÂâÂÂâÂÂâÂÂâÂÂâÂÂâÂÂâÂÂâÂÂâÂÂâÂÂâÂÂâ âÂÂ[37m [37mâÂÂâÂÂâÂÂ[37m processed [37m78%[37m of [37m39[37m/[37m50[37m [37m10.943[37m/[37m3.086[37m[0m
[3;1f
[2K[37mâÂÂâÂÂâÂÂâÂÂâÂÂâÂÂâÂÂâÂÂâÂÂâÂÂâÂÂâÂÂâÂÂâÂÂâÂÂâÂÂâ âÂÂ[37m [37mâÂÂâÂÂâÂÂ[37m processed [37m80%[37m of [37m40[37m/[37m50[37m [37m11.052[37m/[37m2.763[37m[0m
[3;1f
[2K[37mâÂÂâÂÂâÂÂâÂÂâÂÂâÂÂâÂÂâÂÂâÂÂâÂÂâÂÂâÂÂâÂÂâÂÂâÂÂâÂÂâ âÂÂ[37m [37mâÂÂâÂÂâÂÂ[37m processed [37m82%[37m of [37m41[37m/[37m50[37m [37m11.16[37m/[37m2.45[37m[0m
[3;1f
[2K[37mâÂÂâÂÂâÂÂâÂÂâÂÂâÂÂâÂÂâÂÂâÂÂâÂÂâÂÂâÂÂâÂÂâÂÂâÂÂâÂÂâÂÂâ âÂÂ[37m [37mâÂÂâÂÂâÂÂ
[37m processed [37m84%[37m of [37m42[37m/[37m50[37m [37m11.269[37m/[37m2.146[37m[0m
[3;1f
[2K[37mâÂÂâÂÂâÂÂâÂÂâÂÂâÂÂâÂÂâÂÂâÂÂâÂÂâÂÂâÂÂâÂÂâÂÂâÂÂâÂÂâÂÂâ âÂÂ[37m [37mâÂÂâÂÂâÂÂ[37m processed [37m86%[37m of [37m43[37m/[37m50[37m [37m11.379[37m/[37m1.852[37m[0m
[3;1f
[2K[37mâÂÂâÂÂâÂÂâÂÂâÂÂâÂÂâÂÂâÂÂâÂÂâÂÂâÂÂâÂÂâÂÂâÂÂâÂÂâÂÂâÂÂâÂÂâ âÂÂ[37m [37mâÂÂ
âÂÂâÂÂ[37m processed [37m88%[37m of [37m44[37m/[37m50[37m [37m11.489[37m/[37m1.567[37m[0m
[3;1f
[2K[37mâÂÂâÂÂâÂÂâÂÂâÂÂâÂÂâÂÂâÂÂâÂÂâÂÂâÂÂâÂÂâÂÂâÂÂâÂÂâÂÂâÂÂâÂÂâ âÂÂ[37m [37mâÂÂâÂÂâÂÂ[37m processed [37m90%[37m of [37m45[37m/[37m50[37m [37m11.597[37m/[37m1.289[37m[0m
[3;1f
[2K[37mâÂÂâÂÂâÂÂâÂÂâÂÂâÂÂâÂÂâÂÂâÂÂâÂÂâÂÂâÂÂâÂÂâÂÂâÂÂâÂÂâÂÂâÂÂâ âÂÂ[37m [37mâÂÂâÂÂ
âÂÂ[37m processed [37m92%[37m of [37m46[37m/[37m50[37m [37m11.705[37m/[37m1.018[37m[0m
[3;1f
[2K[37mâÂÂâÂÂâÂÂâÂÂâÂÂâÂÂâÂÂâÂÂâÂÂâÂÂâÂÂâÂÂâÂÂâÂÂâÂÂâÂÂâÂÂâÂÂâÂÂâ âÂÂ[37m [37mâÂÂâÂÂâÂÂ[37m processed [37m94%[37m of [37m47[37m/[37m50[37m [37m11.812[37m/[37m0.754[37m[0m
[3;1f
[2K[37mâÂÂâÂÂâÂÂâÂÂâÂÂâÂÂâÂÂâÂÂâÂÂâÂÂâÂÂâÂÂâÂÂâÂÂâÂÂâÂÂâÂÂâÂÂâÂÂâ âÂÂ[37m [37mâÂÂâÂÂâÂÂ[37m processed [37m96%[37m of [37m48[37m/[37m50[37m [37m11.919[37m/[37m0.497[37m[0m
[3;1f
[2K[37mâÂÂâÂÂâÂÂâÂÂâÂÂâÂÂâÂÂâÂÂâÂÂâÂÂâÂÂâÂÂâÂÂâÂÂâÂÂâÂÂâÂÂâÂÂâÂÂâÂÂâÂÂâÂÂ[37m [37mâÂÂâÂÂâÂÂ[37m processed [37m98%[37m of [37m49[37m/[37m50[37m [37m12.028[37m/[37m0.245[37m[0m
[3;1f
[2K[37mâÂÂâÂÂâÂÂâÂÂâÂÂâÂÂâÂÂâÂÂâÂÂâÂÂâÂÂâÂÂâÂÂâÂÂâÂÂâÂÂâÂÂâÂÂâÂÂâÂÂâÂÂâÂÂ[37m [37mâÂÂâÂÂâÂÂ
[37m processed [37m100%[37m of [37m50[37m/[37m50[37m [37m12.131[37m/[37m0[37m[0m
[?25h[?25l
[?25l
[?25l
[?25l
[5;1f
[2K[37mâÂÂâ âÂÂ[37m [37mâÂÂâÂÂ
âÂÂ[37m processed [37m5%[37m of [37m1[37m/[37m20[37m [37m0.43[37m/[37m8.17[37m[0m
[6;1f
[2K[37mâÂÂâÂÂâ âÂÂ[37m [37mâÂÂâÂÂ
âÂÂ[37m processed [37m10%[37m of [37m1[37m/[37m10[37m [37m0.431[37m/[37m3.879[37m[0m
[7;1f
[2K[37mâ âÂÂ[37m [37mâÂÂâÂÂ
âÂÂ[37m processed [37m2%[37m of [37m1[37m/[37m50[37m [37m0.432[37m/[37m21.168[37m[0m
[8;1f
[2K[37mâÂÂâ âÂÂ[37m [37mâÂÂâÂÂ
âÂÂ[37m processed [37m3%[37m of [37m1[37m/[37m30[37m [37m0.432[37m/[37m13.968[37m[0m
[5;1f
[2K[37mâÂÂâÂÂâ âÂÂ[37m [37mâÂÂâÂÂâÂÂ
[37m processed [37m10%[37m of [37m2[37m/[37m20[37m [37m0.854[37m/[37m7.686[37m[0m
[6;1f
[2K[37mâÂÂâÂÂâÂÂâÂÂâ âÂÂ[37m [37mâÂÂâÂÂâÂÂ
[37m processed [37m20%[37m of [37m2[37m/[37m10[37m [37m0.855[37m/[37m3.42[37m[0m
[7;1f
[2K[37mâÂÂâ âÂÂ[37m [37mâÂÂâÂÂâÂÂ
[37m processed [37m4%[37m of [37m2[37m/[37m50[37m [37m0.855[37m/[37m20.52[37m[0m
[8;1f
[2K[37mâÂÂâ âÂÂ[37m [37mâÂÂâÂÂâÂÂ
[37m processed [37m6%[37m of [37m2[37m/[37m30[37m [37m0.858[37m/[37m13.442[37m[0m
[5;1f
[2K[37mâÂÂâÂÂâÂÂâ âÂÂ[37m [37mâÂÂâÂÂ
âÂÂ[37m processed [37m15%[37m of [37m3[37m/[37m20[37m [37m1.29[37m/[37m7.31[37m[0m
[6;1f
[2K[37mâÂÂâÂÂâÂÂâÂÂâÂÂâÂÂâ âÂÂ[37m [37mâÂÂâÂÂ
âÂÂ[37m processed [37m30%[37m of [37m3[37m/[37m10[37m [37m1.292[37m/[37m3.015[37m[0m
[7;1f
[2K[37mâÂÂâ âÂÂ[37m [37mâÂÂâÂÂ
âÂÂ[37m processed [37m6%[37m of [37m3[37m/[37m50[37m [37m1.292[37m/[37m20.241[37m[0m
[8;1f
[2K[37mâÂÂâÂÂâ âÂÂ[37m [37mâÂÂâÂÂ
âÂÂ[37m processed [37m10%[37m of [37m3[37m/[37m30[37m [37m1.292[37m/[37m11.628[37m[0m
[5;1f
[2K[37mâÂÂâÂÂâÂÂâÂÂâ âÂÂ[37m [37mâÂÂâÂÂâÂÂ
[37m processed [37m20%[37m of [37m4[37m/[37m20[37m [37m1.727[37m/[37m6.908[37m[0m
[6;1f
[2K[37mâÂÂâÂÂâÂÂâÂÂâÂÂâÂÂâÂÂâÂÂâ âÂÂ[37m [37mâÂÂâÂÂâÂÂ
[37m processed [37m40%[37m of [37m4[37m/[37m10[37m [37m1.728[37m/[37m2.592[37m[0m
[7;1f
[2K[37mâÂÂâÂÂâ âÂÂ[37m [37mâÂÂâÂÂâÂÂ
[37m processed [37m8%[37m of [37m4[37m/[37m50[37m [37m1.729[37m/[37m19.884[37m[0m
[8;1f
[2K[37mâÂÂâÂÂâÂÂâ âÂÂ[37m [37mâÂÂâÂÂâÂÂ
[37m processed [37m13%[37m of [37m4[37m/[37m30[37m [37m1.729[37m/[37m11.571[37m[0m
[5;1f
[2K[37mâÂÂâÂÂâÂÂâÂÂâÂÂâ âÂÂ[37m [37mâÂÂâÂÂ
âÂÂ[37m processed [37m25%[37m of [37m5[37m/[37m20[37m [37m2.153[37m/[37m6.459[37m[0m
[6;1f
[2K[37mâÂÂâÂÂâÂÂâÂÂâÂÂâÂÂâÂÂâÂÂâÂÂâÂÂâ âÂÂ[37m [37mâÂÂâÂÂ
âÂÂ[37m processed [37m50%[37m of [37m5[37m/[37m10[37m [37m2.154[37m/[37m2.154[37m[0m
[7;1f
[2K[37mâÂÂâÂÂâ âÂÂ[37m [37mâÂÂâÂÂ
âÂÂ[37m processed [37m10%[37m of [37m5[37m/[37m50[37m [37m2.155[37m/[37m19.395[37m[0m
[8;1f
[2K[37mâÂÂâÂÂâÂÂâ âÂÂ[37m [37mâÂÂâÂÂ
âÂÂ[37m processed [37m16%[37m of [37m5[37m/[37m30[37m [37m2.155[37m/[37m11.314[37m[0m
[5;1f
[2K[37mâÂÂâÂÂâÂÂâÂÂâÂÂâÂÂâ âÂÂ[37m [37mâÂÂâÂÂâÂÂ
[37m processed [37m30%[37m of [37m6[37m/[37m20[37m [37m2.583[37m/[37m6.027[37m[0m
[6;1f
[2K[37mâÂÂâÂÂâÂÂâÂÂâÂÂâÂÂâÂÂâÂÂâÂÂâÂÂâÂÂâÂÂâ âÂÂ[37m [37mâÂÂâÂÂâÂÂ
[37m processed [37m60%[37m of [37m6[37m/[37m10[37m [37m2.584[37m/[37m1.723[37m[0m
[7;1f
[2K[37mâÂÂâÂÂâ âÂÂ[37m [37mâÂÂâÂÂâÂÂ
[37m processed [37m12%[37m of [37m6[37m/[37m50[37m [37m2.585[37m/[37m18.957[37m[0m
[8;1f
[2K[37mâÂÂâÂÂâÂÂâÂÂâ âÂÂ[37m [37mâÂÂâÂÂâÂÂ
[37m processed [37m20%[37m of [37m6[37m/[37m30[37m [37m2.585[37m/[37m10.34[37m[0m
[5;1f
[2K[37mâÂÂâÂÂâÂÂâÂÂâÂÂâÂÂâÂÂâ âÂÂ[37m [37mâÂÂâÂÂ
âÂÂ[37m processed [37m35%[37m of [37m7[37m/[37m20[37m [37m3.011[37m/[37m5.592[37m[0m
[6;1f
[2K[37mâÂÂâÂÂâÂÂâÂÂâÂÂâÂÂâÂÂâÂÂâÂÂâÂÂâÂÂâÂÂâÂÂâÂÂâ âÂÂ[37m [37mâÂÂâÂÂ
âÂÂ[37m processed [37m70%[37m of [37m7[37m/[37m10[37m [37m3.013[37m/[37m1.291[37m[0m
[7;1f
[2K[37mâÂÂâÂÂâÂÂâ âÂÂ[37m [37mâÂÂâÂÂ
âÂÂ[37m processed [37m14%[37m of [37m7[37m/[37m50[37m [37m3.015[37m/[37m18.521[37m[0m
[8;1f
[2K[37mâÂÂâÂÂâÂÂâÂÂâÂÂâ âÂÂ[37m [37mâÂÂâÂÂ
âÂÂ[37m processed [37m23%[37m of [37m7[37m/[37m30[37m [37m3.017[37m/[37m10.1[37m[0m
[5;1f
[2K[37mâÂÂâÂÂâÂÂâÂÂâÂÂâÂÂâÂÂâÂÂâ âÂÂ[37m [37mâÂÂâÂÂâÂÂ
[37m processed [37m40%[37m of [37m8[37m/[37m20[37m [37m3.444[37m/[37m5.166[37m[0m
[6;1f
[2K[37mâÂÂâÂÂâÂÂâÂÂâÂÂâÂÂâÂÂâÂÂâÂÂâÂÂâÂÂâÂÂâÂÂâÂÂâÂÂâÂÂâ âÂÂ[37m [37mâÂÂâÂÂâÂÂ
[37m processed [37m80%[37m of [37m8[37m/[37m10[37m [37m3.445[37m/[37m0.861[37m[0m
[7;1f
[2K[37mâÂÂâÂÂâÂÂâ âÂÂ[37m [37mâÂÂâÂÂâÂÂ
[37m processed [37m16%[37m of [37m8[37m/[37m50[37m [37m3.447[37m/[37m18.097[37m[0m
[8;1f
[2K[37mâÂÂâÂÂâÂÂâÂÂâÂÂâ âÂÂ[37m [37mâÂÂâÂÂâÂÂ
[37m processed [37m26%[37m of [37m8[37m/[37m30[37m [37m3.447[37m/[37m9.811[37m[0m
[5;1f
[2K[37mâÂÂâÂÂâÂÂâÂÂâÂÂâÂÂâÂÂâÂÂâÂÂâ âÂÂ[37m [37mâÂÂâÂÂ
âÂÂ[37m processed [37m45%[37m of [37m9[37m/[37m20[37m [37m3.876[37m/[37m4.737[37m[0m
[6;1f
[2K[37mâÂÂâÂÂâÂÂâÂÂâÂÂâÂÂâÂÂâÂÂâÂÂâÂÂâÂÂâÂÂâÂÂâÂÂâÂÂâÂÂâÂÂâÂÂâ âÂÂ[37m [37mâÂÂâÂÂ
âÂÂ[37m processed [37m90%[37m of [37m9[37m/[37m10[37m [37m3.877[37m/[37m0.431[37m[0m
[7;1f
[2K[37mâÂÂâÂÂâÂÂâÂÂâ âÂÂ[37m [37mâÂÂâÂÂ
âÂÂ[37m processed [37m18%[37m of [37m9[37m/[37m50[37m [37m3.878[37m/[37m17.666[37m[0m
[8;1f
[2K[37mâÂÂâÂÂâÂÂâÂÂâÂÂâÂÂâ âÂÂ[37m [37mâÂÂâÂÂ
âÂÂ[37m processed [37m30%[37m of [37m9[37m/[37m30[37m [37m3.878[37m/[37m9.049[37m[0m
[5;1f
[2K[37mâÂÂâÂÂâÂÂâÂÂâÂÂâÂÂâÂÂâÂÂâÂÂâÂÂâ âÂÂ[37m [37mâÂÂâÂÂâÂÂ
[37m processed [37m50%[37m of [37m10[37m/[37m20[37m [37m4.306[37m/[37m4.306[37m[0m
[6;1f
[2K[37mâÂÂâÂÂâÂÂâÂÂâÂÂâÂÂâÂÂâÂÂâÂÂâÂÂâÂÂâÂÂâÂÂâÂÂâÂÂâÂÂâÂÂâÂÂâÂÂâÂÂâÂÂâÂÂ[37m [37mâÂÂâÂÂâÂÂ
[37m processed [37m100%[37m of [37m10[37m/[37m10[37m [37m4.307[37m/[37m0[37m[0m
[7;1f
[2K[37mâÂÂâÂÂâÂÂâÂÂâ âÂÂ[37m [37mâÂÂâÂÂâÂÂ
[37m processed [37m20%[37m of [37m10[37m/[37m50[37m [37m4.307[37m/[37m17.228[37m[0m
[8;1f
[2K[37mâÂÂâÂÂâÂÂâÂÂâÂÂâÂÂâÂÂâ âÂÂ[37m [37mâÂÂâÂÂâÂÂ
[37m processed [37m33%[37m of [37m10[37m/[37m30[37m [37m4.307[37m/[37m8.745[37m[0m
[5;1f
[2K[37mâÂÂâÂÂâÂÂâÂÂâÂÂâÂÂâÂÂâÂÂâÂÂâÂÂâÂÂâ âÂÂ[37m [37mâÂÂ
âÂÂâÂÂ[37m processed [37m55%[37m of [37m11[37m/[37m20[37m [37m4.525[37m/[37m3.702[37m[0m
[7;1f
[2K[37mâÂÂâÂÂâÂÂâÂÂâ âÂÂ[37m [37mâÂÂ
âÂÂâÂÂ[37m processed [37m20%[37m of [37m10[37m/[37m50[37m [37m4.525[37m/[37m18.1[37m[0m
[8;1f
[2K[37mâÂÂâÂÂâÂÂâÂÂâÂÂâÂÂâÂÂâ âÂÂ[37m [37mâÂÂ
âÂÂâÂÂ[37m processed [37m36%[37m of [37m11[37m/[37m30[37m [37m4.524[37m/[37m8.043[37m[0m
[5;1f
[2K[37mâÂÂâÂÂâÂÂâÂÂâÂÂâÂÂâÂÂâÂÂâÂÂâÂÂâÂÂâÂÂâ âÂÂ[37m [37mâÂÂâÂÂâÂÂ[37m processed [37m60%[37m of [37m12[37m/[37m20[37m [37m4.848[37m/[37m3.232[37m[0m
[7;1f
[2K[37mâÂÂâÂÂâÂÂâÂÂâ âÂÂ[37m [37mâÂÂâÂÂâÂÂ[37m processed [37m22%[37m of [37m11[37m/[37m50[37m [37m4.847[37m/[37m17.185[37m[0m
[8;1f
[2K[37mâÂÂâÂÂâÂÂâÂÂâÂÂâÂÂâÂÂâÂÂâ âÂÂ[37m [37mâÂÂâÂÂâÂÂ[37m processed [37m40%[37m of [37m12[37m/[37m30[37m [37m4.846[37m/[37m7.269[37m[0m
[5;1f
[2K[37mâÂÂâÂÂâÂÂâÂÂâÂÂâÂÂâÂÂâÂÂâÂÂâÂÂâÂÂâÂÂâÂÂâ âÂÂ[37m [37mâÂÂâÂÂâÂÂ
[37m processed [37m65%[37m of [37m13[37m/[37m20[37m [37m5.164[37m/[37m2.781[37m[0m
[7;1f
[2K[37mâÂÂâÂÂâÂÂâÂÂâÂÂâ âÂÂ[37m [37mâÂÂâÂÂâÂÂ
[37m processed [37m24%[37m of [37m12[37m/[37m50[37m [37m5.166[37m/[37m16.359[37m[0m
[8;1f
[2K[37mâÂÂâÂÂâÂÂâÂÂâÂÂâÂÂâÂÂâÂÂâÂÂâ âÂÂ[37m [37mâÂÂâÂÂâÂÂ
[37m processed [37m43%[37m of [37m13[37m/[37m30[37m [37m5.165[37m/[37m6.847[37m[0m
[5;1f
[2K[37mâÂÂâÂÂâÂÂâÂÂâÂÂâÂÂâÂÂâÂÂâÂÂâÂÂâÂÂâÂÂâÂÂâÂÂâ âÂÂ[37m [37mâÂÂâÂÂâÂÂ[37m processed [37m70%[37m of [37m14[37m/[37m20[37m [37m5.484[37m/[37m2.35[37m[0m
[7;1f
[2K[37mâÂÂâÂÂâÂÂâÂÂâÂÂâ âÂÂ[37m [37mâÂÂâÂÂâÂÂ[37m processed [37m26%[37m of [37m13[37m/[37m50[37m [37m5.484[37m/[37m15.608[37m[0m
[8;1f
[2K[37mâÂÂâÂÂâÂÂâÂÂâÂÂâÂÂâÂÂâÂÂâÂÂâ âÂÂ[37m [37mâÂÂâÂÂâÂÂ[37m processed [37m46%[37m of [37m14[37m/[37m30[37m [37m5.483[37m/[37m6.437[37m[0m
[5;1f
[2K[37mâÂÂâÂÂâÂÂâÂÂâÂÂâÂÂâÂÂâÂÂâÂÂâÂÂâÂÂâÂÂâÂÂâÂÂâÂÂâ âÂÂ[37m [37mâÂÂâÂÂâÂÂ[37m processed [37m75%[37m of [37m15[37m/[37m20[37m [37m5.807[37m/[37m1.936[37m[0m
[7;1f
[2K[37mâÂÂâÂÂâÂÂâÂÂâÂÂâÂÂâ âÂÂ[37m [37mâÂÂâÂÂâÂÂ[37m processed [37m28%[37m of [37m14[37m/[37m50[37m [37m5.808[37m/[37m14.935[37m[0m
[8;1f
[2K[37mâÂÂâÂÂâÂÂâÂÂâÂÂâÂÂâÂÂâÂÂâÂÂâÂÂâ âÂÂ[37m [37mâÂÂâÂÂâÂÂ[37m processed [37m50%[37m of [37m15[37m/[37m30[37m [37m5.808[37m/[37m5.808[37m[0m
[5;1f
[2K[37mâÂÂâÂÂâÂÂâÂÂâÂÂâÂÂâÂÂâÂÂâÂÂâÂÂâÂÂâÂÂâÂÂâÂÂâÂÂâÂÂâ âÂÂ[37m [37mâÂÂâÂÂâÂÂ[37m processed [37m80%[37m of [37m16[37m/[37m20[37m [37m6.132[37m/[37m1.533[37m[0m
[7;1f
[2K[37mâÂÂâÂÂâÂÂâÂÂâÂÂâÂÂâ âÂÂ[37m [37mâÂÂâÂÂâÂÂ[37m processed [37m30%[37m of [37m15[37m/[37m50[37m [37m6.133[37m/[37m14.31[37m[0m
[8;1f
[2K[37mâÂÂâÂÂâÂÂâÂÂâÂÂâÂÂâÂÂâÂÂâÂÂâÂÂâÂÂâ âÂÂ[37m [37mâÂÂâÂÂâÂÂ[37m processed [37m53%[37m of [37m16[37m/[37m30[37m [37m6.133[37m/[37m5.439[37m[0m
[5;1f
[2K[37mâÂÂâÂÂâÂÂâÂÂâÂÂâÂÂâÂÂâÂÂâÂÂâÂÂâÂÂâÂÂâÂÂâÂÂâÂÂâÂÂâÂÂâ âÂÂ[37m [37mâÂÂâÂÂ
âÂÂ[37m processed [37m85%[37m of [37m17[37m/[37m20[37m [37m6.456[37m/[37m1.139[37m[0m
[7;1f
[2K[37mâÂÂâÂÂâÂÂâÂÂâÂÂâÂÂâ âÂÂ[37m [37mâÂÂâÂÂ
âÂÂ[37m processed [37m32%[37m of [37m16[37m/[37m50[37m [37m6.457[37m/[37m13.721[37m[0m
[8;1f
[2K[37mâÂÂâÂÂâÂÂâÂÂâÂÂâÂÂâÂÂâÂÂâÂÂâÂÂâÂÂâ âÂÂ[37m [37mâÂÂâÂÂ
âÂÂ[37m processed [37m56%[37m of [37m17[37m/[37m30[37m [37m6.456[37m/[37m5.073[37m[0m
[5;1f
[2K[37mâÂÂâÂÂâÂÂâÂÂâÂÂâÂÂâÂÂâÂÂâÂÂâÂÂâÂÂâÂÂâÂÂâÂÂâÂÂâÂÂâÂÂâÂÂâ âÂÂ[37m [37mâÂÂâÂÂâÂÂ[37m processed [37m90%[37m of [37m18[37m/[37m20[37m [37m6.774[37m/[37m0.753[37m[0m
[7;1f
[2K[37mâÂÂâÂÂâÂÂâÂÂâÂÂâÂÂâÂÂâ âÂÂ[37m [37mâÂÂâÂÂâÂÂ[37m processed [37m34%[37m of [37m17[37m/[37m50[37m [37m6.775[37m/[37m13.151[37m[0m
[8;1f
[2K[37mâÂÂâÂÂâÂÂâÂÂâÂÂâÂÂâÂÂâÂÂâÂÂâÂÂâÂÂâÂÂâ âÂÂ[37m [37mâÂÂâÂÂâÂÂ[37m processed [37m60%[37m of [37m18[37m/[37m30[37m [37m6.778[37m/[37m4.519[37m[0m
[5;1f
[2K[37mâÂÂâÂÂâÂÂâÂÂâÂÂâÂÂâÂÂâÂÂâÂÂâÂÂâÂÂâÂÂâÂÂâÂÂâÂÂâÂÂâÂÂâÂÂâÂÂâ âÂÂ[37m [37mâÂÂ
âÂÂâÂÂ[37m processed [37m95%[37m of [37m19[37m/[37m20[37m [37m7.1[37m/[37m0.374[37m[0m
[7;1f
[2K[37mâÂÂâÂÂâÂÂâÂÂâÂÂâÂÂâÂÂâ âÂÂ[37m [37mâÂÂ
âÂÂâÂÂ[37m processed [37m36%[37m of [37m18[37m/[37m50[37m [37m7.102[37m/[37m12.626[37m[0m
[8;1f
[2K[37mâÂÂâÂÂâÂÂâÂÂâÂÂâÂÂâÂÂâÂÂâÂÂâÂÂâÂÂâÂÂâÂÂâ âÂÂ[37m [37mâÂÂ
âÂÂâÂÂ[37m processed [37m63%[37m of [37m19[37m/[37m30[37m [37m7.101[37m/[37m4.17[37m[0m
[5;1f
[2K[37mâÂÂâÂÂâÂÂâÂÂâÂÂâÂÂâÂÂâÂÂâÂÂâÂÂâÂÂâÂÂâÂÂâÂÂâÂÂâÂÂâÂÂâÂÂâÂÂâÂÂâÂÂâÂÂ[37m [37mâÂÂâÂÂâÂÂ[37m processed [37m100%[37m of [37m20[37m/[37m20[37m [37m7.418[37m/[37m0[37m[0m
[7;1f
[2K[37mâÂÂâÂÂâÂÂâÂÂâÂÂâÂÂâÂÂâÂÂâ âÂÂ[37m [37mâÂÂâÂÂâÂÂ[37m processed [37m38%[37m of [37m19[37m/[37m50[37m [37m7.42[37m/[37m12.106[37m[0m
[8;1f
[2K[37mâÂÂâÂÂâÂÂâÂÂâÂÂâÂÂâÂÂâÂÂâÂÂâÂÂâÂÂâÂÂâÂÂâ âÂÂ[37m [37mâÂÂâÂÂâÂÂ[37m processed [37m66%[37m of [37m20[37m/[37m30[37m [37m7.419[37m/[37m3.822[37m[0m
[7;1f
[2K[37mâÂÂâÂÂâÂÂâÂÂâÂÂâÂÂâÂÂâÂÂâ âÂÂ[37m [37mâÂÂâÂÂâÂÂ[37m processed [37m38%[37m of [37m19[37m/[37m50[37m [37m7.53[37m/[37m12.286[37m[0m
[8;1f
[2K[37mâÂÂâÂÂâÂÂâÂÂâÂÂâÂÂâÂÂâÂÂâÂÂâÂÂâÂÂâÂÂâÂÂâÂÂâ âÂÂ[37m [37mâÂÂâÂÂâÂÂ[37m processed [37m70%[37m of [37m21[37m/[37m30[37m [37m7.53[37m/[37m3.227[37m[0m
[7;1f
[2K[37mâÂÂâÂÂâÂÂâÂÂâÂÂâÂÂâÂÂâÂÂâ âÂÂ[37m [37mâÂÂâÂÂâÂÂ
[37m processed [37m40%[37m of [37m20[37m/[37m50[37m [37m7.746[37m/[37m11.619[37m[0m
[8;1f
[2K[37mâÂÂâÂÂâÂÂâÂÂâÂÂâÂÂâÂÂâÂÂâÂÂâÂÂâÂÂâÂÂâÂÂâÂÂâÂÂâ âÂÂ[37m [37mâÂÂâÂÂâÂÂ
[37m processed [37m73%[37m of [37m22[37m/[37m30[37m [37m7.747[37m/[37m2.865[37m[0m
[7;1f
[2K[37mâÂÂâÂÂâÂÂâÂÂâÂÂâÂÂâÂÂâÂÂâ âÂÂ[37m [37mâÂÂ
âÂÂâÂÂ[37m processed [37m42%[37m of [37m21[37m/[37m50[37m [37m7.964[37m/[37m10.998[37m[0m
[8;1f
[2K[37mâÂÂâÂÂâÂÂâÂÂâÂÂâÂÂâÂÂâÂÂâÂÂâÂÂâÂÂâÂÂâÂÂâÂÂâÂÂâ âÂÂ[37m [37mâÂÂ
âÂÂâÂÂ[37m processed [37m76%[37m of [37m23[37m/[37m30[37m [37m7.966[37m/[37m2.516[37m[0m
[7;1f
[2K[37mâÂÂâÂÂâÂÂâÂÂâÂÂâÂÂâÂÂâÂÂâÂÂâ âÂÂ[37m [37mâÂÂâÂÂ
âÂÂ[37m processed [37m44%[37m of [37m22[37m/[37m50[37m [37m8.183[37m/[37m10.415[37m[0m
[8;1f
[2K[37mâÂÂâÂÂâÂÂâÂÂâÂÂâÂÂâÂÂâÂÂâÂÂâÂÂâÂÂâÂÂâÂÂâÂÂâÂÂâÂÂâ âÂÂ[37m [37mâÂÂâÂÂ
âÂÂ[37m processed [37m80%[37m of [37m24[37m/[37m30[37m [37m8.184[37m/[37m2.046[37m[0m
[7;1f
[2K[37mâÂÂâÂÂâÂÂâÂÂâÂÂâÂÂâÂÂâÂÂâÂÂâ âÂÂ[37m [37mâÂÂâÂÂâÂÂ[37m processed [37m46%[37m of [37m23[37m/[37m50[37m [37m8.395[37m/[37m9.855[37m[0m
[8;1f
[2K[37mâÂÂâÂÂâÂÂâÂÂâÂÂâÂÂâÂÂâÂÂâÂÂâÂÂâÂÂâÂÂâÂÂâÂÂâÂÂâÂÂâÂÂâ âÂÂ[37m [37mâÂÂâÂÂâÂÂ[37m processed [37m83%[37m of [37m25[37m/[37m30[37m [37m8.396[37m/[37m1.72[37m[0m
[7;1f
[2K[37mâÂÂâÂÂâÂÂâÂÂâÂÂâÂÂâÂÂâÂÂâÂÂâÂÂâ âÂÂ[37m [37mâÂÂâÂÂâÂÂ
[37m processed [37m48%[37m of [37m24[37m/[37m50[37m [37m8.607[37m/[37m9.324[37m[0m
[8;1f
[2K[37mâÂÂâÂÂâÂÂâÂÂâÂÂâÂÂâÂÂâÂÂâÂÂâÂÂâÂÂâÂÂâÂÂâÂÂâÂÂâÂÂâÂÂâ âÂÂ[37m [37mâÂÂâÂÂâÂÂ
[37m processed [37m86%[37m of [37m26[37m/[37m30[37m [37m8.607[37m/[37m1.401[37m[0m
[7;1f
[2K[37mâÂÂâÂÂâÂÂâÂÂâÂÂâÂÂâÂÂâÂÂâÂÂâÂÂâ âÂÂ[37m [37mâÂÂ
âÂÂâÂÂ[37m processed [37m50%[37m of [37m25[37m/[37m50[37m [37m8.825[37m/[37m8.825[37m[0m
[8;1f
[2K[37mâÂÂâÂÂâÂÂâÂÂâÂÂâÂÂâÂÂâÂÂâÂÂâÂÂâÂÂâÂÂâÂÂâÂÂâÂÂâÂÂâÂÂâÂÂâ âÂÂ[37m [37mâÂÂ
âÂÂâÂÂ[37m processed [37m90%[37m of [37m27[37m/[37m30[37m [37m8.825[37m/[37m0.981[37m[0m
[7;1f
[2K[37mâÂÂâÂÂâÂÂâÂÂâÂÂâÂÂâÂÂâÂÂâÂÂâÂÂâ âÂÂ[37m [37mâÂÂâÂÂ
âÂÂ[37m processed [37m52%[37m of [37m26[37m/[37m50[37m [37m9.04[37m/[37m8.345[37m[0m
[8;1f
[2K[37mâÂÂâÂÂâÂÂâÂÂâÂÂâÂÂâÂÂâÂÂâÂÂâÂÂâÂÂâÂÂâÂÂâÂÂâÂÂâÂÂâÂÂâÂÂâÂÂâ âÂÂ[37m [37mâÂÂâÂÂ
âÂÂ[37m processed [37m93%[37m of [37m28[37m/[37m30[37m [37m9.039[37m/[37m0.68[37m[0m
[7;1f
[2K[37mâÂÂâÂÂâÂÂâÂÂâÂÂâÂÂâÂÂâÂÂâÂÂâÂÂâÂÂâ âÂÂ[37m [37mâÂÂâÂÂâÂÂ[37m processed [37m54%[37m of [37m27[37m/[37m50[37m [37m9.255[37m/[37m7.884[37m[0m
[8;1f
[2K[37mâÂÂâÂÂâÂÂâÂÂâÂÂâÂÂâÂÂâÂÂâÂÂâÂÂâÂÂâÂÂâÂÂâÂÂâÂÂâÂÂâÂÂâÂÂâÂÂâ âÂÂ[37m [37mâÂÂâÂÂâÂÂ[37m processed [37m96%[37m of [37m29[37m/[37m30[37m [37m9.255[37m/[37m0.386[37m[0m
[7;1f
[2K[37mâÂÂâÂÂâÂÂâÂÂâÂÂâÂÂâÂÂâÂÂâÂÂâÂÂâÂÂâ âÂÂ[37m [37mâÂÂâÂÂâÂÂ
[37m processed [37m56%[37m of [37m28[37m/[37m50[37m [37m9.465[37m/[37m7.437[37m[0m
[8;1f
[2K[37mâÂÂâÂÂâÂÂâÂÂâÂÂâÂÂâÂÂâÂÂâÂÂâÂÂâÂÂâÂÂâÂÂâÂÂâÂÂâÂÂâÂÂâÂÂâÂÂâÂÂâÂÂâÂÂ[37m [37mâÂÂâÂÂâÂÂ
[37m processed [37m100%[37m of [37m30[37m/[37m30[37m [37m9.465[37m/[37m0[37m[0m
[7;1f
[2K[37mâÂÂâÂÂâÂÂâÂÂâÂÂâÂÂâÂÂâÂÂâÂÂâÂÂâÂÂâ âÂÂ[37m [37mâÂÂâÂÂâÂÂ[37m processed [37m57%[37m of [37m29[37m/[37m50[37m [37m9.585[37m/[37m7.231[37m[0m
[7;1f
[2K[37mâÂÂâÂÂâÂÂâÂÂâÂÂâÂÂâÂÂâÂÂâÂÂâÂÂâÂÂâÂÂâ âÂÂ[37m [37mâÂÂ
âÂÂâÂÂ[37m processed [37m60%[37m of [37m30[37m/[37m50[37m [37m9.714[37m/[37m6.476[37m[0m
[7;1f
[2K[37mâÂÂâÂÂâÂÂâÂÂâÂÂâÂÂâÂÂâÂÂâÂÂâÂÂâÂÂâÂÂâ âÂÂ[37m [37mâÂÂâÂÂâÂÂ[37m processed [37m62%[37m of [37m31[37m/[37m50[37m [37m9.824[37m/[37m6.021[37m[0m
[7;1f
[2K[37mâÂÂâÂÂâÂÂâÂÂâÂÂâÂÂâÂÂâÂÂâÂÂâÂÂâÂÂâÂÂâÂÂâ âÂÂ[37m [37mâÂÂâÂÂ
âÂÂ[37m processed [37m64%[37m of [37m32[37m/[37m50[37m [37m9.933[37m/[37m5.587[37m[0m
[7;1f
[2K[37mâÂÂâÂÂâÂÂâÂÂâÂÂâÂÂâÂÂâÂÂâÂÂâÂÂâÂÂâÂÂâÂÂâ âÂÂ[37m [37mâÂÂâÂÂâÂÂ[37m processed [37m66%[37m of [37m33[37m/[37m50[37m [37m10.038[37m/[37m5.171[37m[0m
[7;1f
[2K[37mâÂÂâÂÂâÂÂâÂÂâÂÂâÂÂâÂÂâÂÂâÂÂâÂÂâÂÂâÂÂâÂÂâÂÂâ âÂÂ[37m [37mâÂÂâÂÂâÂÂ[37m processed [37m68%[37m of [37m34[37m/[37m50[37m [37m10.142[37m/[37m4.773[37m[0m
[7;1f
[2K[37mâÂÂâÂÂâÂÂâÂÂâÂÂâÂÂâÂÂâÂÂâÂÂâÂÂâÂÂâÂÂâÂÂâÂÂâ âÂÂ[37m [37mâÂÂâÂÂâÂÂ[37m processed [37m70%[37m of [37m35[37m/[37m50[37m [37m10.251[37m/[37m4.393[37m[0m
[7;1f
[2K[37mâÂÂâÂÂâÂÂâÂÂâÂÂâÂÂâÂÂâÂÂâÂÂâÂÂâÂÂâÂÂâÂÂâÂÂâ âÂÂ[37m [37mâÂÂâÂÂâÂÂ
[37m processed [37m72%[37m of [37m36[37m/[37m50[37m [37m10.359[37m/[37m4.029[37m[0m
[7;1f
[2K[37mâÂÂâÂÂâÂÂâÂÂâÂÂâÂÂâÂÂâÂÂâÂÂâÂÂâÂÂâÂÂâÂÂâÂÂâÂÂâ âÂÂ[37m [37mâÂÂâÂÂâÂÂ[37m processed [37m74%[37m of [37m37[37m/[37m50[37m [37m10.468[37m/[37m3.678[37m[0m
[7;1f
[2K[37mâÂÂâÂÂâÂÂâÂÂâÂÂâÂÂâÂÂâÂÂâÂÂâÂÂâÂÂâÂÂâÂÂâÂÂâÂÂâ âÂÂ[37m [37mâÂÂ
âÂÂâÂÂ[37m processed [37m76%[37m of [37m38[37m/[37m50[37m [37m10.575[37m/[37m3.339[37m[0m
[7;1f
[2K[37mâÂÂâÂÂâÂÂâÂÂâÂÂâÂÂâÂÂâÂÂâÂÂâÂÂâÂÂâÂÂâÂÂâÂÂâÂÂâÂÂâ âÂÂ[37m [37mâÂÂâÂÂâÂÂ[37m processed [37m78%[37m of [37m39[37m/[37m50[37m [37m10.678[37m/[37m3.012[37m[0m
[7;1f
[2K[37mâÂÂâÂÂâÂÂâÂÂâÂÂâÂÂâÂÂâÂÂâÂÂâÂÂâÂÂâÂÂâÂÂâÂÂâÂÂâÂÂâ âÂÂ[37m [37mâÂÂâÂÂ
âÂÂ[37m processed [37m80%[37m of [37m40[37m/[37m50[37m [37m10.788[37m/[37m2.697[37m[0m
[7;1f
[2K[37mâÂÂâÂÂâÂÂâÂÂâÂÂâÂÂâÂÂâÂÂâÂÂâÂÂâÂÂâÂÂâÂÂâÂÂâÂÂâÂÂâ âÂÂ[37m [37mâÂÂâÂÂâÂÂ[37m processed [37m82%[37m of [37m41[37m/[37m50[37m [37m10.89[37m/[37m2.39[37m[0m
[7;1f
[2K[37mâÂÂâÂÂâÂÂâÂÂâÂÂâÂÂâÂÂâÂÂâÂÂâÂÂâÂÂâÂÂâÂÂâÂÂâÂÂâÂÂâÂÂâ âÂÂ[37m [37mâÂÂâÂÂâÂÂ[37m processed [37m84%[37m of [37m42[37m/[37m50[37m [37m10.997[37m/[37m2.095[37m[0m
[7;1f
[2K[37mâÂÂâÂÂâÂÂâÂÂâÂÂâÂÂâÂÂâÂÂâÂÂâÂÂâÂÂâÂÂâÂÂâÂÂâÂÂâÂÂâÂÂâ âÂÂ[37m [37mâÂÂâÂÂâÂÂ[37m processed [37m86%[37m of [37m43[37m/[37m50[37m [37m11.107[37m/[37m1.808[37m[0m
[7;1f
[2K[37mâÂÂâÂÂâÂÂâÂÂâÂÂâÂÂâÂÂâÂÂâÂÂâÂÂâÂÂâÂÂâÂÂâÂÂâÂÂâÂÂâÂÂâÂÂâ âÂÂ[37m [37mâÂÂâÂÂâÂÂ
[37m processed [37m88%[37m of [37m44[37m/[37m50[37m [37m11.208[37m/[37m1.528[37m[0m
[7;1f
[2K[37mâÂÂâÂÂâÂÂâÂÂâÂÂâÂÂâÂÂâÂÂâÂÂâÂÂâÂÂâÂÂâÂÂâÂÂâÂÂâÂÂâÂÂâÂÂâ âÂÂ[37m [37mâÂÂâÂÂâÂÂ[37m processed [37m90%[37m of [37m45[37m/[37m50[37m [37m11.319[37m/[37m1.258[37m[0m
[7;1f
[2K[37mâÂÂâÂÂâÂÂâÂÂâÂÂâÂÂâÂÂâÂÂâÂÂâÂÂâÂÂâÂÂâÂÂâÂÂâÂÂâÂÂâÂÂâÂÂâ âÂÂ[37m [37mâÂÂ
âÂÂâÂÂ[37m processed [37m92%[37m of [37m46[37m/[37m50[37m [37m11.429[37m/[37m0.994[37m[0m
[7;1f
[2K[37mâÂÂâÂÂâÂÂâÂÂâÂÂâÂÂâÂÂâÂÂâÂÂâÂÂâÂÂâÂÂâÂÂâÂÂâÂÂâÂÂâÂÂâÂÂâÂÂâ âÂÂ[37m [37mâÂÂâÂÂâÂÂ[37m processed [37m94%[37m of [37m47[37m/[37m50[37m [37m11.537[37m/[37m0.736[37m[0m
[7;1f
[2K[37mâÂÂâÂÂâÂÂâÂÂâÂÂâÂÂâÂÂâÂÂâÂÂâÂÂâÂÂâÂÂâÂÂâÂÂâÂÂâÂÂâÂÂâÂÂâÂÂâ âÂÂ[37m [37mâÂÂâÂÂ
âÂÂ[37m processed [37m96%[37m of [37m48[37m/[37m50[37m [37m11.645[37m/[37m0.485[37m[0m
[7;1f
[2K[37mâÂÂâÂÂâÂÂâÂÂâÂÂâÂÂâÂÂâÂÂâÂÂâÂÂâÂÂâÂÂâÂÂâÂÂâÂÂâÂÂâÂÂâÂÂâÂÂâÂÂâÂÂâÂÂ[37m [37mâÂÂâÂÂâÂÂ[37m processed [37m98%[37m of [37m49[37m/[37m50[37m [37m11.752[37m/[37m0.24[37m[0m
[7;1f
[2K[37mâÂÂâÂÂâÂÂâÂÂâÂÂâÂÂâÂÂâÂÂâÂÂâÂÂâÂÂâÂÂâÂÂâÂÂâÂÂâÂÂâÂÂâÂÂâÂÂâÂÂâÂÂâÂÂ[37m [37mâÂÂâÂÂâÂÂ[37m processed [37m100%[37m of [37m50[37m/[37m50[37m [37m11.86[37m/[37m0[37m[0m
[?25ht/02-multiple.t ... ok
t/manifest.t ...... skipped: Author tests not required for installation
t/pod-coverage.t .. skipped: Author tests not required for installation
t/pod.t ........... skipped: Author tests not required for installation
All tests successful.
Files=6, Tests=3, 58 wallclock secs ( 0.09 usr 0.04 sys + 0.72 cusr 0.27 csys = 1.12 CPU)
Result: PASS
------------------------------
PREREQUISITES
------------------------------
Prerequisite modules loaded:
requires:
Module Need Have
------------------- ----- --------
IO::Handle 0 1.55
perl 5.006 5.024001
Term::ANSIColor 5.01 5.01
Term::Size::Any 0.002 0.002
Time::HiRes 0 1.9764
build_requires:
Module Need Have
------------------- ----- --------
ExtUtils::MakeMaker 0 7.74
Test::More 0 1.302210
configure_requires:
Module Need Have
------------------- ----- --------
ExtUtils::MakeMaker 0 7.74
------------------------------
ENVIRONMENT AND OTHER CONTEXT
------------------------------
Environment variables:
LC_ALL = de_DE.ISO8859-1
PATH = /usr/local/bin:/usr/bin:/bin:/usr/local/sbin:/usr/sbin:/sbin:/home/cpansand/bin/freebsd10.3:/home/cpansand/bin/sh:/home/cpansand/bin:/usr/games:/home/cpansand/devel:/home/eserte/src/srezic-misc/scripts
PERL5LIB =
PERL5OPT =
PERL5_CPANPLUS_IS_RUNNING = 28320
PERL5_CPAN_IS_RUNNING = 28320
PERL5_CPAN_IS_RUNNING_IN_RECURSION = 8623,28320
PERLDOC = -MPod::Perldoc::ToTextOverstrike
PERL_BATCH = yes
PERL_CANARY_STABILITY_NOPROMPT = 1
PERL_CPAN_REPORTER_CONFIG = /var/tmp/cpansmoker-1023/2025042116/cpanreporter_000_config.ini
PERL_EXTUTILS_AUTOINSTALL = --defaultdeps
PERL_USE_UNSAFE_INC = 1
SHELL = /usr/local/bin/zsh
TERM = screen
TMPDIR = /var/tmp/cpansmoker-1023/2025042116
Perl special variables (and OS-specific diagnostics, for MSWin32):
$^X = /usr/perl5.24.1p/bin/perl5.24.1
$UID/$EUID = 1023 / 1023
$GID = 1023 1023
$EGID = 1023 1023
Perl module toolchain versions installed:
Module Have
------------------- --------
CPAN 2.37
CPAN::Meta 2.150010
Cwd 3.75
ExtUtils::CBuilder 0.280236
ExtUtils::Command 7.74
ExtUtils::Install 2.22
ExtUtils::MakeMaker 7.74
ExtUtils::Manifest 1.75
ExtUtils::ParseXS 3.51
File::Spec 3.75
JSON 4.10
JSON::PP 4.16
Module::Build 0.4234
Module::Signature 0.89
Parse::CPAN::Meta 2.150010
Test2 1.302210
Test::Harness 3.50
Test::More 1.302210
YAML 1.30
YAML::Syck 1.34
version 0.9933
--
Summary of my perl5 (revision 5 version 24 subversion 1) configuration:
Platform:
osname=freebsd, osvers=10.1-release, archname=amd64-freebsd
uname='freebsd cvrsnica-freebsd-101.herceg.de 10.1-release freebsd 10.1-release #0 r274401: tue nov 11 21:02:49 utc 2014 root@releng1.nyi.freebsd.org:usrobjusrsrcsysgeneric amd64 '
config_args='-ds -e -Dprefix=/usr/perl5.24.1p -Dcf_email=srezic@cpan.org -Doptimize=-O2 -pipe'
hint=recommended, useposix=true, d_sigaction=define
useithreads=undef, usemultiplicity=undef
use64bitint=define, use64bitall=define, uselongdouble=undef
usemymalloc=n, bincompat5005=undef
Compiler:
cc='cc', ccflags ='-DHAS_FPSETMASK -DHAS_FLOATINGPOINT_H -fno-strict-aliasing -pipe -fstack-protector -I/usr/local/include -D_FORTIFY_SOURCE=2',
optimize='-O2 -pipe',
cppflags='-DHAS_FPSETMASK -DHAS_FLOATINGPOINT_H -fno-strict-aliasing -pipe -fstack-protector -I/usr/local/include'
ccversion='', gccversion='4.2.1 Compatible FreeBSD Clang 3.4.1 (tags/RELEASE_34/dot1-final 208032)', gccosandvers=''
intsize=4, longsize=8, ptrsize=8, doublesize=8, byteorder=12345678, doublekind=3
d_longlong=define, longlongsize=8, d_longdbl=define, longdblsize=16, longdblkind=3
ivtype='long', ivsize=8, nvtype='double', nvsize=8, Off_t='off_t', lseeksize=8
alignbytes=8, prototype=define
Linker and Libraries:
ld='cc', ldflags ='-pthread -Wl,-E -fstack-protector -L/usr/local/lib'
libpth=/usr/lib /usr/local/lib /usr/include/clang/3.4.1 /usr/lib
libs=-lpthread -lgdbm -lm -lcrypt -lutil -lc
perllibs=-lpthread -lm -lcrypt -lutil -lc
libc=, so=so, useshrplib=false, libperl=libperl.a
gnulibc_version=''
Dynamic Linking:
dlsrc=dl_dlopen.xs, dlext=so, d_dlsymun=undef, ccdlflags=' '
cccdlflags='-DPIC -fPIC', lddlflags='-shared -L/usr/local/lib -fstack-protector'
Characteristics of this binary (from libperl):
Compile-time options: HAS_TIMES PERLIO_LAYERS PERL_COPY_ON_WRITE
PERL_DONT_CREATE_GVSV
PERL_HASH_FUNC_ONE_AT_A_TIME_HARD PERL_MALLOC_WRAP
PERL_PRESERVE_IVUV USE_64_BIT_ALL USE_64_BIT_INT
USE_LARGE_FILES USE_LOCALE USE_LOCALE_COLLATE
USE_LOCALE_CTYPE USE_LOCALE_NUMERIC USE_LOCALE_TIME
USE_PERLIO USE_PERL_ATOF
Built under freebsd
Compiled at Jan 15 2017 11:45:26
%ENV:
PERL5LIB=""
PERL5OPT=""
PERL5_CPANPLUS_IS_RUNNING="28320"
PERL5_CPAN_IS_RUNNING="28320"
PERL5_CPAN_IS_RUNNING_IN_RECURSION="8623,28320"
PERLDOC="-MPod::Perldoc::ToTextOverstrike"
PERL_BATCH="yes"
PERL_CANARY_STABILITY_NOPROMPT="1"
PERL_CPAN_REPORTER_CONFIG="/var/tmp/cpansmoker-1023/2025042116/cpanreporter_000_config.ini"
PERL_EXTUTILS_AUTOINSTALL="--defaultdeps"
PERL_USE_UNSAFE_INC="1"
@INC:
/usr/perl5.24.1p/lib/site_perl/5.24.1/amd64-freebsd
/usr/perl5.24.1p/lib/site_perl/5.24.1
/usr/perl5.24.1p/lib/5.24.1/amd64-freebsd
/usr/perl5.24.1p/lib/5.24.1
.