Selenium-Remote-Driver v1.49 Perl 5 v5.41.11 amd64-freebsd-thread-multi
- Status
- Pass
- From
- Carlos Guevara
- Dist
-
Selenium-Remote-Driver v1.49
- Platform
- Perl 5 v5.41.11 amd64-freebsd-thread-multi
- Date
- 2025-04-01 10:37:22
- ID
- 4b330c80-0ee5-11f0-96fc-92909fc89eee
This distribution has been tested as part of the CPAN Testers
project, supporting the Perl programming language. See
http://wiki.cpantesters.org/ for more information or email
questions to cpan-testers-discuss@perl.org
--
Dear George S. Baugh,
This is a computer-generated report for Selenium-Remote-Driver-1.49
on perl 5.41.11, created by CPAN-Reporter-1.2020.
Thank you for uploading your work to CPAN. Congratulations!
All tests were successful.
Sections of this report:
* Tester comments
* Program output
* Prerequisites
* Environment and other context
------------------------------
TESTER COMMENTS
------------------------------
Additional comments from tester:
this report is from an automated smoke testing program
and was not reviewed by a human for accuracy
------------------------------
PROGRAM OUTPUT
------------------------------
Output from '/usr/bin/make test':
PERL_DL_NONLAZY=1 "/home/cpan/bin/perl/bin/perl5.41.11" "-MExtUtils::Command::MM" "-MTest::Harness" "-e" "undef *Test::Harness::Switches; test_harness(0, 'blib/lib', 'blib/arch')" t/*.t
t/00-compile.t .......................... ok
t/00-load.t ............................. ok
t/01-driver-pac.t ....................... ok
t/01-driver.t ........................... ok
t/01-webdriver3.t ....................... ok
t/02-webelement.t ....................... ok
t/03-spec-coverage.t .................... skipped: Author tests not required for installation.
t/04-commands-implemented.t ............. skipped: Author tests not required for installation.
t/10-switch-to-window.t ................. ok
t/12-reuse-session.t .................... ok
t/13-waiter.t ........................... ok
t/author-critic.t ....................... skipped: these tests are for testing by the author
t/author-eol.t .......................... skipped: these tests are for testing by the author
t/author-minimum-version.t .............. skipped: these tests are for testing by the author
t/author-mojibake.t ..................... skipped: these tests are for testing by the author
t/author-no-tabs.t ...................... skipped: these tests are for testing by the author
t/author-pod-coverage.t ................. skipped: these tests are for testing by the author
t/author-pod-linkcheck.t ................ skipped: these tests are for testing by the author
t/author-pod-syntax.t ................... skipped: these tests are for testing by the author
t/author-portability.t .................. skipped: these tests are for testing by the author
t/author-synopsis.t ..................... skipped: these tests are for testing by the author
t/author-test-version.t ................. skipped: these tests are for testing by the author
t/CanSetWebdriverContext.t .............. ok
t/convenience.t ......................... ok
t/error.t ............................... ok
t/Finders.t ............................. ok
t/Firefox-Profile.t ..................... ok
t/release-distmeta.t .................... skipped: these tests are for release candidate testing
t/release-kwalitee.t .................... skipped: these tests are for release candidate testing
t/release-meta-json.t ................... skipped: these tests are for release candidate testing
t/release-unused-vars.t ................. skipped: these tests are for release candidate testing
t/Remote-Connection.t ................... ok
t/Test-Selenium-Remote-Driver-google.t .. ok
t/Test-Selenium-Remote-Driver.t ......... ok
t/Test-Selenium-Remote-WebElement.t ..... ok
All tests successful.
Files=35, Tests=385, 16 wallclock secs ( 0.09 usr 0.05 sys + 9.54 cusr 0.57 csys = 10.25 CPU)
Result: PASS
------------------------------
PREREQUISITES
------------------------------
Prerequisite modules loaded:
requires:
Module Need Have
--------------------- ------- --------
Archive::Zip 0 1.68
base 0 2.27
Carp 0 1.54
Clone 0 0.47
constant 0 1.33
Cwd 0 3.92
Data::Dumper 0 2.192
Exporter 0 5.79
File::Basename 0 2.86
File::Copy 0 2.41
File::Spec 0 3.93
File::Spec::Functions 0 3.93
File::Temp 0 0.2311
File::Which 0 1.27
HTTP::Headers 0 7.00
HTTP::Request 0 7.00
HTTP::Response 0 7.00
IO::Socket 0 1.55
IO::Socket::INET 0 1.55
IO::String 0 1.08
IO::Uncompress::Unzip 2.030 2.213
JSON 0 4.10
List::Util 1.33 1.68_01
LWP::UserAgent 0 6.78
MIME::Base64 0 3.16_01
Moo 1.005 2.005005
Moo::Role 0 2.005005
namespace::clean 0 0.27
perl 5.010 5.041011
Scalar::Util 0 1.68_01
strict 0 1.13
Sub::Install 0 0.929
Test::Builder 0 1.302210
Test::LongString 0 0.17
Time::HiRes 0 1.9778
Try::Tiny 0 0.32
warnings 0 1.74
XML::Simple 0 2.25
build_requires:
Module Need Have
--------------------- ------- --------
ExtUtils::MakeMaker 0 7.72
File::Spec 0 3.93
File::stat 0 1.14
FindBin 0 1.54
IO::Handle 0 1.55
IPC::Open3 0 1.24
lib 0 0.65
Test::Builder::Tester 0 1.302210
Test::Deep 0 1.204
Test::Fatal 0 0.017
Test::LWP::UserAgent 0 0.036
Test::MockModule v0.13.0 0.179.0
Test::More 0 1.302210
configure_requires:
Module Need Have
--------------------- ------- --------
ExtUtils::MakeMaker 0 7.72
------------------------------
ENVIRONMENT AND OTHER CONTEXT
------------------------------
Environment variables:
AUTOMATED_TESTING = 1
DATE_MANIP_TEST_DM5 = 1
LANG = C.UTF-8
LC_ALL = C
NONINTERACTIVE_TESTING = 1
NO_NETWORK_TESTING = 1
PATH = /home/cpan/bin/perl/bin:/home/cpan/bin:/sbin:/bin:/usr/sbin:/usr/bin:/usr/local/sbin:/usr/local/bin:/home/cpan/bin
PERL5LIB =
PERL5OPT =
PERL5_CPANPLUS_IS_RUNNING = 26996
PERL5_CPAN_IS_RUNNING = 26996
PERL_MM_USE_DEFAULT = 1
PERL_USE_UNSAFE_INC = 1
SHELL = /usr/local/bin/bash
TERM = screen
TMPDIR = /home/cpan/tmp
Perl special variables (and OS-specific diagnostics, for MSWin32):
$^X = /home/cpan/bin/perl/bin/perl5.41.11
$UID/$EUID = 1002 / 1002
$GID = 1002 1002
$EGID = 1002 1002
Perl module toolchain versions installed:
Module Have
------------------- --------
CPAN 2.38
CPAN::Meta 2.150010
Cwd 3.92
ExtUtils::CBuilder 0.280240
ExtUtils::Command 7.72
ExtUtils::Install 2.22
ExtUtils::MakeMaker 7.72
ExtUtils::Manifest 1.75
ExtUtils::ParseXS 3.57
File::Spec 3.93
JSON 4.10
JSON::PP 4.16
Module::Build 0.4234
Module::Signature n/a
Parse::CPAN::Meta 2.150010
Test2 1.302210
Test::Harness 3.50
Test::More 1.302210
YAML 1.31
YAML::Syck 1.34
version 0.9933
--
Summary of my perl5 (revision 5 version 41 subversion 11) configuration:
Commit id: 801e9c3d40c686829f88af7f563b3ad124637c5d
Platform:
osname=freebsd
osvers=14.2-release-p1
archname=amd64-freebsd-thread-multi
uname='freebsd cjg-freebsd14 14.2-release-p1 freebsd 14.2-release-p1 generic amd64 '
config_args='-des -Dprefix=/home/cpan/bin/perl -Dscriptdir=/home/cpan/bin/perl/bin -Dusedevel -Duse64bitall -Duseithreads'
hint=recommended
useposix=true
d_sigaction=define
useithreads=define
usemultiplicity=define
use64bitint=define
use64bitall=define
uselongdouble=undef
usemymalloc=n
default_inc_excludes_dot=define
Compiler:
cc='cc'
ccflags ='-DHAS_FPSETMASK -DHAS_FLOATINGPOINT_H -DNO_POSIX_2008_LOCALE -fno-strict-aliasing -pipe -fstack-protector-strong -I/usr/local/include'
optimize='-O2'
cppflags='-DHAS_FPSETMASK -DHAS_FLOATINGPOINT_H -DNO_POSIX_2008_LOCALE -fno-strict-aliasing -pipe -fstack-protector-strong -I/usr/local/include'
ccversion=''
gccversion='FreeBSD Clang 18.1.6 (https://github.com/llvm/llvm-project.git llvmorg-18.1.6-0-g1118c2e05e67)'
gccosandvers=''
intsize=4
longsize=8
ptrsize=8
doublesize=8
byteorder=12345678
doublekind=3
d_longlong=define
longlongsize=8
d_longdbl=define
longdblsize=16
longdblkind=3
ivtype='long'
ivsize=8
nvtype='double'
nvsize=8
Off_t='off_t'
lseeksize=8
alignbytes=8
prototype=define
Linker and Libraries:
ld='cc'
ldflags ='-pthread -Wl,-E -fstack-protector-strong -L/usr/local/lib'
libpth=/usr/lib /usr/local/lib /usr/lib/clang/18/lib
libs=-lpthread -lgdbm -ldl -lm -lcrypt -lutil
perllibs=-lpthread -ldl -lm -lcrypt -lutil
libc=
so=so
useshrplib=false
libperl=libperl.a
gnulibc_version=''
Dynamic Linking:
dlsrc=dl_dlopen.xs
dlext=so
d_dlsymun=undef
ccdlflags=' '
cccdlflags='-DPIC -fPIC'
lddlflags='-shared -L/usr/local/lib -fstack-protector-strong'
Characteristics of this binary (from libperl):
Compile-time options:
HAS_LONG_DOUBLE
HAS_STRTOLD
HAS_TIMES
MULTIPLICITY
PERLIO_LAYERS
PERL_COPY_ON_WRITE
PERL_DONT_CREATE_GVSV
PERL_HASH_FUNC_SIPHASH13
PERL_HASH_USE_SBOX32
PERL_MALLOC_WRAP
PERL_OP_PARENT
PERL_PRESERVE_IVUV
PERL_USE_DEVEL
PERL_USE_SAFE_PUTENV
USE_64_BIT_ALL
USE_64_BIT_INT
USE_ITHREADS
USE_LARGE_FILES
USE_LOCALE
USE_LOCALE_COLLATE
USE_LOCALE_CTYPE
USE_LOCALE_NUMERIC
USE_LOCALE_TIME
USE_PERLIO
USE_PERL_ATOF
USE_REENTRANT_API
Built under freebsd
Compiled at Apr 1 2025 02:51:06
%ENV:
PERL5LIB=""
PERL5OPT=""
PERL5_CPANPLUS_IS_RUNNING="26996"
PERL5_CPAN_IS_RUNNING="26996"
PERL_MM_USE_DEFAULT="1"
PERL_USE_UNSAFE_INC="1"
@INC:
/home/cpan/bin/perl/lib/site_perl/5.41.11/amd64-freebsd-thread-multi
/home/cpan/bin/perl/lib/site_perl/5.41.11
/home/cpan/bin/perl/lib/5.41.11/amd64-freebsd-thread-multi
/home/cpan/bin/perl/lib/5.41.11
.