Switcheroo v0.008 Perl 5 v5.39.9 amd64-netbsd
- Status
- Pass
- From
- Carlos Guevara
- Dist
-
Switcheroo v0.008
- Platform
- Perl 5 v5.39.9 amd64-netbsd
- Date
- 2024-03-16 04:47:29
- ID
- 4b2a8d88-e350-11ee-92b8-d1325fa2766c
This distribution has been tested as part of the CPAN Testers
project, supporting the Perl programming language. See
http://wiki.cpantesters.org/ for more information or email
questions to cpan-testers-discuss@perl.org
--
Dear Toby Inkster,
This is a computer-generated report for Switcheroo-0.008
on perl 5.39.9, created by CPAN-Reporter-1.2019.
Thank you for uploading your work to CPAN. Congratulations!
All tests were successful.
Sections of this report:
* Tester comments
* Program output
* Prerequisites
* Environment and other context
------------------------------
TESTER COMMENTS
------------------------------
Additional comments from tester:
this report is from an automated smoke testing program
and was not reviewed by a human for accuracy
------------------------------
PROGRAM OUTPUT
------------------------------
Output from '/usr/bin/make test':
PERL_DL_NONLAZY=1 "/home/cpan/bin/perl/bin/perl5.39.9" "-MExtUtils::Command::MM" "-MTest::Harness" "-e" "undef *Test::Harness::Switches; test_harness(0, 'blib/lib', 'blib/arch')" t/*.t
t/01basic.t ....... ok
Use of uninitialized value $_[0] in pattern match (m//) at /home/cpan/bin/perl/lib/site_perl/5.39.9/amd64-netbsd/match/simple/XS.pm line 15.
Use of uninitialized value in subroutine entry at /home/cpan/.cpan/build/Switcheroo-0.008-0/blib/lib/Switcheroo.pm line 71.
Use of uninitialized value $_[0] in pattern match (m//) at /home/cpan/bin/perl/lib/site_perl/5.39.9/amd64-netbsd/match/simple/XS.pm line 15.
Use of uninitialized value in subroutine entry at /home/cpan/.cpan/build/Switcheroo-0.008-0/blib/lib/Switcheroo.pm line 71.
t/02pod-eg.t ...... ok
t/03callerargs.t .. ok
t/04closure.t ..... ok
t/05typetiny.t .... ok
Smartmatch is deprecated at /home/cpan/bin/perl/lib/site_perl/5.39.9/amd64-netbsd/Smart/Match.pm line 65.
Smartmatch is deprecated at /home/cpan/bin/perl/lib/site_perl/5.39.9/amd64-netbsd/Smart/Match.pm line 72.
Smartmatch is deprecated at /home/cpan/bin/perl/lib/site_perl/5.39.9/amd64-netbsd/Smart/Match.pm line 82.
Smartmatch is deprecated at /home/cpan/bin/perl/lib/site_perl/5.39.9/amd64-netbsd/Smart/Match.pm line 92.
Smartmatch is deprecated at /home/cpan/bin/perl/lib/site_perl/5.39.9/amd64-netbsd/Smart/Match.pm line 103.
Smartmatch is deprecated at /home/cpan/bin/perl/lib/site_perl/5.39.9/amd64-netbsd/Smart/Match.pm line 159.
Smartmatch is deprecated at /home/cpan/bin/perl/lib/site_perl/5.39.9/amd64-netbsd/Smart/Match.pm line 188.
Smartmatch is deprecated at /home/cpan/bin/perl/lib/site_perl/5.39.9/amd64-netbsd/Smart/Match.pm line 193.
Smartmatch is deprecated at /home/cpan/bin/perl/lib/site_perl/5.39.9/amd64-netbsd/Smart/Match.pm line 198.
Smartmatch is deprecated at /home/cpan/bin/perl/lib/site_perl/5.39.9/amd64-netbsd/Smart/Match.pm line 203.
Smartmatch is deprecated at /home/cpan/bin/perl/lib/site_perl/5.39.9/amd64-netbsd/Smart/Match.pm line 210.
Smartmatch is deprecated at /home/cpan/bin/perl/lib/site_perl/5.39.9/amd64-netbsd/Smart/Match.pm line 210.
Smartmatch is deprecated at /home/cpan/bin/perl/lib/site_perl/5.39.9/amd64-netbsd/Smart/Match.pm line 218.
Smartmatch is deprecated at /home/cpan/bin/perl/lib/site_perl/5.39.9/amd64-netbsd/Smart/Match.pm line 218.
Smartmatch is deprecated at /home/cpan/bin/perl/lib/site_perl/5.39.9/amd64-netbsd/Smart/Match.pm line 224.
Smartmatch is deprecated at /home/cpan/bin/perl/lib/site_perl/5.39.9/amd64-netbsd/Smart/Match.pm line 229.
Smartmatch is deprecated at /home/cpan/bin/perl/lib/site_perl/5.39.9/amd64-netbsd/Smart/Match.pm line 236.
Smartmatch is deprecated at /home/cpan/bin/perl/lib/site_perl/5.39.9/amd64-netbsd/Smart/Match.pm line 241.
Smartmatch is deprecated at /home/cpan/bin/perl/lib/site_perl/5.39.9/amd64-netbsd/Smart/Match.pm line 249.
Smartmatch is deprecated at /home/cpan/bin/perl/lib/site_perl/5.39.9/amd64-netbsd/Smart/Match.pm line 249.
Smartmatch is deprecated at /home/cpan/bin/perl/lib/site_perl/5.39.9/amd64-netbsd/Smart/Match.pm line 255.
Smartmatch is deprecated at /home/cpan/bin/perl/lib/site_perl/5.39.9/amd64-netbsd/Smart/Match.pm line 255.
Smartmatch is deprecated at /home/cpan/bin/perl/lib/site_perl/5.39.9/amd64-netbsd/Smart/Match.pm line 260.
given is deprecated at /home/cpan/bin/perl/lib/site_perl/5.39.9/amd64-netbsd/Smart/Match.pm line 266.
when is deprecated at /home/cpan/bin/perl/lib/site_perl/5.39.9/amd64-netbsd/Smart/Match.pm line 267.
when is deprecated at /home/cpan/bin/perl/lib/site_perl/5.39.9/amd64-netbsd/Smart/Match.pm line 270.
when is deprecated at /home/cpan/bin/perl/lib/site_perl/5.39.9/amd64-netbsd/Smart/Match.pm line 273.
when is deprecated at /home/cpan/bin/perl/lib/site_perl/5.39.9/amd64-netbsd/Smart/Match.pm line 277.
when is deprecated at /home/cpan/bin/perl/lib/site_perl/5.39.9/amd64-netbsd/Smart/Match.pm line 280.
Use of uninitialized value in subroutine entry at /home/cpan/.cpan/build/Switcheroo-0.008-0/blib/lib/Switcheroo.pm line 71.
Use of uninitialized value in subroutine entry at /home/cpan/.cpan/build/Switcheroo-0.008-0/blib/lib/Switcheroo.pm line 71.
Use of uninitialized value in subroutine entry at /home/cpan/.cpan/build/Switcheroo-0.008-0/blib/lib/Switcheroo.pm line 71.
Use of uninitialized value in subroutine entry at /home/cpan/.cpan/build/Switcheroo-0.008-0/blib/lib/Switcheroo.pm line 71.
Use of uninitialized value in subroutine entry at /home/cpan/.cpan/build/Switcheroo-0.008-0/blib/lib/Switcheroo.pm line 71.
t/06smartmatch.t .. ok
All tests successful.
Test Summary Report
-------------------
t/03callerargs.t (Wstat: 0 Tests: 19 Failed: 0)
TODO passed: 16, 19
Files=6, Tests=36, 0 wallclock secs ( 0.01 usr 0.02 sys + 0.34 cusr 0.07 csys = 0.44 CPU)
Result: PASS
------------------------------
PREREQUISITES
------------------------------
Prerequisite modules loaded:
requires:
Module Need Have
------------------- ----- --------
Exporter::Tiny 0.026 1.006002
match::simple 0.004 0.012
PadWalker 0 2.5
Parse::Keyword 0.06 0.09
perl 5.014 5.039009
build_requires:
Module Need Have
------------------- ----- --------
Test::More 0.96 1.302198
Test::Requires 0.06 0.11
configure_requires:
Module Need Have
------------------- ----- --------
ExtUtils::MakeMaker 6.17 7.70
------------------------------
ENVIRONMENT AND OTHER CONTEXT
------------------------------
Environment variables:
AUTOMATED_TESTING = 1
DATE_MANIP_TEST_DM5 = 1
LC_ALL = C
NONINTERACTIVE_TESTING = 1
NO_NETWORK_TESTING = 1
PATH = /home/cpan/bin/perl/bin:/home/cpan/bin:/home/cpan/bin:/bin:/sbin:/usr/bin:/usr/sbin:/usr/X11R7/bin:/usr/pkg/bin:/usr/pkg/sbin:/usr/games:/usr/local/bin:/usr/local/sbin
PERL5LIB =
PERL5OPT =
PERL5_CPANPLUS_IS_RUNNING = 12083
PERL5_CPAN_IS_RUNNING = 12083
PERL_MM_USE_DEFAULT = 1
PERL_USE_UNSAFE_INC = 1
SHELL = /usr/pkg/bin/bash
TERM = screen
TMPDIR = /home/cpan/tmp
Perl special variables (and OS-specific diagnostics, for MSWin32):
$^X = /home/cpan/bin/perl/bin/perl5.39.9
$UID/$EUID = 1001 / 1001
$GID = 100 100
$EGID = 100 100
Perl module toolchain versions installed:
Module Have
------------------- --------
CPAN 2.36
CPAN::Meta 2.150010
Cwd 3.90
ExtUtils::CBuilder 0.280240
ExtUtils::Command 7.70
ExtUtils::Install 2.22
ExtUtils::MakeMaker 7.70
ExtUtils::Manifest 1.75
ExtUtils::ParseXS 3.51
File::Spec 3.90
JSON 4.10
JSON::PP 4.16
Module::Build 0.4234
Module::Signature 0.88
Parse::CPAN::Meta 2.150010
Test2 1.302198
Test::Harness 3.48
Test::More 1.302198
YAML 1.31
YAML::Syck 1.34
version 0.9930
--
Summary of my perl5 (revision 5 version 39 subversion 9) configuration:
Commit id: 0e9cc8e5aaebeef20004deb2c6fdf911e60ba482
Platform:
osname=netbsd
osvers=9.3
archname=amd64-netbsd
uname='netbsd cjg-netbsd9 9.3 netbsd 9.3 (generic) #0: thu aug 4 15:30:37 utc 2022 mkrepro@mkrepro.netbsd.org:usrsrcsysarchamd64compilegeneric amd64 '
config_args='-des -Dprefix=/home/cpan/bin/perl -Dscriptdir=/home/cpan/bin/perl/bin -Dusedevel -Duse64bitall'
hint=recommended
useposix=true
d_sigaction=define
useithreads=undef
usemultiplicity=undef
use64bitint=define
use64bitall=define
uselongdouble=undef
usemymalloc=n
default_inc_excludes_dot=define
Compiler:
cc='cc'
ccflags ='-fwrapv -fno-strict-aliasing -pipe -fstack-protector-strong -I/usr/pkg/include -D_FORTIFY_SOURCE=2'
optimize='-O'
cppflags='-fwrapv -fno-strict-aliasing -pipe -fstack-protector-strong -I/usr/pkg/include'
ccversion=''
gccversion='7.5.0'
gccosandvers=''
intsize=4
longsize=8
ptrsize=8
doublesize=8
byteorder=12345678
doublekind=3
d_longlong=define
longlongsize=8
d_longdbl=define
longdblsize=16
longdblkind=3
ivtype='long'
ivsize=8
nvtype='double'
nvsize=8
Off_t='off_t'
lseeksize=8
alignbytes=8
prototype=define
Linker and Libraries:
ld='cc'
ldflags =' -Wl,-rpath,/usr/pkg/lib -Wl,-rpath,/usr/local/lib -fstack-protector-strong -L/usr/pkg/lib'
libpth=/usr/lib /usr/pkg/lib /lib
libs=-lpthread -lm -lcrypt -lutil -lc -lposix
perllibs=-lpthread -lm -lcrypt -lutil -lc -lposix
libc=/lib/libc.so
so=so
useshrplib=false
libperl=libperl.a
gnulibc_version=''
Dynamic Linking:
dlsrc=dl_dlopen.xs
dlext=so
d_dlsymun=undef
ccdlflags='-Wl,-E '
cccdlflags='-DPIC -fPIC '
lddlflags='-shared -L/usr/pkg/lib -fstack-protector-strong'
Characteristics of this binary (from libperl):
Compile-time options:
HAS_LONG_DOUBLE
HAS_STRTOLD
HAS_TIMES
PERLIO_LAYERS
PERL_COPY_ON_WRITE
PERL_DONT_CREATE_GVSV
PERL_HASH_FUNC_SIPHASH13
PERL_HASH_USE_SBOX32
PERL_MALLOC_WRAP
PERL_OP_PARENT
PERL_PRESERVE_IVUV
PERL_USE_DEVEL
PERL_USE_SAFE_PUTENV
USE_64_BIT_ALL
USE_64_BIT_INT
USE_LARGE_FILES
USE_LOCALE
USE_LOCALE_COLLATE
USE_LOCALE_CTYPE
USE_LOCALE_NUMERIC
USE_LOCALE_TIME
USE_PERLIO
USE_PERL_ATOF
Built under netbsd
Compiled at Mar 15 2024 16:21:29
%ENV:
PERL5LIB=""
PERL5OPT=""
PERL5_CPANPLUS_IS_RUNNING="12083"
PERL5_CPAN_IS_RUNNING="12083"
PERL_MM_USE_DEFAULT="1"
PERL_USE_UNSAFE_INC="1"
@INC:
/home/cpan/bin/perl/lib/site_perl/5.39.9/amd64-netbsd
/home/cpan/bin/perl/lib/site_perl/5.39.9
/home/cpan/bin/perl/lib/5.39.9/amd64-netbsd
/home/cpan/bin/perl/lib/5.39.9
.