HTTP-Session2 v1.10 Perl 5 v5.43.4 amd64-freebsd-thread-multi

Status
Pass
From
Carlos Guevara
Dist
HTTP-Session2 v1.10
Platform
Perl 5 v5.43.4 amd64-freebsd-thread-multi
Date
2025-10-08 01:58:32
ID
4b0a762c-a3ea-11f0-a206-fd9bd06f2d9c
This distribution has been tested as part of the CPAN Testers
project, supporting the Perl programming language.  See
http://wiki.cpantesters.org/ for more information or email
questions to cpan-testers-discuss@perl.org


--
Dear Tokuhiro Matsuno'xmp,

This is a computer-generated report for HTTP-Session2-1.10
on perl 5.43.4, created by CPAN-Reporter-1.2020.

Thank you for uploading your work to CPAN.  Congratulations!
All tests were successful.

Sections of this report:

    * Tester comments
    * Program output
    * Prerequisites
    * Environment and other context

------------------------------
TESTER COMMENTS
------------------------------

Additional comments from tester:

this report is from an automated smoke testing program
and was not reviewed by a human for accuracy

------------------------------
PROGRAM OUTPUT
------------------------------

Output from './Build test':

t/00_compile.t .............. ok
Secret string too short at /home/cpan/.cpan/build/HTTP-Session2-1.10-0/blib/lib/HTTP/Session2/Base.pm line 79.
	HTTP::Session2::Base::__ANON__(HTTP::Session2::ServerStore=HASH(0x34d778674078), "s3cret") called at t/01_server_side.t line 23
	main::__ANON__("client -> server: request without cookie", CODE(0x34d7786727c8)) called at t/01_server_side.t line 25
	main::__ANON__() called at /home/cpan/bin/perl/lib/5.43.4/Test/Builder.pm line 368
	eval {...} called at /home/cpan/bin/perl/lib/5.43.4/Test/Builder.pm line 368
	Test::Builder::subtest(Test::Builder=HASH(0x34d7776a9a38), "First request", CODE(0x34d778370858)) called at /home/cpan/bin/perl/lib/5.43.4/Test/More.pm line 831
	Test::More::subtest("First request", CODE(0x34d778370858)) called at t/01_server_side.t line 11
	main::scenario("First request", CODE(0x34d778370858)) called at t/01_server_side.t line 31
Secret string too short at /home/cpan/.cpan/build/HTTP-Session2-1.10-0/blib/lib/HTTP/Session2/Base.pm line 79.
	HTTP::Session2::Base::__ANON__(HTTP::Session2::ServerStore=HASH(0x34d7786725a0), "s3cret") called at t/01_server_side.t line 40
	main::__ANON__("client -> server: request without cookie", CODE(0x34d77842f078)) called at t/01_server_side.t line 42
	main::__ANON__() called at /home/cpan/bin/perl/lib/5.43.4/Test/Builder.pm line 368
	eval {...} called at /home/cpan/bin/perl/lib/5.43.4/Test/Builder.pm line 368
	Test::Builder::subtest(Test::Builder=HASH(0x34d7776a9a38), "Store something without login", CODE(0x34d778325570)) called at /home/cpan/bin/perl/lib/5.43.4/Test/More.pm line 831
	Test::More::subtest("Store something without login", CODE(0x34d778325570)) called at t/01_server_side.t line 11
	main::scenario("Store something without login", CODE(0x34d778325570)) called at t/01_server_side.t line 58
Secret string too short at /home/cpan/.cpan/build/HTTP-Session2-1.10-0/blib/lib/HTTP/Session2/Base.pm line 79.
	HTTP::Session2::Base::__ANON__(HTTP::Session2::ServerStore=HASH(0x34d778674e10), "s3cret") called at t/01_server_side.t line 70
	main::__ANON__("client -> server: request without cookie", CODE(0x34d7786747f8)) called at t/01_server_side.t line 72
	main::__ANON__() called at /home/cpan/bin/perl/lib/5.43.4/Test/Builder.pm line 368
	eval {...} called at /home/cpan/bin/perl/lib/5.43.4/Test/Builder.pm line 368
	Test::Builder::subtest(Test::Builder=HASH(0x34d7776a9a38), "Login", CODE(0x34d77866e360)) called at /home/cpan/bin/perl/lib/5.43.4/Test/More.pm line 831
	Test::More::subtest("Login", CODE(0x34d77866e360)) called at t/01_server_side.t line 11
	main::scenario("Login", CODE(0x34d77866e360)) called at t/01_server_side.t line 96
Secret string too short at /home/cpan/.cpan/build/HTTP-Session2-1.10-0/blib/lib/HTTP/Session2/Base.pm line 79.
	HTTP::Session2::Base::__ANON__(HTTP::Session2::ServerStore=HASH(0x34d778674b58), "s3cret") called at t/01_server_side.t line 108
	main::__ANON__("client -> server: request without cookie", CODE(0x34d7785df4b0)) called at t/01_server_side.t line 110
	main::__ANON__() called at /home/cpan/bin/perl/lib/5.43.4/Test/Builder.pm line 368
	eval {...} called at /home/cpan/bin/perl/lib/5.43.4/Test/Builder.pm line 368
	Test::Builder::subtest(Test::Builder=HASH(0x34d7776a9a38), "In a login session", CODE(0x34d77866ea20)) called at /home/cpan/bin/perl/lib/5.43.4/Test/More.pm line 831
	Test::More::subtest("In a login session", CODE(0x34d77866ea20)) called at t/01_server_side.t line 11
	main::scenario("In a login session", CODE(0x34d77866ea20)) called at t/01_server_side.t line 124
Secret string too short at /home/cpan/.cpan/build/HTTP-Session2-1.10-0/blib/lib/HTTP/Session2/Base.pm line 79.
	HTTP::Session2::Base::__ANON__(HTTP::Session2::ServerStore=HASH(0x34d7786743c0), "s3cret") called at t/01_server_side.t line 136
	main::__ANON__("client -> server: request without cookie", CODE(0x34d7785dfbe8)) called at t/01_server_side.t line 138
	main::__ANON__() called at /home/cpan/bin/perl/lib/5.43.4/Test/Builder.pm line 368
	eval {...} called at /home/cpan/bin/perl/lib/5.43.4/Test/Builder.pm line 368
	Test::Builder::subtest(Test::Builder=HASH(0x34d7776a9a38), "Invalid session id", CODE(0x34d77866f150)) called at /home/cpan/bin/perl/lib/5.43.4/Test/More.pm line 831
	Test::More::subtest("Invalid session id", CODE(0x34d77866f150)) called at t/01_server_side.t line 11
	main::scenario("Invalid session id", CODE(0x34d77866f150)) called at t/01_server_side.t line 153
Secret string too short at /home/cpan/.cpan/build/HTTP-Session2-1.10-0/blib/lib/HTTP/Session2/Base.pm line 79.
	HTTP::Session2::Base::__ANON__(HTTP::Session2::ServerStore=HASH(0x34d778674b58), "s3cret") called at t/01_server_side.t line 160
	main::__ANON__("client -> server: request without cookie", CODE(0x34d778699828)) called at t/01_server_side.t line 167
	main::__ANON__() called at /home/cpan/bin/perl/lib/5.43.4/Test/Builder.pm line 368
	eval {...} called at /home/cpan/bin/perl/lib/5.43.4/Test/Builder.pm line 368
	Test::Builder::subtest(Test::Builder=HASH(0x34d7776a9a38), "Logout", CODE(0x34d77866f5e8)) called at /home/cpan/bin/perl/lib/5.43.4/Test/More.pm line 831
	Test::More::subtest("Logout", CODE(0x34d77866f5e8)) called at t/01_server_side.t line 11
	main::scenario("Logout", CODE(0x34d77866f5e8)) called at t/01_server_side.t line 182
t/01_server_side.t .......... ok
Secret string too short at /home/cpan/.cpan/build/HTTP-Session2-1.10-0/blib/lib/HTTP/Session2/Base.pm line 79.
	HTTP::Session2::Base::__ANON__(HTTP::Session2::ClientStore=HASH(0xb407869e5e8), "s3cret") called at t/02_client_side.t line 17
	main::__ANON__("client -> server: request without cookie", CODE(0xb4078322e58)) called at t/02_client_side.t line 22
	main::__ANON__() called at /home/cpan/bin/perl/lib/5.43.4/Test/Builder.pm line 368
	eval {...} called at /home/cpan/bin/perl/lib/5.43.4/Test/Builder.pm line 368
	Test::Builder::subtest(Test::Builder=HASH(0xb40776a9a68), "First request", CODE(0xb40776269d8)) called at /home/cpan/bin/perl/lib/5.43.4/Test/More.pm line 831
	Test::More::subtest("First request", CODE(0xb40776269d8)) called at t/02_client_side.t line 9
	main::scenario("First request", CODE(0xb40776269d8)) called at t/02_client_side.t line 28
Secret string too short at /home/cpan/.cpan/build/HTTP-Session2-1.10-0/blib/lib/HTTP/Session2/Base.pm line 79.
	HTTP::Session2::Base::__ANON__(HTTP::Session2::ClientStore=HASH(0xb4078322c78), "s3cret") called at t/02_client_side.t line 33
	main::__ANON__("client -> server: request without cookie", CODE(0xb407869f618)) called at t/02_client_side.t line 38
	main::__ANON__() called at /home/cpan/bin/perl/lib/5.43.4/Test/Builder.pm line 368
	eval {...} called at /home/cpan/bin/perl/lib/5.43.4/Test/Builder.pm line 368
	Test::Builder::subtest(Test::Builder=HASH(0xb40776a9a68), "Store something without login", CODE(0xb4078321f30)) called at /home/cpan/bin/perl/lib/5.43.4/Test/More.pm line 831
	Test::More::subtest("Store something without login", CODE(0xb4078321f30)) called at t/02_client_side.t line 9
	main::scenario("Store something without login", CODE(0xb4078321f30)) called at t/02_client_side.t line 54
Do not use HTTP::Session2::ClientStore. Use HTTP::Session2::ServerStore or HTTP::Session2::ClientStore2 instead. at /home/cpan/.cpan/build/HTTP-Session2-1.10-0/blib/lib/HTTP/Session2/ClientStore.pm line 25.
Secret string too short at /home/cpan/.cpan/build/HTTP-Session2-1.10-0/blib/lib/HTTP/Session2/Base.pm line 79.
	HTTP::Session2::Base::__ANON__(HTTP::Session2::ClientStore=HASH(0xb407869fcc0), "s3cret") called at t/02_client_side.t line 60
	main::__ANON__("client -> server: request without cookie", CODE(0xb407869e0d8)) called at t/02_client_side.t line 66
	main::__ANON__() called at /home/cpan/bin/perl/lib/5.43.4/Test/Builder.pm line 368
	eval {...} called at /home/cpan/bin/perl/lib/5.43.4/Test/Builder.pm line 368
	Test::Builder::subtest(Test::Builder=HASH(0xb40776a9a68), "Login", CODE(0xb407869b3f0)) called at /home/cpan/bin/perl/lib/5.43.4/Test/More.pm line 831
	Test::More::subtest("Login", CODE(0xb407869b3f0)) called at t/02_client_side.t line 9
	main::scenario("Login", CODE(0xb407869b3f0)) called at t/02_client_side.t line 86
Do not use HTTP::Session2::ClientStore. Use HTTP::Session2::ServerStore or HTTP::Session2::ClientStore2 instead. at /home/cpan/.cpan/build/HTTP-Session2-1.10-0/blib/lib/HTTP/Session2/ClientStore.pm line 35.
Do not use HTTP::Session2::ClientStore. Use HTTP::Session2::ServerStore or HTTP::Session2::ClientStore2 instead. at /home/cpan/.cpan/build/HTTP-Session2-1.10-0/blib/lib/HTTP/Session2/ClientStore.pm line 25.
Secret string too short at /home/cpan/.cpan/build/HTTP-Session2-1.10-0/blib/lib/HTTP/Session2/Base.pm line 79.
	HTTP::Session2::Base::__ANON__(HTTP::Session2::ClientStore=HASH(0xb407869f318), "s3cret") called at t/02_client_side.t line 92
	main::__ANON__("client -> server: request without cookie", CODE(0xb40786a38e8)) called at t/02_client_side.t line 98
	main::__ANON__() called at /home/cpan/bin/perl/lib/5.43.4/Test/Builder.pm line 368
	eval {...} called at /home/cpan/bin/perl/lib/5.43.4/Test/Builder.pm line 368
	Test::Builder::subtest(Test::Builder=HASH(0xb40776a9a68), "In a login session", CODE(0xb407869b8b8)) called at /home/cpan/bin/perl/lib/5.43.4/Test/More.pm line 831
	Test::More::subtest("In a login session", CODE(0xb407869b8b8)) called at t/02_client_side.t line 9
	main::scenario("In a login session", CODE(0xb407869b8b8)) called at t/02_client_side.t line 107
Do not use HTTP::Session2::ClientStore. Use HTTP::Session2::ServerStore or HTTP::Session2::ClientStore2 instead. at /home/cpan/.cpan/build/HTTP-Session2-1.10-0/blib/lib/HTTP/Session2/ClientStore.pm line 35.
Do not use HTTP::Session2::ClientStore. Use HTTP::Session2::ServerStore or HTTP::Session2::ClientStore2 instead. at /home/cpan/.cpan/build/HTTP-Session2-1.10-0/blib/lib/HTTP/Session2/ClientStore.pm line 25.
Secret string too short at /home/cpan/.cpan/build/HTTP-Session2-1.10-0/blib/lib/HTTP/Session2/Base.pm line 79.
	HTTP::Session2::Base::__ANON__(HTTP::Session2::ClientStore=HASH(0xb407869ff00), "s3cret") called at t/02_client_side.t line 112
	main::__ANON__("client -> server: request without cookie", CODE(0xb4077677198)) called at t/02_client_side.t line 118
	main::__ANON__() called at /home/cpan/bin/perl/lib/5.43.4/Test/Builder.pm line 368
	eval {...} called at /home/cpan/bin/perl/lib/5.43.4/Test/Builder.pm line 368
	Test::Builder::subtest(Test::Builder=HASH(0xb40776a9a68), "Logout", CODE(0xb407869bd80)) called at /home/cpan/bin/perl/lib/5.43.4/Test/More.pm line 831
	Test::More::subtest("Logout", CODE(0xb407869bd80)) called at t/02_client_side.t line 9
	main::scenario("Logout", CODE(0xb407869bd80)) called at t/02_client_side.t line 131
t/02_client_side.t .......... ok
Secret string too short at /home/cpan/.cpan/build/HTTP-Session2-1.10-0/blib/lib/HTTP/Session2/Base.pm line 79.
	HTTP::Session2::Base::__ANON__(HTTP::Session2::ServerStore=HASH(0x2650b39b3090), "s3cret") called at t/03_mech.t line 121
	main::server_session(HASH(0x2650b3838dc8)) called at t/03_mech.t line 17
	main::__ANON__(HASH(0x2650b3838dc8)) called at /home/cpan/bin/perl/lib/site_perl/5.43.4/Test/WWW/Mechanize/PSGI.pm line 46
	Test::WWW::Mechanize::PSGI::try {...} () called at /home/cpan/bin/perl/lib/site_perl/5.43.4/Try/Tiny.pm line 102
	eval {...} called at /home/cpan/bin/perl/lib/site_perl/5.43.4/Try/Tiny.pm line 93
	Try::Tiny::try(CODE(0x2650b39b2ca8), Try::Tiny::Catch=REF(0x2650b380bf60)) called at /home/cpan/bin/perl/lib/site_perl/5.43.4/Test/WWW/Mechanize/PSGI.pm line 53
	Test::WWW::Mechanize::PSGI::simple_request(Test::WWW::Mechanize::PSGI=HASH(0x2650b380bc18), HTTP::Request=HASH(0x2650b38f75d0), undef, undef) called at /home/cpan/bin/perl/lib/site_perl/5.43.4/LWP/UserAgent.pm line 310
	LWP::UserAgent::request(Test::WWW::Mechanize::PSGI=HASH(0x2650b380bc18), HTTP::Request=HASH(0x2650b38f75d0)) called at /home/cpan/bin/perl/lib/site_perl/5.43.4/WWW/Mechanize.pm line 1699
	WWW::Mechanize::_make_request(Test::WWW::Mechanize::PSGI=HASH(0x2650b380bc18), HTTP::Request=HASH(0x2650b38f75d0)) called at /home/cpan/bin/perl/lib/site_perl/5.43.4/WWW/Mechanize.pm line 1534
	WWW::Mechanize::request(Test::WWW::Mechanize::PSGI=HASH(0x2650b380bc18), HTTP::Request=HASH(0x2650b38f75d0)) called at /home/cpan/bin/perl/lib/site_perl/5.43.4/LWP/UserAgent.pm line 454
	LWP::UserAgent::get(Test::WWW::Mechanize::PSGI=HASH(0x2650b380bc18), "/") called at /home/cpan/bin/perl/lib/site_perl/5.43.4/WWW/Mechanize.pm line 124
	WWW::Mechanize::get(Test::WWW::Mechanize::PSGI=HASH(0x2650b380bc18), "/") called at /home/cpan/bin/perl/lib/site_perl/5.43.4/Test/WWW/Mechanize.pm line 192
	Test::WWW::Mechanize::get_ok(Test::WWW::Mechanize::PSGI=HASH(0x2650b380bc18), "/") called at t/03_mech.t line 74
Secret string too short at /home/cpan/.cpan/build/HTTP-Session2-1.10-0/blib/lib/HTTP/Session2/Base.pm line 79.
	HTTP::Session2::Base::__ANON__(HTTP::Session2::ServerStore=HASH(0x2650b39b3ba0), "s3cret") called at t/03_mech.t line 121
	main::server_session(HASH(0x2650b39b3390)) called at t/03_mech.t line 17
	main::__ANON__(HASH(0x2650b39b3390)) called at /home/cpan/bin/perl/lib/site_perl/5.43.4/Test/WWW/Mechanize/PSGI.pm line 46
	Test::WWW::Mechanize::PSGI::try {...} () called at /home/cpan/bin/perl/lib/site_perl/5.43.4/Try/Tiny.pm line 102
	eval {...} called at /home/cpan/bin/perl/lib/site_perl/5.43.4/Try/Tiny.pm line 93
	Try::Tiny::try(CODE(0x2650b39b37b0), Try::Tiny::Catch=REF(0x2650b39b2d20)) called at /home/cpan/bin/perl/lib/site_perl/5.43.4/Test/WWW/Mechanize/PSGI.pm line 53
	Test::WWW::Mechanize::PSGI::simple_request(Test::WWW::Mechanize::PSGI=HASH(0x2650b380bc18), HTTP::Request=HASH(0x2650b39b31f8), undef, undef) called at /home/cpan/bin/perl/lib/site_perl/5.43.4/LWP/UserAgent.pm line 310
	LWP::UserAgent::request(Test::WWW::Mechanize::PSGI=HASH(0x2650b380bc18), HTTP::Request=HASH(0x2650b39b31f8)) called at /home/cpan/bin/perl/lib/site_perl/5.43.4/WWW/Mechanize.pm line 1699
	WWW::Mechanize::_make_request(Test::WWW::Mechanize::PSGI=HASH(0x2650b380bc18), HTTP::Request=HASH(0x2650b39b31f8)) called at /home/cpan/bin/perl/lib/site_perl/5.43.4/WWW/Mechanize.pm line 1534
	WWW::Mechanize::request(Test::WWW::Mechanize::PSGI=HASH(0x2650b380bc18), HTTP::Request=HASH(0x2650b39b31f8)) called at /home/cpan/bin/perl/lib/site_perl/5.43.4/LWP/UserAgent.pm line 500
	LWP::UserAgent::post(Test::WWW::Mechanize::PSGI=HASH(0x2650b380bc18), "http://localhost/wishlist?foo", HASH(0x2650b344c9a8)) called at /home/cpan/bin/perl/lib/site_perl/5.43.4/WWW/Mechanize.pm line 136
	WWW::Mechanize::post(Test::WWW::Mechanize::PSGI=HASH(0x2650b380bc18), "/wishlist?foo", HASH(0x2650b344c9a8)) called at /home/cpan/bin/perl/lib/site_perl/5.43.4/Test/WWW/Mechanize.pm line 321
	Test::WWW::Mechanize::post_ok(Test::WWW::Mechanize::PSGI=HASH(0x2650b380bc18), "/wishlist?foo") called at t/03_mech.t line 75
Secret string too short at /home/cpan/.cpan/build/HTTP-Session2-1.10-0/blib/lib/HTTP/Session2/Base.pm line 79.
	HTTP::Session2::Base::__ANON__(HTTP::Session2::ServerStore=HASH(0x2650b39b4408), "s3cret") called at t/03_mech.t line 121
	main::server_session(HASH(0x2650b39b3e10)) called at t/03_mech.t line 17
	main::__ANON__(HASH(0x2650b39b3e10)) called at /home/cpan/bin/perl/lib/site_perl/5.43.4/Test/WWW/Mechanize/PSGI.pm line 46
	Test::WWW::Mechanize::PSGI::try {...} () called at /home/cpan/bin/perl/lib/site_perl/5.43.4/Try/Tiny.pm line 102
	eval {...} called at /home/cpan/bin/perl/lib/site_perl/5.43.4/Try/Tiny.pm line 93
	Try::Tiny::try(CODE(0x2650b39b38a0), Try::Tiny::Catch=REF(0x2650b39b3a68)) called at /home/cpan/bin/perl/lib/site_perl/5.43.4/Test/WWW/Mechanize/PSGI.pm line 53
	Test::WWW::Mechanize::PSGI::simple_request(Test::WWW::Mechanize::PSGI=HASH(0x2650b380bc18), HTTP::Request=HASH(0x2650b383ae10), undef, undef) called at /home/cpan/bin/perl/lib/site_perl/5.43.4/LWP/UserAgent.pm line 310
	LWP::UserAgent::request(Test::WWW::Mechanize::PSGI=HASH(0x2650b380bc18), HTTP::Request=HASH(0x2650b383ae10)) called at /home/cpan/bin/perl/lib/site_perl/5.43.4/WWW/Mechanize.pm line 1699
	WWW::Mechanize::_make_request(Test::WWW::Mechanize::PSGI=HASH(0x2650b380bc18), HTTP::Request=HASH(0x2650b383ae10)) called at /home/cpan/bin/perl/lib/site_perl/5.43.4/WWW/Mechanize.pm line 1534
	WWW::Mechanize::request(Test::WWW::Mechanize::PSGI=HASH(0x2650b380bc18), HTTP::Request=HASH(0x2650b383ae10)) called at /home/cpan/bin/perl/lib/site_perl/5.43.4/LWP/UserAgent.pm line 454
	LWP::UserAgent::get(Test::WWW::Mechanize::PSGI=HASH(0x2650b380bc18), "http://localhost/wishlist") called at /home/cpan/bin/perl/lib/site_perl/5.43.4/WWW/Mechanize.pm line 124
	WWW::Mechanize::get(Test::WWW::Mechanize::PSGI=HASH(0x2650b380bc18), "/wishlist") called at /home/cpan/bin/perl/lib/site_perl/5.43.4/Test/WWW/Mechanize.pm line 192
	Test::WWW::Mechanize::get_ok(Test::WWW::Mechanize::PSGI=HASH(0x2650b380bc18), "/wishlist") called at t/03_mech.t line 76
Secret string too short at /home/cpan/.cpan/build/HTTP-Session2-1.10-0/blib/lib/HTTP/Session2/Base.pm line 79.
	HTTP::Session2::Base::__ANON__(HTTP::Session2::ServerStore=HASH(0x2650b39b4990), "s3cret") called at t/03_mech.t line 121
	main::server_session(HASH(0x2650b3840600)) called at t/03_mech.t line 17
	main::__ANON__(HASH(0x2650b3840600)) called at /home/cpan/bin/perl/lib/site_perl/5.43.4/Test/WWW/Mechanize/PSGI.pm line 46
	Test::WWW::Mechanize::PSGI::try {...} () called at /home/cpan/bin/perl/lib/site_perl/5.43.4/Try/Tiny.pm line 102
	eval {...} called at /home/cpan/bin/perl/lib/site_perl/5.43.4/Try/Tiny.pm line 93
	Try::Tiny::try(CODE(0x2650b39b3c60), Try::Tiny::Catch=REF(0x2650b39b44e0)) called at /home/cpan/bin/perl/lib/site_perl/5.43.4/Test/WWW/Mechanize/PSGI.pm line 53
	Test::WWW::Mechanize::PSGI::simple_request(Test::WWW::Mechanize::PSGI=HASH(0x2650b380bc18), HTTP::Request=HASH(0x2650b39b3c90), undef, undef) called at /home/cpan/bin/perl/lib/site_perl/5.43.4/LWP/UserAgent.pm line 310
	LWP::UserAgent::request(Test::WWW::Mechanize::PSGI=HASH(0x2650b380bc18), HTTP::Request=HASH(0x2650b39b3c90)) called at /home/cpan/bin/perl/lib/site_perl/5.43.4/WWW/Mechanize.pm line 1699
	WWW::Mechanize::_make_request(Test::WWW::Mechanize::PSGI=HASH(0x2650b380bc18), HTTP::Request=HASH(0x2650b39b3c90)) called at /home/cpan/bin/perl/lib/site_perl/5.43.4/WWW/Mechanize.pm line 1534
	WWW::Mechanize::request(Test::WWW::Mechanize::PSGI=HASH(0x2650b380bc18), HTTP::Request=HASH(0x2650b39b3c90)) called at /home/cpan/bin/perl/lib/site_perl/5.43.4/LWP/UserAgent.pm line 500
	LWP::UserAgent::post(Test::WWW::Mechanize::PSGI=HASH(0x2650b380bc18), "http://localhost/wishlist?bar") called at /home/cpan/bin/perl/lib/site_perl/5.43.4/WWW/Mechanize.pm line 136
	WWW::Mechanize::post(Test::WWW::Mechanize::PSGI=HASH(0x2650b380bc18), "/wishlist?bar") called at t/03_mech.t line 78
Secret string too short at /home/cpan/.cpan/build/HTTP-Session2-1.10-0/blib/lib/HTTP/Session2/Base.pm line 79.
	HTTP::Session2::Base::__ANON__(HTTP::Session2::ServerStore=HASH(0x2650b39b3eb8), "s3cret") called at t/03_mech.t line 121
	main::server_session(HASH(0x2650b39b4c48)) called at t/03_mech.t line 17
	main::__ANON__(HASH(0x2650b39b4c48)) called at /home/cpan/bin/perl/lib/site_perl/5.43.4/Test/WWW/Mechanize/PSGI.pm line 46
	Test::WWW::Mechanize::PSGI::try {...} () called at /home/cpan/bin/perl/lib/site_perl/5.43.4/Try/Tiny.pm line 102
	eval {...} called at /home/cpan/bin/perl/lib/site_perl/5.43.4/Try/Tiny.pm line 93
	Try::Tiny::try(CODE(0x2650b39b4690), Try::Tiny::Catch=REF(0x2650b39b3f00)) called at /home/cpan/bin/perl/lib/site_perl/5.43.4/Test/WWW/Mechanize/PSGI.pm line 53
	Test::WWW::Mechanize::PSGI::simple_request(Test::WWW::Mechanize::PSGI=HASH(0x2650b380bc18), HTTP::Request=HASH(0x2650b39b4948), undef, undef) called at /home/cpan/bin/perl/lib/site_perl/5.43.4/LWP/UserAgent.pm line 310
	LWP::UserAgent::request(Test::WWW::Mechanize::PSGI=HASH(0x2650b380bc18), HTTP::Request=HASH(0x2650b39b4948)) called at /home/cpan/bin/perl/lib/site_perl/5.43.4/WWW/Mechanize.pm line 1699
	WWW::Mechanize::_make_request(Test::WWW::Mechanize::PSGI=HASH(0x2650b380bc18), HTTP::Request=HASH(0x2650b39b4948)) called at /home/cpan/bin/perl/lib/site_perl/5.43.4/WWW/Mechanize.pm line 1534
	WWW::Mechanize::request(Test::WWW::Mechanize::PSGI=HASH(0x2650b380bc18), HTTP::Request=HASH(0x2650b39b4948)) called at /home/cpan/bin/perl/lib/site_perl/5.43.4/LWP/UserAgent.pm line 500
	LWP::UserAgent::post(Test::WWW::Mechanize::PSGI=HASH(0x2650b380bc18), "http://localhost/wishlist?bar", HASH(0x2650b344c9a8)) called at /home/cpan/bin/perl/lib/site_perl/5.43.4/WWW/Mechanize.pm line 136
	WWW::Mechanize::post(Test::WWW::Mechanize::PSGI=HASH(0x2650b380bc18), "/wishlist?bar", HASH(0x2650b344c9a8)) called at /home/cpan/bin/perl/lib/site_perl/5.43.4/Test/WWW/Mechanize.pm line 321
	Test::WWW::Mechanize::post_ok(Test::WWW::Mechanize::PSGI=HASH(0x2650b380bc18), "/wishlist?bar") called at t/03_mech.t line 81
Secret string too short at /home/cpan/.cpan/build/HTTP-Session2-1.10-0/blib/lib/HTTP/Session2/Base.pm line 79.
	HTTP::Session2::Base::__ANON__(HTTP::Session2::ServerStore=HASH(0x2650b39b4918), "s3cret") called at t/03_mech.t line 121
	main::server_session(HASH(0x2650b39fd510)) called at t/03_mech.t line 17
	main::__ANON__(HASH(0x2650b39fd510)) called at /home/cpan/bin/perl/lib/site_perl/5.43.4/Test/WWW/Mechanize/PSGI.pm line 46
	Test::WWW::Mechanize::PSGI::try {...} () called at /home/cpan/bin/perl/lib/site_perl/5.43.4/Try/Tiny.pm line 102
	eval {...} called at /home/cpan/bin/perl/lib/site_perl/5.43.4/Try/Tiny.pm line 93
	Try::Tiny::try(CODE(0x2650b39fd5a0), Try::Tiny::Catch=REF(0x2650b39b43a8)) called at /home/cpan/bin/perl/lib/site_perl/5.43.4/Test/WWW/Mechanize/PSGI.pm line 53
	Test::WWW::Mechanize::PSGI::simple_request(Test::WWW::Mechanize::PSGI=HASH(0x2650b380bc18), HTTP::Request=HASH(0x2650b39b3bd0), undef, undef) called at /home/cpan/bin/perl/lib/site_perl/5.43.4/LWP/UserAgent.pm line 310
	LWP::UserAgent::request(Test::WWW::Mechanize::PSGI=HASH(0x2650b380bc18), HTTP::Request=HASH(0x2650b39b3bd0)) called at /home/cpan/bin/perl/lib/site_perl/5.43.4/WWW/Mechanize.pm line 1699
	WWW::Mechanize::_make_request(Test::WWW::Mechanize::PSGI=HASH(0x2650b380bc18), HTTP::Request=HASH(0x2650b39b3bd0)) called at /home/cpan/bin/perl/lib/site_perl/5.43.4/WWW/Mechanize.pm line 1534
	WWW::Mechanize::request(Test::WWW::Mechanize::PSGI=HASH(0x2650b380bc18), HTTP::Request=HASH(0x2650b39b3bd0)) called at /home/cpan/bin/perl/lib/site_perl/5.43.4/LWP/UserAgent.pm line 454
	LWP::UserAgent::get(Test::WWW::Mechanize::PSGI=HASH(0x2650b380bc18), "http://localhost/wishlist") called at /home/cpan/bin/perl/lib/site_perl/5.43.4/WWW/Mechanize.pm line 124
	WWW::Mechanize::get(Test::WWW::Mechanize::PSGI=HASH(0x2650b380bc18), "/wishlist") called at /home/cpan/bin/perl/lib/site_perl/5.43.4/Test/WWW/Mechanize.pm line 192
	Test::WWW::Mechanize::get_ok(Test::WWW::Mechanize::PSGI=HASH(0x2650b380bc18), "/wishlist") called at t/03_mech.t line 82
Secret string too short at /home/cpan/.cpan/build/HTTP-Session2-1.10-0/blib/lib/HTTP/Session2/Base.pm line 79.
	HTTP::Session2::Base::__ANON__(HTTP::Session2::ServerStore=HASH(0x2650b39fd960), "s3cret") called at t/03_mech.t line 121
	main::server_session(HASH(0x2650b39fd630)) called at t/03_mech.t line 17
	main::__ANON__(HASH(0x2650b39fd630)) called at /home/cpan/bin/perl/lib/site_perl/5.43.4/Test/WWW/Mechanize/PSGI.pm line 46
	Test::WWW::Mechanize::PSGI::try {...} () called at /home/cpan/bin/perl/lib/site_perl/5.43.4/Try/Tiny.pm line 102
	eval {...} called at /home/cpan/bin/perl/lib/site_perl/5.43.4/Try/Tiny.pm line 93
	Try::Tiny::try(CODE(0x2650b39b46a8), Try::Tiny::Catch=REF(0x2650b39fd0f0)) called at /home/cpan/bin/perl/lib/site_perl/5.43.4/Test/WWW/Mechanize/PSGI.pm line 53
	Test::WWW::Mechanize::PSGI::simple_request(Test::WWW::Mechanize::PSGI=HASH(0x2650b380bc18), HTTP::Request=HASH(0x2650b39b3e88), undef, undef) called at /home/cpan/bin/perl/lib/site_perl/5.43.4/LWP/UserAgent.pm line 310
	LWP::UserAgent::request(Test::WWW::Mechanize::PSGI=HASH(0x2650b380bc18), HTTP::Request=HASH(0x2650b39b3e88)) called at /home/cpan/bin/perl/lib/site_perl/5.43.4/WWW/Mechanize.pm line 1699
	WWW::Mechanize::_make_request(Test::WWW::Mechanize::PSGI=HASH(0x2650b380bc18), HTTP::Request=HASH(0x2650b39b3e88)) called at /home/cpan/bin/perl/lib/site_perl/5.43.4/WWW/Mechanize.pm line 1534
	WWW::Mechanize::request(Test::WWW::Mechanize::PSGI=HASH(0x2650b380bc18), HTTP::Request=HASH(0x2650b39b3e88)) called at /home/cpan/bin/perl/lib/site_perl/5.43.4/LWP/UserAgent.pm line 500
	LWP::UserAgent::post(Test::WWW::Mechanize::PSGI=HASH(0x2650b380bc18), "http://localhost/account/login?john", HASH(0x2650b344c9a8)) called at /home/cpan/bin/perl/lib/site_perl/5.43.4/WWW/Mechanize.pm line 136
	WWW::Mechanize::post(Test::WWW::Mechanize::PSGI=HASH(0x2650b380bc18), "/account/login?john", HASH(0x2650b344c9a8)) called at /home/cpan/bin/perl/lib/site_perl/5.43.4/Test/WWW/Mechanize.pm line 321
	Test::WWW::Mechanize::post_ok(Test::WWW::Mechanize::PSGI=HASH(0x2650b380bc18), "/account/login?john") called at t/03_mech.t line 84
Secret string too short at /home/cpan/.cpan/build/HTTP-Session2-1.10-0/blib/lib/HTTP/Session2/Base.pm line 79.
	HTTP::Session2::Base::__ANON__(HTTP::Session2::ServerStore=HASH(0x2650b39fd408), "s3cret") called at t/03_mech.t line 121
	main::server_session(HASH(0x2650b39fde88)) called at t/03_mech.t line 17
	main::__ANON__(HASH(0x2650b39fde88)) called at /home/cpan/bin/perl/lib/site_perl/5.43.4/Test/WWW/Mechanize/PSGI.pm line 46
	Test::WWW::Mechanize::PSGI::try {...} () called at /home/cpan/bin/perl/lib/site_perl/5.43.4/Try/Tiny.pm line 102
	eval {...} called at /home/cpan/bin/perl/lib/site_perl/5.43.4/Try/Tiny.pm line 93
	Try::Tiny::try(CODE(0x2650b383d6f0), Try::Tiny::Catch=REF(0x2650b39fd768)) called at /home/cpan/bin/perl/lib/site_perl/5.43.4/Test/WWW/Mechanize/PSGI.pm line 53
	Test::WWW::Mechanize::PSGI::simple_request(Test::WWW::Mechanize::PSGI=HASH(0x2650b380bc18), HTTP::Request=HASH(0x2650b39b4c90), undef, undef) called at /home/cpan/bin/perl/lib/site_perl/5.43.4/LWP/UserAgent.pm line 310
	LWP::UserAgent::request(Test::WWW::Mechanize::PSGI=HASH(0x2650b380bc18), HTTP::Request=HASH(0x2650b39b4c90)) called at /home/cpan/bin/perl/lib/site_perl/5.43.4/WWW/Mechanize.pm line 1699
	WWW::Mechanize::_make_request(Test::WWW::Mechanize::PSGI=HASH(0x2650b380bc18), HTTP::Request=HASH(0x2650b39b4c90)) called at /home/cpan/bin/perl/lib/site_perl/5.43.4/WWW/Mechanize.pm line 1534
	WWW::Mechanize::request(Test::WWW::Mechanize::PSGI=HASH(0x2650b380bc18), HTTP::Request=HASH(0x2650b39b4c90)) called at /home/cpan/bin/perl/lib/site_perl/5.43.4/LWP/UserAgent.pm line 454
	LWP::UserAgent::get(Test::WWW::Mechanize::PSGI=HASH(0x2650b380bc18), "http://localhost/wishlist") called at /home/cpan/bin/perl/lib/site_perl/5.43.4/WWW/Mechanize.pm line 124
	WWW::Mechanize::get(Test::WWW::Mechanize::PSGI=HASH(0x2650b380bc18), "/wishlist") called at /home/cpan/bin/perl/lib/site_perl/5.43.4/Test/WWW/Mechanize.pm line 192
	Test::WWW::Mechanize::get_ok(Test::WWW::Mechanize::PSGI=HASH(0x2650b380bc18), "/wishlist", "Wishlist is still available") called at t/03_mech.t line 85
Secret string too short at /home/cpan/.cpan/build/HTTP-Session2-1.10-0/blib/lib/HTTP/Session2/Base.pm line 79.
	HTTP::Session2::Base::__ANON__(HTTP::Session2::ServerStore=HASH(0x2650b3a10108), "s3cret") called at t/03_mech.t line 121
	main::server_session(HASH(0x2650b39fd7c8)) called at t/03_mech.t line 17
	main::__ANON__(HASH(0x2650b39fd7c8)) called at /home/cpan/bin/perl/lib/site_perl/5.43.4/Test/WWW/Mechanize/PSGI.pm line 46
	Test::WWW::Mechanize::PSGI::try {...} () called at /home/cpan/bin/perl/lib/site_perl/5.43.4/Try/Tiny.pm line 102
	eval {...} called at /home/cpan/bin/perl/lib/site_perl/5.43.4/Try/Tiny.pm line 93
	Try::Tiny::try(CODE(0x2650b39fd078), Try::Tiny::Catch=REF(0x2650b39fd4b0)) called at /home/cpan/bin/perl/lib/site_perl/5.43.4/Test/WWW/Mechanize/PSGI.pm line 53
	Test::WWW::Mechanize::PSGI::simple_request(Test::WWW::Mechanize::PSGI=HASH(0x2650b380bc18), HTTP::Request=HASH(0x2650b39fd648), undef, undef) called at /home/cpan/bin/perl/lib/site_perl/5.43.4/LWP/UserAgent.pm line 310
	LWP::UserAgent::request(Test::WWW::Mechanize::PSGI=HASH(0x2650b380bc18), HTTP::Request=HASH(0x2650b39fd648)) called at /home/cpan/bin/perl/lib/site_perl/5.43.4/WWW/Mechanize.pm line 1699
	WWW::Mechanize::_make_request(Test::WWW::Mechanize::PSGI=HASH(0x2650b380bc18), HTTP::Request=HASH(0x2650b39fd648)) called at /home/cpan/bin/perl/lib/site_perl/5.43.4/WWW/Mechanize.pm line 1534
	WWW::Mechanize::request(Test::WWW::Mechanize::PSGI=HASH(0x2650b380bc18), HTTP::Request=HASH(0x2650b39fd648)) called at /home/cpan/bin/perl/lib/site_perl/5.43.4/LWP/UserAgent.pm line 500
	LWP::UserAgent::post(Test::WWW::Mechanize::PSGI=HASH(0x2650b380bc18), "http://localhost/wishlist?baz") called at /home/cpan/bin/perl/lib/site_perl/5.43.4/WWW/Mechanize.pm line 136
	WWW::Mechanize::post(Test::WWW::Mechanize::PSGI=HASH(0x2650b380bc18), "/wishlist?baz") called at t/03_mech.t line 87
Secret string too short at /home/cpan/.cpan/build/HTTP-Session2-1.10-0/blib/lib/HTTP/Session2/Base.pm line 79.
	HTTP::Session2::Base::__ANON__(HTTP::Session2::ServerStore=HASH(0x2650b3a10810), "s3cret") called at t/03_mech.t line 121
	main::server_session(HASH(0x2650b3a10be8)) called at t/03_mech.t line 17
	main::__ANON__(HASH(0x2650b3a10be8)) called at /home/cpan/bin/perl/lib/site_perl/5.43.4/Test/WWW/Mechanize/PSGI.pm line 46
	Test::WWW::Mechanize::PSGI::try {...} () called at /home/cpan/bin/perl/lib/site_perl/5.43.4/Try/Tiny.pm line 102
	eval {...} called at /home/cpan/bin/perl/lib/site_perl/5.43.4/Try/Tiny.pm line 93
	Try::Tiny::try(CODE(0x2650b3a10030), Try::Tiny::Catch=REF(0x2650b3a101c8)) called at /home/cpan/bin/perl/lib/site_perl/5.43.4/Test/WWW/Mechanize/PSGI.pm line 53
	Test::WWW::Mechanize::PSGI::simple_request(Test::WWW::Mechanize::PSGI=HASH(0x2650b380bc18), HTTP::Request=HASH(0x2650b3a10300), undef, undef) called at /home/cpan/bin/perl/lib/site_perl/5.43.4/LWP/UserAgent.pm line 310
	LWP::UserAgent::request(Test::WWW::Mechanize::PSGI=HASH(0x2650b380bc18), HTTP::Request=HASH(0x2650b3a10300)) called at /home/cpan/bin/perl/lib/site_perl/5.43.4/WWW/Mechanize.pm line 1699
	WWW::Mechanize::_make_request(Test::WWW::Mechanize::PSGI=HASH(0x2650b380bc18), HTTP::Request=HASH(0x2650b3a10300)) called at /home/cpan/bin/perl/lib/site_perl/5.43.4/WWW/Mechanize.pm line 1534
	WWW::Mechanize::request(Test::WWW::Mechanize::PSGI=HASH(0x2650b380bc18), HTTP::Request=HASH(0x2650b3a10300)) called at /home/cpan/bin/perl/lib/site_perl/5.43.4/LWP/UserAgent.pm line 500
	LWP::UserAgent::post(Test::WWW::Mechanize::PSGI=HASH(0x2650b380bc18), "http://localhost/wishlist?baz", HASH(0x2650b344c9a8)) called at /home/cpan/bin/perl/lib/site_perl/5.43.4/WWW/Mechanize.pm line 136
	WWW::Mechanize::post(Test::WWW::Mechanize::PSGI=HASH(0x2650b380bc18), "/wishlist?baz", HASH(0x2650b344c9a8)) called at /home/cpan/bin/perl/lib/site_perl/5.43.4/Test/WWW/Mechanize.pm line 321
	Test::WWW::Mechanize::post_ok(Test::WWW::Mechanize::PSGI=HASH(0x2650b380bc18), "/wishlist?baz") called at t/03_mech.t line 90
Secret string too short at /home/cpan/.cpan/build/HTTP-Session2-1.10-0/blib/lib/HTTP/Session2/Base.pm line 79.
	HTTP::Session2::Base::__ANON__(HTTP::Session2::ServerStore=HASH(0x2650b3a10228), "s3cret") called at t/03_mech.t line 121
	main::server_session(HASH(0x2650b3a10d38)) called at t/03_mech.t line 17
	main::__ANON__(HASH(0x2650b3a10d38)) called at /home/cpan/bin/perl/lib/site_perl/5.43.4/Test/WWW/Mechanize/PSGI.pm line 46
	Test::WWW::Mechanize::PSGI::try {...} () called at /home/cpan/bin/perl/lib/site_perl/5.43.4/Try/Tiny.pm line 102
	eval {...} called at /home/cpan/bin/perl/lib/site_perl/5.43.4/Try/Tiny.pm line 93
	Try::Tiny::try(CODE(0x2650b3a10d80), Try::Tiny::Catch=REF(0x2650b3a103d8)) called at /home/cpan/bin/perl/lib/site_perl/5.43.4/Test/WWW/Mechanize/PSGI.pm line 53
	Test::WWW::Mechanize::PSGI::simple_request(Test::WWW::Mechanize::PSGI=HASH(0x2650b380bc18), HTTP::Request=HASH(0x2650b39b37c8), undef, undef) called at /home/cpan/bin/perl/lib/site_perl/5.43.4/LWP/UserAgent.pm line 310
	LWP::UserAgent::request(Test::WWW::Mechanize::PSGI=HASH(0x2650b380bc18), HTTP::Request=HASH(0x2650b39b37c8)) called at /home/cpan/bin/perl/lib/site_perl/5.43.4/WWW/Mechanize.pm line 1699
	WWW::Mechanize::_make_request(Test::WWW::Mechanize::PSGI=HASH(0x2650b380bc18), HTTP::Request=HASH(0x2650b39b37c8)) called at /home/cpan/bin/perl/lib/site_perl/5.43.4/WWW/Mechanize.pm line 1534
	WWW::Mechanize::request(Test::WWW::Mechanize::PSGI=HASH(0x2650b380bc18), HTTP::Request=HASH(0x2650b39b37c8)) called at /home/cpan/bin/perl/lib/site_perl/5.43.4/LWP/UserAgent.pm line 454
	LWP::UserAgent::get(Test::WWW::Mechanize::PSGI=HASH(0x2650b380bc18), "http://localhost/wishlist") called at /home/cpan/bin/perl/lib/site_perl/5.43.4/WWW/Mechanize.pm line 124
	WWW::Mechanize::get(Test::WWW::Mechanize::PSGI=HASH(0x2650b380bc18), "/wishlist") called at /home/cpan/bin/perl/lib/site_perl/5.43.4/Test/WWW/Mechanize.pm line 192
	Test::WWW::Mechanize::get_ok(Test::WWW::Mechanize::PSGI=HASH(0x2650b380bc18), "/wishlist", "Wishlist is still available") called at t/03_mech.t line 91
Secret string too short at /home/cpan/.cpan/build/HTTP-Session2-1.10-0/blib/lib/HTTP/Session2/Base.pm line 79.
	HTTP::Session2::Base::__ANON__(HTTP::Session2::ServerStore=HASH(0x2650b37b4180), "s3cret") called at t/03_mech.t line 121
	main::server_session(HASH(0x2650b3a10ee8)) called at t/03_mech.t line 17
	main::__ANON__(HASH(0x2650b3a10ee8)) called at /home/cpan/bin/perl/lib/site_perl/5.43.4/Test/WWW/Mechanize/PSGI.pm line 46
	Test::WWW::Mechanize::PSGI::try {...} () called at /home/cpan/bin/perl/lib/site_perl/5.43.4/Try/Tiny.pm line 102
	eval {...} called at /home/cpan/bin/perl/lib/site_perl/5.43.4/Try/Tiny.pm line 93
	Try::Tiny::try(CODE(0x2650b3a10b88), Try::Tiny::Catch=REF(0x2650b3a10c90)) called at /home/cpan/bin/perl/lib/site_perl/5.43.4/Test/WWW/Mechanize/PSGI.pm line 53
	Test::WWW::Mechanize::PSGI::simple_request(Test::WWW::Mechanize::PSGI=HASH(0x2650b380bc18), HTTP::Request=HASH(0x2650b39b4468), undef, undef) called at /home/cpan/bin/perl/lib/site_perl/5.43.4/LWP/UserAgent.pm line 310
	LWP::UserAgent::request(Test::WWW::Mechanize::PSGI=HASH(0x2650b380bc18), HTTP::Request=HASH(0x2650b39b4468)) called at /home/cpan/bin/perl/lib/site_perl/5.43.4/WWW/Mechanize.pm line 1699
	WWW::Mechanize::_make_request(Test::WWW::Mechanize::PSGI=HASH(0x2650b380bc18), HTTP::Request=HASH(0x2650b39b4468)) called at /home/cpan/bin/perl/lib/site_perl/5.43.4/WWW/Mechanize.pm line 1534
	WWW::Mechanize::request(Test::WWW::Mechanize::PSGI=HASH(0x2650b380bc18), HTTP::Request=HASH(0x2650b39b4468)) called at /home/cpan/bin/perl/lib/site_perl/5.43.4/LWP/UserAgent.pm line 454
	LWP::UserAgent::get(Test::WWW::Mechanize::PSGI=HASH(0x2650b380bc18), "http://localhost/my/name") called at /home/cpan/bin/perl/lib/site_perl/5.43.4/WWW/Mechanize.pm line 124
	WWW::Mechanize::get(Test::WWW::Mechanize::PSGI=HASH(0x2650b380bc18), "/my/name") called at /home/cpan/bin/perl/lib/site_perl/5.43.4/Test/WWW/Mechanize.pm line 192
	Test::WWW::Mechanize::get_ok(Test::WWW::Mechanize::PSGI=HASH(0x2650b380bc18), "/my/name") called at t/03_mech.t line 93
Secret string too short at /home/cpan/.cpan/build/HTTP-Session2-1.10-0/blib/lib/HTTP/Session2/Base.pm line 79.
	HTTP::Session2::Base::__ANON__(HTTP::Session2::ServerStore=HASH(0x2650b37b4120), "s3cret") called at t/03_mech.t line 121
	main::server_session(HASH(0x2650b37b4468)) called at t/03_mech.t line 17
	main::__ANON__(HASH(0x2650b37b4468)) called at /home/cpan/bin/perl/lib/site_perl/5.43.4/Test/WWW/Mechanize/PSGI.pm line 46
	Test::WWW::Mechanize::PSGI::try {...} () called at /home/cpan/bin/perl/lib/site_perl/5.43.4/Try/Tiny.pm line 102
	eval {...} called at /home/cpan/bin/perl/lib/site_perl/5.43.4/Try/Tiny.pm line 93
	Try::Tiny::try(CODE(0x2650b37b4078), Try::Tiny::Catch=REF(0x2650b37b4018)) called at /home/cpan/bin/perl/lib/site_perl/5.43.4/Test/WWW/Mechanize/PSGI.pm line 53
	Test::WWW::Mechanize::PSGI::simple_request(Test::WWW::Mechanize::PSGI=HASH(0x2650b380bc18), HTTP::Request=HASH(0x2650b3a10e28), undef, undef) called at /home/cpan/bin/perl/lib/site_perl/5.43.4/LWP/UserAgent.pm line 310
	LWP::UserAgent::request(Test::WWW::Mechanize::PSGI=HASH(0x2650b380bc18), HTTP::Request=HASH(0x2650b3a10e28)) called at /home/cpan/bin/perl/lib/site_perl/5.43.4/WWW/Mechanize.pm line 1699
	WWW::Mechanize::_make_request(Test::WWW::Mechanize::PSGI=HASH(0x2650b380bc18), HTTP::Request=HASH(0x2650b3a10e28)) called at /home/cpan/bin/perl/lib/site_perl/5.43.4/WWW/Mechanize.pm line 1534
	WWW::Mechanize::request(Test::WWW::Mechanize::PSGI=HASH(0x2650b380bc18), HTTP::Request=HASH(0x2650b3a10e28)) called at /home/cpan/bin/perl/lib/site_perl/5.43.4/LWP/UserAgent.pm line 500
	LWP::UserAgent::post(Test::WWW::Mechanize::PSGI=HASH(0x2650b380bc18), "http://localhost/account/logout?john") called at /home/cpan/bin/perl/lib/site_perl/5.43.4/WWW/Mechanize.pm line 136
	WWW::Mechanize::post(Test::WWW::Mechanize::PSGI=HASH(0x2650b380bc18), "/account/logout?john") called at t/03_mech.t line 97
Secret string too short at /home/cpan/.cpan/build/HTTP-Session2-1.10-0/blib/lib/HTTP/Session2/Base.pm line 79.
	HTTP::Session2::Base::__ANON__(HTTP::Session2::ClientStore=HASH(0x2650b39fd1f8), "s3cret") called at t/03_mech.t line 127
	main::client_session(HASH(0x2650b37b4a20)) called at t/03_mech.t line 17
	main::__ANON__(HASH(0x2650b37b4a20)) called at /home/cpan/bin/perl/lib/site_perl/5.43.4/Test/WWW/Mechanize/PSGI.pm line 46
	Test::WWW::Mechanize::PSGI::try {...} () called at /home/cpan/bin/perl/lib/site_perl/5.43.4/Try/Tiny.pm line 102
	eval {...} called at /home/cpan/bin/perl/lib/site_perl/5.43.4/Try/Tiny.pm line 93
	Try::Tiny::try(CODE(0x2650b39b4900), Try::Tiny::Catch=REF(0x2650b39b39a8)) called at /home/cpan/bin/perl/lib/site_perl/5.43.4/Test/WWW/Mechanize/PSGI.pm line 53
	Test::WWW::Mechanize::PSGI::simple_request(Test::WWW::Mechanize::PSGI=HASH(0x2650b38b5150), HTTP::Request=HASH(0x2650b38f6840), undef, undef) called at /home/cpan/bin/perl/lib/site_perl/5.43.4/LWP/UserAgent.pm line 310
	LWP::UserAgent::request(Test::WWW::Mechanize::PSGI=HASH(0x2650b38b5150), HTTP::Request=HASH(0x2650b38f6840)) called at /home/cpan/bin/perl/lib/site_perl/5.43.4/WWW/Mechanize.pm line 1699
	WWW::Mechanize::_make_request(Test::WWW::Mechanize::PSGI=HASH(0x2650b38b5150), HTTP::Request=HASH(0x2650b38f6840)) called at /home/cpan/bin/perl/lib/site_perl/5.43.4/WWW/Mechanize.pm line 1534
	WWW::Mechanize::request(Test::WWW::Mechanize::PSGI=HASH(0x2650b38b5150), HTTP::Request=HASH(0x2650b38f6840)) called at /home/cpan/bin/perl/lib/site_perl/5.43.4/LWP/UserAgent.pm line 454
	LWP::UserAgent::get(Test::WWW::Mechanize::PSGI=HASH(0x2650b38b5150), "/") called at /home/cpan/bin/perl/lib/site_perl/5.43.4/WWW/Mechanize.pm line 124
	WWW::Mechanize::get(Test::WWW::Mechanize::PSGI=HASH(0x2650b38b5150), "/") called at /home/cpan/bin/perl/lib/site_perl/5.43.4/Test/WWW/Mechanize.pm line 192
	Test::WWW::Mechanize::get_ok(Test::WWW::Mechanize::PSGI=HASH(0x2650b38b5150), "/") called at t/03_mech.t line 74
Secret string too short at /home/cpan/.cpan/build/HTTP-Session2-1.10-0/blib/lib/HTTP/Session2/Base.pm line 79.
	HTTP::Session2::Base::__ANON__(HTTP::Session2::ClientStore=HASH(0x2650b39b3270), "s3cret") called at t/03_mech.t line 127
	main::client_session(HASH(0x2650b39b42d0)) called at t/03_mech.t line 17
	main::__ANON__(HASH(0x2650b39b42d0)) called at /home/cpan/bin/perl/lib/site_perl/5.43.4/Test/WWW/Mechanize/PSGI.pm line 46
	Test::WWW::Mechanize::PSGI::try {...} () called at /home/cpan/bin/perl/lib/site_perl/5.43.4/Try/Tiny.pm line 102
	eval {...} called at /home/cpan/bin/perl/lib/site_perl/5.43.4/Try/Tiny.pm line 93
	Try::Tiny::try(CODE(0x2650b39fd9f0), Try::Tiny::Catch=REF(0x2650b39fd228)) called at /home/cpan/bin/perl/lib/site_perl/5.43.4/Test/WWW/Mechanize/PSGI.pm line 53
	Test::WWW::Mechanize::PSGI::simple_request(Test::WWW::Mechanize::PSGI=HASH(0x2650b38b5150), HTTP::Request=HASH(0x2650b37b4960), undef, undef) called at /home/cpan/bin/perl/lib/site_perl/5.43.4/LWP/UserAgent.pm line 310
	LWP::UserAgent::request(Test::WWW::Mechanize::PSGI=HASH(0x2650b38b5150), HTTP::Request=HASH(0x2650b37b4960)) called at /home/cpan/bin/perl/lib/site_perl/5.43.4/WWW/Mechanize.pm line 1699
	WWW::Mechanize::_make_request(Test::WWW::Mechanize::PSGI=HASH(0x2650b38b5150), HTTP::Request=HASH(0x2650b37b4960)) called at /home/cpan/bin/perl/lib/site_perl/5.43.4/WWW/Mechanize.pm line 1534
	WWW::Mechanize::request(Test::WWW::Mechanize::PSGI=HASH(0x2650b38b5150), HTTP::Request=HASH(0x2650b37b4960)) called at /home/cpan/bin/perl/lib/site_perl/5.43.4/LWP/UserAgent.pm line 500
	LWP::UserAgent::post(Test::WWW::Mechanize::PSGI=HASH(0x2650b38b5150), "http://localhost/wishlist?foo", HASH(0x2650b344c9a8)) called at /home/cpan/bin/perl/lib/site_perl/5.43.4/WWW/Mechanize.pm line 136
	WWW::Mechanize::post(Test::WWW::Mechanize::PSGI=HASH(0x2650b38b5150), "/wishlist?foo", HASH(0x2650b344c9a8)) called at /home/cpan/bin/perl/lib/site_perl/5.43.4/Test/WWW/Mechanize.pm line 321
	Test::WWW::Mechanize::post_ok(Test::WWW::Mechanize::PSGI=HASH(0x2650b38b5150), "/wishlist?foo") called at t/03_mech.t line 75
Do not use HTTP::Session2::ClientStore. Use HTTP::Session2::ServerStore or HTTP::Session2::ClientStore2 instead. at /home/cpan/.cpan/build/HTTP-Session2-1.10-0/blib/lib/HTTP/Session2/ClientStore.pm line 25.
Secret string too short at /home/cpan/.cpan/build/HTTP-Session2-1.10-0/blib/lib/HTTP/Session2/Base.pm line 79.
	HTTP::Session2::Base::__ANON__(HTTP::Session2::ClientStore=HASH(0x2650b39b4d80), "s3cret") called at t/03_mech.t line 127
	main::client_session(HASH(0x2650b39b2a80)) called at t/03_mech.t line 17
	main::__ANON__(HASH(0x2650b39b2a80)) called at /home/cpan/bin/perl/lib/site_perl/5.43.4/Test/WWW/Mechanize/PSGI.pm line 46
	Test::WWW::Mechanize::PSGI::try {...} () called at /home/cpan/bin/perl/lib/site_perl/5.43.4/Try/Tiny.pm line 102
	eval {...} called at /home/cpan/bin/perl/lib/site_perl/5.43.4/Try/Tiny.pm line 93
	Try::Tiny::try(CODE(0x2650b380bb70), Try::Tiny::Catch=REF(0x2650b39b4ed0)) called at /home/cpan/bin/perl/lib/site_perl/5.43.4/Test/WWW/Mechanize/PSGI.pm line 53
	Test::WWW::Mechanize::PSGI::simple_request(Test::WWW::Mechanize::PSGI=HASH(0x2650b38b5150), HTTP::Request=HASH(0x2650b37b4378), undef, undef) called at /home/cpan/bin/perl/lib/site_perl/5.43.4/LWP/UserAgent.pm line 310
	LWP::UserAgent::request(Test::WWW::Mechanize::PSGI=HASH(0x2650b38b5150), HTTP::Request=HASH(0x2650b37b4378)) called at /home/cpan/bin/perl/lib/site_perl/5.43.4/WWW/Mechanize.pm line 1699
	WWW::Mechanize::_make_request(Test::WWW::Mechanize::PSGI=HASH(0x2650b38b5150), HTTP::Request=HASH(0x2650b37b4378)) called at /home/cpan/bin/perl/lib/site_perl/5.43.4/WWW/Mechanize.pm line 1534
	WWW::Mechanize::request(Test::WWW::Mechanize::PSGI=HASH(0x2650b38b5150), HTTP::Request=HASH(0x2650b37b4378)) called at /home/cpan/bin/perl/lib/site_perl/5.43.4/LWP/UserAgent.pm line 454
	LWP::UserAgent::get(Test::WWW::Mechanize::PSGI=HASH(0x2650b38b5150), "http://localhost/wishlist") called at /home/cpan/bin/perl/lib/site_perl/5.43.4/WWW/Mechanize.pm line 124
	WWW::Mechanize::get(Test::WWW::Mechanize::PSGI=HASH(0x2650b38b5150), "/wishlist") called at /home/cpan/bin/perl/lib/site_perl/5.43.4/Test/WWW/Mechanize.pm line 192
	Test::WWW::Mechanize::get_ok(Test::WWW::Mechanize::PSGI=HASH(0x2650b38b5150), "/wishlist") called at t/03_mech.t line 76
Do not use HTTP::Session2::ClientStore. Use HTTP::Session2::ServerStore or HTTP::Session2::ClientStore2 instead. at /home/cpan/.cpan/build/HTTP-Session2-1.10-0/blib/lib/HTTP/Session2/ClientStore.pm line 35.
Secret string too short at /home/cpan/.cpan/build/HTTP-Session2-1.10-0/blib/lib/HTTP/Session2/Base.pm line 79.
	HTTP::Session2::Base::__ANON__(HTTP::Session2::ClientStore=HASH(0x2650b39fd948), "s3cret") called at t/03_mech.t line 127
	main::client_session(HASH(0x2650b39b4d68)) called at t/03_mech.t line 17
	main::__ANON__(HASH(0x2650b39b4d68)) called at /home/cpan/bin/perl/lib/site_perl/5.43.4/Test/WWW/Mechanize/PSGI.pm line 46
	Test::WWW::Mechanize::PSGI::try {...} () called at /home/cpan/bin/perl/lib/site_perl/5.43.4/Try/Tiny.pm line 102
	eval {...} called at /home/cpan/bin/perl/lib/site_perl/5.43.4/Try/Tiny.pm line 93
	Try::Tiny::try(CODE(0x2650b37b4918), Try::Tiny::Catch=REF(0x2650b39b4570)) called at /home/cpan/bin/perl/lib/site_perl/5.43.4/Test/WWW/Mechanize/PSGI.pm line 53
	Test::WWW::Mechanize::PSGI::simple_request(Test::WWW::Mechanize::PSGI=HASH(0x2650b38b5150), HTTP::Request=HASH(0x2650b39b4168), undef, undef) called at /home/cpan/bin/perl/lib/site_perl/5.43.4/LWP/UserAgent.pm line 310
	LWP::UserAgent::request(Test::WWW::Mechanize::PSGI=HASH(0x2650b38b5150), HTTP::Request=HASH(0x2650b39b4168)) called at /home/cpan/bin/perl/lib/site_perl/5.43.4/WWW/Mechanize.pm line 1699
	WWW::Mechanize::_make_request(Test::WWW::Mechanize::PSGI=HASH(0x2650b38b5150), HTTP::Request=HASH(0x2650b39b4168)) called at /home/cpan/bin/perl/lib/site_perl/5.43.4/WWW/Mechanize.pm line 1534
	WWW::Mechanize::request(Test::WWW::Mechanize::PSGI=HASH(0x2650b38b5150), HTTP::Request=HASH(0x2650b39b4168)) called at /home/cpan/bin/perl/lib/site_perl/5.43.4/LWP/UserAgent.pm line 500
	LWP::UserAgent::post(Test::WWW::Mechanize::PSGI=HASH(0x2650b38b5150), "http://localhost/wishlist?bar") called at /home/cpan/bin/perl/lib/site_perl/5.43.4/WWW/Mechanize.pm line 136
	WWW::Mechanize::post(Test::WWW::Mechanize::PSGI=HASH(0x2650b38b5150), "/wishlist?bar") called at t/03_mech.t line 78
Do not use HTTP::Session2::ClientStore. Use HTTP::Session2::ServerStore or HTTP::Session2::ClientStore2 instead. at /home/cpan/.cpan/build/HTTP-Session2-1.10-0/blib/lib/HTTP/Session2/ClientStore.pm line 35.
Secret string too short at /home/cpan/.cpan/build/HTTP-Session2-1.10-0/blib/lib/HTTP/Session2/Base.pm line 79.
	HTTP::Session2::Base::__ANON__(HTTP::Session2::ClientStore=HASH(0x2650b39fdc78), "s3cret") called at t/03_mech.t line 127
	main::client_session(HASH(0x2650b3a104f8)) called at t/03_mech.t line 17
	main::__ANON__(HASH(0x2650b3a104f8)) called at /home/cpan/bin/perl/lib/site_perl/5.43.4/Test/WWW/Mechanize/PSGI.pm line 46
	Test::WWW::Mechanize::PSGI::try {...} () called at /home/cpan/bin/perl/lib/site_perl/5.43.4/Try/Tiny.pm line 102
	eval {...} called at /home/cpan/bin/perl/lib/site_perl/5.43.4/Try/Tiny.pm line 93
	Try::Tiny::try(CODE(0x2650b39fdd80), Try::Tiny::Catch=REF(0x2650b3a10330)) called at /home/cpan/bin/perl/lib/site_perl/5.43.4/Test/WWW/Mechanize/PSGI.pm line 53
	Test::WWW::Mechanize::PSGI::simple_request(Test::WWW::Mechanize::PSGI=HASH(0x2650b38b5150), HTTP::Request=HASH(0x2650b39fd780), undef, undef) called at /home/cpan/bin/perl/lib/site_perl/5.43.4/LWP/UserAgent.pm line 310
	LWP::UserAgent::request(Test::WWW::Mechanize::PSGI=HASH(0x2650b38b5150), HTTP::Request=HASH(0x2650b39fd780)) called at /home/cpan/bin/perl/lib/site_perl/5.43.4/WWW/Mechanize.pm line 1699
	WWW::Mechanize::_make_request(Test::WWW::Mechanize::PSGI=HASH(0x2650b38b5150), HTTP::Request=HASH(0x2650b39fd780)) called at /home/cpan/bin/perl/lib/site_perl/5.43.4/WWW/Mechanize.pm line 1534
	WWW::Mechanize::request(Test::WWW::Mechanize::PSGI=HASH(0x2650b38b5150), HTTP::Request=HASH(0x2650b39fd780)) called at /home/cpan/bin/perl/lib/site_perl/5.43.4/LWP/UserAgent.pm line 500
	LWP::UserAgent::post(Test::WWW::Mechanize::PSGI=HASH(0x2650b38b5150), "http://localhost/wishlist?bar", HASH(0x2650b344c9a8)) called at /home/cpan/bin/perl/lib/site_perl/5.43.4/WWW/Mechanize.pm line 136
	WWW::Mechanize::post(Test::WWW::Mechanize::PSGI=HASH(0x2650b38b5150), "/wishlist?bar", HASH(0x2650b344c9a8)) called at /home/cpan/bin/perl/lib/site_perl/5.43.4/Test/WWW/Mechanize.pm line 321
	Test::WWW::Mechanize::post_ok(Test::WWW::Mechanize::PSGI=HASH(0x2650b38b5150), "/wishlist?bar") called at t/03_mech.t line 81
Do not use HTTP::Session2::ClientStore. Use HTTP::Session2::ServerStore or HTTP::Session2::ClientStore2 instead. at /home/cpan/.cpan/build/HTTP-Session2-1.10-0/blib/lib/HTTP/Session2/ClientStore.pm line 35.
Do not use HTTP::Session2::ClientStore. Use HTTP::Session2::ServerStore or HTTP::Session2::ClientStore2 instead. at /home/cpan/.cpan/build/HTTP-Session2-1.10-0/blib/lib/HTTP/Session2/ClientStore.pm line 25.
Secret string too short at /home/cpan/.cpan/build/HTTP-Session2-1.10-0/blib/lib/HTTP/Session2/Base.pm line 79.
	HTTP::Session2::Base::__ANON__(HTTP::Session2::ClientStore=HASH(0x2650b3a101f8), "s3cret") called at t/03_mech.t line 127
	main::client_session(HASH(0x2650b37b4240)) called at t/03_mech.t line 17
	main::__ANON__(HASH(0x2650b37b4240)) called at /home/cpan/bin/perl/lib/site_perl/5.43.4/Test/WWW/Mechanize/PSGI.pm line 46
	Test::WWW::Mechanize::PSGI::try {...} () called at /home/cpan/bin/perl/lib/site_perl/5.43.4/Try/Tiny.pm line 102
	eval {...} called at /home/cpan/bin/perl/lib/site_perl/5.43.4/Try/Tiny.pm line 93
	Try::Tiny::try(CODE(0x2650b39fdeb8), Try::Tiny::Catch=REF(0x2650b3a10af8)) called at /home/cpan/bin/perl/lib/site_perl/5.43.4/Test/WWW/Mechanize/PSGI.pm line 53
	Test::WWW::Mechanize::PSGI::simple_request(Test::WWW::Mechanize::PSGI=HASH(0x2650b38b5150), HTTP::Request=HASH(0x2650b37b45e8), undef, undef) called at /home/cpan/bin/perl/lib/site_perl/5.43.4/LWP/UserAgent.pm line 310
	LWP::UserAgent::request(Test::WWW::Mechanize::PSGI=HASH(0x2650b38b5150), HTTP::Request=HASH(0x2650b37b45e8)) called at /home/cpan/bin/perl/lib/site_perl/5.43.4/WWW/Mechanize.pm line 1699
	WWW::Mechanize::_make_request(Test::WWW::Mechanize::PSGI=HASH(0x2650b38b5150), HTTP::Request=HASH(0x2650b37b45e8)) called at /home/cpan/bin/perl/lib/site_perl/5.43.4/WWW/Mechanize.pm line 1534
	WWW::Mechanize::request(Test::WWW::Mechanize::PSGI=HASH(0x2650b38b5150), HTTP::Request=HASH(0x2650b37b45e8)) called at /home/cpan/bin/perl/lib/site_perl/5.43.4/LWP/UserAgent.pm line 454
	LWP::UserAgent::get(Test::WWW::Mechanize::PSGI=HASH(0x2650b38b5150), "http://localhost/wishlist") called at /home/cpan/bin/perl/lib/site_perl/5.43.4/WWW/Mechanize.pm line 124
	WWW::Mechanize::get(Test::WWW::Mechanize::PSGI=HASH(0x2650b38b5150), "/wishlist") called at /home/cpan/bin/perl/lib/site_perl/5.43.4/Test/WWW/Mechanize.pm line 192
	Test::WWW::Mechanize::get_ok(Test::WWW::Mechanize::PSGI=HASH(0x2650b38b5150), "/wishlist") called at t/03_mech.t line 82
Do not use HTTP::Session2::ClientStore. Use HTTP::Session2::ServerStore or HTTP::Session2::ClientStore2 instead. at /home/cpan/.cpan/build/HTTP-Session2-1.10-0/blib/lib/HTTP/Session2/ClientStore.pm line 35.
Secret string too short at /home/cpan/.cpan/build/HTTP-Session2-1.10-0/blib/lib/HTTP/Session2/Base.pm line 79.
	HTTP::Session2::Base::__ANON__(HTTP::Session2::ClientStore=HASH(0x2650b3a10e58), "s3cret") called at t/03_mech.t line 127
	main::client_session(HASH(0x2650b39b2d20)) called at t/03_mech.t line 17
	main::__ANON__(HASH(0x2650b39b2d20)) called at /home/cpan/bin/perl/lib/site_perl/5.43.4/Test/WWW/Mechanize/PSGI.pm line 46
	Test::WWW::Mechanize::PSGI::try {...} () called at /home/cpan/bin/perl/lib/site_perl/5.43.4/Try/Tiny.pm line 102
	eval {...} called at /home/cpan/bin/perl/lib/site_perl/5.43.4/Try/Tiny.pm line 93
	Try::Tiny::try(CODE(0x2650b39b3e40), Try::Tiny::Catch=REF(0x2650b1a77738)) called at /home/cpan/bin/perl/lib/site_perl/5.43.4/Test/WWW/Mechanize/PSGI.pm line 53
	Test::WWW::Mechanize::PSGI::simple_request(Test::WWW::Mechanize::PSGI=HASH(0x2650b38b5150), HTTP::Request=HASH(0x2650b3a10fd8), undef, undef) called at /home/cpan/bin/perl/lib/site_perl/5.43.4/LWP/UserAgent.pm line 310
	LWP::UserAgent::request(Test::WWW::Mechanize::PSGI=HASH(0x2650b38b5150), HTTP::Request=HASH(0x2650b3a10fd8)) called at /home/cpan/bin/perl/lib/site_perl/5.43.4/WWW/Mechanize.pm line 1699
	WWW::Mechanize::_make_request(Test::WWW::Mechanize::PSGI=HASH(0x2650b38b5150), HTTP::Request=HASH(0x2650b3a10fd8)) called at /home/cpan/bin/perl/lib/site_perl/5.43.4/WWW/Mechanize.pm line 1534
	WWW::Mechanize::request(Test::WWW::Mechanize::PSGI=HASH(0x2650b38b5150), HTTP::Request=HASH(0x2650b3a10fd8)) called at /home/cpan/bin/perl/lib/site_perl/5.43.4/LWP/UserAgent.pm line 500
	LWP::UserAgent::post(Test::WWW::Mechanize::PSGI=HASH(0x2650b38b5150), "http://localhost/account/login?john", HASH(0x2650b344c9a8)) called at /home/cpan/bin/perl/lib/site_perl/5.43.4/WWW/Mechanize.pm line 136
	WWW::Mechanize::post(Test::WWW::Mechanize::PSGI=HASH(0x2650b38b5150), "/account/login?john", HASH(0x2650b344c9a8)) called at /home/cpan/bin/perl/lib/site_perl/5.43.4/Test/WWW/Mechanize.pm line 321
	Test::WWW::Mechanize::post_ok(Test::WWW::Mechanize::PSGI=HASH(0x2650b38b5150), "/account/login?john") called at t/03_mech.t line 84
Do not use HTTP::Session2::ClientStore. Use HTTP::Session2::ServerStore or HTTP::Session2::ClientStore2 instead. at /home/cpan/.cpan/build/HTTP-Session2-1.10-0/blib/lib/HTTP/Session2/ClientStore.pm line 35.
Do not use HTTP::Session2::ClientStore. Use HTTP::Session2::ServerStore or HTTP::Session2::ClientStore2 instead. at /home/cpan/.cpan/build/HTTP-Session2-1.10-0/blib/lib/HTTP/Session2/ClientStore.pm line 35.
Do not use HTTP::Session2::ClientStore. Use HTTP::Session2::ServerStore or HTTP::Session2::ClientStore2 instead. at /home/cpan/.cpan/build/HTTP-Session2-1.10-0/blib/lib/HTTP/Session2/ClientStore.pm line 25.
Secret string too short at /home/cpan/.cpan/build/HTTP-Session2-1.10-0/blib/lib/HTTP/Session2/Base.pm line 79.
	HTTP::Session2::Base::__ANON__(HTTP::Session2::ClientStore=HASH(0x2650b1a77378), "s3cret") called at t/03_mech.t line 127
	main::client_session(HASH(0x2650b39b3948)) called at t/03_mech.t line 17
	main::__ANON__(HASH(0x2650b39b3948)) called at /home/cpan/bin/perl/lib/site_perl/5.43.4/Test/WWW/Mechanize/PSGI.pm line 46
	Test::WWW::Mechanize::PSGI::try {...} () called at /home/cpan/bin/perl/lib/site_perl/5.43.4/Try/Tiny.pm line 102
	eval {...} called at /home/cpan/bin/perl/lib/site_perl/5.43.4/Try/Tiny.pm line 93
	Try::Tiny::try(CODE(0x2650b39fdee8), Try::Tiny::Catch=REF(0x2650b38370d8)) called at /home/cpan/bin/perl/lib/site_perl/5.43.4/Test/WWW/Mechanize/PSGI.pm line 53
	Test::WWW::Mechanize::PSGI::simple_request(Test::WWW::Mechanize::PSGI=HASH(0x2650b38b5150), HTTP::Request=HASH(0x2650b39b3ee8), undef, undef) called at /home/cpan/bin/perl/lib/site_perl/5.43.4/LWP/UserAgent.pm line 310
	LWP::UserAgent::request(Test::WWW::Mechanize::PSGI=HASH(0x2650b38b5150), HTTP::Request=HASH(0x2650b39b3ee8)) called at /home/cpan/bin/perl/lib/site_perl/5.43.4/WWW/Mechanize.pm line 1699
	WWW::Mechanize::_make_request(Test::WWW::Mechanize::PSGI=HASH(0x2650b38b5150), HTTP::Request=HASH(0x2650b39b3ee8)) called at /home/cpan/bin/perl/lib/site_perl/5.43.4/WWW/Mechanize.pm line 1534
	WWW::Mechanize::request(Test::WWW::Mechanize::PSGI=HASH(0x2650b38b5150), HTTP::Request=HASH(0x2650b39b3ee8)) called at /home/cpan/bin/perl/lib/site_perl/5.43.4/LWP/UserAgent.pm line 454
	LWP::UserAgent::get(Test::WWW::Mechanize::PSGI=HASH(0x2650b38b5150), "http://localhost/wishlist") called at /home/cpan/bin/perl/lib/site_perl/5.43.4/WWW/Mechanize.pm line 124
	WWW::Mechanize::get(Test::WWW::Mechanize::PSGI=HASH(0x2650b38b5150), "/wishlist") called at /home/cpan/bin/perl/lib/site_perl/5.43.4/Test/WWW/Mechanize.pm line 192
	Test::WWW::Mechanize::get_ok(Test::WWW::Mechanize::PSGI=HASH(0x2650b38b5150), "/wishlist", "Wishlist is still available") called at t/03_mech.t line 85
Do not use HTTP::Session2::ClientStore. Use HTTP::Session2::ServerStore or HTTP::Session2::ClientStore2 instead. at /home/cpan/.cpan/build/HTTP-Session2-1.10-0/blib/lib/HTTP/Session2/ClientStore.pm line 35.
Secret string too short at /home/cpan/.cpan/build/HTTP-Session2-1.10-0/blib/lib/HTTP/Session2/Base.pm line 79.
	HTTP::Session2::Base::__ANON__(HTTP::Session2::ClientStore=HASH(0x2650b39b4db0), "s3cret") called at t/03_mech.t line 127
	main::client_session(HASH(0x2650b3a10720)) called at t/03_mech.t line 17
	main::__ANON__(HASH(0x2650b3a10720)) called at /home/cpan/bin/perl/lib/site_perl/5.43.4/Test/WWW/Mechanize/PSGI.pm line 46
	Test::WWW::Mechanize::PSGI::try {...} () called at /home/cpan/bin/perl/lib/site_perl/5.43.4/Try/Tiny.pm line 102
	eval {...} called at /home/cpan/bin/perl/lib/site_perl/5.43.4/Try/Tiny.pm line 93
	Try::Tiny::try(CODE(0x2650b3a103a8), Try::Tiny::Catch=REF(0x2650b380bde0)) called at /home/cpan/bin/perl/lib/site_perl/5.43.4/Test/WWW/Mechanize/PSGI.pm line 53
	Test::WWW::Mechanize::PSGI::simple_request(Test::WWW::Mechanize::PSGI=HASH(0x2650b38b5150), HTTP::Request=HASH(0x2650b380bd20), undef, undef) called at /home/cpan/bin/perl/lib/site_perl/5.43.4/LWP/UserAgent.pm line 310
	LWP::UserAgent::request(Test::WWW::Mechanize::PSGI=HASH(0x2650b38b5150), HTTP::Request=HASH(0x2650b380bd20)) called at /home/cpan/bin/perl/lib/site_perl/5.43.4/WWW/Mechanize.pm line 1699
	WWW::Mechanize::_make_request(Test::WWW::Mechanize::PSGI=HASH(0x2650b38b5150), HTTP::Request=HASH(0x2650b380bd20)) called at /home/cpan/bin/perl/lib/site_perl/5.43.4/WWW/Mechanize.pm line 1534
	WWW::Mechanize::request(Test::WWW::Mechanize::PSGI=HASH(0x2650b38b5150), HTTP::Request=HASH(0x2650b380bd20)) called at /home/cpan/bin/perl/lib/site_perl/5.43.4/LWP/UserAgent.pm line 500
	LWP::UserAgent::post(Test::WWW::Mechanize::PSGI=HASH(0x2650b38b5150), "http://localhost/wishlist?baz") called at /home/cpan/bin/perl/lib/site_perl/5.43.4/WWW/Mechanize.pm line 136
	WWW::Mechanize::post(Test::WWW::Mechanize::PSGI=HASH(0x2650b38b5150), "/wishlist?baz") called at t/03_mech.t line 87
Do not use HTTP::Session2::ClientStore. Use HTTP::Session2::ServerStore or HTTP::Session2::ClientStore2 instead. at /home/cpan/.cpan/build/HTTP-Session2-1.10-0/blib/lib/HTTP/Session2/ClientStore.pm line 35.
Secret string too short at /home/cpan/.cpan/build/HTTP-Session2-1.10-0/blib/lib/HTTP/Session2/Base.pm line 79.
	HTTP::Session2::Base::__ANON__(HTTP::Session2::ClientStore=HASH(0x2650b3a10c90), "s3cret") called at t/03_mech.t line 127
	main::client_session(HASH(0x2650b39fda68)) called at t/03_mech.t line 17
	main::__ANON__(HASH(0x2650b39fda68)) called at /home/cpan/bin/perl/lib/site_perl/5.43.4/Test/WWW/Mechanize/PSGI.pm line 46
	Test::WWW::Mechanize::PSGI::try {...} () called at /home/cpan/bin/perl/lib/site_perl/5.43.4/Try/Tiny.pm line 102
	eval {...} called at /home/cpan/bin/perl/lib/site_perl/5.43.4/Try/Tiny.pm line 93
	Try::Tiny::try(CODE(0x2650b380bea0), Try::Tiny::Catch=REF(0x2650b3a108a0)) called at /home/cpan/bin/perl/lib/site_perl/5.43.4/Test/WWW/Mechanize/PSGI.pm line 53
	Test::WWW::Mechanize::PSGI::simple_request(Test::WWW::Mechanize::PSGI=HASH(0x2650b38b5150), HTTP::Request=HASH(0x2650b39fd480), undef, undef) called at /home/cpan/bin/perl/lib/site_perl/5.43.4/LWP/UserAgent.pm line 310
	LWP::UserAgent::request(Test::WWW::Mechanize::PSGI=HASH(0x2650b38b5150), HTTP::Request=HASH(0x2650b39fd480)) called at /home/cpan/bin/perl/lib/site_perl/5.43.4/WWW/Mechanize.pm line 1699
	WWW::Mechanize::_make_request(Test::WWW::Mechanize::PSGI=HASH(0x2650b38b5150), HTTP::Request=HASH(0x2650b39fd480)) called at /home/cpan/bin/perl/lib/site_perl/5.43.4/WWW/Mechanize.pm line 1534
	WWW::Mechanize::request(Test::WWW::Mechanize::PSGI=HASH(0x2650b38b5150), HTTP::Request=HASH(0x2650b39fd480)) called at /home/cpan/bin/perl/lib/site_perl/5.43.4/LWP/UserAgent.pm line 500
	LWP::UserAgent::post(Test::WWW::Mechanize::PSGI=HASH(0x2650b38b5150), "http://localhost/wishlist?baz", HASH(0x2650b344c9a8)) called at /home/cpan/bin/perl/lib/site_perl/5.43.4/WWW/Mechanize.pm line 136
	WWW::Mechanize::post(Test::WWW::Mechanize::PSGI=HASH(0x2650b38b5150), "/wishlist?baz", HASH(0x2650b344c9a8)) called at /home/cpan/bin/perl/lib/site_perl/5.43.4/Test/WWW/Mechanize.pm line 321
	Test::WWW::Mechanize::post_ok(Test::WWW::Mechanize::PSGI=HASH(0x2650b38b5150), "/wishlist?baz") called at t/03_mech.t line 90
Do not use HTTP::Session2::ClientStore. Use HTTP::Session2::ServerStore or HTTP::Session2::ClientStore2 instead. at /home/cpan/.cpan/build/HTTP-Session2-1.10-0/blib/lib/HTTP/Session2/ClientStore.pm line 35.
Do not use HTTP::Session2::ClientStore. Use HTTP::Session2::ServerStore or HTTP::Session2::ClientStore2 instead. at /home/cpan/.cpan/build/HTTP-Session2-1.10-0/blib/lib/HTTP/Session2/ClientStore.pm line 25.
Secret string too short at /home/cpan/.cpan/build/HTTP-Session2-1.10-0/blib/lib/HTTP/Session2/Base.pm line 79.
	HTTP::Session2::Base::__ANON__(HTTP::Session2::ClientStore=HASH(0x2650b37b4840), "s3cret") called at t/03_mech.t line 127
	main::client_session(HASH(0x2650b37b4270)) called at t/03_mech.t line 17
	main::__ANON__(HASH(0x2650b37b4270)) called at /home/cpan/bin/perl/lib/site_perl/5.43.4/Test/WWW/Mechanize/PSGI.pm line 46
	Test::WWW::Mechanize::PSGI::try {...} () called at /home/cpan/bin/perl/lib/site_perl/5.43.4/Try/Tiny.pm line 102
	eval {...} called at /home/cpan/bin/perl/lib/site_perl/5.43.4/Try/Tiny.pm line 93
	Try::Tiny::try(CODE(0x2650b3a109a8), Try::Tiny::Catch=REF(0x2650b3837168)) called at /home/cpan/bin/perl/lib/site_perl/5.43.4/Test/WWW/Mechanize/PSGI.pm line 53
	Test::WWW::Mechanize::PSGI::simple_request(Test::WWW::Mechanize::PSGI=HASH(0x2650b38b5150), HTTP::Request=HASH(0x2650b3837030), undef, undef) called at /home/cpan/bin/perl/lib/site_perl/5.43.4/LWP/UserAgent.pm line 310
	LWP::UserAgent::request(Test::WWW::Mechanize::PSGI=HASH(0x2650b38b5150), HTTP::Request=HASH(0x2650b3837030)) called at /home/cpan/bin/perl/lib/site_perl/5.43.4/WWW/Mechanize.pm line 1699
	WWW::Mechanize::_make_request(Test::WWW::Mechanize::PSGI=HASH(0x2650b38b5150), HTTP::Request=HASH(0x2650b3837030)) called at /home/cpan/bin/perl/lib/site_perl/5.43.4/WWW/Mechanize.pm line 1534
	WWW::Mechanize::request(Test::WWW::Mechanize::PSGI=HASH(0x2650b38b5150), HTTP::Request=HASH(0x2650b3837030)) called at /home/cpan/bin/perl/lib/site_perl/5.43.4/LWP/UserAgent.pm line 454
	LWP::UserAgent::get(Test::WWW::Mechanize::PSGI=HASH(0x2650b38b5150), "http://localhost/wishlist") called at /home/cpan/bin/perl/lib/site_perl/5.43.4/WWW/Mechanize.pm line 124
	WWW::Mechanize::get(Test::WWW::Mechanize::PSGI=HASH(0x2650b38b5150), "/wishlist") called at /home/cpan/bin/perl/lib/site_perl/5.43.4/Test/WWW/Mechanize.pm line 192
	Test::WWW::Mechanize::get_ok(Test::WWW::Mechanize::PSGI=HASH(0x2650b38b5150), "/wishlist", "Wishlist is still available") called at t/03_mech.t line 91
Do not use HTTP::Session2::ClientStore. Use HTTP::Session2::ServerStore or HTTP::Session2::ClientStore2 instead. at /home/cpan/.cpan/build/HTTP-Session2-1.10-0/blib/lib/HTTP/Session2/ClientStore.pm line 35.
Secret string too short at /home/cpan/.cpan/build/HTTP-Session2-1.10-0/blib/lib/HTTP/Session2/Base.pm line 79.
	HTTP::Session2::Base::__ANON__(HTTP::Session2::ClientStore=HASH(0x2650b37b4e70), "s3cret") called at t/03_mech.t line 127
	main::client_session(HASH(0x2650b39c1180)) called at t/03_mech.t line 17
	main::__ANON__(HASH(0x2650b39c1180)) called at /home/cpan/bin/perl/lib/site_perl/5.43.4/Test/WWW/Mechanize/PSGI.pm line 46
	Test::WWW::Mechanize::PSGI::try {...} () called at /home/cpan/bin/perl/lib/site_perl/5.43.4/Try/Tiny.pm line 102
	eval {...} called at /home/cpan/bin/perl/lib/site_perl/5.43.4/Try/Tiny.pm line 93
	Try::Tiny::try(CODE(0x2650b37b4888), Try::Tiny::Catch=REF(0x2650b39c1048)) called at /home/cpan/bin/perl/lib/site_perl/5.43.4/Test/WWW/Mechanize/PSGI.pm line 53
	Test::WWW::Mechanize::PSGI::simple_request(Test::WWW::Mechanize::PSGI=HASH(0x2650b38b5150), HTTP::Request=HASH(0x2650b3837138), undef, undef) called at /home/cpan/bin/perl/lib/site_perl/5.43.4/LWP/UserAgent.pm line 310
	LWP::UserAgent::request(Test::WWW::Mechanize::PSGI=HASH(0x2650b38b5150), HTTP::Request=HASH(0x2650b3837138)) called at /home/cpan/bin/perl/lib/site_perl/5.43.4/WWW/Mechanize.pm line 1699
	WWW::Mechanize::_make_request(Test::WWW::Mechanize::PSGI=HASH(0x2650b38b5150), HTTP::Request=HASH(0x2650b3837138)) called at /home/cpan/bin/perl/lib/site_perl/5.43.4/WWW/Mechanize.pm line 1534
	WWW::Mechanize::request(Test::WWW::Mechanize::PSGI=HASH(0x2650b38b5150), HTTP::Request=HASH(0x2650b3837138)) called at /home/cpan/bin/perl/lib/site_perl/5.43.4/LWP/UserAgent.pm line 454
	LWP::UserAgent::get(Test::WWW::Mechanize::PSGI=HASH(0x2650b38b5150), "http://localhost/my/name") called at /home/cpan/bin/perl/lib/site_perl/5.43.4/WWW/Mechanize.pm line 124
	WWW::Mechanize::get(Test::WWW::Mechanize::PSGI=HASH(0x2650b38b5150), "/my/name") called at /home/cpan/bin/perl/lib/site_perl/5.43.4/Test/WWW/Mechanize.pm line 192
	Test::WWW::Mechanize::get_ok(Test::WWW::Mechanize::PSGI=HASH(0x2650b38b5150), "/my/name") called at t/03_mech.t line 93
Do not use HTTP::Session2::ClientStore. Use HTTP::Session2::ServerStore or HTTP::Session2::ClientStore2 instead. at /home/cpan/.cpan/build/HTTP-Session2-1.10-0/blib/lib/HTTP/Session2/ClientStore.pm line 35.
Secret string too short at /home/cpan/.cpan/build/HTTP-Session2-1.10-0/blib/lib/HTTP/Session2/Base.pm line 79.
	HTTP::Session2::Base::__ANON__(HTTP::Session2::ClientStore=HASH(0x2650b37b4b10), "s3cret") called at t/03_mech.t line 127
	main::client_session(HASH(0x2650b39c1810)) called at t/03_mech.t line 17
	main::__ANON__(HASH(0x2650b39c1810)) called at /home/cpan/bin/perl/lib/site_perl/5.43.4/Test/WWW/Mechanize/PSGI.pm line 46
	Test::WWW::Mechanize::PSGI::try {...} () called at /home/cpan/bin/perl/lib/site_perl/5.43.4/Try/Tiny.pm line 102
	eval {...} called at /home/cpan/bin/perl/lib/site_perl/5.43.4/Try/Tiny.pm line 93
	Try::Tiny::try(CODE(0x2650b39c1648), Try::Tiny::Catch=REF(0x2650b39c1240)) called at /home/cpan/bin/perl/lib/site_perl/5.43.4/Test/WWW/Mechanize/PSGI.pm line 53
	Test::WWW::Mechanize::PSGI::simple_request(Test::WWW::Mechanize::PSGI=HASH(0x2650b38b5150), HTTP::Request=HASH(0x2650b37b49f0), undef, undef) called at /home/cpan/bin/perl/lib/site_perl/5.43.4/LWP/UserAgent.pm line 310
	LWP::UserAgent::request(Test::WWW::Mechanize::PSGI=HASH(0x2650b38b5150), HTTP::Request=HASH(0x2650b37b49f0)) called at /home/cpan/bin/perl/lib/site_perl/5.43.4/WWW/Mechanize.pm line 1699
	WWW::Mechanize::_make_request(Test::WWW::Mechanize::PSGI=HASH(0x2650b38b5150), HTTP::Request=HASH(0x2650b37b49f0)) called at /home/cpan/bin/perl/lib/site_perl/5.43.4/WWW/Mechanize.pm line 1534
	WWW::Mechanize::request(Test::WWW::Mechanize::PSGI=HASH(0x2650b38b5150), HTTP::Request=HASH(0x2650b37b49f0)) called at /home/cpan/bin/perl/lib/site_perl/5.43.4/LWP/UserAgent.pm line 500
	LWP::UserAgent::post(Test::WWW::Mechanize::PSGI=HASH(0x2650b38b5150), "http://localhost/account/logout?john") called at /home/cpan/bin/perl/lib/site_perl/5.43.4/WWW/Mechanize.pm line 136
	WWW::Mechanize::post(Test::WWW::Mechanize::PSGI=HASH(0x2650b38b5150), "/account/logout?john") called at t/03_mech.t line 97
Do not use HTTP::Session2::ClientStore. Use HTTP::Session2::ServerStore or HTTP::Session2::ClientStore2 instead. at /home/cpan/.cpan/build/HTTP-Session2-1.10-0/blib/lib/HTTP/Session2/ClientStore.pm line 35.
Do not use HTTP::Session2::ClientStore. Use HTTP::Session2::ServerStore or HTTP::Session2::ClientStore2 instead. at /home/cpan/.cpan/build/HTTP-Session2-1.10-0/blib/lib/HTTP/Session2/ClientStore.pm line 35.
t/03_mech.t ................. ok
Do not use HTTP::Session2::ClientStore. Use HTTP::Session2::ServerStore or HTTP::Session2::ClientStore2 instead. at /home/cpan/.cpan/build/HTTP-Session2-1.10-0/blib/lib/HTTP/Session2/ClientStore.pm line 25.
t/04_plack_response.t ....... ok
Secret string too short at /home/cpan/.cpan/build/HTTP-Session2-1.10-0/blib/lib/HTTP/Session2/Base.pm line 79.
	HTTP::Session2::Base::__ANON__(HTTP::Session2::ClientStore=HASH(0x21564e277618), "s3cret") called at t/05_keep_me_signed_in.t line 20
Do not use HTTP::Session2::ClientStore. Use HTTP::Session2::ServerStore or HTTP::Session2::ClientStore2 instead. at /home/cpan/.cpan/build/HTTP-Session2-1.10-0/blib/lib/HTTP/Session2/ClientStore.pm line 25.
t/05_keep_me_signed_in.t .... ok
Secret string too short at /home/cpan/.cpan/build/HTTP-Session2-1.10-0/blib/lib/HTTP/Session2/Base.pm line 79.
	HTTP::Session2::Base::__ANON__(HTTP::Session2::Base=HASH(0x87cfea73f90), "i am secret") called at t/06_base_abstract.t line 7
t/06_base_abstract.t ........ ok
Secret string too short at /home/cpan/.cpan/build/HTTP-Session2-1.10-0/blib/lib/HTTP/Session2/Base.pm line 79.
	HTTP::Session2::Base::__ANON__(HTTP::Session2::ClientStore=HASH(0x30a9c8972e40), "secret") called at t/07_client_store.t line 23
	main::__ANON__() called at /home/cpan/bin/perl/lib/5.43.4/Test/Builder.pm line 368
	eval {...} called at /home/cpan/bin/perl/lib/5.43.4/Test/Builder.pm line 368
	Test::Builder::subtest(Test::Builder=HASH(0x30a9c74a9a08), "get/set/remove", CODE(0x30a9c8478bb8)) called at /home/cpan/bin/perl/lib/5.43.4/Test/More.pm line 831
	Test::More::subtest("get/set/remove", CODE(0x30a9c8478bb8)) called at t/07_client_store.t line 31
Secret string too short at /home/cpan/.cpan/build/HTTP-Session2-1.10-0/blib/lib/HTTP/Session2/Base.pm line 79.
	HTTP::Session2::Base::__ANON__(HTTP::Session2::ClientStore=HASH(0x30a9c8972828), "secret") called at t/07_client_store.t line 35
	main::__ANON__() called at /home/cpan/bin/perl/lib/5.43.4/Test/Builder.pm line 368
	eval {...} called at /home/cpan/bin/perl/lib/5.43.4/Test/Builder.pm line 368
	Test::Builder::subtest(Test::Builder=HASH(0x30a9c74a9a08), "validate_token", CODE(0x30a9c84789f0)) called at /home/cpan/bin/perl/lib/5.43.4/Test/More.pm line 831
	Test::More::subtest("validate_token", CODE(0x30a9c84789f0)) called at t/07_client_store.t line 71
Do not use HTTP::Session2::ClientStore. Use HTTP::Session2::ServerStore or HTTP::Session2::ClientStore2 instead. at /home/cpan/.cpan/build/HTTP-Session2-1.10-0/blib/lib/HTTP/Session2/ClientStore.pm line 25.
Secret string too short at /home/cpan/.cpan/build/HTTP-Session2-1.10-0/blib/lib/HTTP/Session2/Base.pm line 79.
	HTTP::Session2::Base::__ANON__(HTTP::Session2::ClientStore=HASH(0x30a9c8976d80), "secret") called at t/07_client_store.t line 51
	main::__ANON__() called at /home/cpan/bin/perl/lib/5.43.4/Test/Builder.pm line 368
	eval {...} called at /home/cpan/bin/perl/lib/5.43.4/Test/Builder.pm line 368
	Test::Builder::subtest(Test::Builder=HASH(0x30a9c74a9a08), "bad", CODE(0x30a9c8976570)) called at /home/cpan/bin/perl/lib/5.43.4/Test/More.pm line 831
	Test::More::subtest("bad", CODE(0x30a9c8976570)) called at t/07_client_store.t line 57
	main::__ANON__() called at /home/cpan/bin/perl/lib/5.43.4/Test/Builder.pm line 368
	eval {...} called at /home/cpan/bin/perl/lib/5.43.4/Test/Builder.pm line 368
	Test::Builder::subtest(Test::Builder=HASH(0x30a9c74a9a08), "validate_token", CODE(0x30a9c84789f0)) called at /home/cpan/bin/perl/lib/5.43.4/Test/More.pm line 831
	Test::More::subtest("validate_token", CODE(0x30a9c84789f0)) called at t/07_client_store.t line 71
Do not use HTTP::Session2::ClientStore. Use HTTP::Session2::ServerStore or HTTP::Session2::ClientStore2 instead. at /home/cpan/.cpan/build/HTTP-Session2-1.10-0/blib/lib/HTTP/Session2/ClientStore.pm line 35.
Secret string too short at /home/cpan/.cpan/build/HTTP-Session2-1.10-0/blib/lib/HTTP/Session2/Base.pm line 79.
	HTTP::Session2::Base::__ANON__(HTTP::Session2::ClientStore=HASH(0x30a9c7c39120), "secret") called at t/07_client_store.t line 65
	main::__ANON__() called at /home/cpan/bin/perl/lib/5.43.4/Test/Builder.pm line 368
	eval {...} called at /home/cpan/bin/perl/lib/5.43.4/Test/Builder.pm line 368
	Test::Builder::subtest(Test::Builder=HASH(0x30a9c74a9a08), "good", CODE(0x30a9c8976570)) called at /home/cpan/bin/perl/lib/5.43.4/Test/More.pm line 831
	Test::More::subtest("good", CODE(0x30a9c8976570)) called at t/07_client_store.t line 70
	main::__ANON__() called at /home/cpan/bin/perl/lib/5.43.4/Test/Builder.pm line 368
	eval {...} called at /home/cpan/bin/perl/lib/5.43.4/Test/Builder.pm line 368
	Test::Builder::subtest(Test::Builder=HASH(0x30a9c74a9a08), "validate_token", CODE(0x30a9c84789f0)) called at /home/cpan/bin/perl/lib/5.43.4/Test/More.pm line 831
	Test::More::subtest("validate_token", CODE(0x30a9c84789f0)) called at t/07_client_store.t line 71
Do not use HTTP::Session2::ClientStore. Use HTTP::Session2::ServerStore or HTTP::Session2::ClientStore2 instead. at /home/cpan/.cpan/build/HTTP-Session2-1.10-0/blib/lib/HTTP/Session2/ClientStore.pm line 35.
Secret string too short at /home/cpan/.cpan/build/HTTP-Session2-1.10-0/blib/lib/HTTP/Session2/Base.pm line 79.
	HTTP::Session2::Base::__ANON__(HTTP::Session2::ClientStore=HASH(0x30a9c8972930), "secret") called at t/07_client_store.t line 76
	main::__ANON__() called at /home/cpan/bin/perl/lib/5.43.4/Test/Builder.pm line 368
	eval {...} called at /home/cpan/bin/perl/lib/5.43.4/Test/Builder.pm line 368
	Test::Builder::subtest(Test::Builder=HASH(0x30a9c74a9a08), "ignore_old", CODE(0x30a9c8970240)) called at /home/cpan/bin/perl/lib/5.43.4/Test/More.pm line 831
	Test::More::subtest("ignore_old", CODE(0x30a9c8970240)) called at t/07_client_store.t line 106
Do not use HTTP::Session2::ClientStore. Use HTTP::Session2::ServerStore or HTTP::Session2::ClientStore2 instead. at /home/cpan/.cpan/build/HTTP-Session2-1.10-0/blib/lib/HTTP/Session2/ClientStore.pm line 25.
Secret string too short at /home/cpan/.cpan/build/HTTP-Session2-1.10-0/blib/lib/HTTP/Session2/Base.pm line 79.
	HTTP::Session2::Base::__ANON__(HTTP::Session2::ClientStore=HASH(0x30a9c8993e58), "secret") called at t/07_client_store.t line 87
	main::__ANON__() called at /home/cpan/bin/perl/lib/5.43.4/Test/Builder.pm line 368
	eval {...} called at /home/cpan/bin/perl/lib/5.43.4/Test/Builder.pm line 368
	Test::Builder::subtest(Test::Builder=HASH(0x30a9c74a9a08), "ignore_old disabled", CODE(0x30a9c8993dc8)) called at /home/cpan/bin/perl/lib/5.43.4/Test/More.pm line 831
	Test::More::subtest("ignore_old disabled", CODE(0x30a9c8993dc8)) called at t/07_client_store.t line 95
	main::__ANON__() called at /home/cpan/bin/perl/lib/5.43.4/Test/Builder.pm line 368
	eval {...} called at /home/cpan/bin/perl/lib/5.43.4/Test/Builder.pm line 368
	Test::Builder::subtest(Test::Builder=HASH(0x30a9c74a9a08), "ignore_old", CODE(0x30a9c8970240)) called at /home/cpan/bin/perl/lib/5.43.4/Test/More.pm line 831
	Test::More::subtest("ignore_old", CODE(0x30a9c8970240)) called at t/07_client_store.t line 106
Do not use HTTP::Session2::ClientStore. Use HTTP::Session2::ServerStore or HTTP::Session2::ClientStore2 instead. at /home/cpan/.cpan/build/HTTP-Session2-1.10-0/blib/lib/HTTP/Session2/ClientStore.pm line 35.
Secret string too short at /home/cpan/.cpan/build/HTTP-Session2-1.10-0/blib/lib/HTTP/Session2/Base.pm line 79.
	HTTP::Session2::Base::__ANON__(HTTP::Session2::ClientStore=HASH(0x30a9c8995180), "secret") called at t/07_client_store.t line 97
	main::__ANON__() called at /home/cpan/bin/perl/lib/5.43.4/Test/Builder.pm line 368
	eval {...} called at /home/cpan/bin/perl/lib/5.43.4/Test/Builder.pm line 368
	Test::Builder::subtest(Test::Builder=HASH(0x30a9c74a9a08), "ignore_old enabled", CODE(0x30a9c8993dc8)) called at /home/cpan/bin/perl/lib/5.43.4/Test/More.pm line 831
	Test::More::subtest("ignore_old enabled", CODE(0x30a9c8993dc8)) called at t/07_client_store.t line 105
	main::__ANON__() called at /home/cpan/bin/perl/lib/5.43.4/Test/Builder.pm line 368
	eval {...} called at /home/cpan/bin/perl/lib/5.43.4/Test/Builder.pm line 368
	Test::Builder::subtest(Test::Builder=HASH(0x30a9c74a9a08), "ignore_old", CODE(0x30a9c8970240)) called at /home/cpan/bin/perl/lib/5.43.4/Test/More.pm line 831
	Test::More::subtest("ignore_old", CODE(0x30a9c8970240)) called at t/07_client_store.t line 106
t/07_client_store.t ......... ok
Secret string too short at /home/cpan/.cpan/build/HTTP-Session2-1.10-0/blib/lib/HTTP/Session2/Base.pm line 79.
	HTTP::Session2::Base::__ANON__(HTTP::Session2::Expired=HASH(0x2ea824277780), 33333) called at t/08_expired.t line 7
t/08_expired.t .............. ok
# /dev/urandom available
# /dev/urandom(1): Xf29FQu4U41GEpUfQuaupGzjtgdVt9D
# /dev/urandom(2): Sa49CBOrGju6OV6tKoMiiMwiwl0HXkO
# perl:            93a24f1a44fa7a8ad1a037545de4480
t/09_random.t ............... ok
t/11_secret_string.t ........ ok
Secret string too short at /home/cpan/.cpan/build/HTTP-Session2-1.10-0/blib/lib/HTTP/Session2/Base.pm line 79.
	HTTP::Session2::Base::__ANON__(HTTP::Session2::ClientStore2=HASH(0x3797f8bfe930), "s3cret") called at t/client_store2/01_basic.t line 24
	main::__ANON__("client -> server: request without cookie", CODE(0x3797f8bfcfa8)) called at t/client_store2/01_basic.t line 30
	main::__ANON__() called at /home/cpan/bin/perl/lib/5.43.4/Test/Builder.pm line 368
	eval {...} called at /home/cpan/bin/perl/lib/5.43.4/Test/Builder.pm line 368
	Test::Builder::subtest(Test::Builder=HASH(0x3797f7aa9a38), "First request", CODE(0x3797f7a266d8)) called at /home/cpan/bin/perl/lib/5.43.4/Test/More.pm line 831
	Test::More::subtest("First request", CODE(0x3797f7a266d8)) called at t/client_store2/01_basic.t line 9
	main::scenario("First request", CODE(0x3797f7a266d8)) called at t/client_store2/01_basic.t line 36
Secret string too short at /home/cpan/.cpan/build/HTTP-Session2-1.10-0/blib/lib/HTTP/Session2/Base.pm line 79.
	HTTP::Session2::Base::__ANON__(HTTP::Session2::ClientStore2=HASH(0x3797f8bfcc30), "s3cret") called at t/client_store2/01_basic.t line 41
	main::__ANON__("client -> server: request without cookie", CODE(0x3797f8c224e0)) called at t/client_store2/01_basic.t line 47
	main::__ANON__() called at /home/cpan/bin/perl/lib/5.43.4/Test/Builder.pm line 368
	eval {...} called at /home/cpan/bin/perl/lib/5.43.4/Test/Builder.pm line 368
	Test::Builder::subtest(Test::Builder=HASH(0x3797f7aa9a38), "Store something without login", CODE(0x3797f7a266d8)) called at /home/cpan/bin/perl/lib/5.43.4/Test/More.pm line 831
	Test::More::subtest("Store something without login", CODE(0x3797f7a266d8)) called at t/client_store2/01_basic.t line 9
	main::scenario("Store something without login", CODE(0x3797f7a266d8)) called at t/client_store2/01_basic.t line 63
WARNING: The key derivation method "opensslv1" is deprecated. Using -pbkdf=>'pbkdf2' would be better.
Pass -nodeprecate=>1 to inhibit this message.
 at /home/cpan/.cpan/build/HTTP-Session2-1.10-0/blib/lib/HTTP/Session2/ClientStore2.pm line 177.
Secret string too short at /home/cpan/.cpan/build/HTTP-Session2-1.10-0/blib/lib/HTTP/Session2/Base.pm line 79.
	HTTP::Session2::Base::__ANON__(HTTP::Session2::ClientStore2=HASH(0x3797f8c270a8), "s3cret") called at t/client_store2/01_basic.t line 69
	main::__ANON__("client -> server: request without cookie", CODE(0x3797f8c23318)) called at t/client_store2/01_basic.t line 76
	main::__ANON__() called at /home/cpan/bin/perl/lib/5.43.4/Test/Builder.pm line 368
	eval {...} called at /home/cpan/bin/perl/lib/5.43.4/Test/Builder.pm line 368
	Test::Builder::subtest(Test::Builder=HASH(0x3797f7aa9a38), "Login", CODE(0x3797f7a266d8)) called at /home/cpan/bin/perl/lib/5.43.4/Test/More.pm line 831
	Test::More::subtest("Login", CODE(0x3797f7a266d8)) called at t/client_store2/01_basic.t line 9
	main::scenario("Login", CODE(0x3797f7a266d8)) called at t/client_store2/01_basic.t line 96
Ciphertext does not begin with a valid header for 'salt' header mode at /home/cpan/.cpan/build/HTTP-Session2-1.10-0/blib/lib/HTTP/Session2/ClientStore2.pm line 81.
Ciphertext does not begin with a valid header for 'salt' header mode at /home/cpan/.cpan/build/HTTP-Session2-1.10-0/blib/lib/HTTP/Session2/ClientStore2.pm line 81.
WARNING: The key derivation method "opensslv1" is deprecated. Using -pbkdf=>'pbkdf2' would be better.
Pass -nodeprecate=>1 to inhibit this message.
 at /home/cpan/.cpan/build/HTTP-Session2-1.10-0/blib/lib/HTTP/Session2/ClientStore2.pm line 177.
Secret string too short at /home/cpan/.cpan/build/HTTP-Session2-1.10-0/blib/lib/HTTP/Session2/Base.pm line 79.
	HTTP::Session2::Base::__ANON__(HTTP::Session2::ClientStore2=HASH(0x3797f8c22bb8), "s3cret") called at t/client_store2/01_basic.t line 102
	main::__ANON__("client -> server: request without cookie", CODE(0x3797f8ada8e8)) called at t/client_store2/01_basic.t line 109
	main::__ANON__() called at /home/cpan/bin/perl/lib/5.43.4/Test/Builder.pm line 368
	eval {...} called at /home/cpan/bin/perl/lib/5.43.4/Test/Builder.pm line 368
	Test::Builder::subtest(Test::Builder=HASH(0x3797f7aa9a38), "In a login session", CODE(0x3797f7a266d8)) called at /home/cpan/bin/perl/lib/5.43.4/Test/More.pm line 831
	Test::More::subtest("In a login session", CODE(0x3797f7a266d8)) called at t/client_store2/01_basic.t line 9
	main::scenario("In a login session", CODE(0x3797f7a266d8)) called at t/client_store2/01_basic.t line 118
Ciphertext does not begin with a valid header for 'salt' header mode at /home/cpan/.cpan/build/HTTP-Session2-1.10-0/blib/lib/HTTP/Session2/ClientStore2.pm line 81.
WARNING: The key derivation method "opensslv1" is deprecated. Using -pbkdf=>'pbkdf2' would be better.
Pass -nodeprecate=>1 to inhibit this message.
 at /home/cpan/.cpan/build/HTTP-Session2-1.10-0/blib/lib/HTTP/Session2/ClientStore2.pm line 177.
Secret string too short at /home/cpan/.cpan/build/HTTP-Session2-1.10-0/blib/lib/HTTP/Session2/Base.pm line 79.
	HTTP::Session2::Base::__ANON__(HTTP::Session2::ClientStore2=HASH(0x3797f8bf9f60), "s3cret") called at t/client_store2/01_basic.t line 123
	main::__ANON__("client -> server: request without cookie", CODE(0x3797f8adaed0)) called at t/client_store2/01_basic.t line 130
	main::__ANON__() called at /home/cpan/bin/perl/lib/5.43.4/Test/Builder.pm line 368
	eval {...} called at /home/cpan/bin/perl/lib/5.43.4/Test/Builder.pm line 368
	Test::Builder::subtest(Test::Builder=HASH(0x3797f7aa9a38), "Logout", CODE(0x3797f7a266d8)) called at /home/cpan/bin/perl/lib/5.43.4/Test/More.pm line 831
	Test::More::subtest("Logout", CODE(0x3797f7a266d8)) called at t/client_store2/01_basic.t line 9
	main::scenario("Logout", CODE(0x3797f7a266d8)) called at t/client_store2/01_basic.t line 143
Ciphertext does not begin with a valid header for 'salt' header mode at /home/cpan/.cpan/build/HTTP-Session2-1.10-0/blib/lib/HTTP/Session2/ClientStore2.pm line 81.
t/client_store2/01_basic.t .. ok
WARNING: The key derivation method "opensslv1" is deprecated. Using -pbkdf=>'pbkdf2' would be better.
Pass -nodeprecate=>1 to inhibit this message.
 at /home/cpan/.cpan/build/HTTP-Session2-1.10-0/blib/lib/HTTP/Session2/ClientStore2.pm line 177.
WARNING: The key derivation method "opensslv1" is deprecated. Using -pbkdf=>'pbkdf2' would be better.
Pass -nodeprecate=>1 to inhibit this message.
 at /home/cpan/.cpan/build/HTTP-Session2-1.10-0/blib/lib/HTTP/Session2/ClientStore2.pm line 177.
WARNING: The key derivation method "opensslv1" is deprecated. Using -pbkdf=>'pbkdf2' would be better.
Pass -nodeprecate=>1 to inhibit this message.
 at /home/cpan/.cpan/build/HTTP-Session2-1.10-0/blib/lib/HTTP/Session2/ClientStore2.pm line 177.
t/client_store2/02_mech.t ... ok
WARNING: The key derivation method "opensslv1" is deprecated. Using -pbkdf=>'pbkdf2' would be better.
Pass -nodeprecate=>1 to inhibit this message.
 at /home/cpan/.cpan/build/HTTP-Session2-1.10-0/blib/lib/HTTP/Session2/ClientStore2.pm line 177.
t/client_store2/03_colon.t .. ok
All tests successful.
Files=14, Tests=84,  1 wallclock secs ( 0.04 usr  0.01 sys +  0.97 cusr  0.18 csys =  1.20 CPU)
Result: PASS

------------------------------
PREREQUISITES
------------------------------

Prerequisite modules loaded:

requires:

    Module                     Need     Have    
    -------------------------- -------- --------
    Cookie::Baker              0        0.12    
    Crypt::CBC                 0        3.07    
    Data::MessagePack          0        1.02    
    Digest::HMAC               0        1.05    
    Digest::SHA                0        6.04    
    Digest::SHA1               0        2.13    
    MIME::Base64               3.11     3.16_01 
    Mouse                      0        v2.5.11 
    parent                     0        0.244   
    perl                       5.008005 5.043004
    Time::HiRes                0        1.9779  

build_requires:

    Module                     Need     Have    
    -------------------------- -------- --------
    Crypt::Rijndael            0        1.16    
    Plack::Request             0        1.0051  
    Plack::Response            0        1.0051  
    Test::More                 0.98     1.302214
    Test::WWW::Mechanize::PSGI 0        0.39    

configure_requires:

    Module                     Need     Have    
    -------------------------- -------- --------
    Module::Build::Tiny        0.035    0.052   


------------------------------
ENVIRONMENT AND OTHER CONTEXT
------------------------------

Environment variables:

    AUTOMATED_TESTING = 1
    DATE_MANIP_TEST_DM5 = 1
    LANG = C.UTF-8
    LC_ALL = C
    NONINTERACTIVE_TESTING = 1
    NO_NETWORK_TESTING = 1
    PATH = /home/cpan/bin/perl/bin:/home/cpan/bin:/sbin:/bin:/usr/sbin:/usr/bin:/usr/local/sbin:/usr/local/bin:/home/cpan/bin
    PERL5LIB = 
    PERL5OPT = 
    PERL5_CPANPLUS_IS_RUNNING = 65340
    PERL5_CPAN_IS_RUNNING = 65340
    PERL_MM_USE_DEFAULT = 1
    PERL_PERTURB_KEYS = 0
    PERL_USE_UNSAFE_INC = 1
    SHELL = /usr/local/bin/bash
    TERM = screen
    TMPDIR = /home/cpan/tmp

Perl special variables (and OS-specific diagnostics, for MSWin32):

    $^X = /home/cpan/bin/perl/bin/perl5.43.4
    $UID/$EUID = 1002 / 1002
    $GID = 1002 1002
    $EGID = 1002 1002

Perl module toolchain versions installed:

    Module              Have    
    ------------------- --------
    CPAN                2.38    
    CPAN::Meta          2.150010
    Cwd                 3.94    
    ExtUtils::CBuilder  0.280242
    ExtUtils::Command   7.76    
    ExtUtils::Install   2.22    
    ExtUtils::MakeMaker 7.76    
    ExtUtils::Manifest  1.75    
    ExtUtils::ParseXS   3.60    
    File::Spec          3.94    
    JSON                4.10    
    JSON::PP            4.16    
    Module::Build       0.4234  
    Module::Signature   n/a     
    Parse::CPAN::Meta   2.150010
    Test2               1.302214
    Test::Harness       3.52    
    Test::More          1.302214
    YAML                1.31    
    YAML::Syck          1.34    
    version             0.9933  


--

Summary of my perl5 (revision 5 version 43 subversion 4) configuration:
  Commit id: 656be9b02104c697e200d5f5c6d6b9aebd1fb68a
  Platform:
    osname=freebsd
    osvers=14.3-release-p3
    archname=amd64-freebsd-thread-multi
    uname='freebsd cjg-freebsd14 14.3-release-p3 freebsd 14.3-release-p3 generic amd64 '
    config_args='-des -Dprefix=/home/cpan/bin/perl -Dscriptdir=/home/cpan/bin/perl/bin -Dusedevel -Duse64bitall -Duseithreads'
    hint=recommended
    useposix=true
    d_sigaction=define
    useithreads=define
    usemultiplicity=define
    use64bitint=define
    use64bitall=define
    uselongdouble=undef
    usemymalloc=n
    default_inc_excludes_dot=define
  Compiler:
    cc='cc'
    ccflags ='-DHAS_FPSETMASK -DHAS_FLOATINGPOINT_H -DNO_POSIX_2008_LOCALE -fno-strict-aliasing -pipe -fstack-protector-strong -I/usr/local/include'
    optimize='-O2'
    cppflags='-DHAS_FPSETMASK -DHAS_FLOATINGPOINT_H -DNO_POSIX_2008_LOCALE -fno-strict-aliasing -pipe -fstack-protector-strong -I/usr/local/include'
    ccversion=''
    gccversion='FreeBSD Clang 19.1.7 (https://github.com/llvm/llvm-project.git llvmorg-19.1.7-0-gcd708029e0b2)'
    gccosandvers=''
    intsize=4
    longsize=8
    ptrsize=8
    doublesize=8
    byteorder=12345678
    doublekind=3
    d_longlong=define
    longlongsize=8
    d_longdbl=define
    longdblsize=16
    longdblkind=3
    ivtype='long'
    ivsize=8
    nvtype='double'
    nvsize=8
    Off_t='off_t'
    lseeksize=8
    alignbytes=8
    prototype=define
  Linker and Libraries:
    ld='cc'
    ldflags ='-pthread -Wl,-E  -fstack-protector-strong -L/usr/local/lib'
    libpth=/usr/lib /usr/local/lib /usr/lib/clang/19/lib
    libs=-lpthread -lgdbm -ldl -lm -lcrypt -lutil
    perllibs=-lpthread -ldl -lm -lcrypt -lutil
    libc=
    so=so
    useshrplib=false
    libperl=libperl.a
    gnulibc_version=''
  Dynamic Linking:
    dlsrc=dl_dlopen.xs
    dlext=so
    d_dlsymun=undef
    ccdlflags=' '
    cccdlflags='-DPIC -fPIC'
    lddlflags='-shared  -L/usr/local/lib -fstack-protector-strong'


Characteristics of this binary (from libperl): 
  Compile-time options:
    HAS_LONG_DOUBLE
    HAS_STRTOLD
    HAS_TIMES
    MULTIPLICITY
    PERLIO_LAYERS
    PERL_COPY_ON_WRITE
    PERL_DONT_CREATE_GVSV
    PERL_HASH_FUNC_SIPHASH13
    PERL_HASH_USE_SBOX32
    PERL_MALLOC_WRAP
    PERL_OP_PARENT
    PERL_PRESERVE_IVUV
    PERL_USE_DEVEL
    PERL_USE_SAFE_PUTENV
    USE_64_BIT_ALL
    USE_64_BIT_INT
    USE_ITHREADS
    USE_LARGE_FILES
    USE_LOCALE
    USE_LOCALE_COLLATE
    USE_LOCALE_CTYPE
    USE_LOCALE_NUMERIC
    USE_LOCALE_TIME
    USE_PERLIO
    USE_PERL_ATOF
    USE_REENTRANT_API
  Built under freebsd
  Compiled at Oct  7 2025 18:17:32
  %ENV:
    PERL5LIB=""
    PERL5OPT=""
    PERL5_CPANPLUS_IS_RUNNING="65340"
    PERL5_CPAN_IS_RUNNING="65340"
    PERL_MM_USE_DEFAULT="1"
    PERL_PERTURB_KEYS="0"
    PERL_USE_UNSAFE_INC="1"
  @INC:
    /home/cpan/bin/perl/lib/site_perl/5.43.4/amd64-freebsd-thread-multi
    /home/cpan/bin/perl/lib/site_perl/5.43.4
    /home/cpan/bin/perl/lib/5.43.4/amd64-freebsd-thread-multi
    /home/cpan/bin/perl/lib/5.43.4
    .