Bread-Board v0.37 Perl 5 v5.28.2 MSWin32-x64-multi-thread
- Status
- Pass
- From
- LNATION
- Dist
-
Bread-Board v0.37
- Platform
- Perl 5 v5.28.2 MSWin32-x64-multi-thread
- Date
- 2025-05-20 07:44:00
- ID
- 4af67c5b-6ea1-1014-a9bd-c36df5a017cd
This distribution has been tested as part of the CPAN Testers
project, supporting the Perl programming language. See
http://wiki.cpantesters.org/ for more information or email
questions to cpan-testers-discuss@perl.org
--
Dear Yanick Champoux,
This is a computer-generated report for Bread-Board-0.37
on perl 5.28.2, created by CPAN-Reporter-1.2020.
Thank you for uploading your work to CPAN. Congratulations!
All tests were successful.
Sections of this report:
* Tester comments
* Program output
* Prerequisites
* Environment and other context
------------------------------
TESTER COMMENTS
------------------------------
Additional comments from tester:
this report is from an automated smoke testing program
and was not reviewed by a human for accuracy
------------------------------
PROGRAM OUTPUT
------------------------------
Output from 'C:\STRAWB~1\c\bin\gmake.exe test':
"C:\Strawberry\perl\bin\perl.exe" "-MExtUtils::Command::MM" "-MTest::Harness" "-e" "undef *Test::Harness::Switches; test_harness(0, 'blib\lib', 'blib\arch')" t/*.t
t/00-compile.t ............................ ok
#
# Versions for all modules listed in MYMETA.json (including optional ones):
#
# === Configure Requires ===
#
# Module Want Have
# ------------------- ---- ----
# ExtUtils::MakeMaker any 7.74
#
# === Build Requires ===
#
# Module Want Have
# ------------------- ---- ----
# ExtUtils::MakeMaker any 7.74
#
# === Test Requires ===
#
# Module Want Have
# ------------------- ---- --------
# ExtUtils::MakeMaker any 7.74
# File::Spec any 3.75
# FindBin any 1.51
# IO::Handle any 1.55
# IPC::Open3 any 1.20
# Test::Fatal any 0.017
# Test::Moose any 2.2011
# Test::More any 1.302212
# Test::Requires any 0.10
#
# === Test Recommends ===
#
# Module Want Have
# ---------- -------- --------
# CPAN::Meta 2.120900 2.150010
#
# === Runtime Requires ===
#
# Module Want Have
# ---------------------------- ------ ------
# Carp any 1.50
# Module::Runtime any 0.016
# Moose any 2.2011
# Moose::Exporter 2.1200 2.2011
# Moose::Role any 2.2011
# Moose::Util any 2.2011
# Moose::Util::TypeConstraints any 2.2011
# MooseX::Clone 0.05 0.06
# MooseX::Params::Validate 0.14 0.21
# Scalar::Util any 1.69
# Try::Tiny any 0.32
# overload any 1.30
# strict any 1.11
# warnings any 1.42
#
t/00-report-prereqs.t ..................... ok
t/001_constructor_injection.t ............. ok
t/002_setter_injection.t .................. ok
t/003_block_injection.t ................... ok
t/004_block_injection_w_out_class.t ....... ok
t/005_alias.t ............................. ok
t/010_container.t ......................... ok
t/011_container_path.t .................... ok
t/012_container_with_shared_deps.t ........ ok
t/020_sugar.t ............................. ok
t/021_sugar.t ............................. ok
t/022_sugar.t ............................. ok
t/023_sugar.t ............................. ok
t/024_sugar.t ............................. ok
t/025_sugar_w_absolute_path.t ............. ok
t/026_sugar_remove.t ...................... ok
t/027_sugar_w_include.t ................... ok
t/028_sugar_w_recursive_inc.t ............. ok
t/029_sugar_auto_wire_names.t ............. ok
t/030_lifecycle_singleton.t ............... ok
t/031_custom_lifecycles.t ................. ok
t/032_singleton_cycle.t ................... ok
t/040_circular_dependencies.t ............. ok
t/041_parameter_cache_handling.t .......... ok
t/042_parameter_cache_with_singleton.t .... ok
t/043_parameter_leaks.t ................... ok
t/044_deferred_parameters.t ............... ok
t/045_parameters_in_dependency.t .......... ok
t/046_custom_parameter_service.t .......... ok
t/047_dependencies_override_parameters.t .. ok
t/048_array_deps.t ........................ ok
t/050_parameterized_containers.t .......... ok
t/051_more_parameterized_containers.t ..... ok
t/052_parameterized_in_hierarchy.t ........ ok
t/053_parameterized_clone.t ............... ok
t/054_parameterized_backref.t ............. ok
t/060_extend_w_sugar.t .................... ok
t/061_extends_w_sugar_and_inheritance.t ... ok
t/062_service_class_w_sugar.t ............. ok
t/070_with_basic_typemap.t ................ ok
t/071_typemap_with_basic_infer.t .......... ok
t/072_typemap_with_more_infer.t ........... ok
t/073_typemap_with_role_infer.t ........... ok
t/074_typemap_w_recursive_infer.t ......... ok
t/075_complex_typemap_example.t ........... ok
t/076_more_complex_typemap.t .............. ok
t/077_more_complex_typemap_w_roles.t ...... ok
t/078_complex_typemap_w_error.t ........... ok
t/079_depending_on_type.t ................. ok
t/080_infer_subclasses.t .................. ok
t/100_clone_w_constructor_injection.t ..... ok
t/101_clone_w_setter_injection.t .......... ok
t/102_clone_w_block_injection.t ........... ok
t/110_clone_w_singleton.t ................. ok
t/150_deferred_parameters_fail.t .......... ok
t/151_sugar_no_container.t ................ ok
t/152_sugar_service_inheritance.t ......... ok
t/153_sugar_container_inheritance.t ....... ok
t/200_example_code.t ...................... ok
t/201_log_dispatch_example.t .............. ok
t/202_form_sensible_example.t ............. skipped: Form::Sensible is broken at the moment
t/300_no_new.t ............................ ok
t/301_sugar.t ............................. ok
t/302_path_traversal_deprecation.t ........ ok
t/310_literal_keyword.t ................... ok
t/500-gh61.t .............................. ok
All tests successful.
Files=67, Tests=755, 61 wallclock secs ( 0.20 usr + 0.25 sys = 0.45 CPU)
Result: PASS
------------------------------
PREREQUISITES
------------------------------
Prerequisite modules loaded:
requires:
Module Need Have
---------------------------- -------- --------
Carp 0 1.50
Module::Runtime 0 0.016
Moose 0 2.2011
Moose::Exporter 2.1200 2.2011
Moose::Role 0 2.2011
Moose::Util 0 2.2011
Moose::Util::TypeConstraints 0 2.2011
MooseX::Clone 0.05 0.06
MooseX::Params::Validate 0.14 0.21
overload 0 1.30
perl 5.006 5.028002
Scalar::Util 0 1.69
strict 0 1.11
Try::Tiny 0 0.32
warnings 0 1.42
build_requires:
Module Need Have
---------------------------- -------- --------
ExtUtils::MakeMaker 0 7.74
File::Spec 0 3.75
FindBin 0 1.51
IO::Handle 0 1.55
IPC::Open3 0 1.20
Test::Fatal 0 0.017
Test::Moose 0 2.2011
Test::More 0 1.302212
Test::Requires 0 0.10
configure_requires:
Module Need Have
---------------------------- -------- --------
ExtUtils::MakeMaker 0 7.74
opt_build_requires:
Module Need Have
---------------------------- -------- --------
CPAN::Meta 2.120900 2.150010
------------------------------
ENVIRONMENT AND OTHER CONTEXT
------------------------------
Environment variables:
AUTOMATED_TESTING = 1
COMSPEC = C:\Windows\system32\cmd.exe
NUMBER_OF_PROCESSORS = 2
PATH = C:\Windows\system32;C:\Windows;C:\Windows\System32\Wbem;C:\Windows\System32\WindowsPowerShell\v1.0\;C:\Windows\System32\OpenSSH\;C:\Program Files\Amazon\cfn-bootstrap\;C:\Strawberry\c\bin;C:\Strawberry\perl\site\bin;C:\Strawberry\perl\bin;C:\Users\Administrator\AppData\Local\Microsoft\WindowsApps;C:\Users\Administrator\AppData\Local\Microsoft\WinGet\Links;
PERL5LIB =
PERL5OPT =
PERL5_CPANPLUS_IS_RUNNING = 2304
PERL5_CPAN_IS_RUNNING = 2304
PERL5_CPAN_IS_RUNNING_IN_RECURSION = 4368,2304
PERL_CR_SMOKER_CURRENT = Bread-Board-LazyLoader-0.14
PERL_EXTUTILS_AUTOINSTALL = --defaultdeps
PERL_MM_USE_DEFAULT = 1
PERL_USE_UNSAFE_INC = 1
PROCESSOR_IDENTIFIER = Intel64 Family 6 Model 85 Stepping 7, GenuineIntel
TEMP = C:\Users\ADMINI~1\AppData\Local\Temp\2
Perl special variables (and OS-specific diagnostics, for MSWin32):
$^X = C:\Strawberry\perl\bin\perl.exe
$UID/$EUID = 0 / 0
$GID = 0
$EGID = 0
Win32::GetOSName = Win10
Win32::GetOSVersion = , 10, 0, 26100, 2, 0, 0, 400, 3
Win32::FsType = NTFS
Win32::IsAdminUser = 1
Perl module toolchain versions installed:
Module Have
------------------- --------
CPAN 2.26
CPAN::Meta 2.150010
Cwd 3.75
ExtUtils::CBuilder 0.280236
ExtUtils::Command 7.74
ExtUtils::Install 2.14
ExtUtils::MakeMaker 7.74
ExtUtils::Manifest 1.75
ExtUtils::ParseXS 3.57
File::Spec 3.75
JSON 4.10
JSON::PP 4.16
Module::Build 0.4229
Module::Signature 0.89
Parse::CPAN::Meta 2.150010
Test2 1.302212
Test::Harness 3.52
Test::More 1.302212
YAML 1.28
YAML::Syck 1.34
version 0.9924
--
Summary of my perl5 (revision 5 version 28 subversion 2) configuration:
Platform:
osname=MSWin32
osvers=10.0.17763.437
archname=MSWin32-x64-multi-thread
uname='Win32 strawberry-perl 5.28.2.1 #1 Wed May 1 21:18:04 2019 x64'
config_args='undef'
hint=recommended
useposix=true
d_sigaction=undef
useithreads=define
usemultiplicity=define
use64bitint=define
use64bitall=undef
uselongdouble=undef
usemymalloc=n
default_inc_excludes_dot=define
bincompat5005=undef
Compiler:
cc='gcc'
ccflags =' -s -O2 -DWIN32 -DWIN64 -DCONSERVATIVE -D__USE_MINGW_ANSI_STDIO -DPERL_TEXTMODE_SCRIPTS -DPERL_IMPLICIT_CONTEXT -DPERL_IMPLICIT_SYS -DUSE_PERLIO -fwrapv -fno-strict-aliasing -mms-bitfields'
optimize='-s -O2'
cppflags='-DWIN32'
ccversion=''
gccversion='7.1.0'
gccosandvers=''
intsize=4
longsize=4
ptrsize=8
doublesize=8
byteorder=12345678
doublekind=3
d_longlong=define
longlongsize=8
d_longdbl=define
longdblsize=16
longdblkind=3
ivtype='long long'
ivsize=8
nvtype='double'
nvsize=8
Off_t='long long'
lseeksize=8
alignbytes=8
prototype=define
Linker and Libraries:
ld='g++'
ldflags ='-s -L"C:\STRAWB~1\perl\lib\CORE" -L"C:\STRAWB~1\c\lib"'
libpth=C:\STRAWB~1\c\lib C:\STRAWB~1\c\x86_64-w64-mingw32\lib C:\STRAWB~1\c\lib\gcc\x86_64-w64-mingw32\7.1.0
libs= -lmoldname -lkernel32 -luser32 -lgdi32 -lwinspool -lcomdlg32 -ladvapi32 -lshell32 -lole32 -loleaut32 -lnetapi32 -luuid -lws2_32 -lmpr -lwinmm -lversion -lodbc32 -lodbccp32 -lcomctl32
perllibs= -lmoldname -lkernel32 -luser32 -lgdi32 -lwinspool -lcomdlg32 -ladvapi32 -lshell32 -lole32 -loleaut32 -lnetapi32 -luuid -lws2_32 -lmpr -lwinmm -lversion -lodbc32 -lodbccp32 -lcomctl32
libc=
so=dll
useshrplib=true
libperl=libperl528.a
gnulibc_version=''
Dynamic Linking:
dlsrc=dl_win32.xs
dlext=xs.dll
d_dlsymun=undef
ccdlflags=' '
cccdlflags=' '
lddlflags='-mdll -s -L"C:\STRAWB~1\perl\lib\CORE" -L"C:\STRAWB~1\c\lib"'
Characteristics of this binary (from libperl):
Compile-time options:
HAS_TIMES
HAVE_INTERP_INTERN
MULTIPLICITY
PERLIO_LAYERS
PERL_COPY_ON_WRITE
PERL_DONT_CREATE_GVSV
PERL_IMPLICIT_CONTEXT
PERL_IMPLICIT_SYS
PERL_MALLOC_WRAP
PERL_OP_PARENT
PERL_PRESERVE_IVUV
USE_64_BIT_INT
USE_ITHREADS
USE_LARGE_FILES
USE_LOCALE
USE_LOCALE_COLLATE
USE_LOCALE_CTYPE
USE_LOCALE_NUMERIC
USE_LOCALE_TIME
USE_PERLIO
USE_PERL_ATOF
Built under MSWin32
Compiled at May 1 2019 21:42:15
%ENV:
PERL5_CPANPLUS_IS_RUNNING="2304"
PERL5_CPAN_IS_RUNNING="2304"
PERL5_CPAN_IS_RUNNING_IN_RECURSION="4368,2304"
PERL_CR_SMOKER_CURRENT="Bread-Board-LazyLoader-0.14"
PERL_EXTUTILS_AUTOINSTALL="--defaultdeps"
PERL_MM_USE_DEFAULT="1"
PERL_USE_UNSAFE_INC="1"
@INC:
C:/Strawberry/perl/site/lib
C:/Strawberry/perl/vendor/lib
C:/Strawberry/perl/lib
.