HTML-FromText v2.07 Perl 5 v5.16.3 x86_64-linux-ld
- Status
- Pass
- From
- Andreas J. König (ANDK)
- Dist
-
HTML-FromText v2.07
- Platform
- Perl 5 v5.16.3 x86_64-linux-ld
- Date
- 2017-10-19 07:58:28
- ID
- 4a96cbd0-b4a3-11e7-a27c-a9fa265066d0
This distribution has been tested as part of the CPAN Testers
project, supporting the Perl programming language. See
http://wiki.cpantesters.org/ for more information or email
questions to cpan-testers-discuss@perl.org
--
Dear Ricardo SIGNES,
This is a computer-generated report for HTML-FromText-2.07
on perl 5.16.3, created by CPAN-Reporter-1.2018.
Thank you for uploading your work to CPAN. Congratulations!
All tests were successful.
Sections of this report:
* Tester comments
* Program output
* Prerequisites
* Environment and other context
------------------------------
TESTER COMMENTS
------------------------------
Additional comments from tester:
this report is from an automated smoke testing program
and was not reviewed by a human for accuracy
------------------------------
PROGRAM OUTPUT
------------------------------
Output from '/usr/bin/make test':
PERL_DL_NONLAZY=1 "/home/sand/src/perl/repoperls/installed-perls/host/k93msid/v5.16.3/2d7c/bin/perl" "-MExtUtils::Command::MM" "-MTest::Harness" "-e" "undef *Test::Harness::Switches; test_harness(0, 'blib/lib', 'blib/arch')" t/*.t
t/00-compile.t ................ ok
#
#
# Generated by Dist::Zilla::Plugin::ReportVersions::Tiny v1.08
# perl: 5.016003 (wanted any version) on linux from /home/sand/src/perl/repoperls/installed-perls/host/k93msid/v5.16.3/2d7c/bin/perl
#
# Carp => 1.26 (want any version)
# Email::Find::addrspec => 0.09 (want 0.09)
# Exporter => 5.66 (want 5.58)
# ExtUtils::MakeMaker => 7.3 (want 6.30)
# File::Find => 1.20 (want any version)
# File::Spec => 3.62 (want any version)
# File::Temp => 0.2304 (want any version)
# HTML::Entities => 3.69 (want 1.26)
# Scalar::Util => 1.49 (want 1.12)
# Test::More => 1.302101 (want 0.96)
# Test::Pod => 1.51 (want 1.41)
# Text::Tabs => 2009.0305 (want 98.1128)
# strict => 1.07 (want any version)
# version => 0.9918 (want 0.9901)
# warnings => 1.13 (want any version)
#
# Thanks for using my code. I hope it works for you.
# If not, please try and include this output in the bug report.
# That will help me reproduce the issue and solve your problem.
#
t/000-report-versions-tiny.t .. ok
t/01_features.t ............... ok
t/02_v2.01.t .................. ok
t/03_v2.02.t .................. ok
t/04_v2.03.t .................. ok
t/05_v2.04.t .................. ok
t/06_v2.05.t .................. ok
t/99_pod.t .................... ok
All tests successful.
Files=9, Tests=60, 6 wallclock secs ( 0.04 usr 0.05 sys + 0.76 cusr 0.19 csys = 1.04 CPU)
Result: PASS
------------------------------
PREREQUISITES
------------------------------
Prerequisite modules loaded:
requires:
Module Need Have
--------------------- ------- ---------
Carp 0 1.26
Email::Find::addrspec 0.09 0.09
Exporter 5.58 5.66
HTML::Entities 1.26 3.69
Scalar::Util 1.12 1.49
strict 0 1.07
Text::Tabs 98.1128 2009.0305
warnings 0 1.13
build_requires:
Module Need Have
--------------------- ------- ---------
File::Find 0 1.20
File::Spec 0 3.62
File::Temp 0 0.2304
Test::More 0.96 1.302101
configure_requires:
Module Need Have
--------------------- ------- ---------
ExtUtils::MakeMaker 6.30 7.30
------------------------------
ENVIRONMENT AND OTHER CONTEXT
------------------------------
Environment variables:
AUTOMATED_TESTING = 1
LANG = en_US.UTF-8
PATH = /home/sand/bin:/usr/local/bin:/usr/bin:/bin:/usr/games:/usr/local/perl/bin:/usr/X11/bin:/sbin:/usr/sbin
PERL5LIB = /tmp/loop_over_bdir-31495-jzv_3q/Email-Find-0.10-0/blib/arch:/tmp/loop_over_bdir-31495-jzv_3q/Email-Find-0.10-0/blib/lib
PERL5OPT =
PERL5_CPANPLUS_IS_RUNNING = 31512
PERL5_CPAN_IS_RUNNING = 31512
PERL5_CPAN_IS_RUNNING_IN_RECURSION = 1256,31512
PERL_CANARY_STABILITY_NOPROMPT = 1
PERL_MM_USE_DEFAULT = 1
PERL_USE_UNSAFE_INC = 1
SHELL = /usr/bin/zsh
TERM = screen
Perl special variables (and OS-specific diagnostics, for MSWin32):
$^X = /home/sand/src/perl/repoperls/installed-perls/host/k93msid/v5.16.3/2d7c/bin/perl
$UID/$EUID = 1005 / 1005
$GID = 1005 1005
$EGID = 1005 1005
Perl module toolchain versions installed:
Module Have
------------------- --------
CPAN 2.18
CPAN::Meta 2.150010
Cwd 3.62
ExtUtils::CBuilder 0.280226
ExtUtils::Command 7.30
ExtUtils::Install 2.06
ExtUtils::MakeMaker 7.30
ExtUtils::Manifest 1.70
ExtUtils::ParseXS 3.35
File::Spec 3.62
JSON 2.94
JSON::PP 2.94
Module::Build 0.4224
Module::Signature 0.81
Parse::CPAN::Meta 2.150010
Test::Harness 3.39
Test::More 1.302101
YAML 1.23
YAML::Syck 1.30
version 0.9918
--
Summary of my perl5 (revision 5 version 16 subversion 3) configuration:
Derived from: fd04d42d38f4751b981eb6e9213ee1ab8ef11ea6
Platform:
osname=linux, osvers=4.12.0-2-amd64, archname=x86_64-linux-ld
uname='linux k93msid 4.12.0-2-amd64 #1 smp debian 4.12.13-1 (2017-09-19) x86_64 gnulinux '
config_args='-Dprefix=/home/sand/src/perl/repoperls/installed-perls/host/k93msid/v5.16.3/2d7c -Dmyhostname=k93msid -Dinstallusrbinperl=n -Uversiononly -Dusedevel -des -Ui_db -Dlibswanted=cl pthread socket inet nsl gdbm dbm malloc dl ld sun m crypt sec util c cposix posix ucb BSD gdbm_compat -Uuseithreads -Duselongdouble -DDEBUGGING=-g'
hint=recommended, useposix=true, d_sigaction=define
useithreads=undef, usemultiplicity=undef
useperlio=define, d_sfio=undef, uselargefiles=define, usesocks=undef
use64bitint=define, use64bitall=define, uselongdouble=define
usemymalloc=n, bincompat5005=undef
Compiler:
cc='cc', ccflags ='-fno-strict-aliasing -pipe -fstack-protector -I/usr/local/include -D_LARGEFILE_SOURCE -D_FILE_OFFSET_BITS=64',
optimize='-O2 -g',
cppflags='-fno-strict-aliasing -pipe -fstack-protector -I/usr/local/include'
ccversion='', gccversion='7.2.0', gccosandvers=''
intsize=4, longsize=8, ptrsize=8, doublesize=8, byteorder=12345678
d_longlong=define, longlongsize=8, d_longdbl=define, longdblsize=16
ivtype='long', ivsize=8, nvtype='long double', nvsize=16, Off_t='off_t', lseeksize=8
alignbytes=16, prototype=define
Linker and Libraries:
ld='cc', ldflags =' -fstack-protector -L/usr/local/lib'
libpth=/usr/local/lib /lib/x86_64-linux-gnu /lib/../lib /usr/lib/x86_64-linux-gnu /usr/lib/../lib /lib /usr/lib
libs=-lpthread -lnsl -ldl -lm -lcrypt -lutil -lc
perllibs=-lpthread -lnsl -ldl -lm -lcrypt -lutil -lc
libc=libc-2.24.so, so=so, useshrplib=false, libperl=libperl.a
gnulibc_version='2.24'
Dynamic Linking:
dlsrc=dl_dlopen.xs, dlext=so, d_dlsymun=undef, ccdlflags='-Wl,-E'
cccdlflags='-fPIC', lddlflags='-shared -O2 -g -L/usr/local/lib -fstack-protector'
Characteristics of this binary (from libperl):
Compile-time options: HAS_TIMES PERLIO_LAYERS PERL_DONT_CREATE_GVSV
PERL_MALLOC_WRAP PERL_PRESERVE_IVUV PERL_USE_DEVEL
USE_64_BIT_ALL USE_64_BIT_INT USE_LARGE_FILES
USE_LOCALE USE_LOCALE_COLLATE USE_LOCALE_CTYPE
USE_LOCALE_NUMERIC USE_LONG_DOUBLE USE_PERLIO
USE_PERL_ATOF
Locally applied patches:
uncommitted-changes
Built under linux
Compiled at Oct 3 2017 14:05:36
%ENV:
PERL5LIB="/tmp/loop_over_bdir-31495-jzv_3q/Email-Find-0.10-0/blib/arch:/tmp/loop_over_bdir-31495-jzv_3q/Email-Find-0.10-0/blib/lib"
PERL5OPT=""
PERL5_CPANPLUS_IS_RUNNING="31512"
PERL5_CPAN_IS_RUNNING="31512"
PERL5_CPAN_IS_RUNNING_IN_RECURSION="1256,31512"
PERL_CANARY_STABILITY_NOPROMPT="1"
PERL_MM_USE_DEFAULT="1"
PERL_USE_UNSAFE_INC="1"
@INC:
/tmp/loop_over_bdir-31495-jzv_3q/Email-Find-0.10-0/blib/arch
/tmp/loop_over_bdir-31495-jzv_3q/Email-Find-0.10-0/blib/lib
/home/sand/src/perl/repoperls/installed-perls/host/k93msid/v5.16.3/2d7c/lib/site_perl/5.16.3/x86_64-linux-ld
/home/sand/src/perl/repoperls/installed-perls/host/k93msid/v5.16.3/2d7c/lib/site_perl/5.16.3
/home/sand/src/perl/repoperls/installed-perls/host/k93msid/v5.16.3/2d7c/lib/5.16.3/x86_64-linux-ld
/home/sand/src/perl/repoperls/installed-perls/host/k93msid/v5.16.3/2d7c/lib/5.16.3
.