Back
From: metabase:user:b53c7f44-4c0e-11e4-9ced-a04ade49192c
Subject: PASS Module-Install-ReadmeFromPod-0.22 v5.10.1 GNU/Linux
Date: 2014-10-30T12:21:35Z
This distribution has been tested as part of the CPAN Testers
project, supporting the Perl programming language. See
http://wiki.cpantesters.org/ for more information or email
questions to cpan-testers-discuss@perl.org
--
Dear Chris Williams,
This is a computer-generated report for Module-Install-ReadmeFromPod-0.22
on perl 5.10.1, created by CPAN-Reporter-1.2011.
Thank you for uploading your work to CPAN. Congratulations!
All tests were successful.
Sections of this report:
* Tester comments
* Program output
* Prerequisites
* Environment and other context
------------------------------
TESTER COMMENTS
------------------------------
Additional comments from tester:
this report is from an automated smoke testing program
and was not reviewed by a human for accuracy
------------------------------
PROGRAM OUTPUT
------------------------------
Output from '/usr/bin/make test':
PERL_DL_NONLAZY=1 /opt/perl430-27-O0-5.10.1/bin/perl "-MExtUtils::Command::MM" "-MTest::Harness" "-e" "undef *Test::Harness::Switches; test_harness(0, 'inc', 'blib/lib', 'blib/arch')" t/*.t
# Testing Module::Install::ReadmeFromPod 0.22, Perl 5.010001, /opt/perl430-27-O0-5.10.1/bin/perl
t/00_compile.t ....... ok
# include /root/.cpan/build/Module-Install-ReadmeFromPod-0.22-ed9ynq/dist/ZnMisDcJc1/inc/Module/Install.pm
# include inc/Module/Install/Metadata.pm
# include inc/Module/Install/Base.pm
# include inc/Module/Install/ReadmeFromPod.pm
# readme_from README.pm to txt
# readme_from README.pm to htm
# readme_from README.pm to man
# include inc/Module/Install/WriteAll.pm
# include inc/Module/Install/Makefile.pm
# include inc/Module/Install/Win32.pm
# include inc/Module/Install/Can.pm
# include inc/Module/Install/Fetch.pm
# Generating a Unix-style Makefile
# Writing Makefile for Foo::Bar
# Writing MYMETA.yml and MYMETA.json
# Writing META.yml
# make[1]: Entering directory `/root/.cpan/build/Module-Install-ReadmeFromPod-0.22-ed9ynq/dist/ZnMisDcJc1'
# rm -f \
# Bar.bso Bar.def \
# Bar.exp Bar.x \
# blib/arch/auto/Foo/Bar/extralibs.all \
# blib/arch/auto/Foo/Bar/extralibs.ld Makefile.aperl \
# *.a *.o \
# *perl.core MYMETA.json \
# MYMETA.yml blibdirs.ts \
# core core.*perl.*.? \
# core.[0-9] core.[0-9][0-9] \
# core.[0-9][0-9][0-9] core.[0-9][0-9][0-9][0-9] \
# core.[0-9][0-9][0-9][0-9][0-9] libBar.def \
# mon.out perl \
# perl perl.exe \
# perlmain.c pm_to_blib \
# pm_to_blib.ts so_locations \
# tmon.out
# rm -rf \
# blib
# mv Makefile Makefile.old > /dev/null 2>&1
# rm -f \
# Makefile.old Makefile
# rm -rf \
# MYMETA.yml Foo-Bar-0.01
# rm -f Foo-Bar-0.01.tar.gz
# rm -f MANIFEST.bak _build
# /opt/perl430-27-O0-5.10.1/bin/perl "-Iinc" "-Ilib" "-MModule::Install::Admin" -e "remove_meta()"
# rm -rf inc
# /opt/perl430-27-O0-5.10.1/bin/perl "-Iinc" "-MExtUtils::Manifest=fullcheck" -e fullcheck
# Problem opening MANIFEST: No such file or directory at /opt/perl430-27-O0-5.10.1/lib/5.10.1/ExtUtils/Manifest.pm line 345.
# Problem opening MANIFEST: No such file or directory at /opt/perl430-27-O0-5.10.1/lib/5.10.1/ExtUtils/Manifest.pm line 345.
# Not in MANIFEST: Makefile.PL
# Not in MANIFEST: README
# Not in MANIFEST: README.1
# Not in MANIFEST: README.htm
# Not in MANIFEST: README.pm
# make[1]: Leaving directory `/root/.cpan/build/Module-Install-ReadmeFromPod-0.22-ed9ynq/dist/ZnMisDcJc1'
t/01_dist.t .......... ok
# include /root/.cpan/build/Module-Install-ReadmeFromPod-0.22-ed9ynq/dist/CxWbFHuUAU/inc/Module/Install.pm
# include inc/Module/Install/Metadata.pm
# include inc/Module/Install/Base.pm
# include inc/Module/Install/ReadmeFromPod.pm
# readme_from README.pm to text
# include inc/Module/Install/Makefile.pm
# readme_from README.pm to html
# readme_from README.pm to man
# include inc/Module/Install/WriteAll.pm
# include inc/Module/Install/Win32.pm
# include inc/Module/Install/Can.pm
# include inc/Module/Install/Fetch.pm
# Generating a Unix-style Makefile
# Writing Makefile for Foo::Bar
# Writing MYMETA.yml and MYMETA.json
# Writing META.yml
# make[1]: Entering directory `/root/.cpan/build/Module-Install-ReadmeFromPod-0.22-ed9ynq/dist/CxWbFHuUAU'
# rm -f \
# Bar.bso Bar.def \
# Bar.exp Bar.x \
# blib/arch/auto/Foo/Bar/extralibs.all \
# blib/arch/auto/Foo/Bar/extralibs.ld Makefile.aperl \
# *.a *.o \
# *perl.core MYMETA.json \
# MYMETA.yml blibdirs.ts \
# core core.*perl.*.? \
# core.[0-9] core.[0-9][0-9] \
# core.[0-9][0-9][0-9] core.[0-9][0-9][0-9][0-9] \
# core.[0-9][0-9][0-9][0-9][0-9] libBar.def \
# mon.out perl \
# perl perl.exe \
# perlmain.c pm_to_blib \
# pm_to_blib.ts so_locations \
# tmon.out
# rm -rf \
# Foobar.htm Foobar.man \
# Foobar.txt blib
# mv Makefile Makefile.old > /dev/null 2>&1
# rm -f \
# Makefile.old Makefile
# rm -rf \
# MYMETA.yml Foo-Bar-0.01
# rm -f Foo-Bar-0.01.tar.gz
# rm -f MANIFEST.bak _build
# /opt/perl430-27-O0-5.10.1/bin/perl "-Iinc" "-Ilib" "-MModule::Install::Admin" -e "remove_meta()"
# rm -rf inc
# /opt/perl430-27-O0-5.10.1/bin/perl "-Iinc" "-MExtUtils::Manifest=fullcheck" -e fullcheck
# Problem opening MANIFEST: No such file or directory at /opt/perl430-27-O0-5.10.1/lib/5.10.1/ExtUtils/Manifest.pm line 345.
# Problem opening MANIFEST: No such file or directory at /opt/perl430-27-O0-5.10.1/lib/5.10.1/ExtUtils/Manifest.pm line 345.
# Not in MANIFEST: Makefile.PL
# Not in MANIFEST: README.pm
# make[1]: Leaving directory `/root/.cpan/build/Module-Install-ReadmeFromPod-0.22-ed9ynq/dist/CxWbFHuUAU'
t/02_clean.t ......... ok
# include /root/.cpan/build/Module-Install-ReadmeFromPod-0.22-ed9ynq/dist/IhEXJcMjL2/inc/Module/Install.pm
# include inc/Module/Install/Metadata.pm
# include inc/Module/Install/Base.pm
# include inc/Module/Install/Makefile.pm
# include inc/Module/Install/ReadmeFromPod.pm
# readme_from README.pm to txt
# include inc/Module/Install/WriteAll.pm
# include inc/Module/Install/Win32.pm
# include inc/Module/Install/Can.pm
# include inc/Module/Install/Fetch.pm
# Generating a Unix-style Makefile
# Writing Makefile for Foo::Bar
# Writing MYMETA.yml and MYMETA.json
# Writing META.yml
# make[1]: Entering directory `/root/.cpan/build/Module-Install-ReadmeFromPod-0.22-ed9ynq/dist/IhEXJcMjL2'
# rm -f \
# Bar.bso Bar.def \
# Bar.exp Bar.x \
# blib/arch/auto/Foo/Bar/extralibs.all \
# blib/arch/auto/Foo/Bar/extralibs.ld Makefile.aperl \
# *.a *.o \
# *perl.core MYMETA.json \
# MYMETA.yml blibdirs.ts \
# core core.*perl.*.? \
# core.[0-9] core.[0-9][0-9] \
# core.[0-9][0-9][0-9] core.[0-9][0-9][0-9][0-9] \
# core.[0-9][0-9][0-9][0-9][0-9] libBar.def \
# mon.out perl \
# perl perl.exe \
# perlmain.c pm_to_blib \
# pm_to_blib.ts so_locations \
# tmon.out
# rm -rf \
# blib
# mv Makefile Makefile.old > /dev/null 2>&1
# rm -f \
# Makefile.old Makefile
# rm -rf \
# MYMETA.yml Foo-Bar-0.01
# rm -f Foo-Bar-0.01.tar.gz
# rm -f MANIFEST.bak _build
# /opt/perl430-27-O0-5.10.1/bin/perl "-Iinc" "-Ilib" "-MModule::Install::Admin" -e "remove_meta()"
# rm -rf inc
# /opt/perl430-27-O0-5.10.1/bin/perl "-Iinc" "-MExtUtils::Manifest=fullcheck" -e fullcheck
# Problem opening MANIFEST: No such file or directory at /opt/perl430-27-O0-5.10.1/lib/5.10.1/ExtUtils/Manifest.pm line 345.
# Problem opening MANIFEST: No such file or directory at /opt/perl430-27-O0-5.10.1/lib/5.10.1/ExtUtils/Manifest.pm line 345.
# Not in MANIFEST: Makefile.PL
# Not in MANIFEST: README
# Not in MANIFEST: README.pm
# make[1]: Leaving directory `/root/.cpan/build/Module-Install-ReadmeFromPod-0.22-ed9ynq/dist/IhEXJcMjL2'
t/03_all_from.t ...... ok
t/04_distpdf.t ....... skipped: App::pod2pdf not installed
t/05_cleanpdf.t ...... skipped: App::pod2pdf not installed
t/99_pod.t ........... ok
t/99_pod_coverage.t .. ok
All tests successful.
Files=8, Tests=20, 18 wallclock secs ( 0.19 usr 0.02 sys + 11.84 cusr 1.93 csys = 13.98 CPU)
Result: PASS
------------------------------
PREREQUISITES
------------------------------
Prerequisite modules loaded:
requires:
Module Need Have
------------------- ----- --------
Module::Install 1 1.12
perl 5.006 5.010001
Pod::Html 0 1.09
Pod::Man 0 2.28
Pod::Text 3.13 3.18
build_requires:
Module Need Have
------------------- ----- --------
Capture::Tiny 0.05 0.25
ExtUtils::MakeMaker 6.59 6.98
File::Temp 0 0.2304
Test::More 0.47 1.001008
configure_requires:
Module Need Have
------------------- ----- --------
ExtUtils::MakeMaker 6.59 6.98
opt_requires:
Module Need Have
------------------- ----- --------
! App::pod2pdf 0 n/a
------------------------------
ENVIRONMENT AND OTHER CONTEXT
------------------------------
Environment variables:
AUTOMATED_TESTING = 1
LANG = en_US.utf8
NONINTERACTIVE_TESTING = 1
PATH = /usr/lib/qt-3.3/bin:/usr/kerberos/sbin:/usr/kerberos/bin:/usr/lib/ccache:/usr/local/sbin:/usr/sbin:/sbin:/usr/local/bin:/usr/bin:/bin:/opt/real/RealPlayer:/root/bin:/opt/real/RealPlayer
PERL5LIB =
PERL5OPT =
PERL5_CPANPLUS_IS_RUNNING = 26451
PERL5_CPAN_IS_RUNNING = 26451
PERL_MM_USE_DEFAULT = 1
SHELL = /bin/bash
TERM = xterm
Perl special variables (and OS-specific diagnostics, for MSWin32):
$^X = /opt/perl430-27-O0-5.10.1/bin/perl
$UID/$EUID = 0 / 0
$GID = 0 0 1 2 3 4 6 10
$EGID = 0 0 1 2 3 4 6 10
Perl module toolchain versions installed:
Module Have
------------------- --------
CPAN 2.05
CPAN::Meta 2.142690
Cwd 3.47
ExtUtils::CBuilder 0.280220
ExtUtils::Command 1.16
ExtUtils::Install 2.04
ExtUtils::MakeMaker 6.98
ExtUtils::Manifest 1.68
ExtUtils::ParseXS 3.24
File::Spec 3.47
JSON 2.90
JSON::PP 2.27300
Module::Build 0.4210
Module::Signature n/a
Parse::CPAN::Meta 1.4414
Test::Harness 3.33
Test::More 1.001008
YAML 1.13
YAML::Syck 1.27
version 0.9909
--
Summary of my perl5 (revision 5 version 10 subversion 1) configuration:
Platform:
osname=linux, osvers=2.6.27.25-78.2.56.fc9.i686, archname=i686-linux-thread-multi-64int-ld
uname='linux localhost.localdomain 2.6.27.25-78.2.56.fc9.i686 #1 smp thu jun 18 12:47:50 edt 2009 i686 i686 i386 gnulinux '
config_args='-Dcc=gcc -Dprefix=/opt/perl430-27-O0-5.10.1 -DDEBUGGING'
hint=recommended, useposix=true, d_sigaction=define
useithreads=define, usemultiplicity=define
useperlio=define, d_sfio=undef, uselargefiles=define, usesocks=undef
use64bitint=define, use64bitall=undef, uselongdouble=define
usemymalloc=y, bincompat5005=undef
Compiler:
cc='gcc', ccflags ='-D_REENTRANT -D_GNU_SOURCE -DDEBUGGING -fno-strict-aliasing -pipe -fstack-protector -I/usr/local/include -D_LARGEFILE_SOURCE -D_FILE_OFFSET_BITS=64',
optimize='-O0 -g',
cppflags='-D_REENTRANT -D_GNU_SOURCE -DDEBUGGING -fno-strict-aliasing -pipe -fstack-protector -I/usr/local/include'
ccversion='', gccversion='4.3.0 20080428 (Red Hat 4.3.0-8)', gccosandvers=''
intsize=4, longsize=4, ptrsize=4, doublesize=8, byteorder=12345678
d_longlong=define, longlongsize=8, d_longdbl=define, longdblsize=12
ivtype='long long', ivsize=8, nvtype='long double', nvsize=12, Off_t='off_t', lseeksize=8
alignbytes=4, prototype=define
Linker and Libraries:
ld='gcc', ldflags =' -fstack-protector -L/usr/local/lib'
libpth=/usr/local/lib /lib /usr/lib
libs=-lnsl -lgdbm -ldb -ldl -lm -lcrypt -lutil -lpthread -lc
perllibs=-lnsl -ldl -lm -lcrypt -lutil -lpthread -lc
libc=/lib/libc-2.8.so, so=so, useshrplib=true, libperl=libperl.so
gnulibc_version='2.8'
Dynamic Linking:
dlsrc=dl_dlopen.xs, dlext=so, d_dlsymun=undef, ccdlflags='-Wl,-E -Wl,-rpath,/opt/perl430-27-O0-5.10.1/lib/5.10.1/i686-linux-thread-multi-64int-ld/CORE'
cccdlflags='-fPIC', lddlflags='-shared -O0 -g -L/usr/local/lib -fstack-protector'
Characteristics of this binary (from libperl):
Compile-time options: DEBUGGING MULTIPLICITY MYMALLOC PERL_DONT_CREATE_GVSV
PERL_IMPLICIT_CONTEXT PERL_MAD PERL_MALLOC_WRAP
PERL_TRACK_MEMPOOL USE_64_BIT_INT USE_FAST_STDIO
USE_ITHREADS USE_LARGE_FILES USE_LONG_DOUBLE
USE_PERLIO USE_REENTRANT_API
Built under linux
Compiled at Oct 10 2014 08:48:46
%ENV:
PERL5LIB=""
PERL5OPT=""
PERL5_CPANPLUS_IS_RUNNING="26451"
PERL5_CPAN_IS_RUNNING="26451"
PERL_MM_USE_DEFAULT="1"
@INC:
/opt/perl430-27-O0-5.10.1/lib/5.10.1/i686-linux-thread-multi-64int-ld
/opt/perl430-27-O0-5.10.1/lib/5.10.1
/opt/perl430-27-O0-5.10.1/lib/site_perl/5.10.1/i686-linux-thread-multi-64int-ld
/opt/perl430-27-O0-5.10.1/lib/site_perl/5.10.1
.