Set-Object v1.35 Perl 5 v5.22.2 i586-linux-thread-multi

Status
Pass
From
David Fulwiler
Dist
Set-Object v1.35
Platform
Perl 5 v5.22.2 i586-linux-thread-multi
Date
2017-10-05 17:19:05
ID
4a5b06a2-a9f1-11e7-b0db-f9860562afa6
This distribution has been tested as part of the CPAN Testers
project, supporting the Perl programming language.  See
http://wiki.cpantesters.org/ for more information or email
questions to cpan-testers-discuss@perl.org


--
Dear Reini Urban,

This is a computer-generated report for Set-Object-1.35
on perl 5.22.2, created by CPAN-Reporter-1.2018.

Thank you for uploading your work to CPAN.  Congratulations!
All tests were successful.

Sections of this report:

    * Tester comments
    * Program output
    * Prerequisites
    * Environment and other context

------------------------------
TESTER COMMENTS
------------------------------

Additional comments from tester:

none provided

------------------------------
PROGRAM OUTPUT
------------------------------

Output from '/usr/bin/make test':

"/usr/bin/perl5.22.2" -MExtUtils::Command::MM -e 'cp_nonempty' -- Object.bs blib/arch/auto/Set/Object/Object.bs 644
PERL_DL_NONLAZY=1 "/usr/bin/perl5.22.2" "-MExtUtils::Command::MM" "-MTest::Harness" "-e" "undef *Test::Harness::Switches; test_harness(0, 'blib/lib', 'blib/arch')" t/ingy/arrayref.t t/misc/kwalitee.t t/misc/leaks.t t/misc/leaktrace.t t/misc/manifest.t t/misc/meta.t t/misc/more_leaks.t t/misc/perl_minimum_version.t t/misc/pod.t t/misc/pod_coverage.t t/misc/segfault.t t/misc/threads.t t/misc/undef.t t/object/abuse.t t/object/clear.t t/object/difference.t t/object/equal.t t/object/flags.t t/object/includes.t t/object/insert.t t/object/intersection.t t/object/members.t t/object/properties.t t/object/refcount.t t/object/remove.t t/object/set_subclass.t t/object/storable.t t/object/subsuper.t t/object/symmetric_difference.t t/object/union.t t/object/weakref.t t/scalar/basic.t t/scalar/basic_overload.t t/scalar/boolean.t t/scalar/clear.t t/scalar/compare.t t/scalar/custom_display.t t/scalar/difference.t t/scalar/each.t t/scalar/has.t t/scalar/intersection.t t/scalar/member.t t/scalar/misc.t t/scalar/set_set.t t/scalar/storable.t t/scalar/symmdiff.t t/scalar/union.t t/scalar/unique.t
t/ingy/arrayref.t ................ ok
t/misc/kwalitee.t ................ skipped: This test is only run for the module author
t/misc/leaks.t ................... ok
t/misc/leaktrace.t ............... ok
t/misc/manifest.t ................ skipped: Author tests not required for installation
t/misc/meta.t .................... skipped: This test is only run for the module author
t/misc/more_leaks.t .............. ok
t/misc/perl_minimum_version.t .... skipped: Author tests not required for installation
t/misc/pod.t ..................... ok
t/misc/pod_coverage.t ............ ok
t/misc/segfault.t ................ ok
Attempt to free nonexistent shared string '3', Perl interpreter: 0x8921f58 at t/misc/threads.t line 51.
Attempt to free nonexistent shared string '4', Perl interpreter: 0x8921f58 at t/misc/threads.t line 51.
Attempt to free nonexistent shared string '5', Perl interpreter: 0x8921f58 at t/misc/threads.t line 51.
Attempt to free nonexistent shared string '6', Perl interpreter: 0x8921f58 at t/misc/threads.t line 51.
Attempt to free nonexistent shared string '7', Perl interpreter: 0x8921f58 at t/misc/threads.t line 51.
Attempt to free nonexistent shared string '8', Perl interpreter: 0x8921f58 at t/misc/threads.t line 51.
Attempt to free nonexistent shared string '9', Perl interpreter: 0x8921f58 at t/misc/threads.t line 51.
Unbalanced string table refcount: (1) for "3" during global destruction.
Unbalanced string table refcount: (1) for "6" during global destruction.
Unbalanced string table refcount: (1) for "5" during global destruction.
Unbalanced string table refcount: (1) for "7" during global destruction.
Unbalanced string table refcount: (1) for "8" during global destruction.
Unbalanced string table refcount: (1) for "9" during global destruction.
Unbalanced string table refcount: (1) for "4" during global destruction.
t/misc/threads.t ................. ok
t/misc/undef.t ................... ok
t/object/abuse.t ................. ok
t/object/clear.t ................. ok
t/object/difference.t ............ ok
t/object/equal.t ................. ok
t/object/flags.t ................. ok
t/object/includes.t .............. ok
t/object/insert.t ................ ok
t/object/intersection.t .......... ok
t/object/members.t ............... ok
t/object/properties.t ............ ok
t/object/refcount.t .............. ok
t/object/remove.t ................ ok
t/object/set_subclass.t .......... ok
t/object/storable.t .............. ok
t/object/subsuper.t .............. ok
t/object/symmetric_difference.t .. ok
t/object/union.t ................. ok
t/object/weakref.t ............... ok
t/scalar/basic.t ................. ok
t/scalar/basic_overload.t ........ ok
t/scalar/boolean.t ............... ok
t/scalar/clear.t ................. ok
t/scalar/compare.t ............... ok
t/scalar/custom_display.t ........ ok
t/scalar/difference.t ............ ok
t/scalar/each.t .................. skipped: TO-DO
t/scalar/has.t ................... ok
t/scalar/intersection.t .......... ok
t/scalar/member.t ................ ok
t/scalar/misc.t .................. ok
t/scalar/set_set.t ............... ok
t/scalar/storable.t .............. ok
t/scalar/symmdiff.t .............. ok
t/scalar/union.t ................. ok
t/scalar/unique.t ................ ok
All tests successful.
Files=48, Tests=460,  3 wallclock secs ( 0.13 usr  0.04 sys +  2.62 cusr  0.20 csys =  2.99 CPU)
Result: PASS

------------------------------
PREREQUISITES
------------------------------

Prerequisite modules loaded:

requires:

    Module              Need Have    
    ------------------- ---- --------
    Scalar::Util        0    1.48    
    Test::More          0    1.302086

build_requires:

    Module              Need Have    
    ------------------- ---- --------
    ExtUtils::MakeMaker 0    7.30    

configure_requires:

    Module              Need Have    
    ------------------- ---- --------
    ExtUtils::MakeMaker 0    7.30    

opt_requires:

    Module              Need Have    
    ------------------- ---- --------
    Moose               0    2.2006  
    Test::LeakTrace     0    0.16    


------------------------------
ENVIRONMENT AND OTHER CONTEXT
------------------------------

Environment variables:

    LANG = en_US
    LC_COLLATE = C
    PATH = /usr/local/sbin:/usr/local/bin:/sbin:/usr/sbin:/bin:/usr/bin
    PERL5LIB = 
    PERL5OPT = 
    PERL5_CPANPLUS_IS_RUNNING = 5785
    PERL5_CPAN_IS_RUNNING = 5785
    SHELL = /bin/bash
    TERM = xterm

Perl special variables (and OS-specific diagnostics, for MSWin32):

    $^X = /usr/bin/perl5.22.2
    $UID/$EUID = 0 / 0
    $GID = 0 0 1 2 3 4 6 10 17
    $EGID = 0 0 1 2 3 4 6 10 17

Perl module toolchain versions installed:

    Module              Have    
    ------------------- --------
    CPAN                2.16    
    CPAN::Meta          2.150010
    Cwd                 3.62    
    ExtUtils::CBuilder  0.280226
    ExtUtils::Command   7.30    
    ExtUtils::Install   2.14    
    ExtUtils::MakeMaker 7.30    
    ExtUtils::Manifest  1.70    
    ExtUtils::ParseXS   3.35    
    File::Spec          3.62    
    JSON                2.94    
    JSON::PP            2.94    
    Module::Build       0.4224  
    Module::Signature   n/a     
    Parse::CPAN::Meta   2.150010
    Test::Harness       3.39    
    Test::More          1.302086
    YAML                1.23    
    YAML::Syck          n/a     
    version             0.9918  


--

Summary of my perl5 (revision 5 version 22 subversion 2) configuration:
   
  Platform:
    osname=linux, osvers=4.4.8-smp, archname=i586-linux-thread-multi
    uname='linux hive 4.4.8-smp #1 smp fri apr 22 17:29:50 cdt 2016 i686 amd phenom(tm) ii x6 1100t processor authenticamd gnulinux '
    config_args='-de -Dprefix=/usr -Dsiteprefix=/usr/local -Dsitelib=/usr/local/share/perl5 -Dsitearch=/usr/local/lib/perl5 -Darchlib=/usr/lib/perl5 -Dvendorprefix=/usr -Dprivlib=/usr/share/perl5 -Dvendorlib=/usr/share/perl5/vendor_perl -Dvendorarch=/usr/lib/perl5/vendor_perl -Dscriptdir=/usr/bin -Dcccdlflags=-fPIC -Dinstallprefix=/usr -Dlibpth=/usr/local/lib /usr/lib /lib -Doptimize=-O2 -march=i586 -mtune=i686 -Dusethreads -Duseithreads -Duseshrplib -Ubincompat5005 -Uversiononly -Dpager=/usr/bin/less -isr -Darchname=i586-linux'
    hint=recommended, useposix=true, d_sigaction=define
    useithreads=define, usemultiplicity=define
    use64bitint=undef, use64bitall=undef, uselongdouble=undef
    usemymalloc=n, bincompat5005=undef
  Compiler:
    cc='cc', ccflags ='-D_REENTRANT -D_GNU_SOURCE -fwrapv -fno-strict-aliasing -pipe -fstack-protector-strong -I/usr/local/include -D_LARGEFILE_SOURCE -D_FILE_OFFSET_BITS=64 -D_FORTIFY_SOURCE=2',
    optimize='-O2 -march=i586 -mtune=i686',
    cppflags='-D_REENTRANT -D_GNU_SOURCE -fwrapv -fno-strict-aliasing -pipe -fstack-protector-strong -I/usr/local/include'
    ccversion='', gccversion='5.3.0', gccosandvers=''
    intsize=4, longsize=4, ptrsize=4, doublesize=8, byteorder=1234, doublekind=3
    d_longlong=define, longlongsize=8, d_longdbl=define, longdblsize=12, longdblkind=3
    ivtype='long', ivsize=4, nvtype='double', nvsize=8, Off_t='off_t', lseeksize=8
    alignbytes=4, prototype=define
  Linker and Libraries:
    ld='cc', ldflags =' -fstack-protector-strong -L/usr/local/lib'
    libpth=/usr/local/lib /usr/lib /lib /usr/local/lib /usr/lib/gcc/i586-slackware-linux/5.3.0/include-fixed /usr/lib
    libs=-lpthread -lnsl -lgdbm -ldb -ldl -lm -lcrypt -lutil -lc
    perllibs=-lpthread -lnsl -ldl -lm -lcrypt -lutil -lc
    libc=libc-2.23.so, so=so, useshrplib=true, libperl=libperl.so
    gnulibc_version='2.23'
  Dynamic Linking:
    dlsrc=dl_dlopen.xs, dlext=so, d_dlsymun=undef, ccdlflags='-Wl,-E -Wl,-rpath,/usr/lib/perl5/CORE'
    cccdlflags='-fPIC', lddlflags='-shared -O2 -march=i586 -mtune=i686 -L/usr/local/lib -fstack-protector-strong'


Characteristics of this binary (from libperl): 
  Compile-time options: HAS_TIMES MULTIPLICITY PERLIO_LAYERS
                        PERL_DONT_CREATE_GVSV
                        PERL_HASH_FUNC_ONE_AT_A_TIME_HARD
                        PERL_IMPLICIT_CONTEXT PERL_MALLOC_WRAP
                        PERL_NEW_COPY_ON_WRITE PERL_PRESERVE_IVUV
                        USE_ITHREADS USE_LARGE_FILES USE_LOCALE
                        USE_LOCALE_COLLATE USE_LOCALE_CTYPE
                        USE_LOCALE_NUMERIC USE_LOCALE_TIME USE_PERLIO
                        USE_PERL_ATOF USE_REENTRANT_API
  Built under linux
  Compiled at Apr 29 2016 23:52:48
  %ENV:
    PERL5LIB=""
    PERL5OPT=""
    PERL5_CPANPLUS_IS_RUNNING="5785"
    PERL5_CPAN_IS_RUNNING="5785"
  @INC:
    /usr/local/lib/perl5
    /usr/local/share/perl5
    /usr/lib/perl5/vendor_perl
    /usr/share/perl5/vendor_perl
    /usr/lib/perl5
    /usr/share/perl5
    .