Back
From: metabase:user:314402c4-2aae-11df-837a-5e0a49663a4f
Subject: PASS JSON-Pointer-0.07 v5.20.2 GNU/Linux
Date: 2015-08-13T09:25:51Z
This distribution has been tested as part of the CPAN Testers
project, supporting the Perl programming language. See
http://wiki.cpantesters.org/ for more information or email
questions to cpan-testers-discuss@perl.org
--
Dear Toru Yamaguchi,
This is a computer-generated report for JSON-Pointer-0.07
on perl 5.20.2, created by CPAN-Reporter-1.2014.
Thank you for uploading your work to CPAN. Congratulations!
All tests were successful.
Sections of this report:
* Tester comments
* Program output
* Prerequisites
* Environment and other context
------------------------------
TESTER COMMENTS
------------------------------
Additional comments from tester:
none provided
------------------------------
PROGRAM OUTPUT
------------------------------
Output from './Build test':
t/000_load.t ............................. ok
t/001_traverse.t ......................... ok
t/002_get.t .............................. ok
t/003_mojo_json_pointer_compat.t ......... ok
t/004_add.t .............................. ok
t/005_remove.t ........................... ok
t/006_replace.t .......................... ok
t/007_copy.t ............................. ok
t/008_move.t ............................. ok
t/009_test.t ............................. ok
t/010_get_relative.t ..................... ok
t/rt/89773.t ............................. ok
t/syntax/001_unescape_reference_token.t .. ok
t/syntax/002_escape_reference_token.t .... ok
t/syntax/003_tokenize.t .................. ok
t/syntax/004_as_pointer.t ................ ok
t/syntax/005_is_array_numeric_index.t .... ok
All tests successful.
Files=17, Tests=63, 1 wallclock secs ( 0.11 usr 0.12 sys + 0.48 cusr 0.26 csys = 0.97 CPU)
Result: PASS
------------------------------
PREREQUISITES
------------------------------
Prerequisite modules loaded:
requires:
Module Need Have
--------------------- -------- --------
B 0 1.48
Carp 1.20 1.36
Class::Accessor::Lite 0.05 0.08
Clone 0.36 0.38
Exporter 0 5.71
JSON 2.53 2.90
perl 5.008001 5.020002
URI::Escape 3.31 3.31
build_requires:
Module Need Have
--------------------- -------- --------
ExtUtils::CBuilder 0 0.280217
Test::Exception 0.31 0.40
Test::More 0.98 1.001014
configure_requires:
Module Need Have
--------------------- -------- --------
CPAN::Meta 0 2.150005
CPAN::Meta::Prereqs 0 2.150005
Module::Build 0.38 0.4214
------------------------------
ENVIRONMENT AND OTHER CONTEXT
------------------------------
Environment variables:
DBIC_NO_WARN_BAD_PERL = 1
LANG = C
LC_ALL = de_DE.UTF-8
PATH = /usr/local/bin:/usr/bin:/bin:/usr/local/sbin:/usr/sbin:/sbin:/home/eserte/bin/linux-gnu:/home/eserte/bin/sh:/home/eserte/bin:/usr/games:/home/eserte/devel:/home/eserte/src/srezic-misc/scripts
PERL5LIB = /home/eserte/.cpan/build/2015081309/App-bif-0.1.5_5-s0NHYe/blib/arch:/home/eserte/.cpan/build/2015081309/App-bif-0.1.5_5-s0NHYe/blib/lib:/home/eserte/.cpan/build/2015081309/OptArgs-0.1.16-6By4FY/blib/arch:/home/eserte/.cpan/build/2015081309/OptArgs-0.1.16-6By4FY/blib/lib:/home/eserte/.cpan/build/2015081309/Proc-FastSpawn-1.2-0wa7xH/blib/arch:/home/eserte/.cpan/build/2015081309/Proc-FastSpawn-1.2-0wa7xH/blib/lib
PERL5OPT =
PERL5_CPANPLUS_IS_RUNNING = 30242
PERL5_CPAN_IS_RUNNING = 30242
PERL5_CPAN_IS_RUNNING_IN_RECURSION = 30180,30242
PERLDOC = -MPod::Perldoc::ToTextOverstrike
PERL_BATCH = yes
PERL_CANARY_STABILITY_NOPROMPT = 1
PERL_CPAN_REPORTER_CONFIG = /var/tmp/cpansmoker-1001/2015081309/cpanreporter_000_config.ini
PERL_EXTUTILS_AUTOINSTALL = --defaultdeps
PERL_HTML_DISPLAY_CLASS = HTML::Display::Mozilla
PERL_PARALLEL_SMOKER = yes
SHELL = /bin/zsh
TERM = screen
TMPDIR = /var/tmp/cpansmoker-1001/2015081309
Perl special variables (and OS-specific diagnostics, for MSWin32):
$^X = /bbbike/perl-5.20.2/bin/perl5.20.2
$UID/$EUID = 1001 / 1001
$GID = 1001 109 1001
$EGID = 1001 109 1001
Perl module toolchain versions installed:
Module Have
------------------- --------
CPAN 2.05
CPAN::Meta 2.150005
Cwd 3.48_01
ExtUtils::CBuilder 0.280217
ExtUtils::Command 1.18
ExtUtils::Install 1.67
ExtUtils::MakeMaker 7.04
ExtUtils::Manifest 1.70
ExtUtils::ParseXS 3.24
File::Spec 3.48_01
JSON 2.90
JSON::PP 2.27203
Module::Build 0.4214
Module::Signature 0.73
Parse::CPAN::Meta 1.4414
Test::Harness 3.35
Test::More 1.001014
YAML 1.15
YAML::Syck 1.29
version 0.9912
--
Summary of my perl5 (revision 5 version 20 subversion 2) configuration:
Platform:
osname=linux, osvers=3.2.0-4-amd64, archname=x86_64-linux
uname='linux eserte 3.2.0-4-amd64 #1 smp debian 3.2.65-1+deb7u1 x86_64 gnulinux '
config_args='-ds -e -Dprefix=/opt/perl-5.20.2'
hint=recommended, useposix=true, d_sigaction=define
useithreads=undef, usemultiplicity=undef
use64bitint=define, use64bitall=define, uselongdouble=undef
usemymalloc=n, bincompat5005=undef
Compiler:
cc='cc', ccflags ='-fwrapv -fno-strict-aliasing -pipe -fstack-protector -I/usr/local/include -D_LARGEFILE_SOURCE -D_FILE_OFFSET_BITS=64',
optimize='-O2',
cppflags='-fwrapv -fno-strict-aliasing -pipe -fstack-protector -I/usr/local/include'
ccversion='', gccversion='4.7.2', gccosandvers=''
intsize=4, longsize=8, ptrsize=8, doublesize=8, byteorder=12345678
d_longlong=define, longlongsize=8, d_longdbl=define, longdblsize=16
ivtype='long', ivsize=8, nvtype='double', nvsize=8, Off_t='off_t', lseeksize=8
alignbytes=8, prototype=define
Linker and Libraries:
ld='cc', ldflags =' -fstack-protector -L/usr/local/lib'
libpth=/usr/local/lib /usr/lib/gcc/x86_64-linux-gnu/4.7/include-fixed /usr/include/x86_64-linux-gnu /usr/lib /lib/x86_64-linux-gnu /lib/../lib /usr/lib/x86_64-linux-gnu /usr/lib/../lib /lib
libs=-lnsl -ldb -ldl -lm -lcrypt -lutil -lc
perllibs=-lnsl -ldl -lm -lcrypt -lutil -lc
libc=libc-2.13.so, so=so, useshrplib=false, libperl=libperl.a
gnulibc_version='2.13'
Dynamic Linking:
dlsrc=dl_dlopen.xs, dlext=so, d_dlsymun=undef, ccdlflags='-Wl,-E'
cccdlflags='-fPIC', lddlflags='-shared -O2 -L/usr/local/lib -fstack-protector'
Characteristics of this binary (from libperl):
Compile-time options: HAS_TIMES PERLIO_LAYERS PERL_DONT_CREATE_GVSV
PERL_HASH_FUNC_ONE_AT_A_TIME_HARD PERL_MALLOC_WRAP
PERL_NEW_COPY_ON_WRITE PERL_PRESERVE_IVUV
USE_64_BIT_ALL USE_64_BIT_INT USE_LARGE_FILES
USE_LOCALE USE_LOCALE_COLLATE USE_LOCALE_CTYPE
USE_LOCALE_NUMERIC USE_PERLIO USE_PERL_ATOF
Built under linux
Compiled at Feb 14 2015 18:42:05
%ENV:
PERL5LIB="/home/eserte/.cpan/build/2015081309/App-bif-0.1.5_5-s0NHYe/blib/arch:/home/eserte/.cpan/build/2015081309/App-bif-0.1.5_5-s0NHYe/blib/lib:/home/eserte/.cpan/build/2015081309/OptArgs-0.1.16-6By4FY/blib/arch:/home/eserte/.cpan/build/2015081309/OptArgs-0.1.16-6By4FY/blib/lib:/home/eserte/.cpan/build/2015081309/Proc-FastSpawn-1.2-0wa7xH/blib/arch:/home/eserte/.cpan/build/2015081309/Proc-FastSpawn-1.2-0wa7xH/blib/lib"
PERL5OPT=""
PERL5_CPANPLUS_IS_RUNNING="30242"
PERL5_CPAN_IS_RUNNING="30242"
PERL5_CPAN_IS_RUNNING_IN_RECURSION="30180,30242"
PERLDOC="-MPod::Perldoc::ToTextOverstrike"
PERL_BATCH="yes"
PERL_CANARY_STABILITY_NOPROMPT="1"
PERL_CPAN_REPORTER_CONFIG="/var/tmp/cpansmoker-1001/2015081309/cpanreporter_000_config.ini"
PERL_EXTUTILS_AUTOINSTALL="--defaultdeps"
PERL_HTML_DISPLAY_CLASS="HTML::Display::Mozilla"
PERL_PARALLEL_SMOKER="yes"
@INC:
/home/eserte/.cpan/build/2015081309/App-bif-0.1.5_5-s0NHYe/blib/arch
/home/eserte/.cpan/build/2015081309/App-bif-0.1.5_5-s0NHYe/blib/lib
/home/eserte/.cpan/build/2015081309/OptArgs-0.1.16-6By4FY/blib/arch
/home/eserte/.cpan/build/2015081309/OptArgs-0.1.16-6By4FY/blib/lib
/home/eserte/.cpan/build/2015081309/Proc-FastSpawn-1.2-0wa7xH/blib/arch
/home/eserte/.cpan/build/2015081309/Proc-FastSpawn-1.2-0wa7xH/blib/lib
/opt/perl-5.20.2/lib/site_perl/5.20.2/x86_64-linux
/opt/perl-5.20.2/lib/site_perl/5.20.2
/opt/perl-5.20.2/lib/5.20.2/x86_64-linux
/opt/perl-5.20.2/lib/5.20.2
.