Music-Tag v0.4103 Perl 5 v5.34.0 x86_64-linux

Status
Pass
From
Slaven Rezić
Dist
Music-Tag v0.4103
Platform
Perl 5 v5.34.0 x86_64-linux
Date
2022-03-29 10:30:44
ID
4a5919d2-af4b-11ec-951f-d82e1f24ea8f
This distribution has been tested as part of the CPAN Testers
project, supporting the Perl programming language.  See
http://wiki.cpantesters.org/ for more information or email
questions to cpan-testers-discuss@perl.org


--
Dear Edward J. Allen III,

This is a computer-generated report for Music-Tag-0.4103
on perl 5.34.0, created by CPAN-Reporter-1.2018.

Thank you for uploading your work to CPAN.  Congratulations!
All tests were successful.

Sections of this report:

    * Tester comments
    * Program output
    * Prerequisites
    * Environment and other context

------------------------------
TESTER COMMENTS
------------------------------

Additional comments from tester:

none provided

------------------------------
PROGRAM OUTPUT
------------------------------

Output from '/usr/bin/make test':

PERL_DL_NONLAZY=1 "/opt/perl-5.34.0/bin/perl" "-MExtUtils::Command::MM" "-MTest::Harness" "-e" "undef *Test::Harness::Switches; test_harness(0, 'blib/lib', 'blib/arch')" t/*.t
t/1-general.t ........ ok
t/2-options.t ........ ok
Music::Tag::Auto Sorry, I can't find a plugin for /home/cpansand/.cpan/build/2022032910/Music-Tag-0.4103-0/t/fake.music at /home/cpansand/.cpan/build/2022032910/Music-Tag-0.4103-0/blib/lib/Music/Tag.pm line 147.
t/3-auto.t ........... ok
t/5-generic.t ........ ok
t/6-unaccent.t ....... skipped: Text::Unaccent::PurePerl required for testing accent changes
t/97-pod.t ........... skipped: Test::Pod 1.00 required for testing POD
t/98-pod-coverage.t .. ok
All tests successful.
Files=7, Tests=243,  2 wallclock secs ( 0.03 usr  0.01 sys +  1.69 cusr  0.19 csys =  1.92 CPU)
Result: PASS

------------------------------
PREREQUISITES
------------------------------

Prerequisite modules loaded:

requires:

    Module              Need   Have    
    ------------------- ------ --------
    Config::Options     0.07   0.08    
    Data::Dumper        2      2.183   
    DateTimeX::Easy     0.088  0.089   
    Digest::SHA1        2.11   2.13    
    Encode              2.12   3.16    
    File::Copy          2      2.35    
    File::Slurp         1      9999.32 
    File::Spec          3.24   3.80    
    File::stat          1      1.09    
    IO::Dir             1      1.48    
    IO::File            1.13   1.48    
    Locale::Country     2.07   3.70    
    Readonly            1      2.05    
    Scalar::Util        1.21   1.62    
    Test::More          0.1    1.302190
    Time::Local         1.1901 1.30    

build_requires:

    Module              Need   Have    
    ------------------- ------ --------
    ExtUtils::MakeMaker 0      7.64    

configure_requires:

    Module              Need   Have    
    ------------------- ------ --------
    ExtUtils::MakeMaker 0      7.64    


------------------------------
ENVIRONMENT AND OTHER CONTEXT
------------------------------

Environment variables:

    LANG = en_US.UTF-8
    PATH = /usr/local/bin:/usr/bin:/bin:/usr/local/sbin:/usr/sbin:/sbin:/home/cpansand/bin/linux-gnu:/home/cpansand/bin/sh:/home/cpansand/bin:/usr/games:/home/cpansand/devel:/home/eserte/src/srezic-misc/scripts
    PERL5LIB = /home/cpansand/.cpan/build/2022032910/Config-Options-0.08-0/blib/arch:/home/cpansand/.cpan/build/2022032910/Config-Options-0.08-0/blib/lib:/home/cpansand/.cpan/build/2022032910/WebService-MusicBrainz-1.0.5-0/blib/arch:/home/cpansand/.cpan/build/2022032910/WebService-MusicBrainz-1.0.5-0/blib/lib:/home/cpansand/.cpan/build/2022032910/MooseX-Types-Path-Class-MoreCoercions-0.003-0/blib/arch:/home/cpansand/.cpan/build/2022032910/MooseX-Types-Path-Class-MoreCoercions-0.003-0/blib/lib:/home/cpansand/.cpan/build/2022032910/HTTP-Request-Params-1.02-0/blib/arch:/home/cpansand/.cpan/build/2022032910/HTTP-Request-Params-1.02-0/blib/lib:/home/cpansand/.cpan/build/2022032910/HTTP-Daemon-SSL-1.04-0/blib/arch:/home/cpansand/.cpan/build/2022032910/HTTP-Daemon-SSL-1.04-0/blib/lib:/home/cpansand/.cpan/build/2022032910/Class-Monkey-0.007-0/blib/arch:/home/cpansand/.cpan/build/2022032910/Class-Monkey-0.007-0/blib/lib:/home/cpansand/.cpan/build/2022032910/WebService-Mattermost-0.28-0/blib/arch:/home/cpansand/.cpan/build/2022032910/WebService-Mattermost-0.28-0/blib/lib
    PERL5OPT = -MDevel::Hide
    PERL5_CPANPLUS_IS_RUNNING = 25226
    PERL5_CPAN_IS_RUNNING = 25226
    PERL5_CPAN_IS_RUNNING_IN_RECURSION = 17340,25226
    PERLDOC = -MPod::Perldoc::ToTextOverstrike
    PERL_BATCH = yes
    PERL_CANARY_STABILITY_NOPROMPT = 1
    PERL_CPAN_REPORTER_CONFIG = /var/tmp/cpansmoker-1023/2022032820/cpanreporter_001_config.ini
    PERL_EXTUTILS_AUTOINSTALL = --defaultdeps
    PERL_USE_UNSAFE_INC = 1
    SHELL = /usr/bin/zsh
    TERM = screen
    TMPDIR = /var/tmp/cpansmoker-1023/2022032820

Perl special variables (and OS-specific diagnostics, for MSWin32):

    $^X = /opt/perl-5.34.0/bin/perl
    $UID/$EUID = 1023 / 1023
    $GID = 1023 1023
    $EGID = 1023 1023

Perl module toolchain versions installed:

    Module              Have    
    ------------------- --------
    CPAN                2.29    
    CPAN::Meta          2.150010
    Cwd                 3.80    
    ExtUtils::CBuilder  0.280236
    ExtUtils::Command   7.64    
    ExtUtils::Install   2.20    
    ExtUtils::MakeMaker 7.64    
    ExtUtils::Manifest  1.73    
    ExtUtils::ParseXS   3.44    
    File::Spec          3.80    
    JSON                4.05    
    JSON::PP            4.07    
    Module::Build       0.4231  
    Module::Signature   0.88    
    Parse::CPAN::Meta   2.150010
    Test::Harness       3.43    
    Test::More          1.302190
    YAML                1.30    
    YAML::Syck          1.34    
    version             0.9928  


--

Summary of my perl5 (revision 5 version 34 subversion 0) configuration:
   
  Platform:
    osname=linux
    osvers=4.19.0-17-amd64
    archname=x86_64-linux
    uname='linux cloud12.bbbike.org 4.19.0-17-amd64 #1 smp debian 4.19.194-3 (2021-07-18) x86_64 gnulinux '
    config_args='-ds -e -Dprefix=/opt/perl-5.34.0 -Dcf_email=srezic@cpan.org'
    hint=recommended
    useposix=true
    d_sigaction=define
    useithreads=undef
    usemultiplicity=undef
    use64bitint=define
    use64bitall=define
    uselongdouble=undef
    usemymalloc=n
    default_inc_excludes_dot=define
  Compiler:
    cc='cc'
    ccflags ='-fwrapv -fno-strict-aliasing -pipe -fstack-protector-strong -I/usr/local/include -D_LARGEFILE_SOURCE -D_FILE_OFFSET_BITS=64 -D_FORTIFY_SOURCE=2'
    optimize='-O2'
    cppflags='-fwrapv -fno-strict-aliasing -pipe -fstack-protector-strong -I/usr/local/include'
    ccversion=''
    gccversion='8.3.0'
    gccosandvers=''
    intsize=4
    longsize=8
    ptrsize=8
    doublesize=8
    byteorder=12345678
    doublekind=3
    d_longlong=define
    longlongsize=8
    d_longdbl=define
    longdblsize=16
    longdblkind=3
    ivtype='long'
    ivsize=8
    nvtype='double'
    nvsize=8
    Off_t='off_t'
    lseeksize=8
    alignbytes=8
    prototype=define
  Linker and Libraries:
    ld='cc'
    ldflags =' -fstack-protector-strong -L/usr/local/lib'
    libpth=/usr/local/lib /usr/lib/x86_64-linux-gnu /usr/lib /usr/lib64
    libs=-lpthread -lnsl -ldl -lm -lcrypt -lutil -lc
    perllibs=-lpthread -lnsl -ldl -lm -lcrypt -lutil -lc
    libc=libc-2.28.so
    so=so
    useshrplib=false
    libperl=libperl.a
    gnulibc_version='2.28'
  Dynamic Linking:
    dlsrc=dl_dlopen.xs
    dlext=so
    d_dlsymun=undef
    ccdlflags='-Wl,-E'
    cccdlflags='-fPIC'
    lddlflags='-shared -O2 -L/usr/local/lib -fstack-protector-strong'


Characteristics of this binary (from libperl): 
  Compile-time options:
    HAS_TIMES
    PERLIO_LAYERS
    PERL_COPY_ON_WRITE
    PERL_DONT_CREATE_GVSV
    PERL_MALLOC_WRAP
    PERL_OP_PARENT
    PERL_PRESERVE_IVUV
    USE_64_BIT_ALL
    USE_64_BIT_INT
    USE_LARGE_FILES
    USE_LOCALE
    USE_LOCALE_COLLATE
    USE_LOCALE_CTYPE
    USE_LOCALE_NUMERIC
    USE_LOCALE_TIME
    USE_PERLIO
    USE_PERL_ATOF
  Built under linux
  Compiled at Sep  4 2021 12:02:49
  %ENV:
    PERL5LIB="/home/cpansand/.cpan/build/2022032910/Config-Options-0.08-0/blib/arch:/home/cpansand/.cpan/build/2022032910/Config-Options-0.08-0/blib/lib:/home/cpansand/.cpan/build/2022032910/WebService-MusicBrainz-1.0.5-0/blib/arch:/home/cpansand/.cpan/build/2022032910/WebService-MusicBrainz-1.0.5-0/blib/lib:/home/cpansand/.cpan/build/2022032910/MooseX-Types-Path-Class-MoreCoercions-0.003-0/blib/arch:/home/cpansand/.cpan/build/2022032910/MooseX-Types-Path-Class-MoreCoercions-0.003-0/blib/lib:/home/cpansand/.cpan/build/2022032910/HTTP-Request-Params-1.02-0/blib/arch:/home/cpansand/.cpan/build/2022032910/HTTP-Request-Params-1.02-0/blib/lib:/home/cpansand/.cpan/build/2022032910/HTTP-Daemon-SSL-1.04-0/blib/arch:/home/cpansand/.cpan/build/2022032910/HTTP-Daemon-SSL-1.04-0/blib/lib:/home/cpansand/.cpan/build/2022032910/Class-Monkey-0.007-0/blib/arch:/home/cpansand/.cpan/build/2022032910/Class-Monkey-0.007-0/blib/lib:/home/cpansand/.cpan/build/2022032910/WebService-Mattermost-0.28-0/blib/arch:/home/cpansand/.cpan/build/2022032910/WebService-Mattermost-0.28-0/blib/lib"
    PERL5OPT="-MDevel::Hide"
    PERL5_CPANPLUS_IS_RUNNING="25226"
    PERL5_CPAN_IS_RUNNING="25226"
    PERL5_CPAN_IS_RUNNING_IN_RECURSION="17340,25226"
    PERLDOC="-MPod::Perldoc::ToTextOverstrike"
    PERL_BATCH="yes"
    PERL_CANARY_STABILITY_NOPROMPT="1"
    PERL_CPAN_REPORTER_CONFIG="/var/tmp/cpansmoker-1023/2022032820/cpanreporter_001_config.ini"
    PERL_EXTUTILS_AUTOINSTALL="--defaultdeps"
    PERL_USE_UNSAFE_INC="1"
  @INC:
    CODE(0x559ae0fd18c0)
    /home/cpansand/.cpan/build/2022032910/Config-Options-0.08-0/blib/arch
    /home/cpansand/.cpan/build/2022032910/Config-Options-0.08-0/blib/lib
    /home/cpansand/.cpan/build/2022032910/WebService-MusicBrainz-1.0.5-0/blib/arch
    /home/cpansand/.cpan/build/2022032910/WebService-MusicBrainz-1.0.5-0/blib/lib
    /home/cpansand/.cpan/build/2022032910/MooseX-Types-Path-Class-MoreCoercions-0.003-0/blib/arch
    /home/cpansand/.cpan/build/2022032910/MooseX-Types-Path-Class-MoreCoercions-0.003-0/blib/lib
    /home/cpansand/.cpan/build/2022032910/HTTP-Request-Params-1.02-0/blib/arch
    /home/cpansand/.cpan/build/2022032910/HTTP-Request-Params-1.02-0/blib/lib
    /home/cpansand/.cpan/build/2022032910/HTTP-Daemon-SSL-1.04-0/blib/arch
    /home/cpansand/.cpan/build/2022032910/HTTP-Daemon-SSL-1.04-0/blib/lib
    /home/cpansand/.cpan/build/2022032910/Class-Monkey-0.007-0/blib/arch
    /home/cpansand/.cpan/build/2022032910/Class-Monkey-0.007-0/blib/lib
    /home/cpansand/.cpan/build/2022032910/WebService-Mattermost-0.28-0/blib/arch
    /home/cpansand/.cpan/build/2022032910/WebService-Mattermost-0.28-0/blib/lib
    /opt/perl-5.34.0/lib/site_perl/5.34.0/x86_64-linux
    /opt/perl-5.34.0/lib/site_perl/5.34.0
    /opt/perl-5.34.0/lib/5.34.0/x86_64-linux
    /opt/perl-5.34.0/lib/5.34.0
    .