Perl-Critic-Lax v0.014 Perl 5 v5.34.0 darwin-2level

Status
Pass
From
Burak Gursoy
Dist
Perl-Critic-Lax v0.014
Platform
Perl 5 v5.34.0 darwin-2level
Date
2023-09-19 14:10:30
ID
4a34c77c-56f6-11ee-aa37-1d8bb8754eeb
This distribution has been tested as part of the CPAN Testers
project, supporting the Perl programming language.  See
http://wiki.cpantesters.org/ for more information or email
questions to cpan-testers-discuss@perl.org


--
Dear Ricardo SIGNES,

This is a computer-generated report for Perl-Critic-Lax-0.014
on perl 5.34.0, created by CPAN-Reporter-1.2019.

Thank you for uploading your work to CPAN.  Congratulations!
All tests were successful.

Sections of this report:

    * Tester comments
    * Program output
    * Prerequisites
    * Environment and other context

------------------------------
TESTER COMMENTS
------------------------------

Additional comments from tester:

none provided

------------------------------
PROGRAM OUTPUT
------------------------------

Output from '/usr/bin/make test':

PERL_DL_NONLAZY=1 "/Users/burak/.plenv/versions/5.34.0/bin/perl5.34.0" "-MExtUtils::Command::MM" "-MTest::Harness" "-e" "undef *Test::Harness::Switches; test_harness(0, 'blib/lib', 'blib/arch')" t/*.t
# 
# Versions for all modules listed in MYMETA.json (including optional ones):
# 
# === Configure Requires ===
# 
#     Module              Want Have
#     ------------------- ---- ----
#     ExtUtils::MakeMaker 6.78 7.70
# 
# === Build Requires ===
# 
#     Module              Want Have
#     ------------------- ---- ----
#     ExtUtils::MakeMaker  any 7.70
# 
# === Test Requires ===
# 
#     Module                  Want     Have
#     ----------------------- ---- --------
#     ExtUtils::MakeMaker      any     7.70
#     File::Spec               any     3.80
#     Perl::Critic::TestUtils  any    1.150
#     Test::More              0.96 1.302195
# 
# === Test Recommends ===
# 
#     Module         Want     Have
#     ---------- -------- --------
#     CPAN::Meta 2.120900 2.150010
# 
# === Runtime Requires ===
# 
#     Module                                                            Want  Have
#     ---------------------------------------------------------------- ----- -----
#     Perl::Critic                                                     1.088 1.150
#     Perl::Critic::Policy                                               any 1.150
#     Perl::Critic::Policy::ValuesAndExpressions::ProhibitLeadingZeros   any 1.150
#     Perl::Critic::Utils                                                any 1.150
#     Readonly                                                           any  2.05
#     parent                                                             any 0.241
#     strict                                                             any  1.12
#     utf8                                                               any  1.24
#     warnings                                                           any  1.51
# 
t/00-report-prereqs.t ......... ok
t/chmod-0xxx.t ................ ok
t/constant-left-side-equal.t .. ok
t/empty-after-or.t ............ ok
t/end-with-true.t ............. ok
t/eval-require.t .............. ok
t/map-linebreak.t ............. ok
t/use-before-pkg.t ............ ok
All tests successful.
Files=8, Tests=56,  9 wallclock secs ( 0.05 usr  0.02 sys +  7.82 cusr  1.01 csys =  8.90 CPU)
Result: PASS

------------------------------
PREREQUISITES
------------------------------

Prerequisite modules loaded:

requires:

    Module                                                           Need     Have    
    ---------------------------------------------------------------- -------- --------
    parent                                                           0        0.241   
    perl                                                             5.012    5.034000
    Perl::Critic                                                     1.088    1.150   
    Perl::Critic::Policy                                             0        1.150   
    Perl::Critic::Policy::ValuesAndExpressions::ProhibitLeadingZeros 0        1.150   
    Perl::Critic::Utils                                              0        1.150   
    Readonly                                                         0        2.05    
    strict                                                           0        1.12    
    utf8                                                             0        1.24    
    warnings                                                         0        1.51    

build_requires:

    Module                                                           Need     Have    
    ---------------------------------------------------------------- -------- --------
    ExtUtils::MakeMaker                                              0        7.70    
    File::Spec                                                       0        3.80    
    Perl::Critic::TestUtils                                          0        1.150   
    Test::More                                                       0.96     1.302195

configure_requires:

    Module                                                           Need     Have    
    ---------------------------------------------------------------- -------- --------
    ExtUtils::MakeMaker                                              6.78     7.70    

opt_build_requires:

    Module                                                           Need     Have    
    ---------------------------------------------------------------- -------- --------
    CPAN::Meta                                                       2.120900 2.150010


------------------------------
ENVIRONMENT AND OTHER CONTEXT
------------------------------

Environment variables:

    LC_CTYPE = UTF-8
    PATH = /Users/burak/.plenv/versions/5.34.0/bin:/Users/burak/.plenv/libexec:/Users/burak/.plenv/plugins/perl-build/bin:/usr/local/opt/sqlite/bin:/Users/burak/adb-fastboot/platform-tools:/Users/burak/google-cloud-sdk/bin:/Users/burak/.plenv/shims:/Users/burak/.plenv/bin:/Applications/Rakudo/bin:/opt/local/bin:/opt/local/sbin:/Users/burak/bin:/usr/local/bin:/usr/bin:/bin:/usr/sbin:/sbin:/Library/Apple/usr/bin:/usr/local/Cellar/rakudo/2022.07/share/perl6/site/bin:/opt/local/bin:/opt/local/sbin
    PERL5LIB = 
    PERL5OPT = 
    PERL5_CPANPLUS_IS_RUNNING = 13157
    PERL5_CPAN_IS_RUNNING = 13157
    PERL_USE_UNSAFE_INC = 1
    SHELL = /bin/sh
    TERM = xterm-256color

Perl special variables (and OS-specific diagnostics, for MSWin32):

    $^X = /Users/burak/.plenv/versions/5.34.0/bin/perl5.34.0
    $UID/$EUID = 0 / 0
    $GID = 0 0 1 2 3 4 5 8 9 12 20 29 61 80 33 98 100
    $EGID = 0 0 1 2 3 4 5 8 9 12 20 29 61 80 33 98 100

Perl module toolchain versions installed:

    Module              Have    
    ------------------- --------
    CPAN                2.36    
    CPAN::Meta          2.150010
    Cwd                 3.80    
    ExtUtils::CBuilder  0.280236
    ExtUtils::Command   7.70    
    ExtUtils::Install   2.22    
    ExtUtils::MakeMaker 7.70    
    ExtUtils::Manifest  1.75    
    ExtUtils::ParseXS   3.44    
    File::Spec          3.80    
    JSON                4.10    
    JSON::PP            4.16    
    Module::Build       0.4234  
    Module::Signature   n/a     
    Parse::CPAN::Meta   2.150010
    Test2               1.302195
    Test::Harness       3.44    
    Test::More          1.302195
    YAML                1.30    
    YAML::Syck          n/a     
    version             0.9929  


--

Summary of my perl5 (revision 5 version 34 subversion 0) configuration:
   
  Platform:
    osname=darwin
    osvers=19.6.0
    archname=darwin-2level
    uname='darwin tonyukuk.local 19.6.0 darwin kernel version 19.6.0: mon apr 12 20:57:45 pdt 2021; root:xnu-6153.141.28.1~1release_x86_64 x86_64 '
    config_args='-Dprefix=/Users/burak/.plenv/versions/5.34.0 -de -Dversiononly -A'eval:scriptdir=/Users/burak/.plenv/versions/5.34.0/bin''
    hint=recommended
    useposix=true
    d_sigaction=define
    useithreads=undef
    usemultiplicity=undef
    use64bitint=define
    use64bitall=define
    uselongdouble=undef
    usemymalloc=n
    default_inc_excludes_dot=define
  Compiler:
    cc='cc'
    ccflags ='-fno-common -DPERL_DARWIN -mmacosx-version-min=10.15 -fno-strict-aliasing -pipe -fstack-protector-strong -I/usr/local/include -I/opt/local/include -DPERL_USE_SAFE_PUTENV'
    optimize='-O3'
    cppflags='-fno-common -DPERL_DARWIN -mmacosx-version-min=10.15 -fno-strict-aliasing -pipe -fstack-protector-strong -I/usr/local/include -I/opt/local/include'
    ccversion=''
    gccversion='Apple LLVM 12.0.0 (clang-1200.0.32.29)'
    gccosandvers=''
    intsize=4
    longsize=8
    ptrsize=8
    doublesize=8
    byteorder=12345678
    doublekind=3
    d_longlong=define
    longlongsize=8
    d_longdbl=define
    longdblsize=16
    longdblkind=3
    ivtype='long'
    ivsize=8
    nvtype='double'
    nvsize=8
    Off_t='off_t'
    lseeksize=8
    alignbytes=8
    prototype=define
  Linker and Libraries:
    ld='cc'
    ldflags =' -mmacosx-version-min=10.15 -fstack-protector-strong -L/usr/local/lib -L/opt/local/lib'
    libpth=/usr/local/lib /Library/Developer/CommandLineTools/usr/lib/clang/12.0.0/lib /Library/Developer/CommandLineTools/SDKs/MacOSX10.15.sdk/usr/lib /Library/Developer/CommandLineTools/usr/lib /opt/local/lib /usr/lib
    libs=-lpthread -lgdbm -ldbm -ldl -lm -lutil -lc
    perllibs=-lpthread -ldl -lm -lutil -lc
    libc=
    so=dylib
    useshrplib=false
    libperl=libperl.a
    gnulibc_version=''
  Dynamic Linking:
    dlsrc=dl_dlopen.xs
    dlext=bundle
    d_dlsymun=undef
    ccdlflags=' '
    cccdlflags=' '
    lddlflags=' -mmacosx-version-min=10.15 -bundle -undefined dynamic_lookup -L/usr/local/lib -L/opt/local/lib -fstack-protector-strong'


Characteristics of this binary (from libperl): 
  Compile-time options:
    HAS_TIMES
    PERLIO_LAYERS
    PERL_COPY_ON_WRITE
    PERL_DONT_CREATE_GVSV
    PERL_MALLOC_WRAP
    PERL_OP_PARENT
    PERL_PRESERVE_IVUV
    PERL_USE_SAFE_PUTENV
    USE_64_BIT_ALL
    USE_64_BIT_INT
    USE_LARGE_FILES
    USE_LOCALE
    USE_LOCALE_COLLATE
    USE_LOCALE_CTYPE
    USE_LOCALE_NUMERIC
    USE_LOCALE_TIME
    USE_PERLIO
    USE_PERL_ATOF
  Built under darwin
  Compiled at May 25 2021 05:10:44
  %ENV:
    PERL5LIB=""
    PERL5OPT=""
    PERL5_CPANPLUS_IS_RUNNING="13157"
    PERL5_CPAN_IS_RUNNING="13157"
    PERL_USE_UNSAFE_INC="1"
  @INC:
    /Users/burak/.plenv/versions/5.34.0/lib/perl5/site_perl/5.34.0/darwin-2level
    /Users/burak/.plenv/versions/5.34.0/lib/perl5/site_perl/5.34.0
    /Users/burak/.plenv/versions/5.34.0/lib/perl5/5.34.0/darwin-2level
    /Users/burak/.plenv/versions/5.34.0/lib/perl5/5.34.0
    .