Back
From: metabase:user:d2c9f356-b46f-11df-9a90-20a83c0b7757
Subject: PASS HTML-Acid-v0.0.3 v5.15.5 SunOS/Solaris
Date: 2011-12-06T09:11:32Z
This distribution has been tested as part of the CPAN Testers
project, supporting the Perl programming language. See
http://wiki.cpantesters.org/ for more information or email
questions to cpan-testers-discuss@perl.org
--
Dear Nicholas Bamber,
This is a computer-generated report for HTML-Acid-v0.0.3
on perl 5.15.5, created by CPAN-Reporter-1.2002.
Thank you for uploading your work to CPAN. Congratulations!
All tests were successful.
Sections of this report:
* Tester comments
* Program output
* Prerequisites
* Environment and other context
------------------------------
TESTER COMMENTS
------------------------------
Additional comments from tester:
this report is from an automated smoke testing program
and was not reviewed by a human for accuracy
------------------------------
PROGRAM OUTPUT
------------------------------
Output from './Build test':
# Testing HTML::Acid 0.0.3
t/00.load.t ......... ok
t/01.progression.t .. ok
t/02.buffer.t ....... ok
t/03_variant.t ...... ok
t/04.dfv.t .......... skipped: This test requires Data::FormValidator
t/05.dfv-variant.t .. skipped: This test requires Data::FormValidator
t/06.lists.t ........ ok
t/07.dfv-lists.t .... skipped: This test requires Data::FormValidator
t/08.div.t .......... ok
t/manifest.t ........ skipped: Author test. Set $ENV{TEST_AUTHOR} to a true value to run.
t/perlcritic.t ...... skipped: Author test. Set $ENV{TEST_AUTHOR} to a true value to run.
t/pod-coverage.t .... skipped: Author test. Set $ENV{TEST_AUTHOR} to a true value to run.
t/pod.t ............. skipped: Author test. Set $ENV{TEST_AUTHOR} to a true value to run.
t/podspell.t ........ skipped: Author test. Set $ENV{TEST_AUTHOR} to a true value to run.
t/prereq.t .......... skipped: Author test. Set $ENV{TEST_PREREQ} to a true value to run.
t/version.t ......... skipped: Author test. Set $ENV{TEST_AUTHOR} to a true value to run.
All tests successful.
Files=16, Tests=179, 3 wallclock secs ( 0.31 usr 0.18 sys + 1.82 cusr 0.55 csys = 2.86 CPU)
Result: PASS
------------------------------
PREREQUISITES
------------------------------
Prerequisite modules loaded:
requires:
Module Need Have
----------------- ---- -------
HTML::Parser 3 3.69
Readonly 0 1.03
String::Dirify 0 1.02
version 0 0.95
build_requires:
Module Need Have
----------------- ---- -------
Benchmark 0 1.13
Perl6::Slurp 0 0.03
Test::Differences 0 0.61
Test::More 0.94 0.98
Test::NoWarnings 0 1.04
configure_requires:
Module Need Have
----------------- ---- -------
Module::Build 0.38 0.39_01
------------------------------
ENVIRONMENT AND OTHER CONTEXT
------------------------------
Environment variables:
AUTOMATED_TESTING = 1
LANG = C
LD_LIBRARY_PATH = /usr/local/lib:
PATH = /export/home/cpant4/perl5/bin:/usr/local/bin:/usr/bin
PERL5LIB = /export/home/cpant4/.cpan/build/String-Dirify-1.02-Opxs91/blib/arch:/export/home/cpant4/.cpan/build/String-Dirify-1.02-Opxs91/blib/lib:/export/home/cpant4/.cpan/build/Perl6-Slurp-0.03-m_GWVR/blib/arch:/export/home/cpant4/.cpan/build/Perl6-Slurp-0.03-m_GWVR/blib/lib:/export/home/cpant4/.cpan/build/Perl6-Export-0.07-6HzLFK/blib/arch:/export/home/cpant4/.cpan/build/Perl6-Export-0.07-6HzLFK/blib/lib
PERL5OPT =
PERL5_CPANPLUS_IS_RUNNING = 6376
PERL5_CPAN_IS_RUNNING = 6376
PERL5_CPAN_IS_RUNNING_IN_RECURSION = 19504,6376
PERL_CR_SMOKER_CURRENT = HTML-Acid-v0.0.3
PERL_EXTUTILS_AUTOINSTALL = --defaultdeps
PERL_MM_USE_DEFAULT = 1
SHELL = /bin/bash
TERM = xterm
Perl special variables (and OS-specific diagnostics, for MSWin32):
$^X = /export/home/cpant4/perl5/bin/perl5.15.5
$UID/$EUID = 104 / 104
$GID = 1 1
$EGID = 1 1
Perl module toolchain versions installed:
Module Have
------------------- --------
CPAN 1.9800
CPAN::Meta 2.112621
Cwd 3.37
ExtUtils::CBuilder 0.280204
ExtUtils::Command 1.17
ExtUtils::Install 1.57
ExtUtils::MakeMaker 6.63_02
ExtUtils::Manifest 1.60
ExtUtils::ParseXS 3.05
File::Spec 3.34
JSON 2.53
JSON::PP 2.27200
Module::Build 0.39_01
Module::Signature n/a
Parse::CPAN::Meta 1.4401
Test::Harness 3.23
Test::More 0.98
YAML 0.77
YAML::Syck 1.19
version 0.95
--
Summary of my perl5 (revision 5 version 15 subversion 5) configuration:
Platform:
osname=solaris, osvers=2.10, archname=i86pc-solaris-64int
uname='sunos vmrz0046 5.10 generic_141445-09 i86pc i386 i86pc solaris '
config_args='-Dcc=gcc -Dprefix=~/perl5 -Duse64bitint -Dusedevel -d'
hint=recommended, useposix=true, d_sigaction=define
useithreads=undef, usemultiplicity=undef
useperlio=define, d_sfio=undef, uselargefiles=define, usesocks=undef
use64bitint=define, use64bitall=undef, uselongdouble=undef
usemymalloc=n, bincompat5005=undef
Compiler:
cc='gcc', ccflags ='-DPTR_IS_LONG -fno-strict-aliasing -pipe -I/usr/local/include -D_LARGEFILE_SOURCE -D_FILE_OFFSET_BITS=64 -DPERL_USE_SAFE_PUTENV',
optimize='-O',
cppflags='-DPTR_IS_LONG -fno-strict-aliasing -pipe -I/usr/local/include'
ccversion='', gccversion='3.4.6', gccosandvers='solaris2.10'
intsize=4, longsize=4, ptrsize=4, doublesize=8, byteorder=12345678
d_longlong=define, longlongsize=8, d_longdbl=define, longdblsize=12
ivtype='long long', ivsize=8, nvtype='double', nvsize=8, Off_t='off_t', lseeksize=8
alignbytes=4, prototype=define
Linker and Libraries:
ld='gcc', ldflags =' -L/usr/local/lib '
libpth=/usr/local/lib /usr/lib /usr/ccs/lib
libs=-lsocket -lnsl -lgdbm -ldl -lm -lc
perllibs=-lsocket -lnsl -ldl -lm -lc
libc=/lib/libc.so, so=so, useshrplib=false, libperl=libperl.a
gnulibc_version=''
Dynamic Linking:
dlsrc=dl_dlopen.xs, dlext=so, d_dlsymun=undef, ccdlflags=' '
cccdlflags='-fPIC', lddlflags='-G -L/usr/local/lib'
Characteristics of this binary (from libperl):
Compile-time options: HAS_TIMES PERLIO_LAYERS PERL_DONT_CREATE_GVSV
PERL_MALLOC_WRAP PERL_PRESERVE_IVUV PERL_USE_DEVEL
PERL_USE_SAFE_PUTENV USE_64_BIT_INT USE_LARGE_FILES
USE_LOCALE USE_LOCALE_COLLATE USE_LOCALE_CTYPE
USE_LOCALE_NUMERIC USE_PERLIO USE_PERL_ATOF
Built under solaris
Compiled at Nov 28 2011 11:34:47
%ENV:
PERL5LIB="/export/home/cpant4/.cpan/build/String-Dirify-1.02-Opxs91/blib/arch:/export/home/cpant4/.cpan/build/String-Dirify-1.02-Opxs91/blib/lib:/export/home/cpant4/.cpan/build/Perl6-Slurp-0.03-m_GWVR/blib/arch:/export/home/cpant4/.cpan/build/Perl6-Slurp-0.03-m_GWVR/blib/lib:/export/home/cpant4/.cpan/build/Perl6-Export-0.07-6HzLFK/blib/arch:/export/home/cpant4/.cpan/build/Perl6-Export-0.07-6HzLFK/blib/lib"
PERL5OPT=""
PERL5_CPANPLUS_IS_RUNNING="6376"
PERL5_CPAN_IS_RUNNING="6376"
PERL5_CPAN_IS_RUNNING_IN_RECURSION="19504,6376"
PERL_CR_SMOKER_CURRENT="HTML-Acid-v0.0.3"
PERL_EXTUTILS_AUTOINSTALL="--defaultdeps"
PERL_MM_USE_DEFAULT="1"
@INC:
/export/home/cpant4/.cpan/build/String-Dirify-1.02-Opxs91/blib/arch
/export/home/cpant4/.cpan/build/String-Dirify-1.02-Opxs91/blib/lib
/export/home/cpant4/.cpan/build/Perl6-Slurp-0.03-m_GWVR/blib/arch
/export/home/cpant4/.cpan/build/Perl6-Slurp-0.03-m_GWVR/blib/lib
/export/home/cpant4/.cpan/build/Perl6-Export-0.07-6HzLFK/blib/arch
/export/home/cpant4/.cpan/build/Perl6-Export-0.07-6HzLFK/blib/lib
/export/home/cpant4/perl5/lib/site_perl/5.15.5/i86pc-solaris-64int
/export/home/cpant4/perl5/lib/site_perl/5.15.5
/export/home/cpant4/perl5/lib/5.15.5/i86pc-solaris-64int
/export/home/cpant4/perl5/lib/5.15.5
/export/home/cpant4/perl5/lib/site_perl
.