POE-Loop-Event v1.305 Perl 5 v5.24.3 RC1 x86_64-linux
- Status
- Pass
- From
- Slaven Rezić (SREZIC)
- Dist
-
POE-Loop-Event v1.305
- Platform
- Perl 5 v5.24.3 RC1 x86_64-linux
- Date
- 2017-09-15 10:04:40
- ID
- 4a25c39c-99fd-11e7-ad90-8cba9614b7cc
This distribution has been tested as part of the CPAN Testers
project, supporting the Perl programming language. See
http://wiki.cpantesters.org/ for more information or email
questions to cpan-testers-discuss@perl.org
--
Dear Rocco Caputo,
This is a computer-generated report for POE-Loop-Event-1.305
on perl 5.24.3, created by CPAN-Reporter-1.2018.
Thank you for uploading your work to CPAN. Congratulations!
All tests were successful.
Sections of this report:
* Tester comments
* Program output
* Prerequisites
* Environment and other context
------------------------------
TESTER COMMENTS
------------------------------
Additional comments from tester:
none provided
------------------------------
PROGRAM OUTPUT
------------------------------
Output from '/usr/bin/make test':
PERL_DL_NONLAZY=1 "/opt/perl-5.24.3-RC1/bin/perl" "-MExtUtils::Command::MM" "-MTest::Harness" "-e" "undef *Test::Harness::Switches; test_harness(0, 'blib/lib', 'blib/arch')" t/*.t t/poe_loop_event/*.t
# Testing POE 1.367, Perl 5.024003, /opt/perl-5.24.3-RC1/bin/perl on linux
t/00_info.t ...................................... ok
# Testing POE 1.367, POE::Test::Loops 1.360, Using Loop(POE::Loop::Event), Perl 5.024003, /opt/perl-5.24.3-RC1/bin/perl on linux
t/poe_loop_event/00_info.t ....................... ok
t/poe_loop_event/all_errors.t .................... skipped: most of these should move into other test files
t/poe_loop_event/comp_tcp.t ...................... ok
# You might see a 'disconnect' error during this test.
# It may be ignored.
t/poe_loop_event/comp_tcp_concurrent.t ........... ok
t/poe_loop_event/connect_errors.t ................ ok
t/poe_loop_event/k_alarms.t ...................... ok
t/poe_loop_event/k_aliases.t ..................... ok
t/poe_loop_event/k_detach.t ...................... ok
t/poe_loop_event/k_run_returns.t ................. ok
t/poe_loop_event/k_selects.t ..................... ok
t/poe_loop_event/k_sig_child.t ................... ok
t/poe_loop_event/k_signals.t ..................... ok
t/poe_loop_event/k_signals_rerun.t ............... ok
t/poe_loop_event/sbk_signal_init.t ............... ok
t/poe_loop_event/ses_nfa.t ....................... ok
# This test generates some STDERR during trace testing.
=== 12896 === 23 -> _start (from /opt/perl-5.24.3-RC1/lib/site_perl/5.24.3/POE/Kernel.pm at 1497)
=== 12896 === 23 -> woot (from /opt/perl-5.24.3-RC1/lib/site_perl/5.24.3/POE/Test/Loops/ses_session.pm at 691)
=== 12896 === 23 -> narf (from /opt/perl-5.24.3-RC1/lib/site_perl/5.24.3/POE/Test/Loops/ses_session.pm at 692)
=== 12896 === 23 -> _stop (from /opt/perl-5.24.3-RC1/lib/site_perl/5.24.3/POE/Resource/Sessions.pm at 571)
t/poe_loop_event/ses_session.t ................... ok
t/poe_loop_event/wheel_accept.t .................. ok
t/poe_loop_event/wheel_curses.t .................. skipped: Need help with Curses functions blocking under ptys
t/poe_loop_event/wheel_readline.t ................ ok
t/poe_loop_event/wheel_readwrite.t ............... ok
t/poe_loop_event/wheel_run.t ..................... ok
t/poe_loop_event/wheel_run_size.t ................ ok
t/poe_loop_event/wheel_sf_ipv6.t ................. skipped: Socket::GetAddrInfo is needed for IPv6 tests
t/poe_loop_event/wheel_sf_tcp.t .................. ok
t/poe_loop_event/wheel_sf_udp.t .................. ok
t/poe_loop_event/wheel_sf_unix.t ................. ok
t/poe_loop_event/wheel_tail.t .................... ok
t/poe_loop_event/z_kogman_sig_order.t ............ ok
t/poe_loop_event/z_leolo_wheel_run.t ............. ok
# Using '/bin/true' as our thing to run under system()
t/poe_loop_event/z_merijn_sigchld_system.t ....... ok
t/poe_loop_event/z_rt39872_sigchld.t ............. ok
# Parent 13313 waiting 3sec for slow systems to settle.
# sending sigusr1
# sent sigusr1
t/poe_loop_event/z_rt39872_sigchld_stop.t ........ ok
t/poe_loop_event/z_rt53302_fh_watchers.t ......... ok
t/poe_loop_event/z_rt54319_bazerka_followtail.t .. ok
t/poe_loop_event/z_steinert_signal_integrity.t ... ok
All tests successful.
Files=36, Tests=490, 28 wallclock secs ( 0.08 usr 0.12 sys + 17.94 cusr 6.24 csys = 24.38 CPU)
Result: PASS
------------------------------
PREREQUISITES
------------------------------
Prerequisite modules loaded:
requires:
Module Need Have
------------------- ----- -----
Event 1.21 1.26
POE 1.356 1.367
build_requires:
Module Need Have
------------------- ----- -----
ExtUtils::MakeMaker 0 7.30
configure_requires:
Module Need Have
------------------- ----- -----
ExtUtils::MakeMaker 0 7.30
POE::Test::Loops 1.352 1.360
------------------------------
ENVIRONMENT AND OTHER CONTEXT
------------------------------
Environment variables:
LANG = C
LC_ALL = de_DE.UTF-8
PATH = /usr/local/bin:/usr/bin:/bin:/usr/local/sbin:/usr/sbin:/sbin:/home/cpansand/bin/linux-gnu:/home/cpansand/bin/sh:/home/cpansand/bin:/usr/games:/home/cpansand/devel:/home/eserte/src/srezic-misc/scripts
PERL5LIB =
PERL5OPT =
PERL5_CPANPLUS_IS_RUNNING = 8346
PERL5_CPAN_IS_RUNNING = 8346
PERL5_CPAN_IS_RUNNING_IN_RECURSION = 13867,8346
PERLDOC = -MPod::Perldoc::ToTextOverstrike
PERL_BATCH = yes
PERL_CANARY_STABILITY_NOPROMPT = 1
PERL_CPAN_REPORTER_CONFIG = /var/tmp/cpansmoker-1023/2017091415/cpanreporter_001_config.ini
PERL_EXTUTILS_AUTOINSTALL = --defaultdeps
PERL_PARALLEL_SMOKER = yes
PERL_USE_UNSAFE_INC = 1
SHELL = /usr/bin/zsh
TERM = screen
TMPDIR = /var/tmp/cpansmoker-1023/2017091415
Perl special variables (and OS-specific diagnostics, for MSWin32):
$^X = /opt/perl-5.24.3-RC1/bin/perl
$UID/$EUID = 1023 / 1023
$GID = 1023 1023
$EGID = 1023 1023
Perl module toolchain versions installed:
Module Have
------------------- --------
CPAN 2.16
CPAN::Meta 2.150010
Cwd 3.62
ExtUtils::CBuilder 0.280226
ExtUtils::Command 7.30
ExtUtils::Install 2.14
ExtUtils::MakeMaker 7.30
ExtUtils::Manifest 1.70
ExtUtils::ParseXS 3.35
File::Spec 3.62
JSON 2.94
JSON::PP 2.94
Module::Build 0.4224
Module::Signature 0.81
Parse::CPAN::Meta 2.150010
Test::Harness 3.39
Test::More 1.302096
YAML 1.23
YAML::Syck 1.30
version 0.9918
--
Summary of my perl5 (revision 5 version 24 subversion 3) configuration:
Platform:
osname=linux, osvers=4.9.0-3-amd64, archname=x86_64-linux
uname='linux debian9 4.9.0-3-amd64 #1 smp debian 4.9.30-2+deb9u3 (2017-08-06) x86_64 gnulinux '
config_args='-ds -e -Dprefix=/opt/perl-5.24.3-RC1 -Dcf_email=srezic@cpan.org'
hint=recommended, useposix=true, d_sigaction=define
useithreads=undef, usemultiplicity=undef
use64bitint=define, use64bitall=define, uselongdouble=undef
usemymalloc=n, bincompat5005=undef
Compiler:
cc='cc', ccflags ='-fwrapv -fno-strict-aliasing -pipe -fstack-protector-strong -I/usr/local/include -D_LARGEFILE_SOURCE -D_FILE_OFFSET_BITS=64',
optimize='-O2',
cppflags='-fwrapv -fno-strict-aliasing -pipe -fstack-protector-strong -I/usr/local/include'
ccversion='', gccversion='6.3.0 20170516', gccosandvers=''
intsize=4, longsize=8, ptrsize=8, doublesize=8, byteorder=12345678, doublekind=3
d_longlong=define, longlongsize=8, d_longdbl=define, longdblsize=16, longdblkind=3
ivtype='long', ivsize=8, nvtype='double', nvsize=8, Off_t='off_t', lseeksize=8
alignbytes=8, prototype=define
Linker and Libraries:
ld='cc', ldflags =' -fstack-protector-strong -L/usr/local/lib'
libpth=/usr/local/lib /usr/lib/gcc/x86_64-linux-gnu/6/include-fixed /usr/include/x86_64-linux-gnu /usr/lib /lib/x86_64-linux-gnu /lib/../lib /usr/lib/x86_64-linux-gnu /usr/lib/../lib /lib
libs=-lpthread -lnsl -lgdbm -ldb -ldl -lm -lcrypt -lutil -lc -lgdbm_compat
perllibs=-lpthread -lnsl -ldl -lm -lcrypt -lutil -lc
libc=libc-2.24.so, so=so, useshrplib=false, libperl=libperl.a
gnulibc_version='2.24'
Dynamic Linking:
dlsrc=dl_dlopen.xs, dlext=so, d_dlsymun=undef, ccdlflags='-Wl,-E'
cccdlflags='-fPIC', lddlflags='-shared -O2 -L/usr/local/lib -fstack-protector-strong'
Characteristics of this binary (from libperl):
Compile-time options: HAS_TIMES PERLIO_LAYERS PERL_COPY_ON_WRITE
PERL_DONT_CREATE_GVSV
PERL_HASH_FUNC_ONE_AT_A_TIME_HARD PERL_MALLOC_WRAP
PERL_PRESERVE_IVUV USE_64_BIT_ALL USE_64_BIT_INT
USE_LARGE_FILES USE_LOCALE USE_LOCALE_COLLATE
USE_LOCALE_CTYPE USE_LOCALE_NUMERIC USE_LOCALE_TIME
USE_PERLIO USE_PERL_ATOF
Locally applied patches:
RC1
Built under linux
Compiled at Sep 10 2017 16:04:31
%ENV:
PERL5LIB=""
PERL5OPT=""
PERL5_CPANPLUS_IS_RUNNING="8346"
PERL5_CPAN_IS_RUNNING="8346"
PERL5_CPAN_IS_RUNNING_IN_RECURSION="13867,8346"
PERLDOC="-MPod::Perldoc::ToTextOverstrike"
PERL_BATCH="yes"
PERL_CANARY_STABILITY_NOPROMPT="1"
PERL_CPAN_REPORTER_CONFIG="/var/tmp/cpansmoker-1023/2017091415/cpanreporter_001_config.ini"
PERL_EXTUTILS_AUTOINSTALL="--defaultdeps"
PERL_PARALLEL_SMOKER="yes"
PERL_USE_UNSAFE_INC="1"
@INC:
/opt/perl-5.24.3-RC1/lib/site_perl/5.24.3/x86_64-linux
/opt/perl-5.24.3-RC1/lib/site_perl/5.24.3
/opt/perl-5.24.3-RC1/lib/5.24.3/x86_64-linux
/opt/perl-5.24.3-RC1/lib/5.24.3
.