Path-Iterator-Rule v1.015 Perl 5 v5.34.1 i686-linux-thread-multi-64int-ld

Status
Pass
From
D Ruth Holloway
Dist
Path-Iterator-Rule v1.015
Platform
Perl 5 v5.34.1 i686-linux-thread-multi-64int-ld
Date
2022-04-11 22:32:37
ID
49fc5fe8-b9e7-11ec-a69b-74b3df26dd9c
This distribution has been tested as part of the CPAN Testers
project, supporting the Perl programming language.  See
http://wiki.cpantesters.org/ for more information or email
questions to cpan-testers-discuss@perl.org


--
Dear David Golden,

This is a computer-generated report for Path-Iterator-Rule-1.015
on perl 5.34.1, created by CPAN-Reporter-1.2018.

Thank you for uploading your work to CPAN.  Congratulations!
All tests were successful.

Sections of this report:

    * Tester comments
    * Program output
    * Prerequisites
    * Environment and other context

------------------------------
TESTER COMMENTS
------------------------------

Additional comments from tester:

this report is from an automated smoke testing program
and was not reviewed by a human for accuracy

------------------------------
PROGRAM OUTPUT
------------------------------

Output from '/usr/bin/make test':

PERL_DL_NONLAZY=1 "/home/cpantester/perl5/perlbrew/perls/perl-5.34.1-thread-multi-ld-64int/bin/perl" "-MExtUtils::Command::MM" "-MTest::Harness" "-e" "undef *Test::Harness::Switches; test_harness(0, 'blib/lib', 'blib/arch')" t/*.t
# 
# Versions for all modules listed in MYMETA.json (including optional ones):
# 
# === Configure Requires ===
# 
#     Module              Want Have
#     ------------------- ---- ----
#     ExtUtils::MakeMaker 6.17 7.62
# 
# === Build Requires ===
# 
#     Module              Want Have
#     ------------------- ---- ----
#     ExtUtils::MakeMaker  any 7.62
# 
# === Test Requires ===
# 
#     Module              Want     Have
#     ------------------- ---- --------
#     Exporter             any     5.76
#     ExtUtils::MakeMaker  any     7.62
#     File::Spec           any     3.80
#     File::Temp           any   0.2311
#     File::pushd          any    1.016
#     Path::Tiny           any    0.122
#     Test::Deep           any    1.130
#     Test::Filename      0.03     0.03
#     Test::More          0.92 1.302190
#     lib                  any     0.65
#     parent               any    0.238
# 
# === Test Recommends ===
# 
#     Module         Want     Have
#     ---------- -------- --------
#     CPAN::Meta 2.120900 2.150010
# 
# === Runtime Requires ===
# 
#     Module             Want   Have
#     ------------------ ---- ------
#     Carp                any   1.52
#     File::Basename      any   2.85
#     File::Spec          any   3.80
#     List::Util          any   1.55
#     Number::Compare    0.02   0.03
#     Scalar::Util        any   1.55
#     Text::Glob          any   0.11
#     Try::Tiny           any   0.31
#     if                  any 0.0609
#     strict              any   1.12
#     warnings            any   1.51
#     warnings::register  any   1.04
# 
t/00-report-prereqs.t .... ok
t/basic.t ................ ok
t/breadth-depth-files.t .. ok
t/breadth-depth.t ........ ok
t/children-order.t ....... ok
t/clone.t ................ ok
t/content.t .............. ok
t/error_handler.t ........ ok
t/fast.t ................. ok
t/helpers.t .............. ok
t/logic.t ................ ok
t/min-max-depth.t ........ ok
t/names.t ................ ok
t/perl.t ................. ok
t/pir.t .................. ok
t/relative.t ............. ok
t/stat_tests.t ........... ok
t/stringify.t ............ ok
t/symlink.t .............. ok
t/unsorted.t ............. ok
t/vcs.t .................. ok
t/visitor.t .............. ok
t/x_tests.t .............. ok
All tests successful.
Files=23, Tests=91,  4 wallclock secs ( 0.09 usr  0.03 sys +  3.53 cusr  0.43 csys =  4.08 CPU)
Result: PASS

------------------------------
PREREQUISITES
------------------------------

Prerequisite modules loaded:

requires:

    Module              Need     Have    
    ------------------- -------- --------
    Carp                0        1.52    
    File::Basename      0        2.85    
    File::Spec          0        3.80    
    if                  0        0.0609  
    List::Util          0        1.55    
    Number::Compare     0.02     0.03    
    perl                5.008001 5.034001
    Scalar::Util        0        1.55    
    strict              0        1.12    
    Text::Glob          0        0.11    
    Try::Tiny           0        0.31    
    warnings            0        1.51    
    warnings::register  0        1.04    

build_requires:

    Module              Need     Have    
    ------------------- -------- --------
    Exporter            0        5.76    
    ExtUtils::MakeMaker 0        7.62    
    File::pushd         0        1.016   
    File::Spec          0        3.80    
    File::Temp          0        0.2311  
    lib                 0        0.65    
    parent              0        0.238   
    Path::Tiny          0        0.122   
    Test::Deep          0        1.130   
    Test::Filename      0.03     0.03    
    Test::More          0.92     1.302190

configure_requires:

    Module              Need     Have    
    ------------------- -------- --------
    ExtUtils::MakeMaker 6.17     7.62    
    perl                5.008001 5.034001

opt_build_requires:

    Module              Need     Have    
    ------------------- -------- --------
    CPAN::Meta          2.120900 2.150010


------------------------------
ENVIRONMENT AND OTHER CONTEXT
------------------------------

Environment variables:

    AUTOMATED_TESTING = 1
    LANG = en_US.UTF-8
    PATH = /usr/bin:/bin
    PERL5LIB = /home/cpantester/.cpan/build/Test-Filename-0.03-7/blib/arch:/home/cpantester/.cpan/build/Test-Filename-0.03-7/blib/lib:/home/cpantester/.cpan/build/Moose-2.2201-7/blib/arch:/home/cpantester/.cpan/build/Moose-2.2201-7/blib/lib:/home/cpantester/.cpan/build/Dancer2-0.400000-8/blib/arch:/home/cpantester/.cpan/build/Dancer2-0.400000-8/blib/lib:/home/cpantester/.cpan/build/Moo-2.005004-7/blib/arch:/home/cpantester/.cpan/build/Moo-2.005004-7/blib/lib
    PERL5OPT = 
    PERL5_CPANPLUS_IS_RUNNING = 542
    PERL5_CPAN_IS_RUNNING = 542
    PERL5_CPAN_IS_RUNNING_IN_RECURSION = 14801,542
    PERL5_MINISMOKEBOX = 0.68
    PERL_EXTUTILS_AUTOINSTALL = --defaultdeps
    PERL_MM_USE_DEFAULT = 1
    PERL_USE_UNSAFE_INC = 1
    SHELL = /bin/sh

Perl special variables (and OS-specific diagnostics, for MSWin32):

    $^X = /home/cpantester/perl5/perlbrew/perls/perl-5.34.1-thread-multi-ld-64int/bin/perl
    $UID/$EUID = 1001 / 1001
    $GID = 1001 1001
    $EGID = 1001 1001

Perl module toolchain versions installed:

    Module              Have    
    ------------------- --------
    CPAN                2.33    
    CPAN::Meta          2.150010
    Cwd                 3.80    
    ExtUtils::CBuilder  0.280236
    ExtUtils::Command   7.62    
    ExtUtils::Install   2.20    
    ExtUtils::MakeMaker 7.62    
    ExtUtils::Manifest  1.73    
    ExtUtils::ParseXS   3.43    
    File::Spec          3.80    
    JSON                n/a     
    JSON::PP            4.06    
    Module::Build       0.4231  
    Module::Signature   n/a     
    Parse::CPAN::Meta   2.150010
    Test::Harness       3.43    
    Test::More          1.302190
    YAML                1.30    
    YAML::Syck          n/a     
    version             0.9928  


--

Summary of my perl5 (revision 5 version 34 subversion 1) configuration:
   
  Platform:
    osname=linux
    osvers=5.10.0-13-686-pae
    archname=i686-linux-thread-multi-64int-ld
    uname='linux test-i86 5.10.0-13-686-pae #1 smp debian 5.10.106-1 (2022-03-17) i686 gnulinux '
    config_args='-de -Dprefix=/home/cpantester/perl5/perlbrew/perls/perl-5.34.1-thread-multi-ld-64int -Dman1dir=none -Dman3dir=none -Dusethreads -Duselongdouble -Dusemultiplicity -Duse64bitint -Aeval:scriptdir=/home/cpantester/perl5/perlbrew/perls/perl-5.34.1-thread-multi-ld-64int/bin'
    hint=recommended
    useposix=true
    d_sigaction=define
    useithreads=define
    usemultiplicity=define
    use64bitint=define
    use64bitall=undef
    uselongdouble=define
    usemymalloc=n
    default_inc_excludes_dot=define
  Compiler:
    cc='cc'
    ccflags ='-D_REENTRANT -D_GNU_SOURCE -fwrapv -fno-strict-aliasing -pipe -fstack-protector-strong -I/usr/local/include -D_LARGEFILE_SOURCE -D_FILE_OFFSET_BITS=64 -D_FORTIFY_SOURCE=2'
    optimize='-O2'
    cppflags='-D_REENTRANT -D_GNU_SOURCE -fwrapv -fno-strict-aliasing -pipe -fstack-protector-strong -I/usr/local/include'
    ccversion=''
    gccversion='10.2.1 20210110'
    gccosandvers=''
    intsize=4
    longsize=4
    ptrsize=4
    doublesize=8
    byteorder=12345678
    doublekind=3
    d_longlong=define
    longlongsize=8
    d_longdbl=define
    longdblsize=12
    longdblkind=3
    ivtype='long long'
    ivsize=8
    nvtype='long double'
    nvsize=12
    Off_t='off_t'
    lseeksize=8
    alignbytes=4
    prototype=define
  Linker and Libraries:
    ld='cc'
    ldflags =' -fstack-protector-strong -L/usr/local/lib'
    libpth=/usr/local/lib /usr/lib/i386-linux-gnu /usr/lib /usr/lib64
    libs=-lpthread -lnsl -ldl -lm -lcrypt -lutil -lc
    perllibs=-lpthread -lnsl -ldl -lm -lcrypt -lutil -lc
    libc=libc-2.31.so
    so=so
    useshrplib=false
    libperl=libperl.a
    gnulibc_version='2.31'
  Dynamic Linking:
    dlsrc=dl_dlopen.xs
    dlext=so
    d_dlsymun=undef
    ccdlflags='-Wl,-E'
    cccdlflags='-fPIC'
    lddlflags='-shared -O2 -L/usr/local/lib -fstack-protector-strong'


Characteristics of this binary (from libperl): 
  Compile-time options:
    HAS_TIMES
    MULTIPLICITY
    PERLIO_LAYERS
    PERL_COPY_ON_WRITE
    PERL_DONT_CREATE_GVSV
    PERL_IMPLICIT_CONTEXT
    PERL_MALLOC_WRAP
    PERL_OP_PARENT
    PERL_PRESERVE_IVUV
    USE_64_BIT_INT
    USE_ITHREADS
    USE_LARGE_FILES
    USE_LOCALE
    USE_LOCALE_COLLATE
    USE_LOCALE_CTYPE
    USE_LOCALE_NUMERIC
    USE_LOCALE_TIME
    USE_LONG_DOUBLE
    USE_PERLIO
    USE_PERL_ATOF
    USE_REENTRANT_API
    USE_THREAD_SAFE_LOCALE
  Built under linux
  Compiled at Apr  4 2022 14:38:19
  %ENV:
    PERL5LIB="/home/cpantester/.cpan/build/Test-Filename-0.03-7/blib/arch:/home/cpantester/.cpan/build/Test-Filename-0.03-7/blib/lib:/home/cpantester/.cpan/build/Moose-2.2201-7/blib/arch:/home/cpantester/.cpan/build/Moose-2.2201-7/blib/lib:/home/cpantester/.cpan/build/Dancer2-0.400000-8/blib/arch:/home/cpantester/.cpan/build/Dancer2-0.400000-8/blib/lib:/home/cpantester/.cpan/build/Moo-2.005004-7/blib/arch:/home/cpantester/.cpan/build/Moo-2.005004-7/blib/lib"
    PERL5OPT=""
    PERL5_CPANPLUS_IS_RUNNING="542"
    PERL5_CPAN_IS_RUNNING="542"
    PERL5_CPAN_IS_RUNNING_IN_RECURSION="14801,542"
    PERL5_MINISMOKEBOX="0.68"
    PERL_EXTUTILS_AUTOINSTALL="--defaultdeps"
    PERL_MM_USE_DEFAULT="1"
    PERL_USE_UNSAFE_INC="1"
  @INC:
    /home/cpantester/.cpan/build/Test-Filename-0.03-7/blib/arch
    /home/cpantester/.cpan/build/Test-Filename-0.03-7/blib/lib
    /home/cpantester/.cpan/build/Moose-2.2201-7/blib/arch
    /home/cpantester/.cpan/build/Moose-2.2201-7/blib/lib
    /home/cpantester/.cpan/build/Dancer2-0.400000-8/blib/arch
    /home/cpantester/.cpan/build/Dancer2-0.400000-8/blib/lib
    /home/cpantester/.cpan/build/Moo-2.005004-7/blib/arch
    /home/cpantester/.cpan/build/Moo-2.005004-7/blib/lib
    /home/cpantester/perl5/perlbrew/perls/perl-5.34.1-thread-multi-ld-64int/lib/site_perl/5.34.1/i686-linux-thread-multi-64int-ld
    /home/cpantester/perl5/perlbrew/perls/perl-5.34.1-thread-multi-ld-64int/lib/site_perl/5.34.1
    /home/cpantester/perl5/perlbrew/perls/perl-5.34.1-thread-multi-ld-64int/lib/5.34.1/i686-linux-thread-multi-64int-ld
    /home/cpantester/perl5/perlbrew/perls/perl-5.34.1-thread-multi-ld-64int/lib/5.34.1
    .