Hash-AutoHash v1.17 Perl 5 v5.29.2 OpenBSD.amd64-openbsd

Status
Pass
From
Alceu Rodrigues de Freitas Junior
Dist
Hash-AutoHash v1.17
Platform
Perl 5 v5.29.2 OpenBSD.amd64-openbsd
Date
2018-09-06 07:20:10
ID
49f5aafc-b1a5-11e8-844f-ee57a6f199d0
This distribution has been tested as part of the CPAN Testers
project, supporting the Perl programming language.  See
http://wiki.cpantesters.org/ for more information or email
questions to cpan-testers-discuss@perl.org


--
Dear Nathan Goodman,

This is a computer-generated report for Hash-AutoHash-1.17
on perl 5.29.2, created by CPAN-Reporter-1.2018.

Thank you for uploading your work to CPAN.  Congratulations!
All tests were successful.

Sections of this report:

    * Tester comments
    * Program output
    * Prerequisites
    * Environment and other context

------------------------------
TESTER COMMENTS
------------------------------

Additional comments from tester:

this report is from an automated smoke testing program
and was not reviewed by a human for accuracy

------------------------------
PROGRAM OUTPUT
------------------------------

Output from './Build test':

# Testing Hash::AutoHash 1.17, Perl 5.029002, /home/vegeta/perl5/perlbrew/perls/perl-blead/bin/perl5.29.2
t/autohash.000.code_exists.t .... ok
t/autohash.001.boilerplate.t .... ok
t/autohash.002.pod.t ............ ok
t/autohash.010.cons_funcs.t ..... ok
t/autohash.011.new_func.t ....... ok
t/autohash.012.new_method.t ..... ok
t/autohash.013.ashash.t ......... ok
t/autohash.013.exthash.t ........ ok
t/autohash.013.extobj.t ......... ok
t/autohash.019.export_ok.t ...... ok
t/autohash.020.class_methods.t .. ok
t/autohash.020.special_keys.t ... ok
t/autohash.020.universal.t ...... ok
t/autohash.030.alias.t .......... ok
t/autohash.030.clear.t .......... ok
t/autohash.030.count_etc.t ...... ok
t/autohash.030.delete.t ......... ok
t/autohash.030.each.t ........... ok
t/autohash.030.exists.t ......... ok
t/autohash.030.get.t ............ ok
t/autohash.030.keys.t ........... ok
t/autohash.030.set.t ............ ok
t/autohash.030.tied.t ........... ok
t/autohash.030.values.t ......... ok
t/autohash.031.delete_exists.t .. ok
t/autohash.031.delete_keys.t .... ok
t/autohash.031.delete_values.t .. ok
t/autohash.040.destroy.t ........ ok
t/autohash.050.child.t .......... ok
t/autohash.050.grandchild.t ..... ok
t/autohash.055.typicalchild.t ... ok
t/autohash.099.docs.t ........... ok
All tests successful.
Files=32, Tests=2813,  8 wallclock secs ( 0.13 usr  0.38 sys +  4.01 cusr  2.84 csys =  7.36 CPU)
Result: PASS

------------------------------
PREREQUISITES
------------------------------

Prerequisite modules loaded:

requires:

    Module                Need   Have    
    --------------------- ------ --------
    Carp                  1.2    1.38    
    Cwd                   3.4    3.74    
    Exporter              5.68   5.72    
    List::MoreUtils       0.33   0.428   
    List::Util            1.32   1.50    
    perl                  v5.8.3 5.029002
    Tie::Hash             1.04   1.05    
    Tie::ToObject         0.03   0.03    
    XSLoader              0.15   0.24    

build_requires:

    Module                Need   Have    
    --------------------- ------ --------
    Carp                  1.2    1.38    
    Exporter              5.68   5.72    
    File::Spec            3.4    3.74    
    List::MoreUtils       0.33   0.428   
    Module::Build         0.4007 0.4224  
    Scalar::Util          1.23   1.50    
    Storable              2.3    3.12    
    Test::Deep            0.11   1.128   
    Test::More            0.98   1.302140
    Test::Pod             1.48   1.52    
    Test::Pod::Content    v0.0.6 0.0.6   
    Tie::Hash             1.04   1.05    
    Tie::Hash::MultiValue 1.02   1.05    

configure_requires:

    Module                Need   Have    
    --------------------- ------ --------
    Module::Build         0.4007 0.4224  


------------------------------
ENVIRONMENT AND OTHER CONTEXT
------------------------------

Environment variables:

    AUTOMATED_TESTING = 1
    DBD_MYSQL_TESTDB = test
    DBD_MYSQL_TESTHOST = localhost
    DBD_MYSQL_TESTPASSWORD = 
    DBD_MYSQL_TESTPORT = 3306
    DBD_MYSQL_TESTUSER = vegeta
    EXTENDED_TESTING = 1
    PATH = /home/vegeta/perl5/perlbrew/bin:/home/vegeta/perl5/perlbrew/perls/perl-blead/bin:/home/vegeta/bin:/usr/bin:/bin:/usr/sbin:/sbin:/usr/X11R6/bin:/usr/local/bin:/usr/local/sbin
    PERL5LIB = 
    PERL5OPT = 
    PERL5_CPANPLUS_IS_RUNNING = 71941
    PERL5_CPAN_IS_RUNNING = 71941
    PERL5_CPAN_IS_RUNNING_IN_RECURSION = 6785,71941
    PERLBREW_HOME = /home/vegeta/.perlbrew
    PERLBREW_MANPATH = /home/vegeta/perl5/perlbrew/perls/perl-blead/man
    PERLBREW_PATH = /home/vegeta/perl5/perlbrew/bin:/home/vegeta/perl5/perlbrew/perls/perl-blead/bin
    PERLBREW_PERL = perl-blead
    PERLBREW_ROOT = /home/vegeta/perl5/perlbrew
    PERLBREW_SHELLRC_VERSION = 0.84
    PERLBREW_VERSION = 0.84
    PERL_CR_SMOKER_CURRENT = Hash-AutoHash-1.17
    PERL_EXTUTILS_AUTOINSTALL = --defaultdeps
    PERL_MM_USE_DEFAULT = 1
    SHELL = /usr/local/bin/bash
    TERM = vt220

Perl special variables (and OS-specific diagnostics, for MSWin32):

    $^X = /home/vegeta/perl5/perlbrew/perls/perl-blead/bin/perl5.29.2
    $UID/$EUID = 1001 / 1001
    $GID = 999 999 1001
    $EGID = 999 999 1001

Perl module toolchain versions installed:

    Module              Have    
    ------------------- --------
    CPAN                2.16    
    CPAN::Meta          2.150010
    Cwd                 3.74    
    ExtUtils::CBuilder  0.280230
    ExtUtils::Command   7.34    
    ExtUtils::Install   2.14    
    ExtUtils::MakeMaker 7.34    
    ExtUtils::Manifest  1.71    
    ExtUtils::ParseXS   3.35    
    File::Spec          3.74    
    JSON                2.90    
    JSON::PP            2.97001 
    Module::Build       0.4224  
    Module::Signature   0.81    
    Parse::CPAN::Meta   2.150010
    Test::Harness       3.42    
    Test::More          1.302140
    YAML                1.26    
    YAML::Syck          n/a     
    version             0.9924  


--

Summary of my perl5 (revision 5 version 29 subversion 2) configuration:
  Snapshot of: cef721997e14497f2fbc4be17ab736ad7ddfda29
  Platform:
    osname=openbsd
    osvers=6.3
    archname=OpenBSD.amd64-openbsd
    uname='openbsd cpan-smoker-openbsd 6.3 generic.mp#107 amd64 '
    config_args='-de -Dprefix=/home/vegeta/perl5/perlbrew/perls/perl-blead -Dman1dir=none -Dman3dir=none -Dusedevel -Aeval:scriptdir=/home/vegeta/perl5/perlbrew/perls/perl-blead/bin'
    hint=recommended
    useposix=true
    d_sigaction=define
    useithreads=undef
    usemultiplicity=undef
    use64bitint=define
    use64bitall=define
    uselongdouble=undef
    usemymalloc=n
    default_inc_excludes_dot=define
    bincompat5005=undef
  Compiler:
    cc='cc'
    ccflags ='-fno-strict-aliasing -pipe -fstack-protector-strong -I/usr/local/include -D_FORTIFY_SOURCE=2'
    optimize='-O2'
    cppflags='-fno-strict-aliasing -pipe -fstack-protector-strong -I/usr/local/include'
    ccversion=''
    gccversion='4.2.1 Compatible OpenBSD Clang 5.0.1 (tags/RELEASE_501/final)'
    gccosandvers=''
    intsize=4
    longsize=8
    ptrsize=8
    doublesize=8
    byteorder=12345678
    doublekind=3
    d_longlong=define
    longlongsize=8
    d_longdbl=define
    longdblsize=16
    longdblkind=3
    ivtype='long'
    ivsize=8
    nvtype='double'
    nvsize=8
    Off_t='off_t'
    lseeksize=8
    alignbytes=8
    prototype=define
  Linker and Libraries:
    ld='cc'
    ldflags ='-Wl,-E  -fstack-protector-strong -L/usr/local/lib'
    libpth=/usr/lib /usr/local/lib
    libs=-lpthread -lm -lutil -lc
    perllibs=-lpthread -lm -lutil -lc
    libc=/usr/lib/libc.so.92.3
    so=so
    useshrplib=false
    libperl=libperl.a
    gnulibc_version=''
  Dynamic Linking:
    dlsrc=dl_dlopen.xs
    dlext=so
    d_dlsymun=undef
    ccdlflags=' '
    cccdlflags='-DPIC -fPIC '
    lddlflags='-shared -fPIC  -L/usr/local/lib -fstack-protector-strong'


Characteristics of this binary (from libperl): 
  Compile-time options:
    HAS_TIMES
    PERLIO_LAYERS
    PERL_COPY_ON_WRITE
    PERL_DONT_CREATE_GVSV
    PERL_MALLOC_WRAP
    PERL_OP_PARENT
    PERL_PRESERVE_IVUV
    PERL_USE_DEVEL
    USE_64_BIT_ALL
    USE_64_BIT_INT
    USE_LARGE_FILES
    USE_LOCALE
    USE_LOCALE_COLLATE
    USE_LOCALE_CTYPE
    USE_LOCALE_NUMERIC
    USE_LOCALE_TIME
    USE_PERLIO
    USE_PERL_ATOF
  Locally applied patches:
    Devel::PatchPerl 1.52
  Built under openbsd
  Compiled at Aug  2 2018 18:57:44
  %ENV:
    PERL5LIB=""
    PERL5OPT=""
    PERL5_CPANPLUS_IS_RUNNING="71941"
    PERL5_CPAN_IS_RUNNING="71941"
    PERL5_CPAN_IS_RUNNING_IN_RECURSION="6785,71941"
    PERLBREW_HOME="/home/vegeta/.perlbrew"
    PERLBREW_MANPATH="/home/vegeta/perl5/perlbrew/perls/perl-blead/man"
    PERLBREW_PATH="/home/vegeta/perl5/perlbrew/bin:/home/vegeta/perl5/perlbrew/perls/perl-blead/bin"
    PERLBREW_PERL="perl-blead"
    PERLBREW_ROOT="/home/vegeta/perl5/perlbrew"
    PERLBREW_SHELLRC_VERSION="0.84"
    PERLBREW_VERSION="0.84"
    PERL_CR_SMOKER_CURRENT="Hash-AutoHash-1.17"
    PERL_EXTUTILS_AUTOINSTALL="--defaultdeps"
    PERL_MM_USE_DEFAULT="1"
  @INC:
    /home/vegeta/perl5/perlbrew/perls/perl-blead/lib/site_perl/5.29.2/OpenBSD.amd64-openbsd
    /home/vegeta/perl5/perlbrew/perls/perl-blead/lib/site_perl/5.29.2
    /home/vegeta/perl5/perlbrew/perls/perl-blead/lib/5.29.2/OpenBSD.amd64-openbsd
    /home/vegeta/perl5/perlbrew/perls/perl-blead/lib/5.29.2