Sniffer-HTTP v0.28 Perl 5 v5.41.6 x86_64-linux

Status
Pass
From
Slaven Rezić
Dist
Sniffer-HTTP v0.28
Platform
Perl 5 v5.41.6 x86_64-linux
Date
2024-11-30 00:30:23
ID
49d6565a-aeb2-11ef-997e-224d6e8775ea
This distribution has been tested as part of the CPAN Testers
project, supporting the Perl programming language.  See
http://wiki.cpantesters.org/ for more information or email
questions to cpan-testers-discuss@perl.org


--
Dear Max Maischein,

This is a computer-generated report for Sniffer-HTTP-0.28
on perl 5.41.6, created by CPAN-Reporter-1.2020.

Thank you for uploading your work to CPAN.  Congratulations!
All tests were successful.

Sections of this report:

    * Tester comments
    * Program output
    * Prerequisites
    * Environment and other context

------------------------------
TESTER COMMENTS
------------------------------

Additional comments from tester:

none provided

------------------------------
PROGRAM OUTPUT
------------------------------

Output from 'make test':

PERL_DL_NONLAZY=1 "/opt/perl-5.41.6/bin/perl5.41.6" "-MExtUtils::Command::MM" "-MTest::Harness" "-e" "undef *Test::Harness::Switches; test_harness(0, 'blib/lib', 'blib/arch')" t/01-find_device.t t/01-use.t t/02-chunked.t t/03-libpcap_dump.t t/04-other_port.t t/05-capture_to_file.t
# Pcap lib_version is libpcap version 1.8.1
# You're not running the tests as root - they might fail
Use of apostrophe as package separator was deprecated in Perl 5.37.9,
and will be removed in Perl 5.42.0.  You should change code that uses
Test::More::isn't() to use Test::More::isnt() as a replacement at t/01-find_device.t line 33
Use of apostrophe as package separator was deprecated in Perl 5.37.9,
and will be removed in Perl 5.42.0.  You should change code that uses
Test::More::isn't() to use Test::More::isnt() as a replacement at t/01-find_device.t line 39
Use of apostrophe as package separator was deprecated in Perl 5.37.9,
and will be removed in Perl 5.42.0.  You should change code that uses
Test::More::isn't() to use Test::More::isnt() as a replacement at t/01-find_device.t line 43
Use of apostrophe as package separator was deprecated in Perl 5.37.9,
and will be removed in Perl 5.42.0.  You should change code that uses
Test::More::isn't() to use Test::More::isnt() as a replacement at t/01-find_device.t line 55
t/01-find_device.t ...... ok
t/01-use.t .............. ok
# You're not running the tests as root - they might fail
# Creating connection 2537:80, sequence start at 779081851
# Got header
# Request header and content are ready (0 bytes)
# Got chunksize 0, reporting response
# Removing 2537:80
t/02-chunked.t .......... ok
# You're not running the tests as root - they might fail
# Creating connection 2929:80, sequence start at 4158002222
# Got header
# Request header and content are ready (0 bytes)
# Got chunksize 0, reporting response
# Got header
# Request header and content are ready (0 bytes)
# Got chunksize 0, reporting response
t/03-libpcap_dump.t ..... ok
# You're not running the tests as root - they might fail
# Creating connection 4345:8888, sequence start at 2872133876
# Got header
# Request header and content are ready (0 bytes)
# Got chunksize 0, reporting response
# Got header
# Request header and content are ready (0 bytes)
# Got chunksize 0, reporting response
t/04-other_port.t ....... ok
# Using libpcap version 1.8.1
# We are not root. find_device() might be unreliable and tests might fail.
# *** Doing live capture of an LWP request to http://www.cpan.org/
# *** If that is blocked or you live behind a proxy, this test will fail.
# *** The dump-to-file feature is untested then.
# Using device 'eth0'
# Launching request to 'http://www.cpan.org/'
# Couldn't sniff: Unable to create packet capture on device '<user specified device>': eth0: You don't have permission to capture on that device (socket: Operation not permitted) at /home/e/eserte/.cpan/build/2024112923/Sniffer-HTTP-0.28-0/blib/lib/Sniffer/HTTP.pm line 423.
# Are you sure you have the proper permissions?
# Maybe you need to be root to get the proper permissions. Your user id is 1000
# Child done.
t/05-capture_to_file.t .. ok
All tests successful.

Test Summary Report
-------------------
t/01-find_device.t    (Wstat: 0 Tests: 11 Failed: 0)
  TODO passed:   2-11
Files=6, Tests=34,  2 wallclock secs ( 0.03 usr  0.00 sys +  0.41 cusr  0.06 csys =  0.50 CPU)
Result: PASS

------------------------------
PREREQUISITES
------------------------------

Prerequisite modules loaded:

requires:

    Module                   Need  Have     
    ------------------------ ----- ---------
    Class::Accessor          0     0.51     
    Class::Data::Inheritable 0     0.10     
    Exporter                 5.5   5.78     
    HTTP::Request            6.14  7.00     
    HTTP::Response           6.14  7.00     
    LWP::Simple              0     6.77     
    Net::Pcap                0.09  0.21     
    NetPacket::TCP           0     1.7.2    
    parent                   0     0.242_001
    perl                     5.006 5.041006 

build_requires:

    Module                   Need  Have     
    ------------------------ ----- ---------
    Data::Dumper             0     2.190    
    ExtUtils::MakeMaker      0     7.70     
    Image::Info              0     1.44     
    Test::Deep               0     1.204    
    Test::HTTP::LocalServer  0.61  0.76     
    Test::More               0     1.302204 
    URI                      0     5.31     
    URI::file                0     5.31     

configure_requires:

    Module                   Need  Have     
    ------------------------ ----- ---------
    ExtUtils::MakeMaker      0     7.70     


------------------------------
ENVIRONMENT AND OTHER CONTEXT
------------------------------

Environment variables:

    LANG = en_US.UTF-8
    PATH = /usr/local/bin:/usr/bin:/bin:/usr/local/sbin:/usr/sbin:/sbin:/home/e/eserte/bin/linux-gnu:/home/e/eserte/bin/sh:/home/e/eserte/bin:/home/e/eserte/bin/pistachio-perl/bin:/usr/games:/home/e/eserte/devel:/home/e/eserte/work2/fzf/bin:/home/e/eserte/src/srezic-misc/scripts
    PERL5LIB = 
    PERL5OPT = 
    PERL5_CPANPLUS_IS_RUNNING = 3858
    PERL5_CPAN_IS_RUNNING = 3858
    PERL5_CPAN_IS_RUNNING_IN_RECURSION = 3842,3858
    PERLDOC = -MPod::Perldoc::ToTextOverstrike
    PERL_BATCH = yes
    PERL_CANARY_STABILITY_NOPROMPT = 1
    PERL_CPAN_REPORTER_CONFIG = /var/tmp/cpansmoker-1000/2024112923/cpanreporter_000_config.ini
    PERL_EXTUTILS_AUTOINSTALL = --defaultdeps
    PERL_USE_UNSAFE_INC = 1
    SHELL = /bin/zsh
    STDPERL = perl
    TERM = xterm
    TMPDIR = /var/tmp/cpansmoker-1000/2024112923

Perl special variables (and OS-specific diagnostics, for MSWin32):

    $^X = /opt/perl-5.41.6/bin/perl5.41.6
    $UID/$EUID = 1000 / 1000
    $GID = 1000 4 24 25 27 29 30 33 44 46 108 111 115 128 134 1000 1024
    $EGID = 1000 4 24 25 27 29 30 33 44 46 108 111 115 128 134 1000 1024

Perl module toolchain versions installed:

    Module              Have    
    ------------------- --------
    CPAN                2.38    
    CPAN::Meta          2.150010
    Cwd                 3.92    
    ExtUtils::CBuilder  0.280240
    ExtUtils::Command   7.70    
    ExtUtils::Install   2.22    
    ExtUtils::MakeMaker 7.70    
    ExtUtils::Manifest  1.75    
    ExtUtils::ParseXS   3.56    
    File::Spec          3.93    
    JSON                4.10    
    JSON::PP            4.16    
    Module::Build       0.4234  
    Module::Signature   n/a     
    Parse::CPAN::Meta   2.150010
    Test2               1.302204
    Test::Harness       3.50    
    Test::More          1.302204
    YAML                1.31    
    YAML::Syck          1.34    
    version             0.9933  


--

Summary of my perl5 (revision 5 version 41 subversion 6) configuration:
   
  Platform:
    osname=linux
    osvers=4.9.0-19-amd64
    archname=x86_64-linux
    uname='linux cabulja 4.9.0-19-amd64 #1 smp debian 4.9.320-2 (2022-06-30) x86_64 gnulinux '
    config_args='-ds -e -Dprefix=/opt/perl-5.41.6 -Uinstallusrbinperl -Dusedevel -Dusemallocwrap=no -Dcf_email=srezic@cpan.org'
    hint=recommended
    useposix=true
    d_sigaction=define
    useithreads=undef
    usemultiplicity=undef
    use64bitint=define
    use64bitall=define
    uselongdouble=undef
    usemymalloc=n
    default_inc_excludes_dot=define
  Compiler:
    cc='cc'
    ccflags ='-fwrapv -fno-strict-aliasing -pipe -fstack-protector-strong -I/usr/local/include -D_LARGEFILE_SOURCE -D_FILE_OFFSET_BITS=64 -D_FORTIFY_SOURCE=2'
    optimize='-O2'
    cppflags='-fwrapv -fno-strict-aliasing -pipe -fstack-protector-strong -I/usr/local/include'
    ccversion=''
    gccversion='6.3.0 20170516'
    gccosandvers=''
    intsize=4
    longsize=8
    ptrsize=8
    doublesize=8
    byteorder=12345678
    doublekind=3
    d_longlong=define
    longlongsize=8
    d_longdbl=define
    longdblsize=16
    longdblkind=3
    ivtype='long'
    ivsize=8
    nvtype='double'
    nvsize=8
    Off_t='off_t'
    lseeksize=8
    alignbytes=8
    prototype=define
  Linker and Libraries:
    ld='cc'
    ldflags =' -fstack-protector-strong -L/usr/local/lib'
    libpth=/usr/local/lib /usr/lib/x86_64-linux-gnu /usr/lib /lib/x86_64-linux-gnu /lib
    libs=-lpthread -lgdbm -ldb -ldl -lm -lcrypt -lutil -lc -lgdbm_compat
    perllibs=-lpthread -ldl -lm -lcrypt -lutil -lc
    libc=libc-2.24.so
    so=so
    useshrplib=false
    libperl=libperl.a
    gnulibc_version='2.24'
  Dynamic Linking:
    dlsrc=dl_dlopen.xs
    dlext=so
    d_dlsymun=undef
    ccdlflags='-Wl,-E'
    cccdlflags='-fPIC'
    lddlflags='-shared -O2 -L/usr/local/lib -fstack-protector-strong'


Characteristics of this binary (from libperl): 
  Compile-time options:
    HAS_LONG_DOUBLE
    HAS_STRTOLD
    HAS_TIMES
    PERLIO_LAYERS
    PERL_COPY_ON_WRITE
    PERL_DONT_CREATE_GVSV
    PERL_HASH_FUNC_SIPHASH13
    PERL_HASH_USE_SBOX32
    PERL_OP_PARENT
    PERL_PRESERVE_IVUV
    PERL_USE_DEVEL
    PERL_USE_SAFE_PUTENV
    USE_64_BIT_ALL
    USE_64_BIT_INT
    USE_LARGE_FILES
    USE_LOCALE
    USE_LOCALE_COLLATE
    USE_LOCALE_CTYPE
    USE_LOCALE_NUMERIC
    USE_LOCALE_TIME
    USE_PERLIO
    USE_PERL_ATOF
  Built under linux
  Compiled at Nov 23 2024 12:19:07
  %ENV:
    PERL5LIB=""
    PERL5OPT=""
    PERL5_CPANPLUS_IS_RUNNING="3858"
    PERL5_CPAN_IS_RUNNING="3858"
    PERL5_CPAN_IS_RUNNING_IN_RECURSION="3842,3858"
    PERLDOC="-MPod::Perldoc::ToTextOverstrike"
    PERL_BATCH="yes"
    PERL_CANARY_STABILITY_NOPROMPT="1"
    PERL_CPAN_REPORTER_CONFIG="/var/tmp/cpansmoker-1000/2024112923/cpanreporter_000_config.ini"
    PERL_EXTUTILS_AUTOINSTALL="--defaultdeps"
    PERL_USE_UNSAFE_INC="1"
  @INC:
    /opt/perl-5.41.6/lib/site_perl/5.41.6/x86_64-linux
    /opt/perl-5.41.6/lib/site_perl/5.41.6
    /opt/perl-5.41.6/lib/5.41.6/x86_64-linux
    /opt/perl-5.41.6/lib/5.41.6
    .