Back
From: metabase:user:6b7c0268-6bfa-1014-b492-d6f6123e60b2
Subject: PASS Path-FindDev-0.5.0 v5.20.0
Date: 2014-06-01T22:44:54Z
This distribution has been tested as part of the CPAN Testers
project, supporting the Perl programming language. See
http://wiki.cpantesters.org/ for more information or email
questions to cpan-testers-discuss@perl.org
--
Dear Kent Fredric,
This is a computer-generated report for Path-FindDev-0.5.0
on perl 5.20.0, created by CPAN-Reporter-1.2011.
Thank you for uploading your work to CPAN. Congratulations!
All tests were successful.
Sections of this report:
* Tester comments
* Program output
* Prerequisites
* Environment and other context
------------------------------
TESTER COMMENTS
------------------------------
Additional comments from tester:
this report is from an automated smoke testing program
and was not reviewed by a human for accuracy
------------------------------
PROGRAM OUTPUT
------------------------------
Output from 'C:\smoker\5200x86\c\bin\dmake.exe test':
C:\smoker\5200x86\perl\bin\perl.exe "-MExtUtils::Command::MM" "-MTest::Harness" "-e" "undef *Test::Harness::Switches; test_harness(0, 'blib\lib', 'blib\arch')" t/*.t t/00-compile/*.t
t/00-compile/lib_Path_FindDev_Object_pm.t .. ok
t/00-compile/lib_Path_FindDev_pm.t ......... ok
#
# Versions for all modules listed in MYMETA.json (including optional ones):
# Version Module
# -------- ------------------------
# 2.141170 CPAN::Meta
# 2.125 CPAN::Meta::Requirements
# 1.3301 Carp
# 0.014 Class::Tiny
# 6.98 ExtUtils::MakeMaker
# 3.47 File::Spec::Functions
# 1.51 FindBin
# 1.38 List::Util
# 1.001000 Path::IsDev
# 1.001000 Path::IsDev::Object
# 0.054 Path::Tiny
# 1.38 Scalar::Util
# 0.987 Sub::Exporter
# 1.001003 Test::More
# 1.08 strict
# 1.13 utf8
# 0.9908 version
# 1.23 warnings
t/00-report-prereqs.t ...................... ok
# System path sanity check skipped due to potential security risks, set ENV{SYSTEM_PATH_TEST} if you wish to run this test
t/basic.t .................................. ok
All tests successful.
Files=4, Tests=5, 1 wallclock secs ( 0.08 usr + 0.03 sys = 0.11 CPU)
Result: PASS
------------------------------
PREREQUISITES
------------------------------
Prerequisite modules loaded:
requires:
Module Need Have
------------------------ -------- --------
Carp 0 1.3301
Class::Tiny 0.010 0.014
Path::IsDev v0.2.2 1.001000
Path::IsDev::Object 0 1.001000
Path::Tiny 0.038 0.054
Scalar::Util 0 1.38
strict 0 1.08
Sub::Exporter 0 0.987
utf8 0 1.13
warnings 0 1.23
build_requires:
Module Need Have
------------------------ -------- --------
ExtUtils::MakeMaker 0 6.98
File::Spec::Functions 0 3.47
FindBin 0 1.51
List::Util 0 1.38
Test::More 0.89 1.001003
version 0 0.9908
configure_requires:
Module Need Have
------------------------ -------- --------
ExtUtils::MakeMaker 6.30 6.98
opt_build_requires:
Module Need Have
------------------------ -------- --------
CPAN::Meta 0 2.141170
CPAN::Meta::Requirements 2.120900 2.125
ExtUtils::MakeMaker 6.90 6.98
Test::More 1.001002 1.001003
------------------------------
ENVIRONMENT AND OTHER CONTEXT
------------------------------
Environment variables:
AUTOMATED_TESTING = 1
COMSPEC = C:\Windows\system32\cmd.exe
NUMBER_OF_PROCESSORS = 3
PATH = C:\smoker\5200x86\perl\site\bin;C:\smoker\5200x86\perl\bin;C:\smoker\5200x86\c\bin;C:\Windows\system32;C:\Windows;C:\Windows\System32\Wbem
PERL5LIB =
PERL5OPT =
PERL5_CPANPLUS_IS_RUNNING = 2916
PERL5_CPAN_IS_RUNNING = 2916
PERL5_CPAN_IS_RUNNING_IN_RECURSION = 976,2916
PERL_CR_SMOKER_CURRENT = Minilla-v1.1.0
PERL_EXTUTILS_AUTOINSTALL = --defaultdeps
PERL_MM_USE_DEFAULT = 1
PROCESSOR_IDENTIFIER = Intel64 Family 6 Model 13 Stepping 3, GenuineIntel
TEMP = C:\Users\smoker\AppData\Local\Temp\3
Perl special variables (and OS-specific diagnostics, for MSWin32):
$^X = C:\smoker\5200x86\perl\bin\perl.exe
$UID/$EUID = 0 / 0
$GID = 0
$EGID = 0
Win32::GetOSName = Win2012
Win32::GetOSVersion = , 6, 2, 9200, 2, 0, 0, 400, 3
Win32::FsType = NTFS
Win32::IsAdminUser = 0
Perl module toolchain versions installed:
Module Have
------------------- --------
CPAN 2.05
CPAN::Meta 2.141170
Cwd 3.47
ExtUtils::CBuilder 0.280216
ExtUtils::Command 1.18
ExtUtils::Install 1.67
ExtUtils::MakeMaker 6.98
ExtUtils::Manifest 1.63
ExtUtils::ParseXS 3.24
File::Spec 3.47
JSON 2.90
JSON::PP 2.27203
Module::Build 0.4205
Module::Signature n/a
Parse::CPAN::Meta 1.4414
Test::Harness 3.30
Test::More 1.001003
YAML 0.92
YAML::Syck n/a
version 0.9908
--
Summary of my perl5 (revision 5 version 20 subversion 0) configuration:
Platform:
osname=MSWin32, osvers=6.2, archname=MSWin32-x86-multi-thread-64int
uname='Win32 strawberry-perl 5.20.0.1 #1 Fri May 30 23:25:11 2014 i386'
config_args='undef'
hint=recommended, useposix=true, d_sigaction=undef
useithreads=define, usemultiplicity=define
use64bitint=define, use64bitall=undef, uselongdouble=undef
usemymalloc=n, bincompat5005=undef
Compiler:
cc='gcc', ccflags =' -s -O2 -DWIN32 -DPERL_TEXTMODE_SCRIPTS -DPERL_IMPLICIT_CONTEXT -DPERL_IMPLICIT_SYS -DUSE_PERLIO -fwrapv -fno-strict-aliasing -mms-bitfields',
optimize='-s -O2',
cppflags='-DWIN32'
ccversion='', gccversion='4.8.2', gccosandvers=''
intsize=4, longsize=4, ptrsize=4, doublesize=8, byteorder=12345678
d_longlong=define, longlongsize=8, d_longdbl=define, longdblsize=12
ivtype='long long', ivsize=8, nvtype='double', nvsize=8, Off_t='long long', lseeksize=8
alignbytes=8, prototype=define
Linker and Libraries:
ld='g++', ldflags ='-s -L"C:\smoker\5200x86\perl\lib\CORE" -L"C:\smoker\5200x86\c\lib"'
libpth=C:\smoker\5200x86\c\lib C:\smoker\5200x86\c\i686-w64-mingw32\lib C:\smoker\5200x86\c\lib\gcc\i686-w64-mingw32\4.8.2
libs=-lmoldname -lkernel32 -luser32 -lgdi32 -lwinspool -lcomdlg32 -ladvapi32 -lshell32 -lole32 -loleaut32 -lnetapi32 -luuid -lws2_32 -lmpr -lwinmm -lversion -lodbc32 -lodbccp32 -lcomctl32
perllibs=-lmoldname -lkernel32 -luser32 -lgdi32 -lwinspool -lcomdlg32 -ladvapi32 -lshell32 -lole32 -loleaut32 -lnetapi32 -luuid -lws2_32 -lmpr -lwinmm -lversion -lodbc32 -lodbccp32 -lcomctl32
libc=, so=dll, useshrplib=true, libperl=libperl520.a
gnulibc_version=''
Dynamic Linking:
dlsrc=dl_win32.xs, dlext=xs.dll, d_dlsymun=undef, ccdlflags=' '
cccdlflags=' ', lddlflags='-mdll -s -L"C:\smoker\5200x86\perl\lib\CORE" -L"C:\smoker\5200x86\c\lib"'
Characteristics of this binary (from libperl):
Compile-time options: HAS_TIMES HAVE_INTERP_INTERN MULTIPLICITY
PERLIO_LAYERS PERL_DONT_CREATE_GVSV
PERL_HASH_FUNC_ONE_AT_A_TIME_HARD
PERL_IMPLICIT_CONTEXT PERL_IMPLICIT_SYS
PERL_MALLOC_WRAP PERL_NEW_COPY_ON_WRITE
PERL_PRESERVE_IVUV USE_64_BIT_INT USE_ITHREADS
USE_LARGE_FILES USE_LOCALE USE_LOCALE_COLLATE
USE_LOCALE_CTYPE USE_LOCALE_NUMERIC USE_PERLIO
USE_PERL_ATOF
Built under MSWin32
Compiled at May 30 2014 23:29:27
%ENV:
PERL5_CPANPLUS_IS_RUNNING="2916"
PERL5_CPAN_IS_RUNNING="2916"
PERL5_CPAN_IS_RUNNING_IN_RECURSION="976,2916"
PERL_CR_SMOKER_CURRENT="Minilla-v1.1.0"
PERL_EXTUTILS_AUTOINSTALL="--defaultdeps"
PERL_MM_USE_DEFAULT="1"
@INC:
C:/smoker/5200x86/perl/site/lib/MSWin32-x86-multi-thread-64int
C:/smoker/5200x86/perl/site/lib
C:/smoker/5200x86/perl/vendor/lib
C:/smoker/5200x86/perl/lib
.