Report for Test-Pod-LinkCheck-0.007

Back
From: metabase:user:320bfe00-2aae-11df-837a-5e0a49663a4f
Subject: PASS Test-Pod-LinkCheck-0.007 v5.17.11 GNU/Linux
Date: 2013-07-13T21:43:43Z

This distribution has been tested as part of the CPAN Testers
project, supporting the Perl programming language.  See
http://wiki.cpantesters.org/ for more information or email
questions to cpan-testers-discuss@perl.org


--
Dear Apocalypse,

This is a computer-generated report for Test-Pod-LinkCheck-0.007
on perl 5.17.11, created by CPAN-Reporter-1.2010.

Thank you for uploading your work to CPAN.  Congratulations!
All tests were successful.

Sections of this report:

    * Tester comments
    * Program output
    * Prerequisites
    * Environment and other context

------------------------------
TESTER COMMENTS
------------------------------

Additional comments from tester:

this report is from an automated smoke testing program
and was not reviewed by a human for accuracy

------------------------------
PROGRAM OUTPUT
------------------------------

Output from './Build test':

t/00-compile.t ................ ok
# 
You should load Test::Tester before Test::Builder (or anything that loads Test::Builder) at /home/sand/src/perl/repoperls/installed-perls/perl/v5.17.11/9980/lib/5.17.11/Test/Tester.pm line 9.
# 
# Generated by Dist::Zilla::Plugin::ReportVersions::Tiny v1.03
# perl: v5.17.11 (wanted 5.006) on linux from /home/sand/src/perl/repoperls/installed-perls/perl/v5.17.11/9980/bin/perl
# 
# App::PodLinkCheck::ParseLinks                 => 12         (want 4)      
# App::PodLinkCheck::ParseSections              => 12         (want any version)
# Capture::Tiny                                 => 0.22       (want any version)
# Config                                        => 5.017011   (want any version)
# Exporter                                      => 5.68       (want any version)
# File::Find                                    => 1.23       (want any version)
# File::Spec                                    => 3.40       (want any version)
# File::Temp                                    => 0.2301     (want any version)
# Module::Build                                 => 0.4005     (want 0.3601) 
# Moose                                         => 2.0802     (want 1.01)   
# Moose::Util::TypeConstraints                  => 2.0802     (want 1.01)   
# Pod::Find                                     => 1.60       (want any version)
# Test::Builder                                 => 0.98       (want 0.94)   
# Test::More                                    => 0.98       (want 0.88)   
# Test::Pod                                     => 1.48       (want 1.44)   
# Test::Tester                                  => 0.109      (want any version)
# parent                                        => 0.225      (want any version)
# 
# Thanks for using my code.  I hope it works for you.
# If not, please try and include this output in the bug report.
# That will help me reproduce the issue and solve your problem.
# 
t/000-report-versions-tiny.t .. ok
t/apocalypse.t ................ skipped: Test::Apocalypse required for validating the distribution
CPANPLUS::Backend will be removed from the Perl core distribution in the next major release. Please install it from CPAN. It is being used at /tmp/loop_over_bdir-5236-Y7I5B7/Test-Pod-LinkCheck-0.007-gKdBJ1/blib/lib/Test/Pod/LinkCheck.pm, line 437.
CPANPLUS::Error will be removed from the Perl core distribution in the next major release. Please install it from CPAN. It is being used at /home/sand/src/perl/repoperls/installed-perls/perl/v5.17.11/9980/lib/5.17.11/CPANPLUS/Backend.pm, line 7.
Log::Message will be removed from the Perl core distribution in the next major release. Please install it from CPAN. It is being used at /home/sand/src/perl/repoperls/installed-perls/perl/v5.17.11/9980/lib/5.17.11/CPANPLUS/Error.pm, line 8.
Log::Message::Item will be removed from the Perl core distribution in the next major release. Please install it from CPAN. It is being used at /home/sand/src/perl/repoperls/installed-perls/perl/v5.17.11/9980/lib/5.17.11/Log/Message.pm, line 7.
Log::Message::Handlers will be removed from the Perl core distribution in the next major release. Please install it from CPAN. It is being used at /home/sand/src/perl/repoperls/installed-perls/perl/v5.17.11/9980/lib/5.17.11/Log/Message/Item.pm, line 7.
Log::Message::Config will be removed from the Perl core distribution in the next major release. Please install it from CPAN. It is being used at /home/sand/src/perl/repoperls/installed-perls/perl/v5.17.11/9980/lib/5.17.11/Log/Message.pm, line 8.
CPANPLUS::Configure will be removed from the Perl core distribution in the next major release. Please install it from CPAN. It is being used at /home/sand/src/perl/repoperls/installed-perls/perl/v5.17.11/9980/lib/5.17.11/CPANPLUS/Backend.pm, line 8.
CPANPLUS::Internals::Constants will be removed from the Perl core distribution in the next major release. Please install it from CPAN. It is being used at /home/sand/src/perl/repoperls/installed-perls/perl/v5.17.11/9980/lib/5.17.11/CPANPLUS/Configure.pm, line 6.
CPANPLUS::Config will be removed from the Perl core distribution in the next major release. Please install it from CPAN. It is being used at /home/sand/src/perl/repoperls/installed-perls/perl/v5.17.11/9980/lib/5.17.11/CPANPLUS/Configure.pm, line 8.
Object::Accessor will be removed from the Perl core distribution in the next major release. Please install it from CPAN. It is being used at (eval 254), line 2.
CPANPLUS::Internals::Utils will be removed from the Perl core distribution in the next major release. Please install it from CPAN. It is being used at (eval 257), line 2.
CPANPLUS will be removed from the Perl core distribution in the next major release. Please install it from CPAN. It is being used at /home/sand/src/perl/repoperls/installed-perls/perl/v5.17.11/9980/lib/5.17.11/CPANPLUS/Config.pm, line 13.
CPANPLUS::Internals will be removed from the Perl core distribution in the next major release. Please install it from CPAN. It is being used at /home/sand/src/perl/repoperls/installed-perls/perl/v5.17.11/9980/lib/5.17.11/CPANPLUS/Configure.pm, line 23.
CPANPLUS::Selfupdate will be removed from the Perl core distribution in the next major release. Please install it from CPAN. It is being used at /home/sand/src/perl/repoperls/installed-perls/perl/v5.17.11/9980/lib/5.17.11/CPANPLUS/Internals.pm, line 13.
CPANPLUS::Module will be removed from the Perl core distribution in the next major release. Please install it from CPAN. It is being used at (eval 275), line 2.
CPANPLUS::Dist will be removed from the Perl core distribution in the next major release. Please install it from CPAN. It is being used at /home/sand/src/perl/repoperls/installed-perls/perl/v5.17.11/9980/lib/5.17.11/CPANPLUS/Module.pm, line 8.
CPANPLUS::Module::Signature will be removed from the Perl core distribution in the next major release. Please install it from CPAN. It is being used at /home/sand/src/perl/repoperls/installed-perls/perl/v5.17.11/9980/lib/5.17.11/CPANPLUS/Module.pm, line 10.
CPANPLUS::Module::Checksums will be removed from the Perl core distribution in the next major release. Please install it from CPAN. It is being used at /home/sand/src/perl/repoperls/installed-perls/perl/v5.17.11/9980/lib/5.17.11/CPANPLUS/Module.pm, line 11.
CPANPLUS::Internals::Extract will be removed from the Perl core distribution in the next major release. Please install it from CPAN. It is being used at /home/sand/src/perl/repoperls/installed-perls/perl/v5.17.11/9980/lib/5.17.11/CPANPLUS/Internals.pm, line 15.
Archive::Extract will be removed from the Perl core distribution in the next major release. Please install it from CPAN. It is being used at /home/sand/src/perl/repoperls/installed-perls/perl/v5.17.11/9980/lib/5.17.11/CPANPLUS/Internals/Extract.pm, line 11.
CPANPLUS::Internals::Fetch will be removed from the Perl core distribution in the next major release. Please install it from CPAN. It is being used at /home/sand/src/perl/repoperls/installed-perls/perl/v5.17.11/9980/lib/5.17.11/CPANPLUS/Internals.pm, line 16.
CPANPLUS::Internals::Search will be removed from the Perl core distribution in the next major release. Please install it from CPAN. It is being used at /home/sand/src/perl/repoperls/installed-perls/perl/v5.17.11/9980/lib/5.17.11/CPANPLUS/Internals.pm, line 19.
CPANPLUS::Module::Author will be removed from the Perl core distribution in the next major release. Please install it from CPAN. It is being used at /home/sand/src/perl/repoperls/installed-perls/perl/v5.17.11/9980/lib/5.17.11/CPANPLUS/Internals/Search.pm, line 9.
CPANPLUS::Internals::Report will be removed from the Perl core distribution in the next major release. Please install it from CPAN. It is being used at /home/sand/src/perl/repoperls/installed-perls/perl/v5.17.11/9980/lib/5.17.11/CPANPLUS/Internals.pm, line 20.
CPANPLUS::Internals::Constants::Report will be removed from the Perl core distribution in the next major release. Please install it from CPAN. It is being used at /home/sand/src/perl/repoperls/installed-perls/perl/v5.17.11/9980/lib/5.17.11/CPANPLUS/Internals/Report.pm, line 8.
CPANPLUS::Backend::RV will be removed from the Perl core distribution in the next major release. Please install it from CPAN. It is being used at /home/sand/src/perl/repoperls/installed-perls/perl/v5.17.11/9980/lib/5.17.11/CPANPLUS/Backend.pm, line 13.
Devel::InnerPackage will be removed from the Perl core distribution in the next major release. Please install it from CPAN. It is being used at /home/sand/src/perl/repoperls/installed-perls/perl/v5.17.11/9980/lib/5.17.11/Module/Pluggable/Object.pm, line 8.
Module::Pluggable::Object will be removed from the Perl core distribution in the next major release. Please install it from CPAN. It is being used at /home/sand/src/perl/repoperls/installed-perls/perl/v5.17.11/9980/lib/5.17.11/Module/Pluggable.pm, line 5.
Module::Pluggable will be removed from the Perl core distribution in the next major release. Please install it from CPAN. It is being used at /home/sand/src/perl/repoperls/installed-perls/perl/v5.17.11/9980/lib/5.17.11/CPANPLUS/Configure.pm, line 182.
CPANPLUS::Config::HomeEnv will be removed from the Perl core distribution in the next major release. Please install it from CPAN. It is being used at /home/sand/src/perl/repoperls/installed-perls/perl/v5.17.11/9980/lib/5.17.11/Module/Load.pm, line 27.
t/cpan_backend.t .............. ok
t/functions.t ................. ok
CPANPLUS::Backend will be removed from the Perl core distribution in the next major release. Please install it from CPAN. It is being used at /tmp/loop_over_bdir-5236-Y7I5B7/Test-Pod-LinkCheck-0.007-gKdBJ1/blib/lib/Test/Pod/LinkCheck.pm, line 437.
CPANPLUS::Error will be removed from the Perl core distribution in the next major release. Please install it from CPAN. It is being used at /home/sand/src/perl/repoperls/installed-perls/perl/v5.17.11/9980/lib/5.17.11/CPANPLUS/Backend.pm, line 7.
Log::Message will be removed from the Perl core distribution in the next major release. Please install it from CPAN. It is being used at /home/sand/src/perl/repoperls/installed-perls/perl/v5.17.11/9980/lib/5.17.11/CPANPLUS/Error.pm, line 8.
Log::Message::Item will be removed from the Perl core distribution in the next major release. Please install it from CPAN. It is being used at /home/sand/src/perl/repoperls/installed-perls/perl/v5.17.11/9980/lib/5.17.11/Log/Message.pm, line 7.
Log::Message::Handlers will be removed from the Perl core distribution in the next major release. Please install it from CPAN. It is being used at /home/sand/src/perl/repoperls/installed-perls/perl/v5.17.11/9980/lib/5.17.11/Log/Message/Item.pm, line 7.
Log::Message::Config will be removed from the Perl core distribution in the next major release. Please install it from CPAN. It is being used at /home/sand/src/perl/repoperls/installed-perls/perl/v5.17.11/9980/lib/5.17.11/Log/Message.pm, line 8.
CPANPLUS::Configure will be removed from the Perl core distribution in the next major release. Please install it from CPAN. It is being used at /home/sand/src/perl/repoperls/installed-perls/perl/v5.17.11/9980/lib/5.17.11/CPANPLUS/Backend.pm, line 8.
CPANPLUS::Internals::Constants will be removed from the Perl core distribution in the next major release. Please install it from CPAN. It is being used at /home/sand/src/perl/repoperls/installed-perls/perl/v5.17.11/9980/lib/5.17.11/CPANPLUS/Configure.pm, line 6.
CPANPLUS::Config will be removed from the Perl core distribution in the next major release. Please install it from CPAN. It is being used at /home/sand/src/perl/repoperls/installed-perls/perl/v5.17.11/9980/lib/5.17.11/CPANPLUS/Configure.pm, line 8.
Object::Accessor will be removed from the Perl core distribution in the next major release. Please install it from CPAN. It is being used at (eval 285), line 2.
CPANPLUS::Internals::Utils will be removed from the Perl core distribution in the next major release. Please install it from CPAN. It is being used at (eval 288), line 2.
CPANPLUS will be removed from the Perl core distribution in the next major release. Please install it from CPAN. It is being used at /home/sand/src/perl/repoperls/installed-perls/perl/v5.17.11/9980/lib/5.17.11/CPANPLUS/Config.pm, line 13.
CPANPLUS::Internals will be removed from the Perl core distribution in the next major release. Please install it from CPAN. It is being used at /home/sand/src/perl/repoperls/installed-perls/perl/v5.17.11/9980/lib/5.17.11/CPANPLUS/Configure.pm, line 23.
CPANPLUS::Selfupdate will be removed from the Perl core distribution in the next major release. Please install it from CPAN. It is being used at /home/sand/src/perl/repoperls/installed-perls/perl/v5.17.11/9980/lib/5.17.11/CPANPLUS/Internals.pm, line 13.
CPANPLUS::Module will be removed from the Perl core distribution in the next major release. Please install it from CPAN. It is being used at (eval 305), line 2.
CPANPLUS::Dist will be removed from the Perl core distribution in the next major release. Please install it from CPAN. It is being used at /home/sand/src/perl/repoperls/installed-perls/perl/v5.17.11/9980/lib/5.17.11/CPANPLUS/Module.pm, line 8.
CPANPLUS::Module::Signature will be removed from the Perl core distribution in the next major release. Please install it from CPAN. It is being used at /home/sand/src/perl/repoperls/installed-perls/perl/v5.17.11/9980/lib/5.17.11/CPANPLUS/Module.pm, line 10.
CPANPLUS::Module::Checksums will be removed from the Perl core distribution in the next major release. Please install it from CPAN. It is being used at /home/sand/src/perl/repoperls/installed-perls/perl/v5.17.11/9980/lib/5.17.11/CPANPLUS/Module.pm, line 11.
CPANPLUS::Internals::Extract will be removed from the Perl core distribution in the next major release. Please install it from CPAN. It is being used at /home/sand/src/perl/repoperls/installed-perls/perl/v5.17.11/9980/lib/5.17.11/CPANPLUS/Internals.pm, line 15.
Archive::Extract will be removed from the Perl core distribution in the next major release. Please install it from CPAN. It is being used at /home/sand/src/perl/repoperls/installed-perls/perl/v5.17.11/9980/lib/5.17.11/CPANPLUS/Internals/Extract.pm, line 11.
CPANPLUS::Internals::Fetch will be removed from the Perl core distribution in the next major release. Please install it from CPAN. It is being used at /home/sand/src/perl/repoperls/installed-perls/perl/v5.17.11/9980/lib/5.17.11/CPANPLUS/Internals.pm, line 16.
CPANPLUS::Internals::Search will be removed from the Perl core distribution in the next major release. Please install it from CPAN. It is being used at /home/sand/src/perl/repoperls/installed-perls/perl/v5.17.11/9980/lib/5.17.11/CPANPLUS/Internals.pm, line 19.
CPANPLUS::Module::Author will be removed from the Perl core distribution in the next major release. Please install it from CPAN. It is being used at /home/sand/src/perl/repoperls/installed-perls/perl/v5.17.11/9980/lib/5.17.11/CPANPLUS/Internals/Search.pm, line 9.
CPANPLUS::Internals::Report will be removed from the Perl core distribution in the next major release. Please install it from CPAN. It is being used at /home/sand/src/perl/repoperls/installed-perls/perl/v5.17.11/9980/lib/5.17.11/CPANPLUS/Internals.pm, line 20.
CPANPLUS::Internals::Constants::Report will be removed from the Perl core distribution in the next major release. Please install it from CPAN. It is being used at /home/sand/src/perl/repoperls/installed-perls/perl/v5.17.11/9980/lib/5.17.11/CPANPLUS/Internals/Report.pm, line 8.
CPANPLUS::Backend::RV will be removed from the Perl core distribution in the next major release. Please install it from CPAN. It is being used at /home/sand/src/perl/repoperls/installed-perls/perl/v5.17.11/9980/lib/5.17.11/CPANPLUS/Backend.pm, line 13.
Devel::InnerPackage will be removed from the Perl core distribution in the next major release. Please install it from CPAN. It is being used at /home/sand/src/perl/repoperls/installed-perls/perl/v5.17.11/9980/lib/5.17.11/Module/Pluggable/Object.pm, line 8.
Module::Pluggable::Object will be removed from the Perl core distribution in the next major release. Please install it from CPAN. It is being used at /home/sand/src/perl/repoperls/installed-perls/perl/v5.17.11/9980/lib/5.17.11/Module/Pluggable.pm, line 5.
Module::Pluggable will be removed from the Perl core distribution in the next major release. Please install it from CPAN. It is being used at /home/sand/src/perl/repoperls/installed-perls/perl/v5.17.11/9980/lib/5.17.11/CPANPLUS/Configure.pm, line 182.
CPANPLUS::Config::HomeEnv will be removed from the Perl core distribution in the next major release. Please install it from CPAN. It is being used at /home/sand/src/perl/repoperls/installed-perls/perl/v5.17.11/9980/lib/5.17.11/Module/Load.pm, line 27.
t/simple.t .................... ok
All tests successful.

Test Summary Report
-------------------
t/cpan_backend.t            (Wstat: 0 Tests: 12 Failed: 0)
  TODO passed:   1-8
Files=6, Tests=118, 39 wallclock secs ( 0.04 usr  0.02 sys + 25.28 cusr  1.02 csys = 26.36 CPU)
Result: PASS

------------------------------
PREREQUISITES
------------------------------

Prerequisite modules loaded:

requires:

    Module                           Need   Have    
    -------------------------------- ------ --------
    App::PodLinkCheck::ParseLinks    4      12      
    App::PodLinkCheck::ParseSections 0      12      
    Capture::Tiny                    0      0.22    
    Config                           0      5.017011
    Exporter                         0      5.68    
    File::Spec                       0      3.40    
    Moose                            1.01   2.0802  
    Moose::Util::TypeConstraints     1.01   2.0802  
    parent                           0      0.225   
    perl                             5.006  5.017011
    Pod::Find                        0      1.60    
    Test::Builder                    0.94   0.98    
    Test::Pod                        1.44   1.48    

build_requires:

    Module                           Need   Have    
    -------------------------------- ------ --------
    File::Find                       0      1.23    
    File::Temp                       0      0.2301  
    Module::Build                    0.3601 0.4005  
    Test::More                       0.88   0.98    
    Test::Tester                     0      0.109   

configure_requires:

    Module                           Need   Have    
    -------------------------------- ------ --------
    Module::Build                    0.3601 0.4005  


------------------------------
ENVIRONMENT AND OTHER CONTEXT
------------------------------

Environment variables:

    AUTOMATED_TESTING = 1
    LANG = en_US.UTF-8
    LANGUAGE = en_US:en
    PATH = /usr/lib/ccache:/home/sand/bin:/usr/local/bin:/usr/bin:/bin:/usr/bin/X11:/usr/games:/usr/local/perl/bin:/usr/X11/bin:/sbin:/usr/sbin
    PERL5LIB = 
    PERL5OPT = 
    PERL5_CPANPLUS_IS_RUNNING = 5237
    PERL5_CPAN_IS_RUNNING = 5237
    PERL_MM_USE_DEFAULT = 1
    SHELL = /usr/bin/zsh
    TERM = screen

Perl special variables (and OS-specific diagnostics, for MSWin32):

    $^X = /home/sand/src/perl/repoperls/installed-perls/perl/v5.17.11/9980/bin/perl
    $UID/$EUID = 1005 / 1005
    $GID = 1005 1005
    $EGID = 1005 1005

Perl module toolchain versions installed:

    Module              Have    
    ------------------- --------
    CPAN                2.00    
    CPAN::Meta          2.120921
    Cwd                 3.40    
    ExtUtils::CBuilder  0.280210
    ExtUtils::Command   1.17    
    ExtUtils::Install   1.59    
    ExtUtils::MakeMaker 6.68    
    ExtUtils::Manifest  1.63    
    ExtUtils::ParseXS   3.18    
    File::Spec          3.40    
    JSON                2.59    
    JSON::PP            2.27202 
    Module::Build       0.4005  
    Module::Signature   0.73    
    Parse::CPAN::Meta   1.4404  
    Test::Harness       3.28    
    Test::More          0.98    
    YAML                0.84    
    YAML::Syck          1.27    
    version             0.9902  


--

Summary of my perl5 (revision 5 version 17 subversion 11) configuration:
  Commit id: 1993add8b861c9c97325e9609081aa752091b45a
  Platform:
    osname=linux, osvers=3.9-1-amd64, archname=x86_64-linux-thread-multi
    uname='linux k83 3.9-1-amd64 #1 smp debian 3.9.8-1 x86_64 gnulinux '
    config_args='-Dprefix=/home/sand/src/perl/repoperls/installed-perls/perl/v5.17.11/9980 -Dmyhostname=k83 -Dinstallusrbinperl=n -Uversiononly -Dusedevel -des -Ui_db -Duseithreads -Uuselongdouble -DDEBUGGING=-g'
    hint=recommended, useposix=true, d_sigaction=define
    useithreads=define, usemultiplicity=define
    useperlio=define, d_sfio=undef, uselargefiles=define, usesocks=undef
    use64bitint=define, use64bitall=define, uselongdouble=undef
    usemymalloc=n, bincompat5005=undef
  Compiler:
    cc='cc', ccflags ='-D_REENTRANT -D_GNU_SOURCE -fno-strict-aliasing -pipe -fstack-protector -I/usr/local/include -D_LARGEFILE_SOURCE -D_FILE_OFFSET_BITS=64',
    optimize='-O2 -g',
    cppflags='-D_REENTRANT -D_GNU_SOURCE -fno-strict-aliasing -pipe -fstack-protector -I/usr/local/include'
    ccversion='', gccversion='4.8.1', gccosandvers=''
    intsize=4, longsize=8, ptrsize=8, doublesize=8, byteorder=12345678
    d_longlong=define, longlongsize=8, d_longdbl=define, longdblsize=16
    ivtype='long', ivsize=8, nvtype='double', nvsize=8, Off_t='off_t', lseeksize=8
    alignbytes=8, prototype=define
  Linker and Libraries:
    ld='cc', ldflags =' -fstack-protector -L/usr/local/lib'
    libpth=/usr/local/lib /lib/x86_64-linux-gnu /lib/../lib /usr/lib/x86_64-linux-gnu /usr/lib/../lib /lib /usr/lib
    libs=-lnsl -lgdbm -ldb -ldl -lm -lcrypt -lutil -lpthread -lc -lgdbm_compat
    perllibs=-lnsl -ldl -lm -lcrypt -lutil -lpthread -lc
    libc=, so=so, useshrplib=false, libperl=libperl.a
    gnulibc_version='2.17'
  Dynamic Linking:
    dlsrc=dl_dlopen.xs, dlext=so, d_dlsymun=undef, ccdlflags='-Wl,-E'
    cccdlflags='-fPIC', lddlflags='-shared -O2 -g -L/usr/local/lib -fstack-protector'


Characteristics of this binary (from libperl): 
  Compile-time options: HAS_TIMES MULTIPLICITY PERLIO_LAYERS
                        PERL_DONT_CREATE_GVSV PERL_IMPLICIT_CONTEXT
                        PERL_MALLOC_WRAP PERL_PRESERVE_IVUV PERL_SAWAMPERSAND
                        PERL_USE_DEVEL USE_64_BIT_ALL USE_64_BIT_INT
                        USE_ITHREADS USE_LARGE_FILES USE_LOCALE
                        USE_LOCALE_COLLATE USE_LOCALE_CTYPE
                        USE_LOCALE_NUMERIC USE_PERLIO USE_PERL_ATOF
                        USE_REENTRANT_API
  Built under linux
  Compiled at Jul  3 2013 01:52:18
  %ENV:
    PERL5LIB=""
    PERL5OPT=""
    PERL5_CPANPLUS_IS_RUNNING="5237"
    PERL5_CPAN_IS_RUNNING="5237"
    PERL_MM_USE_DEFAULT="1"
  @INC:
    /home/sand/src/perl/repoperls/installed-perls/perl/v5.17.11/9980/lib/site_perl/5.17.11/x86_64-linux-thread-multi
    /home/sand/src/perl/repoperls/installed-perls/perl/v5.17.11/9980/lib/site_perl/5.17.11
    /home/sand/src/perl/repoperls/installed-perls/perl/v5.17.11/9980/lib/5.17.11/x86_64-linux-thread-multi
    /home/sand/src/perl/repoperls/installed-perls/perl/v5.17.11/9980/lib/5.17.11
    .