Back
From: metabase:user:30f4dfbe-2aae-11df-837a-5e0a49663a4f
Subject: PASS Test-Command-0.11 v5.16.3 GNU/Linux
Date: 2015-04-29T23:27:23Z
This distribution has been tested as part of the CPAN Testers
project, supporting the Perl programming language.  See
http://wiki.cpantesters.org/ for more information or email
questions to cpan-testers-discuss@perl.org
--
Dear Daniel B. Boorstein,
This is a computer-generated report for Test-Command-0.11
on perl 5.16.3, created by CPAN-Reporter-1.2014.
Thank you for uploading your work to CPAN.  Congratulations!
All tests were successful.
Sections of this report:
    * Tester comments
    * Program output
    * Prerequisites
    * Environment and other context
------------------------------
TESTER COMMENTS
------------------------------
Additional comments from tester:
this report is from an automated smoke testing program
and was not reviewed by a human for accuracy
------------------------------
PROGRAM OUTPUT
------------------------------
Output from './Build test':
# Testing Test::Command 0.11, Perl 5.016003, /home/njh/perl5/perlbrew/perls/perl-5.16.3/bin/perl
t/00-load.t ....... ok
t/01-funcs.t ...... ok
t/02-exit.t ....... ok
t/03-stdout.t ..... ok
t/04-stderr.t ..... ok
Argument "foo\nbar\n" isn't numeric in numeric eq (==) at (eval in cmp_ok) t/05-object.t line 40.
Argument "foo\nbar\n" isn't numeric in numeric ne (!=) at (eval in cmp_ok) t/05-object.t line 41.
Argument "bar\nfoo\n" isn't numeric in numeric eq (==) at (eval in cmp_ok) t/05-object.t line 54.
Argument "bar\nfoo\n" isn't numeric in numeric ne (!=) at (eval in cmp_ok) t/05-object.t line 55.
t/05-object.t ..... ok
t/06-signal.t ..... ok
t/pod-coverage.t .. ok
t/pod.t ........... ok
All tests successful.
Files=9, Tests=119,  6 wallclock secs ( 0.34 usr  0.05 sys +  3.98 cusr  0.74 csys =  5.11 CPU)
Result: PASS
------------------------------
PREREQUISITES
------------------------------
Prerequisite modules loaded:
build_requires:
    Module       Need Have    
    ------------ ---- --------
    Test::Simple 0.62 1.001006
------------------------------
ENVIRONMENT AND OTHER CONTEXT
------------------------------
Environment variables:
    AUTOMATED_TESTING = 1
    LANG = en_GB.UTF-8
    LD_LIBRARY_PATH = /usr/local/lib:
    PATH = /home/njh/perl5/perlbrew/bin:/home/njh/perl5/perlbrew/perls/perl-5.16.3/bin:/home/njh/perl5/perlbrew/bin:/home/njh/bin:/usr/local/sbin:/usr/local/bin:/usr/sbin:/usr/bin:/sbin:/bin:/usr/local/games:/usr/games
    PERL5LIB = /home/njh/.cpan/build/Hash-Merge-0.200-eRUFmA/blib/arch:/home/njh/.cpan/build/Hash-Merge-0.200-eRUFmA/blib/lib:/home/njh/.cpan/build/MouseX-NativeTraits-1.09-qPhF1p/blib/arch:/home/njh/.cpan/build/MouseX-NativeTraits-1.09-qPhF1p/blib/lib:/home/njh/.cpan/build/MouseX-StrictConstructor-0.02-saQcRd/blib/arch:/home/njh/.cpan/build/MouseX-StrictConstructor-0.02-saQcRd/blib/lib:/home/njh/.cpan/build/Pod-POM-0.29-XC2dG6/blib/arch:/home/njh/.cpan/build/Pod-POM-0.29-XC2dG6/blib/lib:/home/njh/.cpan/build/Config-Model-Tester-2.050-6B4LD5/blib/arch:/home/njh/.cpan/build/Config-Model-Tester-2.050-6B4LD5/blib/lib:/home/njh/.cpan/build/Test-File-Contents-0.21-oTTne8/blib/arch:/home/njh/.cpan/build/Test-File-Contents-0.21-oTTne8/blib/lib
    PERL5OPT = 
    PERL5_CPANPLUS_IS_RUNNING = 26877
    PERL5_CPAN_IS_RUNNING = 26877
    PERL5_MINISMOKEBOX = 0.58
    PERLBREW_BASHRC_VERSION = 0.71
    PERLBREW_HOME = /home/njh/.perlbrew
    PERLBREW_LIB = 
    PERLBREW_MANPATH = /home/njh/perl5/perlbrew/perls/perl-5.16.3/man
    PERLBREW_PATH = /home/njh/perl5/perlbrew/bin:/home/njh/perl5/perlbrew/perls/perl-5.16.3/bin
    PERLBREW_PERL = perl-5.16.3
    PERLBREW_ROOT = /home/njh/perl5/perlbrew
    PERLBREW_VERSION = 0.71
    PERL_EXTUTILS_AUTOINSTALL = --defaultdeps
    PERL_LOCAL_LIB_ROOT = 
    PERL_MM_USE_DEFAULT = 1
    SHELL = /bin/bash
    TERM = linux
Perl special variables (and OS-specific diagnostics, for MSWin32):
    $^X = /home/njh/perl5/perlbrew/perls/perl-5.16.3/bin/perl
    $UID/$EUID = 1000 / 1000
    $GID = 1000 4 24 25 29 30 44 46 200 1000
    $EGID = 1000 4 24 25 29 30 44 46 200 1000
Perl module toolchain versions installed:
    Module              Have    
    ------------------- --------
    CPAN                1.9800  
    CPAN::Meta          2.142060
    Cwd                 3.47    
    ExtUtils::CBuilder  0.280216
    ExtUtils::Command   1.17    
    ExtUtils::Install   1.58    
    ExtUtils::MakeMaker 7.04    
    ExtUtils::Manifest  1.65    
    ExtUtils::ParseXS   3.18    
    File::Spec          3.47    
    JSON                2.90    
    JSON::PP            2.27203 
    Module::Build       0.4205  
    Module::Signature   n/a     
    Parse::CPAN::Meta   1.4414  
    Test::Harness       3.30    
    Test::More          1.001006
    YAML                1.11    
    YAML::Syck          1.29    
    version             0.9902  
--
Summary of my perl5 (revision 5 version 16 subversion 3) configuration:
   
  Platform:
    osname=linux, osvers=3.6.11+, archname=armv6l-linux-thread-multi
    uname='linux pi 3.6.11+ #371 preempt thu feb 7 16:31:35 gmt 2013 armv6l gnulinux '
    config_args='-de -Dprefix=/home/njh/perl5/perlbrew/perls/perl-5.16.3 -Duseithreads -Dusemultiplicity -Accflags=-Os -W -Wformat=2 -Wswitch -Wshadow -Wwrite-strings -Wuninitialized -Wall -pipe -fomit-frame-pointer -pedantic -D_FORTIFY_SOURCE=2 -Wpointer-arith -Wstrict-prototypes -fstack-protector -Wstack-protector -Wextra -Wbad-function-cast -Wcast-align -Wcast-qual -Wdisabled-optimization -Wendif-labels -Wfloat-equal -Wformat-nonliteral -Winline -Wmissing-declarations -Wmissing-prototypes -Wnested-externs -Wpointer-arith -Wundef -Wformat-security -march=armv6zk -mcpu=arm1176jzf-s -mtune=arm1176jzf-s -mfpu=vfp -mfloat-abi=hard -Aeval:scriptdir=/home/njh/perl5/perlbrew/perls/perl-5.16.3/bin'
    hint=recommended, useposix=true, d_sigaction=define
    useithreads=define, usemultiplicity=define
    useperlio=define, d_sfio=undef, uselargefiles=define, usesocks=undef
    use64bitint=undef, use64bitall=undef, uselongdouble=undef
    usemymalloc=n, bincompat5005=undef
  Compiler:
    cc='cc', ccflags ='-D_REENTRANT -D_GNU_SOURCE -Os -W -Wformat=2 -Wswitch -Wshadow -Wwrite-strings -Wuninitialized -Wall -pipe -fomit-frame-pointer -pedantic -D_FORTIFY_SOURCE=2 -Wpointer-arith -Wstrict-prototypes -fstack-protector -Wstack-protector -Wextra -Wbad-function-cast -Wcast-align -Wcast-qual -Wdisabled-optimization -Wendif-labels -Wfloat-equal -Wformat-nonliteral -Winline -Wmissing-declarations -Wmissing-prototypes -Wnested-externs -Wpointer-arith -Wundef -Wformat-security -march=armv6zk -mcpu=arm1176jzf-s -mtune=arm1176jzf-s -mfpu=vfp -mfloat-abi=hard -fno-strict-aliasing -I/usr/local/include -D_LARGEFILE_SOURCE -D_FILE_OFFSET_BITS=64',
    optimize='-O2',
    cppflags='-D_REENTRANT -D_GNU_SOURCE -Os -W -Wformat=2 -Wswitch -Wshadow -Wwrite-strings -Wuninitialized -Wall -pipe -fomit-frame-pointer -pedantic -D_FORTIFY_SOURCE=2 -Wpointer-arith -Wstrict-prototypes -fstack-protector -Wstack-protector -Wextra -Wbad-function-cast -Wcast-align -Wcast-qual -Wdisabled-optimization -Wendif-labels -Wfloat-equal -Wformat-nonliteral -Winline -Wmissing-declarations -Wmissing-prototypes -Wnested-externs -Wpointer-arith -Wundef -Wformat-security -march=armv6zk -mcpu=arm1176jzf-s -mtune=arm1176jzf-s -mfpu=vfp -mfloat-abi=hard -fno-strict-aliasing -I/usr/local/include'
    ccversion='', gccversion='4.6.3', gccosandvers=''
    intsize=4, longsize=4, ptrsize=4, doublesize=8, byteorder=1234
    d_longlong=define, longlongsize=8, d_longdbl=define, longdblsize=8
    ivtype='long', ivsize=4, nvtype='double', nvsize=8, Off_t='off_t', lseeksize=8
    alignbytes=8, prototype=define
  Linker and Libraries:
    ld='cc', ldflags =' -fstack-protector -L/usr/local/lib'
    libpth=/usr/local/lib /lib/arm-linux-gnueabihf /lib /usr/lib/arm-linux-gnueabihf /usr/lib
    libs=-lnsl -lgdbm -ldb -ldl -lm -lcrypt -lutil -lpthread -lc -lgdbm_compat
    perllibs=-lnsl -ldl -lm -lcrypt -lutil -lpthread -lc
    libc=, so=so, useshrplib=false, libperl=libperl.a
    gnulibc_version='2.13'
  Dynamic Linking:
    dlsrc=dl_dlopen.xs, dlext=so, d_dlsymun=undef, ccdlflags='-Wl,-E'
    cccdlflags='-fPIC', lddlflags='-shared -O2 -L/usr/local/lib -fstack-protector'
Characteristics of this binary (from libperl): 
  Compile-time options: HAS_TIMES MULTIPLICITY PERLIO_LAYERS
                        PERL_DONT_CREATE_GVSV PERL_IMPLICIT_CONTEXT
                        PERL_MALLOC_WRAP PERL_PRESERVE_IVUV USE_ITHREADS
                        USE_LARGE_FILES USE_LOCALE USE_LOCALE_COLLATE
                        USE_LOCALE_CTYPE USE_LOCALE_NUMERIC USE_PERLIO
                        USE_PERL_ATOF USE_REENTRANT_API
  Built under linux
  Compiled at Mar 22 2013 09:22:45
  %ENV:
    PERL5LIB="/home/njh/.cpan/build/Hash-Merge-0.200-eRUFmA/blib/arch:/home/njh/.cpan/build/Hash-Merge-0.200-eRUFmA/blib/lib:/home/njh/.cpan/build/MouseX-NativeTraits-1.09-qPhF1p/blib/arch:/home/njh/.cpan/build/MouseX-NativeTraits-1.09-qPhF1p/blib/lib:/home/njh/.cpan/build/MouseX-StrictConstructor-0.02-saQcRd/blib/arch:/home/njh/.cpan/build/MouseX-StrictConstructor-0.02-saQcRd/blib/lib:/home/njh/.cpan/build/Pod-POM-0.29-XC2dG6/blib/arch:/home/njh/.cpan/build/Pod-POM-0.29-XC2dG6/blib/lib:/home/njh/.cpan/build/Config-Model-Tester-2.050-6B4LD5/blib/arch:/home/njh/.cpan/build/Config-Model-Tester-2.050-6B4LD5/blib/lib:/home/njh/.cpan/build/Test-File-Contents-0.21-oTTne8/blib/arch:/home/njh/.cpan/build/Test-File-Contents-0.21-oTTne8/blib/lib"
    PERL5OPT=""
    PERL5_CPANPLUS_IS_RUNNING="26877"
    PERL5_CPAN_IS_RUNNING="26877"
    PERL5_MINISMOKEBOX="0.58"
    PERLBREW_BASHRC_VERSION="0.71"
    PERLBREW_HOME="/home/njh/.perlbrew"
    PERLBREW_LIB=""
    PERLBREW_MANPATH="/home/njh/perl5/perlbrew/perls/perl-5.16.3/man"
    PERLBREW_PATH="/home/njh/perl5/perlbrew/bin:/home/njh/perl5/perlbrew/perls/perl-5.16.3/bin"
    PERLBREW_PERL="perl-5.16.3"
    PERLBREW_ROOT="/home/njh/perl5/perlbrew"
    PERLBREW_VERSION="0.71"
    PERL_EXTUTILS_AUTOINSTALL="--defaultdeps"
    PERL_LOCAL_LIB_ROOT=""
    PERL_MM_USE_DEFAULT="1"
  @INC:
    /home/njh/.cpan/build/Hash-Merge-0.200-eRUFmA/blib/arch
    /home/njh/.cpan/build/Hash-Merge-0.200-eRUFmA/blib/lib
    /home/njh/.cpan/build/MouseX-NativeTraits-1.09-qPhF1p/blib/arch
    /home/njh/.cpan/build/MouseX-NativeTraits-1.09-qPhF1p/blib/lib
    /home/njh/.cpan/build/MouseX-StrictConstructor-0.02-saQcRd/blib/arch
    /home/njh/.cpan/build/MouseX-StrictConstructor-0.02-saQcRd/blib/lib
    /home/njh/.cpan/build/Pod-POM-0.29-XC2dG6/blib/arch
    /home/njh/.cpan/build/Pod-POM-0.29-XC2dG6/blib/lib
    /home/njh/.cpan/build/Config-Model-Tester-2.050-6B4LD5/blib/arch
    /home/njh/.cpan/build/Config-Model-Tester-2.050-6B4LD5/blib/lib
    /home/njh/.cpan/build/Test-File-Contents-0.21-oTTne8/blib/arch
    /home/njh/.cpan/build/Test-File-Contents-0.21-oTTne8/blib/lib
    /home/njh/perl5/perlbrew/perls/perl-5.16.3/lib/site_perl/5.16.3/armv6l-linux-thread-multi
    /home/njh/perl5/perlbrew/perls/perl-5.16.3/lib/site_perl/5.16.3
    /home/njh/perl5/perlbrew/perls/perl-5.16.3/lib/5.16.3/armv6l-linux-thread-multi
    /home/njh/perl5/perlbrew/perls/perl-5.16.3/lib/5.16.3
    .