Term-ProgressSpinner v1.01 Perl 5 v5.16.3 amd64-freebsd-thread-multi
- Status
- Pass
- From
- Slaven Rezić
- Dist
-
Term-ProgressSpinner v1.01
- Platform
- Perl 5 v5.16.3 amd64-freebsd-thread-multi
- Date
- 2025-04-21 21:47:57
- ID
- 499f0f16-1efa-11f0-aa1f-0edf6d8775ea
This distribution has been tested as part of the CPAN Testers
project, supporting the Perl programming language. See
http://wiki.cpantesters.org/ for more information or email
questions to cpan-testers-discuss@perl.org
--
Dear Robert Acock,
This is a computer-generated report for Term-ProgressSpinner-1.01
on perl 5.16.3, created by CPAN-Reporter-1.2019.
Thank you for uploading your work to CPAN. Congratulations!
All tests were successful.
Sections of this report:
* Tester comments
* Program output
* Prerequisites
* Environment and other context
------------------------------
TESTER COMMENTS
------------------------------
Additional comments from tester:
none provided
------------------------------
PROGRAM OUTPUT
------------------------------
Output from '/usr/bin/make test':
PERL_DL_NONLAZY=1 "/usr/perl5.16.3t/bin/perl" "-MExtUtils::Command::MM" "-MTest::Harness" "-e" "undef *Test::Harness::Switches; test_harness(0, 'blib/lib', 'blib/arch')" t/*.t
# Testing Term::ProgressSpinner 1.01, Perl 5.016003, /usr/perl5.16.3t/bin/perl
t/00-load.t ....... ok
[1;1f[2J
[2K[?25l
[3;1f
[2K[37mâÂÂâ âÂÂ[30;100m [37mâ Ââ Â[30;100m processed [37m5%[30;100m of [37m1[30;100m/[37m20[30;100m [37m0.11[30;100m/[37m2.09[30;100m[0m
[3;1f
[2K[37mâÂÂâÂÂâ âÂÂ[30;100m [37mâ¢Ââ Â[30;100m processed [37m10%[30;100m of [37m2[30;100m/[37m20[30;100m [37m0.22[30;100m/[37m1.98[30;100m[0m
[3;1f
[2K[37mâÂÂâÂÂâÂÂâ âÂÂ[30;100m [37mâ¡Ââ Â[30;100m processed [37m15%[30;100m of [37m3[30;100m/[37m20[30;100m [37m0.33[30;100m/[37m1.87[30;100m[0m
[3;1f
[2K[37mâÂÂâÂÂâÂÂâÂÂâ âÂÂ[30;100m [37mâ Â
â Â[30;100m processed [37m20%[30;100m of [37m4[30;100m/[37m20[30;100m [37m0.44[30;100m/[37m1.76[30;100m[0m
[3;1f
[2K[37mâÂÂâÂÂâÂÂâÂÂâÂÂâ âÂÂ[30;100m [37mâ¢Ââ Â[30;100m processed [37m25%[30;100m of [37m5[30;100m/[37m20[30;100m [37m0.55[30;100m/[37m1.65[30;100m[0m
[3;1f
[2K[37mâÂÂâÂÂâÂÂâÂÂâÂÂâÂÂâ âÂÂ[30;100m [37mâ¡Ââ Â[30;100m processed [37m30%[30;100m of [37m6[30;100m/[37m20[30;100m [37m0.66[30;100m/[37m1.54[30;100m[0m
[3;1f
[2K[37mâÂÂâÂÂâÂÂâÂÂâÂÂâÂÂâÂÂâ âÂÂ[30;100m [37mâ Ââ Â[30;100m processed [37m35%[30;100m of [37m7[30;100m/[37m20[30;100m [37m0.77[30;100m/[37m1.43[30;100m[0m
[3;1f
[2K[37mâÂÂâÂÂâÂÂâÂÂâÂÂâÂÂâÂÂâÂÂâ âÂÂ[30;100m [37mâ¢Ââ Â[30;100m processed [37m40%[30;100m of [37m8[30;100m/[37m20[30;100m [37m0.88[30;100m/[37m1.32[30;100m[0m
[3;1f
[2K[37mâÂÂâÂÂâÂÂâÂÂâÂÂâÂÂâÂÂâÂÂâÂÂâ âÂÂ[30;100m [37mâ¡Ââ Â[30;100m processed [37m45%[30;100m of [37m9[30;100m/[37m20[30;100m [37m0.99[30;100m/[37m1.21[30;100m[0m
[3;1f
[2K[37mâÂÂâÂÂâÂÂâÂÂâÂÂâÂÂâÂÂâÂÂâÂÂâÂÂâ âÂÂ[30;100m [37mâ Ââ Â[30;100m processed [37m50%[30;100m of [37m10[30;100m/[37m20[30;100m [37m1.1[30;100m/[37m1.1[30;100m[0m
[3;1f
[2K[37mâÂÂâÂÂâÂÂâÂÂâÂÂâÂÂâÂÂâÂÂâÂÂâÂÂâÂÂâ âÂÂ[30;100m [37mâ¢Ââ Â[30;100m processed [37m55%[30;100m of [37m11[30;100m/[37m20[30;100m [37m1.21[30;100m/[37m0.99[30;100m[0m
[3;1f
[2K[37mâÂÂâÂÂâÂÂâÂÂâÂÂâÂÂâÂÂâÂÂâÂÂâÂÂâÂÂâÂÂâ âÂÂ[30;100m [37mâ¡Ââ Â[30;100m processed [37m60%[30;100m of [37m12[30;100m/[37m20[30;100m [37m1.32[30;100m/[37m0.88[30;100m[0m
[3;1f
[2K[37mâÂÂâÂÂâÂÂâÂÂâÂÂâÂÂâÂÂâÂÂâÂÂâÂÂâÂÂâÂÂâÂÂâ âÂÂ[30;100m [37mâ Ââ Â[30;100m processed [37m65%[30;100m of [37m13[30;100m/[37m20[30;100m [37m1.43[30;100m/[37m0.77[30;100m[0m
[3;1f
[2K[37mâÂÂâÂÂâÂÂâÂÂâÂÂâÂÂâÂÂâÂÂâÂÂâÂÂâÂÂâÂÂâÂÂâÂÂâ âÂÂ[30;100m [37mâ Ââ Â[30;100m processed [37m70%[30;100m of [37m14[30;100m/[37m20[30;100m [37m1.54[30;100m/[37m0.66[30;100m[0m
[3;1f
[2K[37mâÂÂâÂÂâÂÂâÂÂâÂÂâÂÂâÂÂâÂÂâÂÂâÂÂâÂÂâÂÂâÂÂâÂÂâÂÂâ âÂÂ[30;100m [37mâ Ââ Â[30;100m processed [37m75%[30;100m of [37m15[30;100m/[37m20[30;100m [37m1.65[30;100m/[37m0.55[30;100m[0m
[3;1f
[2K[37mâÂÂâÂÂâÂÂâÂÂâÂÂâÂÂâÂÂâÂÂâÂÂâÂÂâÂÂâÂÂâÂÂâÂÂâÂÂâÂÂâ âÂÂ[30;100m [37mâ Ââ Â[30;100m processed [37m80%[30;100m of [37m16[30;100m/[37m20[30;100m [37m1.76[30;100m/[37m0.44[30;100m[0m
[3;1f
[2K[37mâÂÂâÂÂâÂÂâÂÂâÂÂâÂÂâÂÂâÂÂâÂÂâÂÂâÂÂâÂÂâÂÂâÂÂâÂÂâÂÂâÂÂâ âÂÂ[30;100m [37mâ Ââ Â[30;100m processed [37m85%[30;100m of [37m17[30;100m/[37m20[30;100m [37m1.87[30;100m/[37m0.33[30;100m[0m
[3;1f
[2K[37mâÂÂâÂÂâÂÂâÂÂâÂÂâÂÂâÂÂâÂÂâÂÂâÂÂâÂÂâÂÂâÂÂâÂÂâÂÂâÂÂâÂÂâÂÂâ âÂÂ[30;100m [37mâ Ââ ©[30;100m processed [37m90%[30;100m of [37m18[30;100m/[37m20[30;100m [37m1.98[30;100m/[37m0.22[30;100m[0m
[3;1f
[2K[37mâÂÂâÂÂâÂÂâÂÂâÂÂâÂÂâÂÂâÂÂâÂÂâÂÂâÂÂâÂÂâÂÂâÂÂâÂÂâÂÂâÂÂâÂÂâÂÂâ âÂÂ[30;100m [37mâ Ââ¢Â[30;100m processed [37m95%[30;100m of [37m19[30;100m/[37m20[30;100m [37m2.09[30;100m/[37m0.11[30;100m[0m
[3;1f
[2K[37mâÂÂâÂÂâÂÂâÂÂâÂÂâÂÂâÂÂâÂÂâÂÂâÂÂâÂÂâÂÂâÂÂâÂÂâÂÂâÂÂâÂÂâÂÂâÂÂâÂÂâÂÂâÂÂ[30;100m [37mâ Ââ¡Â[30;100m processed [37m100%[30;100m of [37m20[30;100m/[37m20[30;100m [37m2.2[30;100m/[37m0[30;100m[0m
[?25h
[2K[?25l
[5;1f
[2K[37mâÂÂâ âÂÂ[30;100m [37mâÂÂâÂÂâÂÂ[30;100m processed [37m5%[30;100m of [37m1[30;100m/[37m20[30;100m [37m0.11[30;100m/[37m2.09[30;100m[0m
[5;1f
[2K[37mâÂÂâÂÂâ âÂÂ[30;100m [37mâÂÂâÂÂ
âÂÂ[30;100m processed [37m10%[30;100m of [37m2[30;100m/[37m20[30;100m [37m0.22[30;100m/[37m1.98[30;100m[0m
[5;1f
[2K[37mâÂÂâÂÂâÂÂâ âÂÂ[30;100m [37mâÂÂâÂÂâÂÂ[30;100m processed [37m15%[30;100m of [37m3[30;100m/[37m20[30;100m [37m0.33[30;100m/[37m1.87[30;100m[0m
[5;1f
[2K[37mâÂÂâÂÂâÂÂâÂÂâ âÂÂ[30;100m [37mâÂÂâÂÂâÂÂ[30;100m processed [37m20%[30;100m of [37m4[30;100m/[37m20[30;100m [37m0.44[30;100m/[37m1.76[30;100m[0m
[5;1f
[2K[37mâÂÂâÂÂâÂÂâÂÂâÂÂâ âÂÂ[30;100m [37mâÂÂâÂÂâÂÂ[30;100m processed [37m25%[30;100m of [37m5[30;100m/[37m20[30;100m [37m0.55[30;100m/[37m1.65[30;100m[0m
[5;1f
[2K[37mâÂÂâÂÂâÂÂâÂÂâÂÂâÂÂâ âÂÂ[30;100m [37mâÂÂâÂÂâÂÂ
[30;100m processed [37m30%[30;100m of [37m6[30;100m/[37m20[30;100m [37m0.66[30;100m/[37m1.54[30;100m[0m
[5;1f
[2K[37mâÂÂâÂÂâÂÂâÂÂâÂÂâÂÂâÂÂâ âÂÂ[30;100m [37mâÂÂâÂÂâÂÂ[30;100m processed [37m35%[30;100m of [37m7[30;100m/[37m20[30;100m [37m0.77[30;100m/[37m1.43[30;100m[0m
[5;1f
[2K[37mâÂÂâÂÂâÂÂâÂÂâÂÂâÂÂâÂÂâÂÂâ âÂÂ[30;100m [37mâÂÂ
âÂÂâÂÂ[30;100m processed [37m40%[30;100m of [37m8[30;100m/[37m20[30;100m [37m0.88[30;100m/[37m1.32[30;100m[0m
[5;1f
[2K[37mâÂÂâÂÂâÂÂâÂÂâÂÂâÂÂâÂÂâÂÂâÂÂâ âÂÂ[30;100m [37mâÂÂâÂÂâÂÂ[30;100m processed [37m45%[30;100m of [37m9[30;100m/[37m20[30;100m [37m0.99[30;100m/[37m1.21[30;100m[0m
[5;1f
[2K[37mâÂÂâÂÂâÂÂâÂÂâÂÂâÂÂâÂÂâÂÂâÂÂâÂÂâ âÂÂ[30;100m [37mâÂÂâÂÂ
âÂÂ[30;100m processed [37m50%[30;100m of [37m10[30;100m/[37m20[30;100m [37m1.1[30;100m/[37m1.1[30;100m[0m
[5;1f
[2K[37mâÂÂâÂÂâÂÂâÂÂâÂÂâÂÂâÂÂâÂÂâÂÂâÂÂâÂÂâ âÂÂ[30;100m [37mâÂÂâÂÂâÂÂ[30;100m processed [37m55%[30;100m of [37m11[30;100m/[37m20[30;100m [37m1.21[30;100m/[37m0.99[30;100m[0m
[5;1f
[2K[37mâÂÂâÂÂâÂÂâÂÂâÂÂâÂÂâÂÂâÂÂâÂÂâÂÂâÂÂâÂÂâ âÂÂ[30;100m [37mâÂÂâÂÂâÂÂ[30;100m processed [37m60%[30;100m of [37m12[30;100m/[37m20[30;100m [37m1.32[30;100m/[37m0.88[30;100m[0m
[5;1f
[2K[37mâÂÂâÂÂâÂÂâÂÂâÂÂâÂÂâÂÂâÂÂâÂÂâÂÂâÂÂâÂÂâÂÂâ âÂÂ[30;100m [37mâÂÂâÂÂâÂÂ[30;100m processed [37m65%[30;100m of [37m13[30;100m/[37m20[30;100m [37m1.43[30;100m/[37m0.77[30;100m[0m
[5;1f
[2K[37mâÂÂâÂÂâÂÂâÂÂâÂÂâÂÂâÂÂâÂÂâÂÂâÂÂâÂÂâÂÂâÂÂâÂÂâ âÂÂ[30;100m [37mâÂÂâÂÂâÂÂ
[30;100m processed [37m70%[30;100m of [37m14[30;100m/[37m20[30;100m [37m1.54[30;100m/[37m0.66[30;100m[0m
[5;1f
[2K[37mâÂÂâÂÂâÂÂâÂÂâÂÂâÂÂâÂÂâÂÂâÂÂâÂÂâÂÂâÂÂâÂÂâÂÂâÂÂâ âÂÂ[30;100m [37mâÂÂâÂÂâÂÂ[30;100m processed [37m75%[30;100m of [37m15[30;100m/[37m20[30;100m [37m1.65[30;100m/[37m0.55[30;100m[0m
[5;1f
[2K[37mâÂÂâÂÂâÂÂâÂÂâÂÂâÂÂâÂÂâÂÂâÂÂâÂÂâÂÂâÂÂâÂÂâÂÂâÂÂâÂÂâ âÂÂ[30;100m [37mâÂÂ
âÂÂâÂÂ[30;100m processed [37m80%[30;100m of [37m16[30;100m/[37m20[30;100m [37m1.76[30;100m/[37m0.44[30;100m[0m
[5;1f
[2K[37mâÂÂâÂÂâÂÂâÂÂâÂÂâÂÂâÂÂâÂÂâÂÂâÂÂâÂÂâÂÂâÂÂâÂÂâÂÂâÂÂâÂÂâ âÂÂ[30;100m [37mâÂÂâÂÂâÂÂ[30;100m processed [37m85%[30;100m of [37m17[30;100m/[37m20[30;100m [37m1.87[30;100m/[37m0.33[30;100m[0m
[5;1f
[2K[37mâÂÂâÂÂâÂÂâÂÂâÂÂâÂÂâÂÂâÂÂâÂÂâÂÂâÂÂâÂÂâÂÂâÂÂâÂÂâÂÂâÂÂâÂÂâ âÂÂ[30;100m [37mâÂÂâÂÂ
âÂÂ[30;100m processed [37m90%[30;100m of [37m18[30;100m/[37m20[30;100m [37m1.98[30;100m/[37m0.22[30;100m[0m
[5;1f
[2K[37mâÂÂâÂÂâÂÂâÂÂâÂÂâÂÂâÂÂâÂÂâÂÂâÂÂâÂÂâÂÂâÂÂâÂÂâÂÂâÂÂâÂÂâÂÂâÂÂâ âÂÂ[30;100m [37mâÂÂâÂÂâÂÂ[30;100m processed [37m95%[30;100m of [37m19[30;100m/[37m20[30;100m [37m2.09[30;100m/[37m0.11[30;100m[0m
[5;1f
[2K[37mâÂÂâÂÂâÂÂâÂÂâÂÂâÂÂâÂÂâÂÂâÂÂâÂÂâÂÂâÂÂâÂÂâÂÂâÂÂâÂÂâÂÂâÂÂâÂÂâÂÂâÂÂâÂÂ[30;100m [37mâÂÂâÂÂâÂÂ[30;100m processed [37m100%[30;100m of [37m20[30;100m/[37m20[30;100m [37m2.2[30;100m/[37m0[30;100m[0m
[?25h
[2K[?25l
[7;1f
[2K[37mãÂÂ= ãÂÂ[30;100m [37mâÂÂ[30;100m processed [37m5%[30;100m of [37m1[30;100m/[37m20[30;100m [37m0.11[30;100m/[37m2.09[30;100m[0m
[7;1f
[2K[37mãÂÂ== ãÂÂ[30;100m [37mâÂÂ[30;100m processed [37m10%[30;100m of [37m2[30;100m/[37m20[30;100m [37m0.22[30;100m/[37m1.98[30;100m[0m
[7;1f
[2K[37mãÂÂ=== ãÂÂ[30;100m [37mâÂÂ[30;100m processed [37m15%[30;100m of [37m3[30;100m/[37m20[30;100m [37m0.33[30;100m/[37m1.87[30;100m[0m
[7;1f
[2K[37mãÂÂ==== ãÂÂ[30;100m [37mâÂÂ[30;100m processed [37m20%[30;100m of [37m4[30;100m/[37m20[30;100m [37m0.44[30;100m/[37m1.76[30;100m[0m
[7;1f
[2K[37mãÂÂ===== ãÂÂ[30;100m [37m⦿[30;100m processed [37m25%[30;100m of [37m5[30;100m/[37m20[30;100m [37m0.55[30;100m/[37m1.65[30;100m[0m
[7;1f
[2K[37mãÂÂ====== ãÂÂ[30;100m [37mâÂÂ[30;100m processed [37m30%[30;100m of [37m6[30;100m/[37m20[30;100m [37m0.66[30;100m/[37m1.54[30;100m[0m
[7;1f
[2K[37mãÂÂ======= ãÂÂ[30;100m [37mâÂÂ[30;100m processed [37m35%[30;100m of [37m7[30;100m/[37m20[30;100m [37m0.77[30;100m/[37m1.43[30;100m[0m
[7;1f
[2K[37mãÂÂ======== ãÂÂ[30;100m [37mâÂÂ[30;100m processed [37m40%[30;100m of [37m8[30;100m/[37m20[30;100m [37m0.88[30;100m/[37m1.32[30;100m[0m
[7;1f
[2K[37mãÂÂ========= ãÂÂ[30;100m [37mâ¦[30;100m processed [37m45%[30;100m of [37m9[30;100m/[37m20[30;100m [37m0.99[30;100m/[37m1.21[30;100m[0m
[7;1f
[2K[37mãÂÂ========== ãÂÂ[30;100m [37mã»[30;100m processed [37m50%[30;100m of [37m10[30;100m/[37m20[30;100m [37m1.1[30;100m/[37m1.1[30;100m[0m
[7;1f
[2K[37mãÂÂ=========== ãÂÂ[30;100m [37mã»[30;100m processed [37m55%[30;100m of [37m11[30;100m/[37m20[30;100m [37m1.21[30;100m/[37m0.99[30;100m[0m
[7;1f
[2K[37mãÂÂ============ ãÂÂ[30;100m [37mâ¦[30;100m processed [37m60%[30;100m of [37m12[30;100m/[37m20[30;100m [37m1.32[30;100m/[37m0.88[30;100m[0m
[7;1f
[2K[37mãÂÂ============= ãÂÂ[30;100m [37mâÂÂ[30;100m processed [37m65%[30;100m of [37m13[30;100m/[37m20[30;100m [37m1.43[30;100m/[37m0.77[30;100m[0m
[7;1f
[2K[37mãÂÂ============== ãÂÂ[30;100m [37mâÂÂ[30;100m processed [37m70%[30;100m of [37m14[30;100m/[37m20[30;100m [37m1.54[30;100m/[37m0.66[30;100m[0m
[7;1f
[2K[37mãÂÂ=============== ãÂÂ[30;100m [37mâÂÂ[30;100m processed [37m75%[30;100m of [37m15[30;100m/[37m20[30;100m [37m1.65[30;100m/[37m0.55[30;100m[0m
[7;1f
[2K[37mãÂÂ================ ãÂÂ[30;100m [37mâÂÂ[30;100m processed [37m80%[30;100m of [37m16[30;100m/[37m20[30;100m [37m1.76[30;100m/[37m0.44[30;100m[0m
[7;1f
[2K[37mãÂÂ================= ãÂÂ[30;100m [37m⦿[30;100m processed [37m85%[30;100m of [37m17[30;100m/[37m20[30;100m [37m1.87[30;100m/[37m0.33[30;100m[0m
[7;1f
[2K[37mãÂÂ================== ãÂÂ[30;100m [37mâÂÂ[30;100m processed [37m90%[30;100m of [37m18[30;100m/[37m20[30;100m [37m1.98[30;100m/[37m0.22[30;100m[0m
[7;1f
[2K[37mãÂÂ=================== ãÂÂ[30;100m [37mâÂÂ[30;100m processed [37m95%[30;100m of [37m19[30;100m/[37m20[30;100m [37m2.09[30;100m/[37m0.11[30;100m[0m
[7;1f
[2K[37mãÂÂ====================ãÂÂ[30;100m [37mâÂÂ[30;100m processed [37m100%[30;100m of [37m20[30;100m/[37m20[30;100m [37m2.2[30;100m/[37m0[30;100m[0m
[?25h
[2K[?25l
[9;1f
[2K[37mâÂÂâ âÂÂ[30;100m [37mâÂÂ[30;100m processed [37m5%[30;100m of [37m1[30;100m/[37m20[30;100m [37m0.11[30;100m/[37m2.09[30;100m[0m
[9;1f
[2K[37mâÂÂâÂÂâ âÂÂ[30;100m [37mâÂÂ[30;100m processed [37m10%[30;100m of [37m2[30;100m/[37m20[30;100m [37m0.22[30;100m/[37m1.98[30;100m[0m
[9;1f
[2K[37mâÂÂâÂÂâÂÂâ âÂÂ[30;100m [37mâÂÂ[30;100m processed [37m15%[30;100m of [37m3[30;100m/[37m20[30;100m [37m0.33[30;100m/[37m1.87[30;100m[0m
[9;1f
[2K[37mâÂÂâÂÂâÂÂâÂÂâ âÂÂ[30;100m [37mâÂÂ[30;100m processed [37m20%[30;100m of [37m4[30;100m/[37m20[30;100m [37m0.44[30;100m/[37m1.76[30;100m[0m
[9;1f
[2K[37mâÂÂâÂÂâÂÂâÂÂâÂÂâ âÂÂ[30;100m [37mâÂÂ[30;100m processed [37m25%[30;100m of [37m5[30;100m/[37m20[30;100m [37m0.55[30;100m/[37m1.65[30;100m[0m
[9;1f
[2K[37mâÂÂâÂÂâÂÂâÂÂâÂÂâÂÂâ âÂÂ[30;100m [37mâÂÂ[30;100m processed [37m30%[30;100m of [37m6[30;100m/[37m20[30;100m [37m0.66[30;100m/[37m1.54[30;100m[0m
[9;1f
[2K[37mâÂÂâÂÂâÂÂâÂÂâÂÂâÂÂâÂÂâ âÂÂ[30;100m [37mâÂÂ[30;100m processed [37m35%[30;100m of [37m7[30;100m/[37m20[30;100m [37m0.77[30;100m/[37m1.43[30;100m[0m
[9;1f
[2K[37mâÂÂâÂÂâÂÂâÂÂâÂÂâÂÂâÂÂâÂÂâ âÂÂ[30;100m [37mâÂÂ[30;100m processed [37m40%[30;100m of [37m8[30;100m/[37m20[30;100m [37m0.88[30;100m/[37m1.32[30;100m[0m
[9;1f
[2K[37mâÂÂâÂÂâÂÂâÂÂâÂÂâÂÂâÂÂâÂÂâÂÂâ âÂÂ[30;100m [37mâÂÂ[30;100m processed [37m45%[30;100m of [37m9[30;100m/[37m20[30;100m [37m0.99[30;100m/[37m1.21[30;100m[0m
[9;1f
[2K[37mâÂÂâÂÂâÂÂâÂÂâÂÂâÂÂâÂÂâÂÂâÂÂâÂÂâ âÂÂ[30;100m [37mâÂÂ[30;100m processed [37m50%[30;100m of [37m10[30;100m/[37m20[30;100m [37m1.1[30;100m/[37m1.1[30;100m[0m
[9;1f
[2K[37mâÂÂâÂÂâÂÂâÂÂâÂÂâÂÂâÂÂâÂÂâÂÂâÂÂâÂÂâ âÂÂ[30;100m [37mâÂÂ[30;100m processed [37m55%[30;100m of [37m11[30;100m/[37m20[30;100m [37m1.21[30;100m/[37m0.99[30;100m[0m
[9;1f
[2K[37mâÂÂâÂÂâÂÂâÂÂâÂÂâÂÂâÂÂâÂÂâÂÂâÂÂâÂÂâÂÂâ âÂÂ[30;100m [37mâÂÂ[30;100m processed [37m60%[30;100m of [37m12[30;100m/[37m20[30;100m [37m1.32[30;100m/[37m0.88[30;100m[0m
[9;1f
[2K[37mâÂÂâÂÂâÂÂâÂÂâÂÂâÂÂâÂÂâÂÂâÂÂâÂÂâÂÂâÂÂâÂÂâ âÂÂ[30;100m [37mâÂÂ[30;100m processed [37m65%[30;100m of [37m13[30;100m/[37m20[30;100m [37m1.43[30;100m/[37m0.77[30;100m[0m
[9;1f
[2K[37mâÂÂâÂÂâÂÂâÂÂâÂÂâÂÂâÂÂâÂÂâÂÂâÂÂâÂÂâÂÂâÂÂâÂÂâ âÂÂ[30;100m [37mâÂÂ[30;100m processed [37m70%[30;100m of [37m14[30;100m/[37m20[30;100m [37m1.54[30;100m/[37m0.66[30;100m[0m
[9;1f
[2K[37mâÂÂâÂÂâÂÂâÂÂâÂÂâÂÂâÂÂâÂÂâÂÂâÂÂâÂÂâÂÂâÂÂâÂÂâÂÂâ âÂÂ[30;100m [37mâÂÂ[30;100m processed [37m75%[30;100m of [37m15[30;100m/[37m20[30;100m [37m1.65[30;100m/[37m0.55[30;100m[0m
[9;1f
[2K[37mâÂÂâÂÂâÂÂâÂÂâÂÂâÂÂâÂÂâÂÂâÂÂâÂÂâÂÂâÂÂâÂÂâÂÂâÂÂâÂÂâ âÂÂ[30;100m [37mâÂÂ[30;100m processed [37m80%[30;100m of [37m16[30;100m/[37m20[30;100m [37m1.76[30;100m/[37m0.44[30;100m[0m
[9;1f
[2K[37mâÂÂâÂÂâÂÂâÂÂâÂÂâÂÂâÂÂâÂÂâÂÂâÂÂâÂÂâÂÂâÂÂâÂÂâÂÂâÂÂâÂÂâ âÂÂ[30;100m [37mâÂÂ[30;100m processed [37m85%[30;100m of [37m17[30;100m/[37m20[30;100m [37m1.87[30;100m/[37m0.33[30;100m[0m
[9;1f
[2K[37mâÂÂâÂÂâÂÂâÂÂâÂÂâÂÂâÂÂâÂÂâÂÂâÂÂâÂÂâÂÂâÂÂâÂÂâÂÂâÂÂâÂÂâÂÂâ âÂÂ[30;100m [37mâÂÂ[30;100m processed [37m90%[30;100m of [37m18[30;100m/[37m20[30;100m [37m1.98[30;100m/[37m0.22[30;100m[0m
[9;1f
[2K[37mâÂÂâÂÂâÂÂâÂÂâÂÂâÂÂâÂÂâÂÂâÂÂâÂÂâÂÂâÂÂâÂÂâÂÂâÂÂâÂÂâÂÂâÂÂâÂÂâ âÂÂ[30;100m [37mâÂÂ[30;100m processed [37m95%[30;100m of [37m19[30;100m/[37m20[30;100m [37m2.09[30;100m/[37m0.11[30;100m[0m
[9;1f
[2K[37mâÂÂâÂÂâÂÂâÂÂâÂÂâÂÂâÂÂâÂÂâÂÂâÂÂâÂÂâÂÂâÂÂâÂÂâÂÂâÂÂâÂÂâÂÂâÂÂâÂÂâÂÂâÂÂ[30;100m [37mâÂÂ[30;100m processed [37m100%[30;100m of [37m20[30;100m/[37m20[30;100m [37m2.2[30;100m/[37m0[30;100m[0m
[?25h
[2K[?25l
[11;1f
[2K[37mâÂÂâ âÂÂ[30;100m [37mð [30;100m processed [37m5%[30;100m of [37m1[30;100m/[37m20[30;100m [37m0.11[30;100m/[37m2.09[30;100m[0m
[11;1f
[2K[37mâÂÂâÂÂâ âÂÂ[30;100m [37mð [30;100m processed [37m10%[30;100m of [37m2[30;100m/[37m20[30;100m [37m0.22[30;100m/[37m1.98[30;100m[0m
[11;1f
[2K[37mâÂÂâÂÂâÂÂâ âÂÂ[30;100m [37mð [30;100m processed [37m15%[30;100m of [37m3[30;100m/[37m20[30;100m [37m0.33[30;100m/[37m1.87[30;100m[0m
[11;1f
[2K[37mâÂÂâÂÂâÂÂâÂÂâ âÂÂ[30;100m [37mð [30;100m processed [37m20%[30;100m of [37m4[30;100m/[37m20[30;100m [37m0.44[30;100m/[37m1.76[30;100m[0m
[11;1f
[2K[37mâÂÂâÂÂâÂÂâÂÂâÂÂâ âÂÂ[30;100m [37mð [30;100m processed [37m25%[30;100m of [37m5[30;100m/[37m20[30;100m [37m0.55[30;100m/[37m1.65[30;100m[0m
[11;1f
[2K[37mâÂÂâÂÂâÂÂâÂÂâÂÂâÂÂâ âÂÂ[30;100m [37mð [30;100m processed [37m30%[30;100m of [37m6[30;100m/[37m20[30;100m [37m0.66[30;100m/[37m1.54[30;100m[0m
[11;1f
[2K[37mâÂÂâÂÂâÂÂâÂÂâÂÂâÂÂâÂÂâ âÂÂ[30;100m [37mð [30;100m processed [37m35%[30;100m of [37m7[30;100m/[37m20[30;100m [37m0.77[30;100m/[37m1.43[30;100m[0m
[11;1f
[2K[37mâÂÂâÂÂâÂÂâÂÂâÂÂâÂÂâÂÂâÂÂâ âÂÂ[30;100m [37mð [30;100m processed [37m40%[30;100m of [37m8[30;100m/[37m20[30;100m [37m0.88[30;100m/[37m1.32[30;100m[0m
[11;1f
[2K[37mâÂÂâÂÂâÂÂâÂÂâÂÂâÂÂâÂÂâÂÂâÂÂâ âÂÂ[30;100m [37mð [30;100m processed [37m45%[30;100m of [37m9[30;100m/[37m20[30;100m [37m0.99[30;100m/[37m1.21[30;100m[0m
[11;1f
[2K[37mâÂÂâÂÂâÂÂâÂÂâÂÂâÂÂâÂÂâÂÂâÂÂâÂÂâ âÂÂ[30;100m [37mð [30;100m processed [37m50%[30;100m of [37m10[30;100m/[37m20[30;100m [37m1.1[30;100m/[37m1.1[30;100m[0m
[11;1f
[2K[37mâÂÂâÂÂâÂÂâÂÂâÂÂâÂÂâÂÂâÂÂâÂÂâÂÂâÂÂâ âÂÂ[30;100m [37mð [30;100m processed [37m55%[30;100m of [37m11[30;100m/[37m20[30;100m [37m1.21[30;100m/[37m0.99[30;100m[0m
[11;1f
[2K[37mâÂÂâÂÂâÂÂâÂÂâÂÂâÂÂâÂÂâÂÂâÂÂâÂÂâÂÂâÂÂâ âÂÂ[30;100m [37mð [30;100m processed [37m60%[30;100m of [37m12[30;100m/[37m20[30;100m [37m1.32[30;100m/[37m0.88[30;100m[0m
[11;1f
[2K[37mâÂÂâÂÂâÂÂâÂÂâÂÂâÂÂâÂÂâÂÂâÂÂâÂÂâÂÂâÂÂâÂÂâ âÂÂ[30;100m [37mð [30;100m processed [37m65%[30;100m of [37m13[30;100m/[37m20[30;100m [37m1.43[30;100m/[37m0.77[30;100m[0m
[11;1f
[2K[37mâÂÂâÂÂâÂÂâÂÂâÂÂâÂÂâÂÂâÂÂâÂÂâÂÂâÂÂâÂÂâÂÂâÂÂâ âÂÂ[30;100m [37mð [30;100m processed [37m70%[30;100m of [37m14[30;100m/[37m20[30;100m [37m1.54[30;100m/[37m0.66[30;100m[0m
[11;1f
[2K[37mâÂÂâÂÂâÂÂâÂÂâÂÂâÂÂâÂÂâÂÂâÂÂâÂÂâÂÂâÂÂâÂÂâÂÂâÂÂâ âÂÂ[30;100m [37mð [30;100m processed [37m75%[30;100m of [37m15[30;100m/[37m20[30;100m [37m1.65[30;100m/[37m0.55[30;100m[0m
[11;1f
[2K[37mâÂÂâÂÂâÂÂâÂÂâÂÂâÂÂâÂÂâÂÂâÂÂâÂÂâÂÂâÂÂâÂÂâÂÂâÂÂâÂÂâ âÂÂ[30;100m [37mð [30;100m processed [37m80%[30;100m of [37m16[30;100m/[37m20[30;100m [37m1.76[30;100m/[37m0.44[30;100m[0m
[11;1f
[2K[37mâÂÂâÂÂâÂÂâÂÂâÂÂâÂÂâÂÂâÂÂâÂÂâÂÂâÂÂâÂÂâÂÂâÂÂâÂÂâÂÂâÂÂâ âÂÂ[30;100m [37mð [30;100m processed [37m85%[30;100m of [37m17[30;100m/[37m20[30;100m [37m1.87[30;100m/[37m0.33[30;100m[0m
[11;1f
[2K[37mâÂÂâÂÂâÂÂâÂÂâÂÂâÂÂâÂÂâÂÂâÂÂâÂÂâÂÂâÂÂâÂÂâÂÂâÂÂâÂÂâÂÂâÂÂâ âÂÂ[30;100m [37mð [30;100m processed [37m90%[30;100m of [37m18[30;100m/[37m20[30;100m [37m1.98[30;100m/[37m0.22[30;100m[0m
[11;1f
[2K[37mâÂÂâÂÂâÂÂâÂÂâÂÂâÂÂâÂÂâÂÂâÂÂâÂÂâÂÂâÂÂâÂÂâÂÂâÂÂâÂÂâÂÂâÂÂâÂÂâ âÂÂ[30;100m [37mð [30;100m processed [37m95%[30;100m of [37m19[30;100m/[37m20[30;100m [37m2.09[30;100m/[37m0.11[30;100m[0m
[11;1f
[2K[37mâÂÂâÂÂâÂÂâÂÂâÂÂâÂÂâÂÂâÂÂâÂÂâÂÂâÂÂâÂÂâÂÂâÂÂâÂÂâÂÂâÂÂâÂÂâÂÂâÂÂâÂÂâÂÂ[30;100m [37mð [30;100m processed [37m100%[30;100m of [37m20[30;100m/[37m20[30;100m [37m2.2[30;100m/[37m0[30;100m[0m
[?25h
[2K[?25l
[13;1f
[2K[37mâÂÂâ âÂÂ[30;100m [37mð¡[30;100m processed [37m5%[30;100m of [37m1[30;100m/[37m20[30;100m [37m0.11[30;100m/[37m2.09[30;100m[0m
[13;1f
[2K[37mâÂÂâÂÂâ âÂÂ[30;100m [37mð¢[30;100m processed [37m10%[30;100m of [37m2[30;100m/[37m20[30;100m [37m0.22[30;100m/[37m1.98[30;100m[0m
[13;1f
[2K[37mâÂÂâÂÂâÂÂâ âÂÂ[30;100m [37mðµ[30;100m processed [37m15%[30;100m of [37m3[30;100m/[37m20[30;100m [37m0.33[30;100m/[37m1.87[30;100m[0m
[13;1f
[2K[37mâÂÂâÂÂâÂÂâÂÂâ âÂÂ[30;100m [37mð£[30;100m processed [37m20%[30;100m of [37m4[30;100m/[37m20[30;100m [37m0.44[30;100m/[37m1.76[30;100m[0m
[13;1f
[2K[37mâÂÂâÂÂâÂÂâÂÂâÂÂâ âÂÂ[30;100m [37mâ«ï¸Â[30;100m processed [37m25%[30;100m of [37m5[30;100m/[37m20[30;100m [37m0.55[30;100m/[37m1.65[30;100m[0m
[13;1f
[2K[37mâÂÂâÂÂâÂÂâÂÂâÂÂâÂÂâ âÂÂ[30;100m [37mâªï¸Â[30;100m processed [37m30%[30;100m of [37m6[30;100m/[37m20[30;100m [37m0.66[30;100m/[37m1.54[30;100m[0m
[13;1f
[2K[37mâÂÂâÂÂâÂÂâÂÂâÂÂâÂÂâÂÂâ âÂÂ[30;100m [37mð¤[30;100m processed [37m35%[30;100m of [37m7[30;100m/[37m20[30;100m [37m0.77[30;100m/[37m1.43[30;100m[0m
[13;1f
[2K[37mâÂÂâÂÂâÂÂâÂÂâÂÂâÂÂâÂÂâÂÂâ âÂÂ[30;100m [37mð´[30;100m processed [37m40%[30;100m of [37m8[30;100m/[37m20[30;100m [37m0.88[30;100m/[37m1.32[30;100m[0m
[13;1f
[2K[37mâÂÂâÂÂâÂÂâÂÂâÂÂâÂÂâÂÂâÂÂâÂÂâ âÂÂ[30;100m [37mð [30;100m processed [37m45%[30;100m of [37m9[30;100m/[37m20[30;100m [37m0.99[30;100m/[37m1.21[30;100m[0m
[13;1f
[2K[37mâÂÂâÂÂâÂÂâÂÂâÂÂâÂÂâÂÂâÂÂâÂÂâÂÂâ âÂÂ[30;100m [37mð¡[30;100m processed [37m50%[30;100m of [37m10[30;100m/[37m20[30;100m [37m1.1[30;100m/[37m1.1[30;100m[0m
[13;1f
[2K[37mâÂÂâÂÂâÂÂâÂÂâÂÂâÂÂâÂÂâÂÂâÂÂâÂÂâÂÂâ âÂÂ[30;100m [37mð¢[30;100m processed [37m55%[30;100m of [37m11[30;100m/[37m20[30;100m [37m1.21[30;100m/[37m0.99[30;100m[0m
[13;1f
[2K[37mâÂÂâÂÂâÂÂâÂÂâÂÂâÂÂâÂÂâÂÂâÂÂâÂÂâÂÂâÂÂâ âÂÂ[30;100m [37mðµ[30;100m processed [37m60%[30;100m of [37m12[30;100m/[37m20[30;100m [37m1.32[30;100m/[37m0.88[30;100m[0m
[13;1f
[2K[37mâÂÂâÂÂâÂÂâÂÂâÂÂâÂÂâÂÂâÂÂâÂÂâÂÂâÂÂâÂÂâÂÂâ âÂÂ[30;100m [37mð£[30;100m processed [37m65%[30;100m of [37m13[30;100m/[37m20[30;100m [37m1.43[30;100m/[37m0.77[30;100m[0m
[13;1f
[2K[37mâÂÂâÂÂâÂÂâÂÂâÂÂâÂÂâÂÂâÂÂâÂÂâÂÂâÂÂâÂÂâÂÂâÂÂâ âÂÂ[30;100m [37mâ«ï¸Â[30;100m processed [37m70%[30;100m of [37m14[30;100m/[37m20[30;100m [37m1.54[30;100m/[37m0.66[30;100m[0m
[13;1f
[2K[37mâÂÂâÂÂâÂÂâÂÂâÂÂâÂÂâÂÂâÂÂâÂÂâÂÂâÂÂâÂÂâÂÂâÂÂâÂÂâ âÂÂ[30;100m [37mâªï¸Â[30;100m processed [37m75%[30;100m of [37m15[30;100m/[37m20[30;100m [37m1.65[30;100m/[37m0.55[30;100m[0m
[13;1f
[2K[37mâÂÂâÂÂâÂÂâÂÂâÂÂâÂÂâÂÂâÂÂâÂÂâÂÂâÂÂâÂÂâÂÂâÂÂâÂÂâÂÂâ âÂÂ[30;100m [37mð¤[30;100m processed [37m80%[30;100m of [37m16[30;100m/[37m20[30;100m [37m1.76[30;100m/[37m0.44[30;100m[0m
[13;1f
[2K[37mâÂÂâÂÂâÂÂâÂÂâÂÂâÂÂâÂÂâÂÂâÂÂâÂÂâÂÂâÂÂâÂÂâÂÂâÂÂâÂÂâÂÂâ âÂÂ[30;100m [37mð´[30;100m processed [37m85%[30;100m of [37m17[30;100m/[37m20[30;100m [37m1.87[30;100m/[37m0.33[30;100m[0m
[13;1f
[2K[37mâÂÂâÂÂâÂÂâÂÂâÂÂâÂÂâÂÂâÂÂâÂÂâÂÂâÂÂâÂÂâÂÂâÂÂâÂÂâÂÂâÂÂâÂÂâ âÂÂ[30;100m [37mð [30;100m processed [37m90%[30;100m of [37m18[30;100m/[37m20[30;100m [37m1.98[30;100m/[37m0.22[30;100m[0m
[13;1f
[2K[37mâÂÂâÂÂâÂÂâÂÂâÂÂâÂÂâÂÂâÂÂâÂÂâÂÂâÂÂâÂÂâÂÂâÂÂâÂÂâÂÂâÂÂâÂÂâÂÂâ âÂÂ[30;100m [37mð¡[30;100m processed [37m95%[30;100m of [37m19[30;100m/[37m20[30;100m [37m2.09[30;100m/[37m0.11[30;100m[0m
[13;1f
[2K[37mâÂÂâÂÂâÂÂâÂÂâÂÂâÂÂâÂÂâÂÂâÂÂâÂÂâÂÂâÂÂâÂÂâÂÂâÂÂâÂÂâÂÂâÂÂâÂÂâÂÂâÂÂâÂÂ[30;100m [37mð¢[30;100m processed [37m100%[30;100m of [37m20[30;100m/[37m20[30;100m [37m2.2[30;100m/[37m0[30;100m[0m
[?25h
[2K[?25l
[15;1f
[2K[37mâÂÂâÂÂ
âÂÂ[30;100m [37mð¡ð£ð¤[30;100m processed [37m5%[30;100m of [37m1[30;100m/[37m20[30;100m [37m0.11[30;100m/[37m2.09[30;100m[0m
[15;1f
[2K[37mâÂÂâÂÂ
âÂÂ
âÂÂ[30;100m [37mð¢â«ï¸Âð´[30;100m processed [37m10%[30;100m of [37m2[30;100m/[37m20[30;100m [37m0.22[30;100m/[37m1.98[30;100m[0m
[15;1f
[2K[37mâÂÂâÂÂ
âÂÂ
âÂÂ
âÂÂ[30;100m [37mðµâªï¸Âð [30;100m processed [37m15%[30;100m of [37m3[30;100m/[37m20[30;100m [37m0.33[30;100m/[37m1.87[30;100m[0m
[15;1f
[2K[37mâÂÂâÂÂ
âÂÂ
âÂÂ
âÂÂ
âÂÂ[30;100m [37mð£ð¤ð¡[30;100m processed [37m20%[30;100m of [37m4[30;100m/[37m20[30;100m [37m0.44[30;100m/[37m1.76[30;100m[0m
[15;1f
[2K[37mâÂÂâÂÂ
âÂÂ
âÂÂ
âÂÂ
âÂÂ
âÂÂ[30;100m [37mâ«ï¸Âð´ð¢[30;100m processed [37m25%[30;100m of [37m5[30;100m/[37m20[30;100m [37m0.55[30;100m/[37m1.65[30;100m[0m
[15;1f
[2K[37mâÂÂâÂÂ
âÂÂ
âÂÂ
âÂÂ
âÂÂ
âÂÂ
âÂÂ[30;100m [37mâªï¸Âð ðµ[30;100m processed [37m30%[30;100m of [37m6[30;100m/[37m20[30;100m [37m0.66[30;100m/[37m1.54[30;100m[0m
[15;1f
[2K[37mâÂÂâÂÂ
âÂÂ
âÂÂ
âÂÂ
âÂÂ
âÂÂ
âÂÂ
âÂÂ[30;100m [37mð¤ð¡ð£[30;100m processed [37m35%[30;100m of [37m7[30;100m/[37m20[30;100m [37m0.77[30;100m/[37m1.43[30;100m[0m
[15;1f
[2K[37mâÂÂâÂÂ
âÂÂ
âÂÂ
âÂÂ
âÂÂ
âÂÂ
âÂÂ
âÂÂ
âÂÂ[30;100m [37mð´ð¢â«ï¸Â[30;100m processed [37m40%[30;100m of [37m8[30;100m/[37m20[30;100m [37m0.88[30;100m/[37m1.32[30;100m[0m
[15;1f
[2K[37mâÂÂâÂÂ
âÂÂ
âÂÂ
âÂÂ
âÂÂ
âÂÂ
âÂÂ
âÂÂ
âÂÂ
âÂÂ[30;100m [37mð ðµâªï¸Â[30;100m processed [37m45%[30;100m of [37m9[30;100m/[37m20[30;100m [37m0.99[30;100m/[37m1.21[30;100m[0m
[15;1f
[2K[37mâÂÂâÂÂ
âÂÂ
âÂÂ
âÂÂ
âÂÂ
âÂÂ
âÂÂ
âÂÂ
âÂÂ
âÂÂ
âÂÂ[30;100m [37mð¡ð£ð¤[30;100m processed [37m50%[30;100m of [37m10[30;100m/[37m20[30;100m [37m1.1[30;100m/[37m1.1[30;100m[0m
[15;1f
[2K[37mâÂÂâÂÂ
âÂÂ
âÂÂ
âÂÂ
âÂÂ
âÂÂ
âÂÂ
âÂÂ
âÂÂ
âÂÂ
âÂÂ
âÂÂ[30;100m [37mð¢â«ï¸Âð´[30;100m processed [37m55%[30;100m of [37m11[30;100m/[37m20[30;100m [37m1.21[30;100m/[37m0.99[30;100m[0m
[15;1f
[2K[37mâÂÂâÂÂ
âÂÂ
âÂÂ
âÂÂ
âÂÂ
âÂÂ
âÂÂ
âÂÂ
âÂÂ
âÂÂ
âÂÂ
âÂÂ
âÂÂ[30;100m [37mðµâªï¸Âð [30;100m processed [37m60%[30;100m of [37m12[30;100m/[37m20[30;100m [37m1.32[30;100m/[37m0.88[30;100m[0m
[15;1f
[2K[37mâÂÂâÂÂ
âÂÂ
âÂÂ
âÂÂ
âÂÂ
âÂÂ
âÂÂ
âÂÂ
âÂÂ
âÂÂ
âÂÂ
âÂÂ
âÂÂ
âÂÂ[30;100m [37mð£ð¤ð¡[30;100m processed [37m65%[30;100m of [37m13[30;100m/[37m20[30;100m [37m1.43[30;100m/[37m0.77[30;100m[0m
[15;1f
[2K[37mâÂÂâÂÂ
âÂÂ
âÂÂ
âÂÂ
âÂÂ
âÂÂ
âÂÂ
âÂÂ
âÂÂ
âÂÂ
âÂÂ
âÂÂ
âÂÂ
âÂÂ
âÂÂ[30;100m [37mâ«ï¸Âð´ð¢[30;100m processed [37m70%[30;100m of [37m14[30;100m/[37m20[30;100m [37m1.54[30;100m/[37m0.66[30;100m[0m
[15;1f
[2K[37mâÂÂâÂÂ
âÂÂ
âÂÂ
âÂÂ
âÂÂ
âÂÂ
âÂÂ
âÂÂ
âÂÂ
âÂÂ
âÂÂ
âÂÂ
âÂÂ
âÂÂ
âÂÂ
âÂÂ[30;100m [37mâªï¸Âð ðµ[30;100m processed [37m75%[30;100m of [37m15[30;100m/[37m20[30;100m [37m1.65[30;100m/[37m0.55[30;100m[0m
[15;1f
[2K[37mâÂÂâÂÂ
âÂÂ
âÂÂ
âÂÂ
âÂÂ
âÂÂ
âÂÂ
âÂÂ
âÂÂ
âÂÂ
âÂÂ
âÂÂ
âÂÂ
âÂÂ
âÂÂ
âÂÂ
âÂÂ[30;100m [37mð¤ð¡ð£[30;100m processed [37m80%[30;100m of [37m16[30;100m/[37m20[30;100m [37m1.76[30;100m/[37m0.44[30;100m[0m
[15;1f
[2K[37mâÂÂâÂÂ
âÂÂ
âÂÂ
âÂÂ
âÂÂ
âÂÂ
âÂÂ
âÂÂ
âÂÂ
âÂÂ
âÂÂ
âÂÂ
âÂÂ
âÂÂ
âÂÂ
âÂÂ
âÂÂ
âÂÂ[30;100m [37mð´ð¢â«ï¸Â[30;100m processed [37m85%[30;100m of [37m17[30;100m/[37m20[30;100m [37m1.87[30;100m/[37m0.33[30;100m[0m
[15;1f
[2K[37mâÂÂâÂÂ
âÂÂ
âÂÂ
âÂÂ
âÂÂ
âÂÂ
âÂÂ
âÂÂ
âÂÂ
âÂÂ
âÂÂ
âÂÂ
âÂÂ
âÂÂ
âÂÂ
âÂÂ
âÂÂ
âÂÂ
âÂÂ[30;100m [37mð ðµâªï¸Â[30;100m processed [37m90%[30;100m of [37m18[30;100m/[37m20[30;100m [37m1.98[30;100m/[37m0.22[30;100m[0m
[15;1f
[2K[37mâÂÂâÂÂ
âÂÂ
âÂÂ
âÂÂ
âÂÂ
âÂÂ
âÂÂ
âÂÂ
âÂÂ
âÂÂ
âÂÂ
âÂÂ
âÂÂ
âÂÂ
âÂÂ
âÂÂ
âÂÂ
âÂÂ
âÂÂ
âÂÂ[30;100m [37mð¡ð£ð¤[30;100m processed [37m95%[30;100m of [37m19[30;100m/[37m20[30;100m [37m2.09[30;100m/[37m0.11[30;100m[0m
[15;1f
[2K[37mâÂÂâÂÂ
âÂÂ
âÂÂ
âÂÂ
âÂÂ
âÂÂ
âÂÂ
âÂÂ
âÂÂ
âÂÂ
âÂÂ
âÂÂ
âÂÂ
âÂÂ
âÂÂ
âÂÂ
âÂÂ
âÂÂ
âÂÂ
âÂÂ
âÂÂ[30;100m [37mð¢â«ï¸Âð´[30;100m processed [37m100%[30;100m of [37m20[30;100m/[37m20[30;100m [37m2.2[30;100m/[37m0[30;100m[0m
[?25h
[2K[?25l
[17;1f
[2K[37mâÂÂâ âÂÂ[30;100m [37mð¨[30;100m processed [37m5%[30;100m of [37m1[30;100m/[37m20[30;100m [37m0.11[30;100m/[37m2.09[30;100m[0m
[17;1f
[2K[37mâÂÂâÂÂâ âÂÂ[30;100m [37mð©[30;100m processed [37m10%[30;100m of [37m2[30;100m/[37m20[30;100m [37m0.22[30;100m/[37m1.98[30;100m[0m
[17;1f
[2K[37mâÂÂâÂÂâÂÂâ âÂÂ[30;100m [37mð¦[30;100m processed [37m15%[30;100m of [37m3[30;100m/[37m20[30;100m [37m0.33[30;100m/[37m1.87[30;100m[0m
[17;1f
[2K[37mâÂÂâÂÂâÂÂâÂÂâ âÂÂ[30;100m [37mðª[30;100m processed [37m20%[30;100m of [37m4[30;100m/[37m20[30;100m [37m0.44[30;100m/[37m1.76[30;100m[0m
[17;1f
[2K[37mâÂÂâÂÂâÂÂâÂÂâÂÂâ âÂÂ[30;100m [37mâ¬Âï¸Â[30;100m processed [37m25%[30;100m of [37m5[30;100m/[37m20[30;100m [37m0.55[30;100m/[37m1.65[30;100m[0m
[17;1f
[2K[37mâÂÂâÂÂâÂÂâÂÂâÂÂâÂÂâ âÂÂ[30;100m [37mâ¬Âï¸Â[30;100m processed [37m30%[30;100m of [37m6[30;100m/[37m20[30;100m [37m0.66[30;100m/[37m1.54[30;100m[0m
[17;1f
[2K[37mâÂÂâÂÂâÂÂâÂÂâÂÂâÂÂâÂÂâ âÂÂ[30;100m [37mð«[30;100m processed [37m35%[30;100m of [37m7[30;100m/[37m20[30;100m [37m0.77[30;100m/[37m1.43[30;100m[0m
[17;1f
[2K[37mâÂÂâÂÂâÂÂâÂÂâÂÂâÂÂâÂÂâÂÂâ âÂÂ[30;100m [37mðÂÂÂ¥[30;100m processed [37m40%[30;100m of [37m8[30;100m/[37m20[30;100m [37m0.88[30;100m/[37m1.32[30;100m[0m
[17;1f
[2K[37mâÂÂâÂÂâÂÂâÂÂâÂÂâÂÂâÂÂâÂÂâÂÂâ âÂÂ[30;100m [37mð§[30;100m processed [37m45%[30;100m of [37m9[30;100m/[37m20[30;100m [37m0.99[30;100m/[37m1.21[30;100m[0m
[17;1f
[2K[37mâÂÂâÂÂâÂÂâÂÂâÂÂâÂÂâÂÂâÂÂâÂÂâÂÂâ âÂÂ[30;100m [37mð¨[30;100m processed [37m50%[30;100m of [37m10[30;100m/[37m20[30;100m [37m1.1[30;100m/[37m1.1[30;100m[0m
[17;1f
[2K[37mâÂÂâÂÂâÂÂâÂÂâÂÂâÂÂâÂÂâÂÂâÂÂâÂÂâÂÂâ âÂÂ[30;100m [37mð©[30;100m processed [37m55%[30;100m of [37m11[30;100m/[37m20[30;100m [37m1.21[30;100m/[37m0.99[30;100m[0m
[17;1f
[2K[37mâÂÂâÂÂâÂÂâÂÂâÂÂâÂÂâÂÂâÂÂâÂÂâÂÂâÂÂâÂÂâ âÂÂ[30;100m [37mð¦[30;100m processed [37m60%[30;100m of [37m12[30;100m/[37m20[30;100m [37m1.32[30;100m/[37m0.88[30;100m[0m
[17;1f
[2K[37mâÂÂâÂÂâÂÂâÂÂâÂÂâÂÂâÂÂâÂÂâÂÂâÂÂâÂÂâÂÂâÂÂâ âÂÂ[30;100m [37mðª[30;100m processed [37m65%[30;100m of [37m13[30;100m/[37m20[30;100m [37m1.43[30;100m/[37m0.77[30;100m[0m
[17;1f
[2K[37mâÂÂâÂÂâÂÂâÂÂâÂÂâÂÂâÂÂâÂÂâÂÂâÂÂâÂÂâÂÂâÂÂâÂÂâ âÂÂ[30;100m [37mâ¬Âï¸Â[30;100m processed [37m70%[30;100m of [37m14[30;100m/[37m20[30;100m [37m1.54[30;100m/[37m0.66[30;100m[0m
[17;1f
[2K[37mâÂÂâÂÂâÂÂâÂÂâÂÂâÂÂâÂÂâÂÂâÂÂâÂÂâÂÂâÂÂâÂÂâÂÂâÂÂâ âÂÂ[30;100m [37mâ¬Âï¸Â[30;100m processed [37m75%[30;100m of [37m15[30;100m/[37m20[30;100m [37m1.65[30;100m/[37m0.55[30;100m[0m
[17;1f
[2K[37mâÂÂâÂÂâÂÂâÂÂâÂÂâÂÂâÂÂâÂÂâÂÂâÂÂâÂÂâÂÂâÂÂâÂÂâÂÂâÂÂâ âÂÂ[30;100m [37mð«[30;100m processed [37m80%[30;100m of [37m16[30;100m/[37m20[30;100m [37m1.76[30;100m/[37m0.44[30;100m[0m
[17;1f
[2K[37mâÂÂâÂÂâÂÂâÂÂâÂÂâÂÂâÂÂâÂÂâÂÂâÂÂâÂÂâÂÂâÂÂâÂÂâÂÂâÂÂâÂÂâ âÂÂ[30;100m [37mðÂÂÂ¥[30;100m processed [37m85%[30;100m of [37m17[30;100m/[37m20[30;100m [37m1.87[30;100m/[37m0.33[30;100m[0m
[17;1f
[2K[37mâÂÂâÂÂâÂÂâÂÂâÂÂâÂÂâÂÂâÂÂâÂÂâÂÂâÂÂâÂÂâÂÂâÂÂâÂÂâÂÂâÂÂâÂÂâ âÂÂ[30;100m [37mð§[30;100m processed [37m90%[30;100m of [37m18[30;100m/[37m20[30;100m [37m1.98[30;100m/[37m0.22[30;100m[0m
[17;1f
[2K[37mâÂÂâÂÂâÂÂâÂÂâÂÂâÂÂâÂÂâÂÂâÂÂâÂÂâÂÂâÂÂâÂÂâÂÂâÂÂâÂÂâÂÂâÂÂâÂÂâ âÂÂ[30;100m [37mð¨[30;100m processed [37m95%[30;100m of [37m19[30;100m/[37m20[30;100m [37m2.09[30;100m/[37m0.11[30;100m[0m
[17;1f
[2K[37mâÂÂâÂÂâÂÂâÂÂâÂÂâÂÂâÂÂâÂÂâÂÂâÂÂâÂÂâÂÂâÂÂâÂÂâÂÂâÂÂâÂÂâÂÂâÂÂâÂÂâÂÂâÂÂ[30;100m [37mð©[30;100m processed [37m100%[30;100m of [37m20[30;100m/[37m20[30;100m [37m2.2[30;100m/[37m0[30;100m[0m
[?25h
[2K[?25l
[19;1f
[2K[37m[= ][30;100m [37mð¨ð¦â¬Âï¸Â[30;100m processed [37m5%[30;100m of [37m1[30;100m/[37m20[30;100m [37m0.11[30;100m/[37m2.09[30;100m[0m
[19;1f
[2K[37m[== ][30;100m [37mð©ðªð«[30;100m processed [37m10%[30;100m of [37m2[30;100m/[37m20[30;100m [37m0.22[30;100m/[37m1.98[30;100m[0m
[19;1f
[2K[37m[=== ][30;100m [37mð¦â¬Âï¸ÂðÂÂÂ¥[30;100m processed [37m15%[30;100m of [37m3[30;100m/[37m20[30;100m [37m0.33[30;100m/[37m1.87[30;100m[0m
[19;1f
[2K[37m[==== ][30;100m [37mðªâ¬Âï¸Âð§[30;100m processed [37m20%[30;100m of [37m4[30;100m/[37m20[30;100m [37m0.44[30;100m/[37m1.76[30;100m[0m
[19;1f
[2K[37m[===== ][30;100m [37mâ¬Âï¸Âð«ð¨[30;100m processed [37m25%[30;100m of [37m5[30;100m/[37m20[30;100m [37m0.55[30;100m/[37m1.65[30;100m[0m
[19;1f
[2K[37m[====== ][30;100m [37mâ¬Âï¸ÂðÂÂ¥ð©[30;100m processed [37m30%[30;100m of [37m6[30;100m/[37m20[30;100m [37m0.66[30;100m/[37m1.54[30;100m[0m
[19;1f
[2K[37m[======= ][30;100m [37mð«ð§ð¦[30;100m processed [37m35%[30;100m of [37m7[30;100m/[37m20[30;100m [37m0.77[30;100m/[37m1.43[30;100m[0m
[19;1f
[2K[37m[======== ][30;100m [37mðÂÂ¥ð¨ðª[30;100m processed [37m40%[30;100m of [37m8[30;100m/[37m20[30;100m [37m0.88[30;100m/[37m1.32[30;100m[0m
[19;1f
[2K[37m[========= ][30;100m [37mð§ð©â¬Âï¸Â[30;100m processed [37m45%[30;100m of [37m9[30;100m/[37m20[30;100m [37m0.99[30;100m/[37m1.21[30;100m[0m
[19;1f
[2K[37m[========== ][30;100m [37mð¨ð¦â¬Âï¸Â[30;100m processed [37m50%[30;100m of [37m10[30;100m/[37m20[30;100m [37m1.1[30;100m/[37m1.1[30;100m[0m
[19;1f
[2K[37m[=========== ][30;100m [37mð©ðªð«[30;100m processed [37m55%[30;100m of [37m11[30;100m/[37m20[30;100m [37m1.21[30;100m/[37m0.99[30;100m[0m
[19;1f
[2K[37m[============ ][30;100m [37mð¦â¬Âï¸ÂðÂÂÂ¥[30;100m processed [37m60%[30;100m of [37m12[30;100m/[37m20[30;100m [37m1.32[30;100m/[37m0.88[30;100m[0m
[19;1f
[2K[37m[============= ][30;100m [37mðªâ¬Âï¸Âð§[30;100m processed [37m65%[30;100m of [37m13[30;100m/[37m20[30;100m [37m1.43[30;100m/[37m0.77[30;100m[0m
[19;1f
[2K[37m[============== ][30;100m [37mâ¬Âï¸Âð«ð¨[30;100m processed [37m70%[30;100m of [37m14[30;100m/[37m20[30;100m [37m1.54[30;100m/[37m0.66[30;100m[0m
[19;1f
[2K[37m[=============== ][30;100m [37mâ¬Âï¸ÂðÂÂ¥ð©[30;100m processed [37m75%[30;100m of [37m15[30;100m/[37m20[30;100m [37m1.65[30;100m/[37m0.55[30;100m[0m
[19;1f
[2K[37m[================ ][30;100m [37mð«ð§ð¦[30;100m processed [37m80%[30;100m of [37m16[30;100m/[37m20[30;100m [37m1.76[30;100m/[37m0.44[30;100m[0m
[19;1f
[2K[37m[================= ][30;100m [37mðÂÂ¥ð¨ðª[30;100m processed [37m85%[30;100m of [37m17[30;100m/[37m20[30;100m [37m1.87[30;100m/[37m0.33[30;100m[0m
[19;1f
[2K[37m[================== ][30;100m [37mð§ð©â¬Âï¸Â[30;100m processed [37m90%[30;100m of [37m18[30;100m/[37m20[30;100m [37m1.98[30;100m/[37m0.22[30;100m[0m
[19;1f
[2K[37m[=================== ][30;100m [37mð¨ð¦â¬Âï¸Â[30;100m processed [37m95%[30;100m of [37m19[30;100m/[37m20[30;100m [37m2.09[30;100m/[37m0.11[30;100m[0m
[19;1f
[2K[37m[====================][30;100m [37mð©ðªð«[30;100m processed [37m100%[30;100m of [37m20[30;100m/[37m20[30;100m [37m2.2[30;100m/[37m0[30;100m[0m
[?25h
[2K[?25l
[21;1f
[2K[37m[# ][30;100m [37mâ ¹[30;100m processed [37m5%[30;100m of [37m1[30;100m/[37m20[30;100m [37m0.11[30;100m/[37m2.09[30;100m[0m
[21;1f
[2K[37m[## ][30;100m [37mâ ¸[30;100m processed [37m10%[30;100m of [37m2[30;100m/[37m20[30;100m [37m0.22[30;100m/[37m1.98[30;100m[0m
[21;1f
[2K[37m[### ][30;100m [37mâ ¼[30;100m processed [37m15%[30;100m of [37m3[30;100m/[37m20[30;100m [37m0.33[30;100m/[37m1.87[30;100m[0m
[21;1f
[2K[37m[#### ][30;100m [37mâ ´[30;100m processed [37m20%[30;100m of [37m4[30;100m/[37m20[30;100m [37m0.44[30;100m/[37m1.76[30;100m[0m
[21;1f
[2K[37m[##### ][30;100m [37mâ ¦[30;100m processed [37m25%[30;100m of [37m5[30;100m/[37m20[30;100m [37m0.55[30;100m/[37m1.65[30;100m[0m
[21;1f
[2K[37m[###### ][30;100m [37mâ §[30;100m processed [37m30%[30;100m of [37m6[30;100m/[37m20[30;100m [37m0.66[30;100m/[37m1.54[30;100m[0m
[21;1f
[2K[37m[####### ][30;100m [37mâ Â[30;100m processed [37m35%[30;100m of [37m7[30;100m/[37m20[30;100m [37m0.77[30;100m/[37m1.43[30;100m[0m
[21;1f
[2K[37m[######## ][30;100m [37mâ Â[30;100m processed [37m40%[30;100m of [37m8[30;100m/[37m20[30;100m [37m0.88[30;100m/[37m1.32[30;100m[0m
[21;1f
[2K[37m[######### ][30;100m [37mâ Â[30;100m processed [37m45%[30;100m of [37m9[30;100m/[37m20[30;100m [37m0.99[30;100m/[37m1.21[30;100m[0m
[21;1f
[2K[37m[########## ][30;100m [37mâ Â[30;100m processed [37m50%[30;100m of [37m10[30;100m/[37m20[30;100m [37m1.1[30;100m/[37m1.1[30;100m[0m
[21;1f
[2K[37m[########### ][30;100m [37mâ ¹[30;100m processed [37m55%[30;100m of [37m11[30;100m/[37m20[30;100m [37m1.21[30;100m/[37m0.99[30;100m[0m
[21;1f
[2K[37m[############ ][30;100m [37mâ ¸[30;100m processed [37m60%[30;100m of [37m12[30;100m/[37m20[30;100m [37m1.32[30;100m/[37m0.88[30;100m[0m
[21;1f
[2K[37m[############# ][30;100m [37mâ ¼[30;100m processed [37m65%[30;100m of [37m13[30;100m/[37m20[30;100m [37m1.43[30;100m/[37m0.77[30;100m[0m
[21;1f
[2K[37m[############## ][30;100m [37mâ ´[30;100m processed [37m70%[30;100m of [37m14[30;100m/[37m20[30;100m [37m1.54[30;100m/[37m0.66[30;100m[0m
[21;1f
[2K[37m[############### ][30;100m [37mâ ¦[30;100m processed [37m75%[30;100m of [37m15[30;100m/[37m20[30;100m [37m1.65[30;100m/[37m0.55[30;100m[0m
[21;1f
[2K[37m[################ ][30;100m [37mâ §[30;100m processed [37m80%[30;100m of [37m16[30;100m/[37m20[30;100m [37m1.76[30;100m/[37m0.44[30;100m[0m
[21;1f
[2K[37m[################# ][30;100m [37mâ Â[30;100m processed [37m85%[30;100m of [37m17[30;100m/[37m20[30;100m [37m1.87[30;100m/[37m0.33[30;100m[0m
[21;1f
[2K[37m[################## ][30;100m [37mâ Â[30;100m processed [37m90%[30;100m of [37m18[30;100m/[37m20[30;100m [37m1.98[30;100m/[37m0.22[30;100m[0m
[21;1f
[2K[37m[################### ][30;100m [37mâ Â[30;100m processed [37m95%[30;100m of [37m19[30;100m/[37m20[30;100m [37m2.09[30;100m/[37m0.11[30;100m[0m
[21;1f
[2K[37m[####################][30;100m [37mâ Â[30;100m processed [37m100%[30;100m of [37m20[30;100m/[37m20[30;100m [37m2.2[30;100m/[37m0[30;100m[0m
[?25h
[2K[?25l
[23;1f
[2K[37mâÂÂ⤠âÂÂ[30;100m [37mðÂÂÂ[30;100m processed [37m5%[30;100m of [37m1[30;100m/[37m20[30;100m [37m0.11[30;100m/[37m2.09[30;100m[0m
[23;1f
[2K[37mâÂÂâ¤â¤ âÂÂ[30;100m [37mðÂÂÂ[30;100m processed [37m10%[30;100m of [37m2[30;100m/[37m20[30;100m [37m0.22[30;100m/[37m1.98[30;100m[0m
[23;1f
[2K[37mâÂÂâ¤â¤â¤ âÂÂ[30;100m [37mðÂÂÂ[30;100m processed [37m15%[30;100m of [37m3[30;100m/[37m20[30;100m [37m0.33[30;100m/[37m1.87[30;100m[0m
[23;1f
[2K[37mâÂÂâ¤â¤â¤â¤ âÂÂ[30;100m [37mðÂÂÂ[30;100m processed [37m20%[30;100m of [37m4[30;100m/[37m20[30;100m [37m0.44[30;100m/[37m1.76[30;100m[0m
[23;1f
[2K[37mâÂÂâ¤â¤â¤â¤â¤ âÂÂ[30;100m [37mðÂÂÂ[30;100m processed [37m25%[30;100m of [37m5[30;100m/[37m20[30;100m [37m0.55[30;100m/[37m1.65[30;100m[0m
[23;1f
[2K[37mâÂÂâ¤â¤â¤â¤â¤â¤ âÂÂ[30;100m [37mðÂÂÂ[30;100m processed [37m30%[30;100m of [37m6[30;100m/[37m20[30;100m [37m0.66[30;100m/[37m1.54[30;100m[0m
[23;1f
[2K[37mâÂÂâ¤â¤â¤â¤â¤â¤â¤ âÂÂ[30;100m [37mðÂÂÂ[30;100m processed [37m35%[30;100m of [37m7[30;100m/[37m20[30;100m [37m0.77[30;100m/[37m1.43[30;100m[0m
[23;1f
[2K[37mâÂÂâ¤â¤â¤â¤â¤â¤â¤â¤ âÂÂ[30;100m [37mðÂÂÂ[30;100m processed [37m40%[30;100m of [37m8[30;100m/[37m20[30;100m [37m0.88[30;100m/[37m1.32[30;100m[0m
[23;1f
[2K[37mâÂÂâ¤â¤â¤â¤â¤â¤â¤â¤â¤ âÂÂ[30;100m [37mðÂÂÂ[30;100m processed [37m45%[30;100m of [37m9[30;100m/[37m20[30;100m [37m0.99[30;100m/[37m1.21[30;100m[0m
[23;1f
[2K[37mâÂÂâ¤â¤â¤â¤â¤â¤â¤â¤â¤â¤ âÂÂ[30;100m [37mðÂÂÂ[30;100m processed [37m50%[30;100m of [37m10[30;100m/[37m20[30;100m [37m1.1[30;100m/[37m1.1[30;100m[0m
[23;1f
[2K[37mâÂÂâ¤â¤â¤â¤â¤â¤â¤â¤â¤â¤â¤ âÂÂ[30;100m [37mðÂÂÂ[30;100m processed [37m55%[30;100m of [37m11[30;100m/[37m20[30;100m [37m1.21[30;100m/[37m0.99[30;100m[0m
[23;1f
[2K[37mâÂÂâ¤â¤â¤â¤â¤â¤â¤â¤â¤â¤â¤â¤ âÂÂ[30;100m [37mðÂÂÂ[30;100m processed [37m60%[30;100m of [37m12[30;100m/[37m20[30;100m [37m1.32[30;100m/[37m0.88[30;100m[0m
[23;1f
[2K[37mâÂÂâ¤â¤â¤â¤â¤â¤â¤â¤â¤â¤â¤â¤â¤ âÂÂ[30;100m [37mðÂÂÂ[30;100m processed [37m65%[30;100m of [37m13[30;100m/[37m20[30;100m [37m1.43[30;100m/[37m0.77[30;100m[0m
[23;1f
[2K[37mâÂÂâ¤â¤â¤â¤â¤â¤â¤â¤â¤â¤â¤â¤â¤â¤ âÂÂ[30;100m [37mðÂÂÂ[30;100m processed [37m70%[30;100m of [37m14[30;100m/[37m20[30;100m [37m1.54[30;100m/[37m0.66[30;100m[0m
[23;1f
[2K[37mâÂÂâ¤â¤â¤â¤â¤â¤â¤â¤â¤â¤â¤â¤â¤â¤â¤ âÂÂ[30;100m [37mðÂÂÂ[30;100m processed [37m75%[30;100m of [37m15[30;100m/[37m20[30;100m [37m1.65[30;100m/[37m0.55[30;100m[0m
[23;1f
[2K[37mâÂÂâ¤â¤â¤â¤â¤â¤â¤â¤â¤â¤â¤â¤â¤â¤â¤â¤ âÂÂ[30;100m [37mðÂÂÂ[30;100m processed [37m80%[30;100m of [37m16[30;100m/[37m20[30;100m [37m1.76[30;100m/[37m0.44[30;100m[0m
[23;1f
[2K[37mâÂÂâ¤â¤â¤â¤â¤â¤â¤â¤â¤â¤â¤â¤â¤â¤â¤â¤â¤ âÂÂ[30;100m [37mðÂÂÂ[30;100m processed [37m85%[30;100m of [37m17[30;100m/[37m20[30;100m [37m1.87[30;100m/[37m0.33[30;100m[0m
[23;1f
[2K[37mâÂÂâ¤â¤â¤â¤â¤â¤â¤â¤â¤â¤â¤â¤â¤â¤â¤â¤â¤â¤ âÂÂ[30;100m [37mðÂÂÂ[30;100m processed [37m90%[30;100m of [37m18[30;100m/[37m20[30;100m [37m1.98[30;100m/[37m0.22[30;100m[0m
[23;1f
[2K[37mâÂÂâ¤â¤â¤â¤â¤â¤â¤â¤â¤â¤â¤â¤â¤â¤â¤â¤â¤â¤â¤ âÂÂ[30;100m [37mðÂÂÂ[30;100m processed [37m95%[30;100m of [37m19[30;100m/[37m20[30;100m [37m2.09[30;100m/[37m0.11[30;100m[0m
[23;1f
[2K[37mâÂÂâ¤â¤â¤â¤â¤â¤â¤â¤â¤â¤â¤â¤â¤â¤â¤â¤â¤â¤â¤â¤âÂÂ[30;100m [37mðÂÂÂ[30;100m processed [37m100%[30;100m of [37m20[30;100m/[37m20[30;100m [37m2.2[30;100m/[37m0[30;100m[0m
[?25h
[2K[?25l
[25;1f
[2K[37mâÂÂâ¡ âÂÂ[30;100m [37mâÂÂâÂÂâÂÂâÂÂâÂÂâÂÂâÂÂâÂÂâÂÂâÂÂâÂÂâÂÂâÂÂâÂÂâÂÂâÂÂâÂÂâÂÂâÂÂâÂÂ[30;100m processed [37m5%[30;100m of [37m1[30;100m/[37m20[30;100m [37m0.11[30;100m/[37m2.09[30;100m[0m
[25;1f
[2K[37mâÂÂâ¡â¡ âÂÂ[30;100m [37mâÂÂâÂÂâÂÂâÂÂâÂÂâÂÂâÂÂâÂÂâÂÂâÂÂâÂÂâÂÂâÂÂâÂÂâÂÂâÂÂâÂÂâÂÂâÂÂâÂÂ[30;100m processed [37m10%[30;100m of [37m2[30;100m/[37m20[30;100m [37m0.22[30;100m/[37m1.98[30;100m[0m
[25;1f
[2K[37mâÂÂâ¡â¡â¡ âÂÂ[30;100m [37mâÂÂâÂÂâÂÂâÂÂâÂÂâÂÂâÂÂâÂÂâÂÂâÂÂâÂÂâÂÂâÂÂâÂÂâÂÂâÂÂâÂÂâÂÂâÂÂâÂÂ[30;100m processed [37m15%[30;100m of [37m3[30;100m/[37m20[30;100m [37m0.33[30;100m/[37m1.87[30;100m[0m
[25;1f
[2K[37mâÂÂâ¡â¡â¡â¡ âÂÂ[30;100m [37mâÂÂâÂÂâÂÂâÂÂâÂÂâÂÂâÂÂâÂÂâÂÂâÂÂâÂÂâÂÂâÂÂâÂÂâÂÂâÂÂâÂÂâÂÂâÂÂâÂÂ[30;100m processed [37m20%[30;100m of [37m4[30;100m/[37m20[30;100m [37m0.44[30;100m/[37m1.76[30;100m[0m
[25;1f
[2K[37mâÂÂâ¡â¡â¡â¡â¡ âÂÂ[30;100m [37mâÂÂâÂÂâÂÂâÂÂâÂÂâÂÂâÂÂâÂÂâÂÂâÂÂâÂÂâÂÂâÂÂâÂÂâÂÂâÂÂâÂÂâÂÂâÂÂâÂÂ[30;100m processed [37m25%[30;100m of [37m5[30;100m/[37m20[30;100m [37m0.55[30;100m/[37m1.65[30;100m[0m
[25;1f
[2K[37mâÂÂâ¡â¡â¡â¡â¡â¡ âÂÂ[30;100m [37mâÂÂâÂÂâÂÂâÂÂâÂÂâÂÂâÂÂâÂÂâÂÂâÂÂâÂÂâÂÂâÂÂâÂÂâÂÂâÂÂâÂÂâÂÂâÂÂâÂÂ[30;100m processed [37m30%[30;100m of [37m6[30;100m/[37m20[30;100m [37m0.66[30;100m/[37m1.54[30;100m[0m
[25;1f
[2K[37mâÂÂâ¡â¡â¡â¡â¡â¡â¡ âÂÂ[30;100m [37mâÂÂâÂÂâÂÂâÂÂâÂÂâÂÂâÂÂâÂÂâÂÂâÂÂâÂÂâÂÂâÂÂâÂÂâÂÂâÂÂâÂÂâÂÂâÂÂâÂÂ[30;100m processed [37m35%[30;100m of [37m7[30;100m/[37m20[30;100m [37m0.77[30;100m/[37m1.43[30;100m[0m
[25;1f
[2K[37mâÂÂâ¡â¡â¡â¡â¡â¡â¡â¡ âÂÂ[30;100m [37mâÂÂâÂÂâÂÂâÂÂâÂÂâÂÂâÂÂâÂÂâÂÂâÂÂâÂÂâÂÂâÂÂâÂÂâÂÂâÂÂâÂÂâÂÂâÂÂâÂÂ[30;100m processed [37m40%[30;100m of [37m8[30;100m/[37m20[30;100m [37m0.88[30;100m/[37m1.32[30;100m[0m
[25;1f
[2K[37mâÂÂâ¡â¡â¡â¡â¡â¡â¡â¡â¡ âÂÂ[30;100m [37mâÂÂâÂÂâÂÂâÂÂâÂÂâÂÂâÂÂâÂÂâÂÂâÂÂâÂÂâÂÂâÂÂâÂÂâÂÂâÂÂâÂÂâÂÂâÂÂâÂÂ[30;100m processed [37m45%[30;100m of [37m9[30;100m/[37m20[30;100m [37m0.99[30;100m/[37m1.21[30;100m[0m
[25;1f
[2K[37mâÂÂâ¡â¡â¡â¡â¡â¡â¡â¡â¡â¡ âÂÂ[30;100m [37mâÂÂâÂÂâÂÂâÂÂâÂÂâÂÂâÂÂâÂÂâÂÂâÂÂâÂÂâÂÂâÂÂâÂÂâÂÂâÂÂâÂÂâÂÂâÂÂâÂÂ[30;100m processed [37m50%[30;100m of [37m10[30;100m/[37m20[30;100m [37m1.1[30;100m/[37m1.1[30;100m[0m
[25;1f
[2K[37mâÂÂâ¡â¡â¡â¡â¡â¡â¡â¡â¡â¡â¡ âÂÂ[30;100m [37mâÂÂâÂÂâÂÂâÂÂâÂÂâÂÂâÂÂâÂÂâÂÂâÂÂâÂÂâÂÂâÂÂâÂÂâÂÂâÂÂâÂÂâÂÂâÂÂâÂÂ[30;100m processed [37m55%[30;100m of [37m11[30;100m/[37m20[30;100m [37m1.21[30;100m/[37m0.99[30;100m[0m
[25;1f
[2K[37mâÂÂâ¡â¡â¡â¡â¡â¡â¡â¡â¡â¡â¡â¡ âÂÂ[30;100m [37mâÂÂâÂÂâÂÂâÂÂâÂÂâÂÂâÂÂâÂÂâÂÂâÂÂâÂÂâÂÂâÂÂâÂÂâÂÂâÂÂâÂÂâÂÂâÂÂâÂÂ[30;100m processed [37m60%[30;100m of [37m12[30;100m/[37m20[30;100m [37m1.32[30;100m/[37m0.88[30;100m[0m
[25;1f
[2K[37mâÂÂâ¡â¡â¡â¡â¡â¡â¡â¡â¡â¡â¡â¡â¡ âÂÂ[30;100m [37mâÂÂâÂÂâÂÂâÂÂâÂÂâÂÂâÂÂâÂÂâÂÂâÂÂâÂÂâÂÂâÂÂâÂÂâÂÂâÂÂâÂÂâÂÂâÂÂâÂÂ[30;100m processed [37m65%[30;100m of [37m13[30;100m/[37m20[30;100m [37m1.43[30;100m/[37m0.77[30;100m[0m
[25;1f
[2K[37mâÂÂâ¡â¡â¡â¡â¡â¡â¡â¡â¡â¡â¡â¡â¡â¡ âÂÂ[30;100m [37mâÂÂâÂÂâÂÂâÂÂâÂÂâÂÂâÂÂâÂÂâÂÂâÂÂâÂÂâÂÂâÂÂâÂÂâÂÂâÂÂâÂÂâÂÂâÂÂâÂÂ[30;100m processed [37m70%[30;100m of [37m14[30;100m/[37m20[30;100m [37m1.54[30;100m/[37m0.66[30;100m[0m
[25;1f
[2K[37mâÂÂâ¡â¡â¡â¡â¡â¡â¡â¡â¡â¡â¡â¡â¡â¡â¡ âÂÂ[30;100m [37mâÂÂâÂÂâÂÂâÂÂâÂÂâÂÂâÂÂâÂÂâÂÂâÂÂâÂÂâÂÂâÂÂâÂÂâÂÂâÂÂâÂÂâÂÂâÂÂâÂÂ[30;100m processed [37m75%[30;100m of [37m15[30;100m/[37m20[30;100m [37m1.65[30;100m/[37m0.55[30;100m[0m
[25;1f
[2K[37mâÂÂâ¡â¡â¡â¡â¡â¡â¡â¡â¡â¡â¡â¡â¡â¡â¡â¡ âÂÂ[30;100m [37mâÂÂâÂÂâÂÂâÂÂâÂÂâÂÂâÂÂâÂÂâÂÂâÂÂâÂÂâÂÂâÂÂâÂÂâÂÂâÂÂâÂÂâÂÂâÂÂâÂÂ[30;100m processed [37m80%[30;100m of [37m16[30;100m/[37m20[30;100m [37m1.76[30;100m/[37m0.44[30;100m[0m
[25;1f
[2K[37mâÂÂâ¡â¡â¡â¡â¡â¡â¡â¡â¡â¡â¡â¡â¡â¡â¡â¡â¡ âÂÂ[30;100m [37mâÂÂâÂÂâÂÂâÂÂâÂÂâÂÂâÂÂâÂÂâÂÂâÂÂâÂÂâÂÂâÂÂâÂÂâÂÂâÂÂâÂÂâÂÂâÂÂâÂÂ[30;100m processed [37m85%[30;100m of [37m17[30;100m/[37m20[30;100m [37m1.87[30;100m/[37m0.33[30;100m[0m
[25;1f
[2K[37mâÂÂâ¡â¡â¡â¡â¡â¡â¡â¡â¡â¡â¡â¡â¡â¡â¡â¡â¡â¡ âÂÂ[30;100m [37mâÂÂâÂÂâÂÂâÂÂâÂÂâÂÂâÂÂâÂÂâÂÂâÂÂâÂÂâÂÂâÂÂâÂÂâÂÂâÂÂâÂÂâÂÂâÂÂâÂÂ[30;100m processed [37m90%[30;100m of [37m18[30;100m/[37m20[30;100m [37m1.98[30;100m/[37m0.22[30;100m[0m
[25;1f
[2K[37mâÂÂâ¡â¡â¡â¡â¡â¡â¡â¡â¡â¡â¡â¡â¡â¡â¡â¡â¡â¡â¡ âÂÂ[30;100m [37mâÂÂâÂÂâÂÂâÂÂâÂÂâÂÂâÂÂâÂÂâÂÂâÂÂâÂÂâÂÂâÂÂâÂÂâÂÂâÂÂâÂÂâÂÂâÂÂâÂÂ[30;100m processed [37m95%[30;100m of [37m19[30;100m/[37m20[30;100m [37m2.09[30;100m/[37m0.11[30;100m[0m
[25;1f
[2K[37mâÂÂâ¡â¡â¡â¡â¡â¡â¡â¡â¡â¡â¡â¡â¡â¡â¡â¡â¡â¡â¡â¡âÂÂ[30;100m [37mâÂÂâÂÂâÂÂâÂÂâÂÂâÂÂâÂÂâÂÂâÂÂâÂÂâÂÂâÂÂâÂÂâÂÂâÂÂâÂÂâÂÂâÂÂâÂÂâÂÂ[30;100m processed [37m100%[30;100m of [37m20[30;100m/[37m20[30;100m [37m2.2[30;100m/[37m0[30;100m[0m
[?25h
[2K[?25l
[27;1f
[2K[37mâÂÂ⪠âÂÂ[30;100m [37mð [30;100m processed [37m5%[30;100m of [37m1[30;100m/[37m20[30;100m [37m0.11[30;100m/[37m2.09[30;100m[0m
[27;1f
[2K[37mâÂÂâªâª âÂÂ[30;100m [37mð [30;100m processed [37m10%[30;100m of [37m2[30;100m/[37m20[30;100m [37m0.22[30;100m/[37m1.98[30;100m[0m
[27;1f
[2K[37mâÂÂâªâªâª âÂÂ[30;100m [37mð [30;100m processed [37m15%[30;100m of [37m3[30;100m/[37m20[30;100m [37m0.33[30;100m/[37m1.87[30;100m[0m
[27;1f
[2K[37mâÂÂâªâªâªâª âÂÂ[30;100m [37mð [30;100m processed [37m20%[30;100m of [37m4[30;100m/[37m20[30;100m [37m0.44[30;100m/[37m1.76[30;100m[0m
[27;1f
[2K[37mâÂÂâªâªâªâªâª âÂÂ[30;100m [37mð [30;100m processed [37m25%[30;100m of [37m5[30;100m/[37m20[30;100m [37m0.55[30;100m/[37m1.65[30;100m[0m
[27;1f
[2K[37mâÂÂâªâªâªâªâªâª âÂÂ[30;100m [37mð [30;100m processed [37m30%[30;100m of [37m6[30;100m/[37m20[30;100m [37m0.66[30;100m/[37m1.54[30;100m[0m
[27;1f
[2K[37mâÂÂâªâªâªâªâªâªâª âÂÂ[30;100m [37mð [30;100m processed [37m35%[30;100m of [37m7[30;100m/[37m20[30;100m [37m0.77[30;100m/[37m1.43[30;100m[0m
[27;1f
[2K[37mâÂÂâªâªâªâªâªâªâªâª âÂÂ[30;100m [37mð [30;100m processed [37m40%[30;100m of [37m8[30;100m/[37m20[30;100m [37m0.88[30;100m/[37m1.32[30;100m[0m
[27;1f
[2K[37mâÂÂâªâªâªâªâªâªâªâªâª âÂÂ[30;100m [37mð [30;100m processed [37m45%[30;100m of [37m9[30;100m/[37m20[30;100m [37m0.99[30;100m/[37m1.21[30;100m[0m
[27;1f
[2K[37mâÂÂâªâªâªâªâªâªâªâªâªâª âÂÂ[30;100m [37mð [30;100m processed [37m50%[30;100m of [37m10[30;100m/[37m20[30;100m [37m1.1[30;100m/[37m1.1[30;100m[0m
[27;1f
[2K[37mâÂÂâªâªâªâªâªâªâªâªâªâªâª âÂÂ[30;100m [37mð [30;100m processed [37m55%[30;100m of [37m11[30;100m/[37m20[30;100m [37m1.21[30;100m/[37m0.99[30;100m[0m
[27;1f
[2K[37mâÂÂâªâªâªâªâªâªâªâªâªâªâªâª âÂÂ[30;100m [37mð [30;100m processed [37m60%[30;100m of [37m12[30;100m/[37m20[30;100m [37m1.32[30;100m/[37m0.88[30;100m[0m
[27;1f
[2K[37mâÂÂâªâªâªâªâªâªâªâªâªâªâªâªâª âÂÂ[30;100m [37mð [30;100m processed [37m65%[30;100m of [37m13[30;100m/[37m20[30;100m [37m1.43[30;100m/[37m0.77[30;100m[0m
[27;1f
[2K[37mâÂÂâªâªâªâªâªâªâªâªâªâªâªâªâªâª âÂÂ[30;100m [37mð [30;100m processed [37m70%[30;100m of [37m14[30;100m/[37m20[30;100m [37m1.54[30;100m/[37m0.66[30;100m[0m
[27;1f
[2K[37mâÂÂâªâªâªâªâªâªâªâªâªâªâªâªâªâªâª âÂÂ[30;100m [37mð [30;100m processed [37m75%[30;100m of [37m15[30;100m/[37m20[30;100m [37m1.65[30;100m/[37m0.55[30;100m[0m
[27;1f
[2K[37mâÂÂâªâªâªâªâªâªâªâªâªâªâªâªâªâªâªâª âÂÂ[30;100m [37mð [30;100m processed [37m80%[30;100m of [37m16[30;100m/[37m20[30;100m [37m1.76[30;100m/[37m0.44[30;100m[0m
[27;1f
[2K[37mâÂÂâªâªâªâªâªâªâªâªâªâªâªâªâªâªâªâªâª âÂÂ[30;100m [37mð [30;100m processed [37m85%[30;100m of [37m17[30;100m/[37m20[30;100m [37m1.87[30;100m/[37m0.33[30;100m[0m
[27;1f
[2K[37mâÂÂâªâªâªâªâªâªâªâªâªâªâªâªâªâªâªâªâªâª âÂÂ[30;100m [37mð [30;100m processed [37m90%[30;100m of [37m18[30;100m/[37m20[30;100m [37m1.98[30;100m/[37m0.22[30;100m[0m
[27;1f
[2K[37mâÂÂâªâªâªâªâªâªâªâªâªâªâªâªâªâªâªâªâªâªâª âÂÂ[30;100m [37mð [30;100m processed [37m95%[30;100m of [37m19[30;100m/[37m20[30;100m [37m2.09[30;100m/[37m0.11[30;100m[0m
[27;1f
[2K[37mâÂÂâªâªâªâªâªâªâªâªâªâªâªâªâªâªâªâªâªâªâªâªâÂÂ[30;100m [37mð [30;100m processed [37m100%[30;100m of [37m20[30;100m/[37m20[30;100m [37m2.2[30;100m/[37m0[30;100m[0m
[?25h
[2K[?25l
[29;1f
[2K[37mâÂÂâ âÂÂ[30;100m [37mâ´[30;100m processed [37m5%[30;100m of [37m1[30;100m/[37m20[30;100m [37m0.11[30;100m/[37m2.09[30;100m[0m
[29;1f
[2K[37mâÂÂâ â âÂÂ[30;100m [37mâÂÂ[30;100m processed [37m10%[30;100m of [37m2[30;100m/[37m20[30;100m [37m0.22[30;100m/[37m1.98[30;100m[0m
[29;1f
[2K[37mâÂÂâ â â âÂÂ[30;100m [37mâÂÂ[30;100m processed [37m15%[30;100m of [37m3[30;100m/[37m20[30;100m [37m0.33[30;100m/[37m1.87[30;100m[0m
[29;1f
[2K[37mâÂÂâ â â â âÂÂ[30;100m [37mâÂÂ[30;100m processed [37m20%[30;100m of [37m4[30;100m/[37m20[30;100m [37m0.44[30;100m/[37m1.76[30;100m[0m
[29;1f
[2K[37mâÂÂâ â â â â âÂÂ[30;100m [37mâ¬[30;100m processed [37m25%[30;100m of [37m5[30;100m/[37m20[30;100m [37m0.55[30;100m/[37m1.65[30;100m[0m
[29;1f
[2K[37mâÂÂâ â â â â â âÂÂ[30;100m [37mâÂÂ[30;100m processed [37m30%[30;100m of [37m6[30;100m/[37m20[30;100m [37m0.66[30;100m/[37m1.54[30;100m[0m
[29;1f
[2K[37mâÂÂâ â â â â â â âÂÂ[30;100m [37mâ¤[30;100m processed [37m35%[30;100m of [37m7[30;100m/[37m20[30;100m [37m0.77[30;100m/[37m1.43[30;100m[0m
[29;1f
[2K[37mâÂÂâ â â â â â â â âÂÂ[30;100m [37mâÂÂ[30;100m processed [37m40%[30;100m of [37m8[30;100m/[37m20[30;100m [37m0.88[30;100m/[37m1.32[30;100m[0m
[29;1f
[2K[37mâÂÂâ â â â â â â â â âÂÂ[30;100m [37mâ´[30;100m processed [37m45%[30;100m of [37m9[30;100m/[37m20[30;100m [37m0.99[30;100m/[37m1.21[30;100m[0m
[29;1f
[2K[37mâÂÂâ â â â â â â â â â âÂÂ[30;100m [37mâÂÂ[30;100m processed [37m50%[30;100m of [37m10[30;100m/[37m20[30;100m [37m1.1[30;100m/[37m1.1[30;100m[0m
[29;1f
[2K[37mâÂÂâ â â â â â â â â â â âÂÂ[30;100m [37mâÂÂ[30;100m processed [37m55%[30;100m of [37m11[30;100m/[37m20[30;100m [37m1.21[30;100m/[37m0.99[30;100m[0m
[29;1f
[2K[37mâÂÂâ â â â â â â â â â â â âÂÂ[30;100m [37mâÂÂ[30;100m processed [37m60%[30;100m of [37m12[30;100m/[37m20[30;100m [37m1.32[30;100m/[37m0.88[30;100m[0m
[29;1f
[2K[37mâÂÂâ â â â â â â â â â â â â âÂÂ[30;100m [37mâ¬[30;100m processed [37m65%[30;100m of [37m13[30;100m/[37m20[30;100m [37m1.43[30;100m/[37m0.77[30;100m[0m
[29;1f
[2K[37mâÂÂâ â â â â â â â â â â â â â âÂÂ[30;100m [37mâÂÂ[30;100m processed [37m70%[30;100m of [37m14[30;100m/[37m20[30;100m [37m1.54[30;100m/[37m0.66[30;100m[0m
[29;1f
[2K[37mâÂÂâ â â â â â â â â â â â â â â âÂÂ[30;100m [37mâ¤[30;100m processed [37m75%[30;100m of [37m15[30;100m/[37m20[30;100m [37m1.65[30;100m/[37m0.55[30;100m[0m
[29;1f
[2K[37mâÂÂâ â â â â â â â â â â â â â â â âÂÂ[30;100m [37mâÂÂ[30;100m processed [37m80%[30;100m of [37m16[30;100m/[37m20[30;100m [37m1.76[30;100m/[37m0.44[30;100m[0m
[29;1f
[2K[37mâÂÂâ â â â â â â â â â â â â â â â â âÂÂ[30;100m [37mâ´[30;100m processed [37m85%[30;100m of [37m17[30;100m/[37m20[30;100m [37m1.87[30;100m/[37m0.33[30;100m[0m
[29;1f
[2K[37mâÂÂâ â â â â â â â â â â â â â â â â â âÂÂ[30;100m [37mâÂÂ[30;100m processed [37m90%[30;100m of [37m18[30;100m/[37m20[30;100m [37m1.98[30;100m/[37m0.22[30;100m[0m
[29;1f
[2K[37mâÂÂâ â â â â â â â â â â â â â â â â â â âÂÂ[30;100m [37mâÂÂ[30;100m processed [37m95%[30;100m of [37m19[30;100m/[37m20[30;100m [37m2.09[30;100m/[37m0.11[30;100m[0m
[29;1f
[2K[37mâÂÂâ â â â â â â â â â â â â â â â â â â â âÂÂ[30;100m [37mâÂÂ[30;100m processed [37m100%[30;100m of [37m20[30;100m/[37m20[30;100m [37m2.2[30;100m/[37m0[30;100m[0m
[?25h
[2K[?25l
[31;1f
[2K[37mâÂÂâ¶︠âÂÂ[30;100m [37mâ ⠠âÂÂ[30;100m processed [37m5%[30;100m of [37m1[30;100m/[37m20[30;100m [37m0.11[30;100m/[37m2.09[30;100m[0m
[31;1f
[2K[37mâÂÂâ¶ï¸Ââ¶︠âÂÂ[30;100m [37mâ ⠠âÂÂ[30;100m processed [37m10%[30;100m of [37m2[30;100m/[37m20[30;100m [37m0.22[30;100m/[37m1.98[30;100m[0m
[31;1f
[2K[37mâÂÂâ¶ï¸Ââ¶ï¸Ââ¶︠âÂÂ[30;100m [37mâ ⡠âÂÂ[30;100m processed [37m15%[30;100m of [37m3[30;100m/[37m20[30;100m [37m0.33[30;100m/[37m1.87[30;100m[0m
[31;1f
[2K[37mâÂÂâ¶ï¸Ââ¶ï¸Ââ¶ï¸Ââ¶︠âÂÂ[30;100m [37mâ ⠠âÂÂ[30;100m processed [37m20%[30;100m of [37m4[30;100m/[37m20[30;100m [37m0.44[30;100m/[37m1.76[30;100m[0m
[31;1f
[2K[37mâÂÂâ¶ï¸Ââ¶ï¸Ââ¶ï¸Ââ¶ï¸Ââ¶︠âÂÂ[30;100m [37mâ ⠠âÂÂ[30;100m processed [37m25%[30;100m of [37m5[30;100m/[37m20[30;100m [37m0.55[30;100m/[37m1.65[30;100m[0m
[31;1f
[2K[37mâÂÂâ¶ï¸Ââ¶ï¸Ââ¶ï¸Ââ¶ï¸Ââ¶ï¸Ââ¶︠âÂÂ[30;100m [37mâ ⠠âÂÂ[30;100m processed [37m30%[30;100m of [37m6[30;100m/[37m20[30;100m [37m0.66[30;100m/[37m1.54[30;100m[0m
[31;1f
[2K[37mâÂÂâ¶ï¸Ââ¶ï¸Ââ¶ï¸Ââ¶ï¸Ââ¶ï¸Ââ¶ï¸Ââ¶︠âÂÂ[30;100m [37mâ ⠠âÂÂ[30;100m processed [37m35%[30;100m of [37m7[30;100m/[37m20[30;100m [37m0.77[30;100m/[37m1.43[30;100m[0m
[31;1f
[2K[37mâÂÂâ¶ï¸Ââ¶ï¸Ââ¶ï¸Ââ¶ï¸Ââ¶ï¸Ââ¶ï¸Ââ¶ï¸Ââ¶︠âÂÂ[30;100m [37mâ ⠠âÂÂ[30;100m processed [37m40%[30;100m of [37m8[30;100m/[37m20[30;100m [37m0.88[30;100m/[37m1.32[30;100m[0m
[31;1f
[2K[37mâÂÂâ¶ï¸Ââ¶ï¸Ââ¶ï¸Ââ¶ï¸Ââ¶ï¸Ââ¶ï¸Ââ¶ï¸Ââ¶ï¸Ââ¶︠âÂÂ[30;100m [37mâ ⡠âÂÂ[30;100m processed [37m45%[30;100m of [37m9[30;100m/[37m20[30;100m [37m0.99[30;100m/[37m1.21[30;100m[0m
[31;1f
[2K[37mâÂÂâ¶ï¸Ââ¶ï¸Ââ¶ï¸Ââ¶ï¸Ââ¶ï¸Ââ¶ï¸Ââ¶ï¸Ââ¶ï¸Ââ¶ï¸Ââ¶︠âÂÂ[30;100m [37mâ ⠠âÂÂ[30;100m processed [37m50%[30;100m of [37m10[30;100m/[37m20[30;100m [37m1.1[30;100m/[37m1.1[30;100m[0m
[31;1f
[2K[37mâÂÂâ¶ï¸Ââ¶ï¸Ââ¶ï¸Ââ¶ï¸Ââ¶ï¸Ââ¶ï¸Ââ¶ï¸Ââ¶ï¸Ââ¶ï¸Ââ¶ï¸Ââ¶︠âÂÂ[30;100m [37mâ ⠠âÂÂ[30;100m processed [37m55%[30;100m of [37m11[30;100m/[37m20[30;100m [37m1.21[30;100m/[37m0.99[30;100m[0m
[31;1f
[2K[37mâÂÂâ¶ï¸Ââ¶ï¸Ââ¶ï¸Ââ¶ï¸Ââ¶ï¸Ââ¶ï¸Ââ¶ï¸Ââ¶ï¸Ââ¶ï¸Ââ¶ï¸Ââ¶ï¸Ââ¶︠âÂÂ[30;100m [37mâ ⠠âÂÂ[30;100m processed [37m60%[30;100m of [37m12[30;100m/[37m20[30;100m [37m1.32[30;100m/[37m0.88[30;100m[0m
[31;1f
[2K[37mâÂÂâ¶ï¸Ââ¶ï¸Ââ¶ï¸Ââ¶ï¸Ââ¶ï¸Ââ¶ï¸Ââ¶ï¸Ââ¶ï¸Ââ¶ï¸Ââ¶ï¸Ââ¶ï¸Ââ¶ï¸Ââ¶︠âÂÂ[30;100m [37mâ â ÂâÂÂ[30;100m processed [37m65%[30;100m of [37m13[30;100m/[37m20[30;100m [37m1.43[30;100m/[37m0.77[30;100m[0m
[31;1f
[2K[37mâÂÂâ¶ï¸Ââ¶ï¸Ââ¶ï¸Ââ¶ï¸Ââ¶ï¸Ââ¶ï¸Ââ¶ï¸Ââ¶ï¸Ââ¶ï¸Ââ¶ï¸Ââ¶ï¸Ââ¶ï¸Ââ¶ï¸Ââ¶︠âÂÂ[30;100m [37mâ ⠠âÂÂ[30;100m processed [37m70%[30;100m of [37m14[30;100m/[37m20[30;100m [37m1.54[30;100m/[37m0.66[30;100m[0m
[31;1f
[2K[37mâÂÂâ¶ï¸Ââ¶ï¸Ââ¶ï¸Ââ¶ï¸Ââ¶ï¸Ââ¶ï¸Ââ¶ï¸Ââ¶ï¸Ââ¶ï¸Ââ¶ï¸Ââ¶ï¸Ââ¶ï¸Ââ¶ï¸Ââ¶ï¸Ââ¶︠âÂÂ[30;100m [37mâ â¡ÂâÂÂ[30;100m processed [37m75%[30;100m of [37m15[30;100m/[37m20[30;100m [37m1.65[30;100m/[37m0.55[30;100m[0m
[31;1f
[2K[37mâÂÂâ¶ï¸Ââ¶ï¸Ââ¶ï¸Ââ¶ï¸Ââ¶ï¸Ââ¶ï¸Ââ¶ï¸Ââ¶ï¸Ââ¶ï¸Ââ¶ï¸Ââ¶ï¸Ââ¶ï¸Ââ¶ï¸Ââ¶ï¸Ââ¶ï¸Ââ¶︠âÂÂ[30;100m [37mâ ⠠âÂÂ[30;100m processed [37m80%[30;100m of [37m16[30;100m/[37m20[30;100m [37m1.76[30;100m/[37m0.44[30;100m[0m
[31;1f
[2K[37mâÂÂâ¶ï¸Ââ¶ï¸Ââ¶ï¸Ââ¶ï¸Ââ¶ï¸Ââ¶ï¸Ââ¶ï¸Ââ¶ï¸Ââ¶ï¸Ââ¶ï¸Ââ¶ï¸Ââ¶ï¸Ââ¶ï¸Ââ¶ï¸Ââ¶ï¸Ââ¶ï¸Ââ¶︠âÂÂ[30;100m [37mâ ⠠âÂÂ[30;100m processed [37m85%[30;100m of [37m17[30;100m/[37m20[30;100m [37m1.87[30;100m/[37m0.33[30;100m[0m
[31;1f
[2K[37mâÂÂâ¶ï¸Ââ¶ï¸Ââ¶ï¸Ââ¶ï¸Ââ¶ï¸Ââ¶ï¸Ââ¶ï¸Ââ¶ï¸Ââ¶ï¸Ââ¶ï¸Ââ¶ï¸Ââ¶ï¸Ââ¶ï¸Ââ¶ï¸Ââ¶ï¸Ââ¶ï¸Ââ¶ï¸Ââ¶︠âÂÂ[30;100m [37mâ ⠠âÂÂ[30;100m processed [37m90%[30;100m of [37m18[30;100m/[37m20[30;100m [37m1.98[30;100m/[37m0.22[30;100m[0m
[31;1f
[2K[37mâÂÂâ¶ï¸Ââ¶ï¸Ââ¶ï¸Ââ¶ï¸Ââ¶ï¸Ââ¶ï¸Ââ¶ï¸Ââ¶ï¸Ââ¶ï¸Ââ¶ï¸Ââ¶ï¸Ââ¶ï¸Ââ¶ï¸Ââ¶ï¸Ââ¶ï¸Ââ¶ï¸Ââ¶ï¸Ââ¶ï¸Ââ¶︠âÂÂ[30;100m [37mâ ⠠âÂÂ[30;100m processed [37m95%[30;100m of [37m19[30;100m/[37m20[30;100m [37m2.09[30;100m/[37m0.11[30;100m[0m
[31;1f
[2K[37mâÂÂâ¶ï¸Ââ¶ï¸Ââ¶ï¸Ââ¶ï¸Ââ¶ï¸Ââ¶ï¸Ââ¶ï¸Ââ¶ï¸Ââ¶ï¸Ââ¶ï¸Ââ¶ï¸Ââ¶ï¸Ââ¶ï¸Ââ¶ï¸Ââ¶ï¸Ââ¶ï¸Ââ¶ï¸Ââ¶ï¸Ââ¶ï¸Ââ¶ï¸ÂâÂÂ[30;100m [37mâ ⠠âÂÂ[30;100m processed [37m100%[30;100m of [37m20[30;100m/[37m20[30;100m [37m2.2[30;100m/[37m0[30;100m[0m
[?25h[2J[1;1ft/01-test.t ....... ok
[1;1f[2J[?25l
[?25l
[?25l
[?25l
[1;1f
[2K[37mâÂÂâ âÂÂ[37m [37mâÂÂâÂÂâÂÂ[37m processed [37m5%[37m of [37m1[37m/[37m20[37m [37m0.102[37m/[37m1.938[37m[0m
[2;1f
[2K[37mâ âÂÂ[37m [37mâÂÂâÂÂâÂÂ[37m processed [37m0%[37m of [37m0[37m/[37m10[37m [37m0.102[37m/[37m0[37m[0m
[3;1f
[2K[37mâ âÂÂ[37m [37mâÂÂâÂÂâÂÂ[37m processed [37m0%[37m of [37m0[37m/[37m50[37m [37m0.103[37m/[37m0[37m[0m
[4;1f
[2K[37mâ âÂÂ[37m [37mâÂÂâÂÂâÂÂ[37m processed [37m0%[37m of [37m0[37m/[37m30[37m [37m0.104[37m/[37m0[37m[0m
[1;1f
[2K[37mâÂÂâ âÂÂ[37m [37mâÂÂâÂÂ
âÂÂ[37m processed [37m5%[37m of [37m1[37m/[37m20[37m [37m0.212[37m/[37m4.028[37m[0m
[2;1f
[2K[37mâÂÂâÂÂâ âÂÂ[37m [37mâÂÂâÂÂ
âÂÂ[37m processed [37m10%[37m of [37m1[37m/[37m10[37m [37m0.212[37m/[37m1.908[37m[0m
[3;1f
[2K[37mâ âÂÂ[37m [37mâÂÂâÂÂ
âÂÂ[37m processed [37m0%[37m of [37m0[37m/[37m50[37m [37m0.212[37m/[37m0[37m[0m
[4;1f
[2K[37mâ âÂÂ[37m [37mâÂÂâÂÂ
âÂÂ[37m processed [37m0%[37m of [37m0[37m/[37m30[37m [37m0.213[37m/[37m0[37m[0m
[1;1f
[2K[37mâÂÂâ âÂÂ[37m [37mâÂÂâÂÂâÂÂ[37m processed [37m5%[37m of [37m1[37m/[37m20[37m [37m0.323[37m/[37m6.137[37m[0m
[2;1f
[2K[37mâÂÂâÂÂâ âÂÂ[37m [37mâÂÂâÂÂâÂÂ[37m processed [37m10%[37m of [37m1[37m/[37m10[37m [37m0.323[37m/[37m2.907[37m[0m
[3;1f
[2K[37mâ âÂÂ[37m [37mâÂÂâÂÂâÂÂ[37m processed [37m2%[37m of [37m1[37m/[37m50[37m [37m0.323[37m/[37m15.827[37m[0m
[4;1f
[2K[37mâ âÂÂ[37m [37mâÂÂâÂÂâÂÂ[37m processed [37m0%[37m of [37m0[37m/[37m30[37m [37m0.324[37m/[37m0[37m[0m
[1;1f
[2K[37mâÂÂâ âÂÂ[37m [37mâÂÂâÂÂâÂÂ[37m processed [37m5%[37m of [37m1[37m/[37m20[37m [37m0.432[37m/[37m8.208[37m[0m
[2;1f
[2K[37mâÂÂâÂÂâ âÂÂ[37m [37mâÂÂâÂÂâÂÂ[37m processed [37m10%[37m of [37m1[37m/[37m10[37m [37m0.432[37m/[37m3.888[37m[0m
[3;1f
[2K[37mâ âÂÂ[37m [37mâÂÂâÂÂâÂÂ[37m processed [37m2%[37m of [37m1[37m/[37m50[37m [37m0.433[37m/[37m21.217[37m[0m
[4;1f
[2K[37mâÂÂâ âÂÂ[37m [37mâÂÂâÂÂâÂÂ[37m processed [37m3%[37m of [37m1[37m/[37m30[37m [37m0.433[37m/[37m14[37m[0m
[1;1f
[2K[37mâÂÂâÂÂâ âÂÂ[37m [37mâÂÂâÂÂâÂÂ[37m processed [37m10%[37m of [37m2[37m/[37m20[37m [37m0.543[37m/[37m4.887[37m[0m
[2;1f
[2K[37mâÂÂâÂÂâ âÂÂ[37m [37mâÂÂâÂÂâÂÂ[37m processed [37m10%[37m of [37m1[37m/[37m10[37m [37m0.542[37m/[37m4.878[37m[0m
[3;1f
[2K[37mâ âÂÂ[37m [37mâÂÂâÂÂâÂÂ[37m processed [37m2%[37m of [37m1[37m/[37m50[37m [37m0.543[37m/[37m26.607[37m[0m
[4;1f
[2K[37mâÂÂâ âÂÂ[37m [37mâÂÂâÂÂâÂÂ[37m processed [37m3%[37m of [37m1[37m/[37m30[37m [37m0.544[37m/[37m17.589[37m[0m
[1;1f
[2K[37mâÂÂâÂÂâ âÂÂ[37m [37mâÂÂâÂÂâÂÂ
[37m processed [37m10%[37m of [37m2[37m/[37m20[37m [37m0.653[37m/[37m5.877[37m[0m
[2;1f
[2K[37mâÂÂâÂÂâÂÂâÂÂâ âÂÂ[37m [37mâÂÂâÂÂâÂÂ
[37m processed [37m20%[37m of [37m2[37m/[37m10[37m [37m0.653[37m/[37m2.612[37m[0m
[3;1f
[2K[37mâ âÂÂ[37m [37mâÂÂâÂÂâÂÂ
[37m processed [37m2%[37m of [37m1[37m/[37m50[37m [37m0.653[37m/[37m31.997[37m[0m
[4;1f
[2K[37mâÂÂâ âÂÂ[37m [37mâÂÂâÂÂâÂÂ
[37m processed [37m3%[37m of [37m1[37m/[37m30[37m [37m0.654[37m/[37m21.146[37m[0m
[1;1f
[2K[37mâÂÂâÂÂâ âÂÂ[37m [37mâÂÂâÂÂâÂÂ[37m processed [37m10%[37m of [37m2[37m/[37m20[37m [37m0.762[37m/[37m6.858[37m[0m
[2;1f
[2K[37mâÂÂâÂÂâÂÂâÂÂâ âÂÂ[37m [37mâÂÂâÂÂâÂÂ[37m processed [37m20%[37m of [37m2[37m/[37m10[37m [37m0.761[37m/[37m3.044[37m[0m
[3;1f
[2K[37mâÂÂâ âÂÂ[37m [37mâÂÂâÂÂâÂÂ[37m processed [37m4%[37m of [37m2[37m/[37m50[37m [37m0.761[37m/[37m18.264[37m[0m
[4;1f
[2K[37mâÂÂâ âÂÂ[37m [37mâÂÂâÂÂâÂÂ[37m processed [37m3%[37m of [37m1[37m/[37m30[37m [37m0.761[37m/[37m24.606[37m[0m
[1;1f
[2K[37mâÂÂâÂÂâ âÂÂ[37m [37mâÂÂ
âÂÂâÂÂ[37m processed [37m10%[37m of [37m2[37m/[37m20[37m [37m0.872[37m/[37m7.848[37m[0m
[2;1f
[2K[37mâÂÂâÂÂâÂÂâÂÂâ âÂÂ[37m [37mâÂÂ
âÂÂâÂÂ[37m processed [37m20%[37m of [37m2[37m/[37m10[37m [37m0.871[37m/[37m3.484[37m[0m
[3;1f
[2K[37mâÂÂâ âÂÂ[37m [37mâÂÂ
âÂÂâÂÂ[37m processed [37m4%[37m of [37m2[37m/[37m50[37m [37m0.872[37m/[37m20.928[37m[0m
[4;1f
[2K[37mâÂÂâ âÂÂ[37m [37mâÂÂ
âÂÂâÂÂ[37m processed [37m6%[37m of [37m2[37m/[37m30[37m [37m0.872[37m/[37m13.661[37m[0m
[1;1f
[2K[37mâÂÂâÂÂâÂÂâ âÂÂ[37m [37mâÂÂâÂÂâÂÂ[37m processed [37m15%[37m of [37m3[37m/[37m20[37m [37m0.982[37m/[37m5.565[37m[0m
[2;1f
[2K[37mâÂÂâÂÂâÂÂâÂÂâ âÂÂ[37m [37mâÂÂâÂÂâÂÂ[37m processed [37m20%[37m of [37m2[37m/[37m10[37m [37m0.981[37m/[37m3.924[37m[0m
[3;1f
[2K[37mâÂÂâ âÂÂ[37m [37mâÂÂâÂÂâÂÂ[37m processed [37m4%[37m of [37m2[37m/[37m50[37m [37m0.982[37m/[37m23.568[37m[0m
[4;1f
[2K[37mâÂÂâ âÂÂ[37m [37mâÂÂâÂÂâÂÂ[37m processed [37m6%[37m of [37m2[37m/[37m30[37m [37m0.982[37m/[37m15.385[37m[0m
[1;1f
[2K[37mâÂÂâÂÂâÂÂâ âÂÂ[37m [37mâÂÂâÂÂ
âÂÂ[37m processed [37m15%[37m of [37m3[37m/[37m20[37m [37m1.092[37m/[37m6.188[37m[0m
[2;1f
[2K[37mâÂÂâÂÂâÂÂâÂÂâÂÂâÂÂâ âÂÂ[37m [37mâÂÂâÂÂ
âÂÂ[37m processed [37m30%[37m of [37m3[37m/[37m10[37m [37m1.091[37m/[37m2.546[37m[0m
[3;1f
[2K[37mâÂÂâ âÂÂ[37m [37mâÂÂâÂÂ
âÂÂ[37m processed [37m4%[37m of [37m2[37m/[37m50[37m [37m1.092[37m/[37m26.208[37m[0m
[4;1f
[2K[37mâÂÂâ âÂÂ[37m [37mâÂÂâÂÂ
âÂÂ[37m processed [37m6%[37m of [37m2[37m/[37m30[37m [37m1.092[37m/[37m17.108[37m[0m
[1;1f
[2K[37mâÂÂâÂÂâÂÂâ âÂÂ[37m [37mâÂÂâÂÂâÂÂ[37m processed [37m15%[37m of [37m3[37m/[37m20[37m [37m1.202[37m/[37m6.811[37m[0m
[2;1f
[2K[37mâÂÂâÂÂâÂÂâÂÂâÂÂâÂÂâ âÂÂ[37m [37mâÂÂâÂÂâÂÂ[37m processed [37m30%[37m of [37m3[37m/[37m10[37m [37m1.201[37m/[37m2.802[37m[0m
[3;1f
[2K[37mâÂÂâ âÂÂ[37m [37mâÂÂâÂÂâÂÂ[37m processed [37m6%[37m of [37m3[37m/[37m50[37m [37m1.202[37m/[37m18.831[37m[0m
[4;1f
[2K[37mâÂÂâ âÂÂ[37m [37mâÂÂâÂÂâÂÂ[37m processed [37m6%[37m of [37m2[37m/[37m30[37m [37m1.202[37m/[37m18.831[37m[0m
[1;1f
[2K[37mâÂÂâÂÂâÂÂâ âÂÂ[37m [37mâÂÂâÂÂâÂÂ[37m processed [37m15%[37m of [37m3[37m/[37m20[37m [37m1.312[37m/[37m7.435[37m[0m
[2;1f
[2K[37mâÂÂâÂÂâÂÂâÂÂâÂÂâÂÂâ âÂÂ[37m [37mâÂÂâÂÂâÂÂ[37m processed [37m30%[37m of [37m3[37m/[37m10[37m [37m1.311[37m/[37m3.059[37m[0m
[3;1f
[2K[37mâÂÂâ âÂÂ[37m [37mâÂÂâÂÂâÂÂ[37m processed [37m6%[37m of [37m3[37m/[37m50[37m [37m1.312[37m/[37m20.555[37m[0m
[4;1f
[2K[37mâÂÂâÂÂâ âÂÂ[37m [37mâÂÂâÂÂâÂÂ[37m processed [37m10%[37m of [37m3[37m/[37m30[37m [37m1.312[37m/[37m11.808[37m[0m
[1;1f
[2K[37mâÂÂâÂÂâÂÂâÂÂâ âÂÂ[37m [37mâÂÂâÂÂâÂÂ[37m processed [37m20%[37m of [37m4[37m/[37m20[37m [37m1.422[37m/[37m5.688[37m[0m
[2;1f
[2K[37mâÂÂâÂÂâÂÂâÂÂâÂÂâÂÂâ âÂÂ[37m [37mâÂÂâÂÂâÂÂ[37m processed [37m30%[37m of [37m3[37m/[37m10[37m [37m1.421[37m/[37m3.316[37m[0m
[3;1f
[2K[37mâÂÂâ âÂÂ[37m [37mâÂÂâÂÂâÂÂ[37m processed [37m6%[37m of [37m3[37m/[37m50[37m [37m1.422[37m/[37m22.278[37m[0m
[4;1f
[2K[37mâÂÂâÂÂâ âÂÂ[37m [37mâÂÂâÂÂâÂÂ[37m processed [37m10%[37m of [37m3[37m/[37m30[37m [37m1.422[37m/[37m12.798[37m[0m
[1;1f
[2K[37mâÂÂâÂÂâÂÂâÂÂâ âÂÂ[37m [37mâÂÂâÂÂâÂÂ
[37m processed [37m20%[37m of [37m4[37m/[37m20[37m [37m1.532[37m/[37m6.128[37m[0m
[2;1f
[2K[37mâÂÂâÂÂâÂÂâÂÂâÂÂâÂÂâÂÂâÂÂâ âÂÂ[37m [37mâÂÂâÂÂâÂÂ
[37m processed [37m40%[37m of [37m4[37m/[37m10[37m [37m1.531[37m/[37m2.297[37m[0m
[3;1f
[2K[37mâÂÂâ âÂÂ[37m [37mâÂÂâÂÂâÂÂ
[37m processed [37m6%[37m of [37m3[37m/[37m50[37m [37m1.532[37m/[37m24.001[37m[0m
[4;1f
[2K[37mâÂÂâÂÂâ âÂÂ[37m [37mâÂÂâÂÂâÂÂ
[37m processed [37m10%[37m of [37m3[37m/[37m30[37m [37m1.532[37m/[37m13.788[37m[0m
[1;1f
[2K[37mâÂÂâÂÂâÂÂâÂÂâ âÂÂ[37m [37mâÂÂâÂÂâÂÂ[37m processed [37m20%[37m of [37m4[37m/[37m20[37m [37m1.642[37m/[37m6.568[37m[0m
[2;1f
[2K[37mâÂÂâÂÂâÂÂâÂÂâÂÂâÂÂâÂÂâÂÂâ âÂÂ[37m [37mâÂÂâÂÂâÂÂ[37m processed [37m40%[37m of [37m4[37m/[37m10[37m [37m1.641[37m/[37m2.462[37m[0m
[3;1f
[2K[37mâÂÂâÂÂâ âÂÂ[37m [37mâÂÂâÂÂâÂÂ[37m processed [37m8%[37m of [37m4[37m/[37m50[37m [37m1.642[37m/[37m18.883[37m[0m
[4;1f
[2K[37mâÂÂâÂÂâ âÂÂ[37m [37mâÂÂâÂÂâÂÂ[37m processed [37m10%[37m of [37m3[37m/[37m30[37m [37m1.642[37m/[37m14.778[37m[0m
[1;1f
[2K[37mâÂÂâÂÂâÂÂâÂÂâ âÂÂ[37m [37mâÂÂ
âÂÂâÂÂ[37m processed [37m20%[37m of [37m4[37m/[37m20[37m [37m1.752[37m/[37m7.008[37m[0m
[2;1f
[2K[37mâÂÂâÂÂâÂÂâÂÂâÂÂâÂÂâÂÂâÂÂâ âÂÂ[37m [37mâÂÂ
âÂÂâÂÂ[37m processed [37m40%[37m of [37m4[37m/[37m10[37m [37m1.753[37m/[37m2.63[37m[0m
[3;1f
[2K[37mâÂÂâÂÂâ âÂÂ[37m [37mâÂÂ
âÂÂâÂÂ[37m processed [37m8%[37m of [37m4[37m/[37m50[37m [37m1.754[37m/[37m20.171[37m[0m
[4;1f
[2K[37mâÂÂâÂÂâÂÂâ âÂÂ[37m [37mâÂÂ
âÂÂâÂÂ[37m processed [37m13%[37m of [37m4[37m/[37m30[37m [37m1.756[37m/[37m11.752[37m[0m
[1;1f
[2K[37mâÂÂâÂÂâÂÂâÂÂâÂÂâ âÂÂ[37m [37mâÂÂâÂÂâÂÂ[37m processed [37m25%[37m of [37m5[37m/[37m20[37m [37m1.862[37m/[37m5.586[37m[0m
[2;1f
[2K[37mâÂÂâÂÂâÂÂâÂÂâÂÂâÂÂâÂÂâÂÂâ âÂÂ[37m [37mâÂÂâÂÂâÂÂ[37m processed [37m40%[37m of [37m4[37m/[37m10[37m [37m1.863[37m/[37m2.794[37m[0m
[3;1f
[2K[37mâÂÂâÂÂâ âÂÂ[37m [37mâÂÂâÂÂâÂÂ[37m processed [37m8%[37m of [37m4[37m/[37m50[37m [37m1.864[37m/[37m21.436[37m[0m
[4;1f
[2K[37mâÂÂâÂÂâÂÂâ âÂÂ[37m [37mâÂÂâÂÂâÂÂ[37m processed [37m13%[37m of [37m4[37m/[37m30[37m [37m1.865[37m/[37m12.481[37m[0m
[1;1f
[2K[37mâÂÂâÂÂâÂÂâÂÂâÂÂâ âÂÂ[37m [37mâÂÂâÂÂ
âÂÂ[37m processed [37m25%[37m of [37m5[37m/[37m20[37m [37m1.976[37m/[37m5.928[37m[0m
[2;1f
[2K[37mâÂÂâÂÂâÂÂâÂÂâÂÂâÂÂâÂÂâÂÂâÂÂâÂÂâ âÂÂ[37m [37mâÂÂâÂÂ
âÂÂ[37m processed [37m50%[37m of [37m5[37m/[37m10[37m [37m1.976[37m/[37m1.976[37m[0m
[3;1f
[2K[37mâÂÂâÂÂâ âÂÂ[37m [37mâÂÂâÂÂ
âÂÂ[37m processed [37m8%[37m of [37m4[37m/[37m50[37m [37m1.977[37m/[37m22.735[37m[0m
[4;1f
[2K[37mâÂÂâÂÂâÂÂâ âÂÂ[37m [37mâÂÂâÂÂ
âÂÂ[37m processed [37m13%[37m of [37m4[37m/[37m30[37m [37m1.978[37m/[37m13.237[37m[0m
[1;1f
[2K[37mâÂÂâÂÂâÂÂâÂÂâÂÂâ âÂÂ[37m [37mâÂÂâÂÂâÂÂ[37m processed [37m25%[37m of [37m5[37m/[37m20[37m [37m2.082[37m/[37m6.246[37m[0m
[2;1f
[2K[37mâÂÂâÂÂâÂÂâÂÂâÂÂâÂÂâÂÂâÂÂâÂÂâÂÂâ âÂÂ[37m [37mâÂÂâÂÂâÂÂ[37m processed [37m50%[37m of [37m5[37m/[37m10[37m [37m2.082[37m/[37m2.082[37m[0m
[3;1f
[2K[37mâÂÂâÂÂâ âÂÂ[37m [37mâÂÂâÂÂâÂÂ[37m processed [37m10%[37m of [37m5[37m/[37m50[37m [37m2.082[37m/[37m18.738[37m[0m
[4;1f
[2K[37mâÂÂâÂÂâÂÂâ âÂÂ[37m [37mâÂÂâÂÂâÂÂ[37m processed [37m13%[37m of [37m4[37m/[37m30[37m [37m2.082[37m/[37m13.933[37m[0m
[1;1f
[2K[37mâÂÂâÂÂâÂÂâÂÂâÂÂâ âÂÂ[37m [37mâÂÂâÂÂâÂÂ[37m processed [37m25%[37m of [37m5[37m/[37m20[37m [37m2.192[37m/[37m6.576[37m[0m
[2;1f
[2K[37mâÂÂâÂÂâÂÂâÂÂâÂÂâÂÂâÂÂâÂÂâÂÂâÂÂâ âÂÂ[37m [37mâÂÂâÂÂâÂÂ[37m processed [37m50%[37m of [37m5[37m/[37m10[37m [37m2.192[37m/[37m2.192[37m[0m
[3;1f
[2K[37mâÂÂâÂÂâ âÂÂ[37m [37mâÂÂâÂÂâÂÂ[37m processed [37m10%[37m of [37m5[37m/[37m50[37m [37m2.194[37m/[37m19.746[37m[0m
[4;1f
[2K[37mâÂÂâÂÂâÂÂâ âÂÂ[37m [37mâÂÂâÂÂâÂÂ[37m processed [37m16%[37m of [37m5[37m/[37m30[37m [37m2.195[37m/[37m11.524[37m[0m
[1;1f
[2K[37mâÂÂâÂÂâÂÂâÂÂâÂÂâÂÂâ âÂÂ[37m [37mâÂÂâÂÂâÂÂ[37m processed [37m30%[37m of [37m6[37m/[37m20[37m [37m2.302[37m/[37m5.371[37m[0m
[2;1f
[2K[37mâÂÂâÂÂâÂÂâÂÂâÂÂâÂÂâÂÂâÂÂâÂÂâÂÂâ âÂÂ[37m [37mâÂÂâÂÂâÂÂ[37m processed [37m50%[37m of [37m5[37m/[37m10[37m [37m2.303[37m/[37m2.303[37m[0m
[3;1f
[2K[37mâÂÂâÂÂâ âÂÂ[37m [37mâÂÂâÂÂâÂÂ[37m processed [37m10%[37m of [37m5[37m/[37m50[37m [37m2.304[37m/[37m20.736[37m[0m
[4;1f
[2K[37mâÂÂâÂÂâÂÂâ âÂÂ[37m [37mâÂÂâÂÂâÂÂ[37m processed [37m16%[37m of [37m5[37m/[37m30[37m [37m2.304[37m/[37m12.096[37m[0m
[1;1f
[2K[37mâÂÂâÂÂâÂÂâÂÂâÂÂâÂÂâ âÂÂ[37m [37mâÂÂâÂÂâÂÂ
[37m processed [37m30%[37m of [37m6[37m/[37m20[37m [37m2.412[37m/[37m5.628[37m[0m
[2;1f
[2K[37mâÂÂâÂÂâÂÂâÂÂâÂÂâÂÂâÂÂâÂÂâÂÂâÂÂâÂÂâÂÂâ âÂÂ[37m [37mâÂÂâÂÂâÂÂ
[37m processed [37m60%[37m of [37m6[37m/[37m10[37m [37m2.411[37m/[37m1.607[37m[0m
[3;1f
[2K[37mâÂÂâÂÂâ âÂÂ[37m [37mâÂÂâÂÂâÂÂ
[37m processed [37m10%[37m of [37m5[37m/[37m50[37m [37m2.412[37m/[37m21.708[37m[0m
[4;1f
[2K[37mâÂÂâÂÂâÂÂâ âÂÂ[37m [37mâÂÂâÂÂâÂÂ
[37m processed [37m16%[37m of [37m5[37m/[37m30[37m [37m2.412[37m/[37m12.663[37m[0m
[1;1f
[2K[37mâÂÂâÂÂâÂÂâÂÂâÂÂâÂÂâ âÂÂ[37m [37mâÂÂâÂÂâÂÂ[37m processed [37m30%[37m of [37m6[37m/[37m20[37m [37m2.522[37m/[37m5.885[37m[0m
[2;1f
[2K[37mâÂÂâÂÂâÂÂâÂÂâÂÂâÂÂâÂÂâÂÂâÂÂâÂÂâÂÂâÂÂâ âÂÂ[37m [37mâÂÂâÂÂâÂÂ[37m processed [37m60%[37m of [37m6[37m/[37m10[37m [37m2.521[37m/[37m1.681[37m[0m
[3;1f
[2K[37mâÂÂâÂÂâ âÂÂ[37m [37mâÂÂâÂÂâÂÂ[37m processed [37m12%[37m of [37m6[37m/[37m50[37m [37m2.522[37m/[37m18.495[37m[0m
[4;1f
[2K[37mâÂÂâÂÂâÂÂâ âÂÂ[37m [37mâÂÂâÂÂâÂÂ[37m processed [37m16%[37m of [37m5[37m/[37m30[37m [37m2.522[37m/[37m13.241[37m[0m
[1;1f
[2K[37mâÂÂâÂÂâÂÂâÂÂâÂÂâÂÂâ âÂÂ[37m [37mâÂÂ
âÂÂâÂÂ[37m processed [37m30%[37m of [37m6[37m/[37m20[37m [37m2.632[37m/[37m6.141[37m[0m
[2;1f
[2K[37mâÂÂâÂÂâÂÂâÂÂâÂÂâÂÂâÂÂâÂÂâÂÂâÂÂâÂÂâÂÂâ âÂÂ[37m [37mâÂÂ
âÂÂâÂÂ[37m processed [37m60%[37m of [37m6[37m/[37m10[37m [37m2.631[37m/[37m1.754[37m[0m
[3;1f
[2K[37mâÂÂâÂÂâ âÂÂ[37m [37mâÂÂ
âÂÂâÂÂ[37m processed [37m12%[37m of [37m6[37m/[37m50[37m [37m2.632[37m/[37m19.301[37m[0m
[4;1f
[2K[37mâÂÂâÂÂâÂÂâÂÂâ âÂÂ[37m [37mâÂÂ
âÂÂâÂÂ[37m processed [37m20%[37m of [37m6[37m/[37m30[37m [37m2.632[37m/[37m10.528[37m[0m
[1;1f
[2K[37mâÂÂâÂÂâÂÂâÂÂâÂÂâÂÂâÂÂâ âÂÂ[37m [37mâÂÂâÂÂâÂÂ[37m processed [37m35%[37m of [37m7[37m/[37m20[37m [37m2.742[37m/[37m5.092[37m[0m
[2;1f
[2K[37mâÂÂâÂÂâÂÂâÂÂâÂÂâÂÂâÂÂâÂÂâÂÂâÂÂâÂÂâÂÂâ âÂÂ[37m [37mâÂÂâÂÂâÂÂ[37m processed [37m60%[37m of [37m6[37m/[37m10[37m [37m2.741[37m/[37m1.827[37m[0m
[3;1f
[2K[37mâÂÂâÂÂâ âÂÂ[37m [37mâÂÂâÂÂâÂÂ[37m processed [37m12%[37m of [37m6[37m/[37m50[37m [37m2.742[37m/[37m20.108[37m[0m
[4;1f
[2K[37mâÂÂâÂÂâÂÂâÂÂâ âÂÂ[37m [37mâÂÂâÂÂâÂÂ[37m processed [37m20%[37m of [37m6[37m/[37m30[37m [37m2.742[37m/[37m10.968[37m[0m
[1;1f
[2K[37mâÂÂâÂÂâÂÂâÂÂâÂÂâÂÂâÂÂâ âÂÂ[37m [37mâÂÂâÂÂ
âÂÂ[37m processed [37m35%[37m of [37m7[37m/[37m20[37m [37m2.852[37m/[37m5.297[37m[0m
[2;1f
[2K[37mâÂÂâÂÂâÂÂâÂÂâÂÂâÂÂâÂÂâÂÂâÂÂâÂÂâÂÂâÂÂâÂÂâÂÂâ âÂÂ[37m [37mâÂÂâÂÂ
âÂÂ[37m processed [37m70%[37m of [37m7[37m/[37m10[37m [37m2.851[37m/[37m1.222[37m[0m
[3;1f
[2K[37mâÂÂâÂÂâ âÂÂ[37m [37mâÂÂâÂÂ
âÂÂ[37m processed [37m12%[37m of [37m6[37m/[37m50[37m [37m2.852[37m/[37m20.915[37m[0m
[4;1f
[2K[37mâÂÂâÂÂâÂÂâÂÂâ âÂÂ[37m [37mâÂÂâÂÂ
âÂÂ[37m processed [37m20%[37m of [37m6[37m/[37m30[37m [37m2.852[37m/[37m11.408[37m[0m
[1;1f
[2K[37mâÂÂâÂÂâÂÂâÂÂâÂÂâÂÂâÂÂâ âÂÂ[37m [37mâÂÂâÂÂâÂÂ[37m processed [37m35%[37m of [37m7[37m/[37m20[37m [37m2.962[37m/[37m5.501[37m[0m
[2;1f
[2K[37mâÂÂâÂÂâÂÂâÂÂâÂÂâÂÂâÂÂâÂÂâÂÂâÂÂâÂÂâÂÂâÂÂâÂÂâ âÂÂ[37m [37mâÂÂâÂÂâÂÂ[37m processed [37m70%[37m of [37m7[37m/[37m10[37m [37m2.961[37m/[37m1.269[37m[0m
[3;1f
[2K[37mâÂÂâÂÂâÂÂâ âÂÂ[37m [37mâÂÂâÂÂâÂÂ[37m processed [37m14%[37m of [37m7[37m/[37m50[37m [37m2.962[37m/[37m18.195[37m[0m
[4;1f
[2K[37mâÂÂâÂÂâÂÂâÂÂâ âÂÂ[37m [37mâÂÂâÂÂâÂÂ[37m processed [37m20%[37m of [37m6[37m/[37m30[37m [37m2.962[37m/[37m11.848[37m[0m
[1;1f
[2K[37mâÂÂâÂÂâÂÂâÂÂâÂÂâÂÂâÂÂâ âÂÂ[37m [37mâÂÂâÂÂâÂÂ[37m processed [37m35%[37m of [37m7[37m/[37m20[37m [37m3.072[37m/[37m5.705[37m[0m
[2;1f
[2K[37mâÂÂâÂÂâÂÂâÂÂâÂÂâÂÂâÂÂâÂÂâÂÂâÂÂâÂÂâÂÂâÂÂâÂÂâ âÂÂ[37m [37mâÂÂâÂÂâÂÂ[37m processed [37m70%[37m of [37m7[37m/[37m10[37m [37m3.071[37m/[37m1.316[37m[0m
[3;1f
[2K[37mâÂÂâÂÂâÂÂâ âÂÂ[37m [37mâÂÂâÂÂâÂÂ[37m processed [37m14%[37m of [37m7[37m/[37m50[37m [37m3.072[37m/[37m18.871[37m[0m
[4;1f
[2K[37mâÂÂâÂÂâÂÂâÂÂâÂÂâ âÂÂ[37m [37mâÂÂâÂÂâÂÂ[37m processed [37m23%[37m of [37m7[37m/[37m30[37m [37m3.072[37m/[37m10.285[37m[0m
[1;1f
[2K[37mâÂÂâÂÂâÂÂâÂÂâÂÂâÂÂâÂÂâÂÂâ âÂÂ[37m [37mâÂÂâÂÂâÂÂ[37m processed [37m40%[37m of [37m8[37m/[37m20[37m [37m3.182[37m/[37m4.773[37m[0m
[2;1f
[2K[37mâÂÂâÂÂâÂÂâÂÂâÂÂâÂÂâÂÂâÂÂâÂÂâÂÂâÂÂâÂÂâÂÂâÂÂâ âÂÂ[37m [37mâÂÂâÂÂâÂÂ[37m processed [37m70%[37m of [37m7[37m/[37m10[37m [37m3.181[37m/[37m1.363[37m[0m
[3;1f
[2K[37mâÂÂâÂÂâÂÂâ âÂÂ[37m [37mâÂÂâÂÂâÂÂ[37m processed [37m14%[37m of [37m7[37m/[37m50[37m [37m3.182[37m/[37m19.547[37m[0m
[4;1f
[2K[37mâÂÂâÂÂâÂÂâÂÂâÂÂâ âÂÂ[37m [37mâÂÂâÂÂâÂÂ[37m processed [37m23%[37m of [37m7[37m/[37m30[37m [37m3.182[37m/[37m10.653[37m[0m
[1;1f
[2K[37mâÂÂâÂÂâÂÂâÂÂâÂÂâÂÂâÂÂâÂÂâ âÂÂ[37m [37mâÂÂâÂÂâÂÂ
[37m processed [37m40%[37m of [37m8[37m/[37m20[37m [37m3.292[37m/[37m4.938[37m[0m
[2;1f
[2K[37mâÂÂâÂÂâÂÂâÂÂâÂÂâÂÂâÂÂâÂÂâÂÂâÂÂâÂÂâÂÂâÂÂâÂÂâÂÂâÂÂâ âÂÂ[37m [37mâÂÂâÂÂâÂÂ
[37m processed [37m80%[37m of [37m8[37m/[37m10[37m [37m3.291[37m/[37m0.823[37m[0m
[3;1f
[2K[37mâÂÂâÂÂâÂÂâ âÂÂ[37m [37mâÂÂâÂÂâÂÂ
[37m processed [37m14%[37m of [37m7[37m/[37m50[37m [37m3.292[37m/[37m20.222[37m[0m
[4;1f
[2K[37mâÂÂâÂÂâÂÂâÂÂâÂÂâ âÂÂ[37m [37mâÂÂâÂÂâÂÂ
[37m processed [37m23%[37m of [37m7[37m/[37m30[37m [37m3.292[37m/[37m11.021[37m[0m
[1;1f
[2K[37mâÂÂâÂÂâÂÂâÂÂâÂÂâÂÂâÂÂâÂÂâ âÂÂ[37m [37mâÂÂâÂÂâÂÂ[37m processed [37m40%[37m of [37m8[37m/[37m20[37m [37m3.402[37m/[37m5.103[37m[0m
[2;1f
[2K[37mâÂÂâÂÂâÂÂâÂÂâÂÂâÂÂâÂÂâÂÂâÂÂâÂÂâÂÂâÂÂâÂÂâÂÂâÂÂâÂÂâ âÂÂ[37m [37mâÂÂâÂÂâÂÂ[37m processed [37m80%[37m of [37m8[37m/[37m10[37m [37m3.401[37m/[37m0.85[37m[0m
[3;1f
[2K[37mâÂÂâÂÂâÂÂâ âÂÂ[37m [37mâÂÂâÂÂâÂÂ[37m processed [37m16%[37m of [37m8[37m/[37m50[37m [37m3.402[37m/[37m17.86[37m[0m
[4;1f
[2K[37mâÂÂâÂÂâÂÂâÂÂâÂÂâ âÂÂ[37m [37mâÂÂâÂÂâÂÂ[37m processed [37m23%[37m of [37m7[37m/[37m30[37m [37m3.402[37m/[37m11.389[37m[0m
[1;1f
[2K[37mâÂÂâÂÂâÂÂâÂÂâÂÂâÂÂâÂÂâÂÂâ âÂÂ[37m [37mâÂÂ
âÂÂâÂÂ[37m processed [37m40%[37m of [37m8[37m/[37m20[37m [37m3.513[37m/[37m5.27[37m[0m
[2;1f
[2K[37mâÂÂâÂÂâÂÂâÂÂâÂÂâÂÂâÂÂâÂÂâÂÂâÂÂâÂÂâÂÂâÂÂâÂÂâÂÂâÂÂâ âÂÂ[37m [37mâÂÂ
âÂÂâÂÂ[37m processed [37m80%[37m of [37m8[37m/[37m10[37m [37m3.512[37m/[37m0.878[37m[0m
[3;1f
[2K[37mâÂÂâÂÂâÂÂâ âÂÂ[37m [37mâÂÂ
âÂÂâÂÂ[37m processed [37m16%[37m of [37m8[37m/[37m50[37m [37m3.513[37m/[37m18.443[37m[0m
[4;1f
[2K[37mâÂÂâÂÂâÂÂâÂÂâÂÂâ âÂÂ[37m [37mâÂÂ
âÂÂâÂÂ[37m processed [37m26%[37m of [37m8[37m/[37m30[37m [37m3.513[37m/[37m9.999[37m[0m
[1;1f
[2K[37mâÂÂâÂÂâÂÂâÂÂâÂÂâÂÂâÂÂâÂÂâÂÂâ âÂÂ[37m [37mâÂÂâÂÂâÂÂ[37m processed [37m45%[37m of [37m9[37m/[37m20[37m [37m3.622[37m/[37m4.427[37m[0m
[2;1f
[2K[37mâÂÂâÂÂâÂÂâÂÂâÂÂâÂÂâÂÂâÂÂâÂÂâÂÂâÂÂâÂÂâÂÂâÂÂâÂÂâÂÂâ âÂÂ[37m [37mâÂÂâÂÂâÂÂ[37m processed [37m80%[37m of [37m8[37m/[37m10[37m [37m3.621[37m/[37m0.905[37m[0m
[3;1f
[2K[37mâÂÂâÂÂâÂÂâ âÂÂ[37m [37mâÂÂâÂÂâÂÂ[37m processed [37m16%[37m of [37m8[37m/[37m50[37m [37m3.622[37m/[37m19.015[37m[0m
[4;1f
[2K[37mâÂÂâÂÂâÂÂâÂÂâÂÂâ âÂÂ[37m [37mâÂÂâÂÂâÂÂ[37m processed [37m26%[37m of [37m8[37m/[37m30[37m [37m3.622[37m/[37m10.309[37m[0m
[1;1f
[2K[37mâÂÂâÂÂâÂÂâÂÂâÂÂâÂÂâÂÂâÂÂâÂÂâ âÂÂ[37m [37mâÂÂâÂÂ
âÂÂ[37m processed [37m45%[37m of [37m9[37m/[37m20[37m [37m3.732[37m/[37m4.561[37m[0m
[2;1f
[2K[37mâÂÂâÂÂâÂÂâÂÂâÂÂâÂÂâÂÂâÂÂâÂÂâÂÂâÂÂâÂÂâÂÂâÂÂâÂÂâÂÂâÂÂâÂÂâ âÂÂ[37m [37mâÂÂâÂÂ
âÂÂ[37m processed [37m90%[37m of [37m9[37m/[37m10[37m [37m3.732[37m/[37m0.415[37m[0m
[3;1f
[2K[37mâÂÂâÂÂâÂÂâ âÂÂ[37m [37mâÂÂâÂÂ
âÂÂ[37m processed [37m16%[37m of [37m8[37m/[37m50[37m [37m3.734[37m/[37m19.603[37m[0m
[4;1f
[2K[37mâÂÂâÂÂâÂÂâÂÂâÂÂâ âÂÂ[37m [37mâÂÂâÂÂ
âÂÂ[37m processed [37m26%[37m of [37m8[37m/[37m30[37m [37m3.735[37m/[37m10.63[37m[0m
[1;1f
[2K[37mâÂÂâÂÂâÂÂâÂÂâÂÂâÂÂâÂÂâÂÂâÂÂâ âÂÂ[37m [37mâÂÂâÂÂâÂÂ[37m processed [37m45%[37m of [37m9[37m/[37m20[37m [37m3.842[37m/[37m4.696[37m[0m
[2;1f
[2K[37mâÂÂâÂÂâÂÂâÂÂâÂÂâÂÂâÂÂâÂÂâÂÂâÂÂâÂÂâÂÂâÂÂâÂÂâÂÂâÂÂâÂÂâÂÂâ âÂÂ[37m [37mâÂÂâÂÂâÂÂ[37m processed [37m90%[37m of [37m9[37m/[37m10[37m [37m3.843[37m/[37m0.427[37m[0m
[3;1f
[2K[37mâÂÂâÂÂâÂÂâÂÂâ âÂÂ[37m [37mâÂÂâÂÂâÂÂ[37m processed [37m18%[37m of [37m9[37m/[37m50[37m [37m3.844[37m/[37m17.512[37m[0m
[4;1f
[2K[37mâÂÂâÂÂâÂÂâÂÂâÂÂâ âÂÂ[37m [37mâÂÂâÂÂâÂÂ[37m processed [37m26%[37m of [37m8[37m/[37m30[37m [37m3.845[37m/[37m10.943[37m[0m
[1;1f
[2K[37mâÂÂâÂÂâÂÂâÂÂâÂÂâÂÂâÂÂâÂÂâÂÂâ âÂÂ[37m [37mâÂÂâÂÂâÂÂ[37m processed [37m45%[37m of [37m9[37m/[37m20[37m [37m3.952[37m/[37m4.83[37m[0m
[2;1f
[2K[37mâÂÂâÂÂâÂÂâÂÂâÂÂâÂÂâÂÂâÂÂâÂÂâÂÂâÂÂâÂÂâÂÂâÂÂâÂÂâÂÂâÂÂâÂÂâ âÂÂ[37m [37mâÂÂâÂÂâÂÂ[37m processed [37m90%[37m of [37m9[37m/[37m10[37m [37m3.952[37m/[37m0.439[37m[0m
[3;1f
[2K[37mâÂÂâÂÂâÂÂâÂÂâ âÂÂ[37m [37mâÂÂâÂÂâÂÂ[37m processed [37m18%[37m of [37m9[37m/[37m50[37m [37m3.955[37m/[37m18.017[37m[0m
[4;1f
[2K[37mâÂÂâÂÂâÂÂâÂÂâÂÂâÂÂâ âÂÂ[37m [37mâÂÂâÂÂâÂÂ[37m processed [37m30%[37m of [37m9[37m/[37m30[37m [37m3.956[37m/[37m9.231[37m[0m
[1;1f
[2K[37mâÂÂâÂÂâÂÂâÂÂâÂÂâÂÂâÂÂâÂÂâÂÂâÂÂâ âÂÂ[37m [37mâÂÂâÂÂâÂÂ[37m processed [37m50%[37m of [37m10[37m/[37m20[37m [37m4.062[37m/[37m4.062[37m[0m
[2;1f
[2K[37mâÂÂâÂÂâÂÂâÂÂâÂÂâÂÂâÂÂâÂÂâÂÂâÂÂâÂÂâÂÂâÂÂâÂÂâÂÂâÂÂâÂÂâÂÂâ âÂÂ[37m [37mâÂÂâÂÂâÂÂ[37m processed [37m90%[37m of [37m9[37m/[37m10[37m [37m4.061[37m/[37m0.451[37m[0m
[3;1f
[2K[37mâÂÂâÂÂâÂÂâÂÂâ âÂÂ[37m [37mâÂÂâÂÂâÂÂ[37m processed [37m18%[37m of [37m9[37m/[37m50[37m [37m4.062[37m/[37m18.505[37m[0m
[4;1f
[2K[37mâÂÂâÂÂâÂÂâÂÂâÂÂâÂÂâ âÂÂ[37m [37mâÂÂâÂÂâÂÂ[37m processed [37m30%[37m of [37m9[37m/[37m30[37m [37m4.062[37m/[37m9.478[37m[0m
[1;1f
[2K[37mâÂÂâÂÂâÂÂâÂÂâÂÂâÂÂâÂÂâÂÂâÂÂâÂÂâ âÂÂ[37m [37mâÂÂâÂÂâÂÂ
[37m processed [37m50%[37m of [37m10[37m/[37m20[37m [37m4.172[37m/[37m4.172[37m[0m
[2;1f
[2K[37mâÂÂâÂÂâÂÂâÂÂâÂÂâÂÂâÂÂâÂÂâÂÂâÂÂâÂÂâÂÂâÂÂâÂÂâÂÂâÂÂâÂÂâÂÂâÂÂâÂÂâÂÂâÂÂ[37m [37mâÂÂâÂÂâÂÂ
[37m processed [37m100%[37m of [37m10[37m/[37m10[37m [37m4.173[37m/[37m0[37m[0m
[3;1f
[2K[37mâÂÂâÂÂâÂÂâÂÂâ âÂÂ[37m [37mâÂÂâÂÂâÂÂ
[37m processed [37m18%[37m of [37m9[37m/[37m50[37m [37m4.175[37m/[37m19.019[37m[0m
[4;1f
[2K[37mâÂÂâÂÂâÂÂâÂÂâÂÂâÂÂâ âÂÂ[37m [37mâÂÂâÂÂâÂÂ
[37m processed [37m30%[37m of [37m9[37m/[37m30[37m [37m4.176[37m/[37m9.744[37m[0m
[1;1f
[2K[37mâÂÂâÂÂâÂÂâÂÂâÂÂâÂÂâÂÂâÂÂâÂÂâÂÂâ âÂÂ[37m [37mâÂÂâÂÂâÂÂ[37m processed [37m50%[37m of [37m10[37m/[37m20[37m [37m4.282[37m/[37m4.282[37m[0m
[2;1f
[2K[37mâÂÂâÂÂâÂÂâÂÂâÂÂâÂÂâÂÂâÂÂâÂÂâÂÂâÂÂâÂÂâÂÂâÂÂâÂÂâÂÂâÂÂâÂÂâÂÂâÂÂâÂÂâÂÂ[37m [37mâÂÂâÂÂâÂÂ[37m processed [37m100%[37m of [37m10[37m/[37m10[37m [37m4.283[37m/[37m0[37m[0m
[3;1f
[2K[37mâÂÂâÂÂâÂÂâÂÂâ âÂÂ[37m [37mâÂÂâÂÂâÂÂ[37m processed [37m20%[37m of [37m10[37m/[37m50[37m [37m4.284[37m/[37m17.136[37m[0m
[4;1f
[2K[37mâÂÂâÂÂâÂÂâÂÂâÂÂâÂÂâ âÂÂ[37m [37mâÂÂâÂÂâÂÂ[37m processed [37m30%[37m of [37m9[37m/[37m30[37m [37m4.285[37m/[37m9.998[37m[0m
[1;1f
[2K[37mâÂÂâÂÂâÂÂâÂÂâÂÂâÂÂâÂÂâÂÂâÂÂâÂÂâ âÂÂ[37m [37mâÂÂ
âÂÂâÂÂ[37m processed [37m50%[37m of [37m10[37m/[37m20[37m [37m4.411[37m/[37m4.411[37m[0m
[2;1f
[2K[37mâÂÂâÂÂâÂÂâÂÂâÂÂâÂÂâÂÂâÂÂâÂÂâÂÂâÂÂâÂÂâÂÂâÂÂâÂÂâÂÂâÂÂâÂÂâÂÂâÂÂâÂÂâÂÂ[37m [37mâÂÂ
âÂÂâÂÂ[37m processed [37m100%[37m of [37m10[37m/[37m10[37m [37m4.411[37m/[37m0[37m[0m
[3;1f
[2K[37mâÂÂâÂÂâÂÂâÂÂâ âÂÂ[37m [37mâÂÂ
âÂÂâÂÂ[37m processed [37m20%[37m of [37m10[37m/[37m50[37m [37m4.411[37m/[37m17.644[37m[0m
[4;1f
[2K[37mâÂÂâÂÂâÂÂâÂÂâÂÂâÂÂâÂÂâ âÂÂ[37m [37mâÂÂ
âÂÂâÂÂ[37m processed [37m33%[37m of [37m10[37m/[37m30[37m [37m4.412[37m/[37m8.958[37m[0m
[1;1f
[2K[37mâÂÂâÂÂâÂÂâÂÂâÂÂâÂÂâÂÂâÂÂâÂÂâÂÂâÂÂâ âÂÂ[37m [37mâÂÂâÂÂâÂÂ[37m processed [37m55%[37m of [37m11[37m/[37m20[37m [37m4.512[37m/[37m3.692[37m[0m
[2;1f
[2K[37mâÂÂâÂÂâÂÂâÂÂâÂÂâÂÂâÂÂâÂÂâÂÂâÂÂâÂÂâÂÂâÂÂâÂÂâÂÂâÂÂâÂÂâÂÂâÂÂâÂÂâÂÂâÂÂ[37m [37mâÂÂâÂÂâÂÂ[37m processed [37m100%[37m of [37m10[37m/[37m10[37m [37m4.513[37m/[37m0[37m[0m
[3;1f
[2K[37mâÂÂâÂÂâÂÂâÂÂâ âÂÂ[37m [37mâÂÂâÂÂâÂÂ[37m processed [37m20%[37m of [37m10[37m/[37m50[37m [37m4.514[37m/[37m18.056[37m[0m
[4;1f
[2K[37mâÂÂâÂÂâÂÂâÂÂâÂÂâÂÂâÂÂâ âÂÂ[37m [37mâÂÂâÂÂâÂÂ[37m processed [37m33%[37m of [37m10[37m/[37m30[37m [37m4.515[37m/[37m9.167[37m[0m
[1;1f
[2K[37mâÂÂâÂÂâÂÂâÂÂâÂÂâÂÂâÂÂâÂÂâÂÂâÂÂâÂÂâ âÂÂ[37m [37mâÂÂâÂÂ
âÂÂ[37m processed [37m55%[37m of [37m11[37m/[37m20[37m [37m4.622[37m/[37m3.782[37m[0m
[3;1f
[2K[37mâÂÂâÂÂâÂÂâÂÂâ âÂÂ[37m [37mâÂÂâÂÂ
âÂÂ[37m processed [37m22%[37m of [37m11[37m/[37m50[37m [37m4.623[37m/[37m16.391[37m[0m
[4;1f
[2K[37mâÂÂâÂÂâÂÂâÂÂâÂÂâÂÂâÂÂâ âÂÂ[37m [37mâÂÂâÂÂ
âÂÂ[37m processed [37m33%[37m of [37m10[37m/[37m30[37m [37m4.624[37m/[37m9.388[37m[0m
[1;1f
[2K[37mâÂÂâÂÂâÂÂâÂÂâÂÂâÂÂâÂÂâÂÂâÂÂâÂÂâÂÂâ âÂÂ[37m [37mâÂÂâÂÂâÂÂ[37m processed [37m55%[37m of [37m11[37m/[37m20[37m [37m4.732[37m/[37m3.872[37m[0m
[3;1f
[2K[37mâÂÂâÂÂâÂÂâÂÂâ âÂÂ[37m [37mâÂÂâÂÂâÂÂ[37m processed [37m22%[37m of [37m11[37m/[37m50[37m [37m4.733[37m/[37m16.781[37m[0m
[4;1f
[2K[37mâÂÂâÂÂâÂÂâÂÂâÂÂâÂÂâÂÂâ âÂÂ[37m [37mâÂÂâÂÂâÂÂ[37m processed [37m36%[37m of [37m11[37m/[37m30[37m [37m4.734[37m/[37m8.416[37m[0m
[1;1f
[2K[37mâÂÂâÂÂâÂÂâÂÂâÂÂâÂÂâÂÂâÂÂâÂÂâÂÂâÂÂâÂÂâ âÂÂ[37m [37mâÂÂâÂÂâÂÂ[37m processed [37m60%[37m of [37m12[37m/[37m20[37m [37m4.842[37m/[37m3.228[37m[0m
[3;1f
[2K[37mâÂÂâÂÂâÂÂâÂÂâ âÂÂ[37m [37mâÂÂâÂÂâÂÂ[37m processed [37m22%[37m of [37m11[37m/[37m50[37m [37m4.843[37m/[37m17.171[37m[0m
[4;1f
[2K[37mâÂÂâÂÂâÂÂâÂÂâÂÂâÂÂâÂÂâ âÂÂ[37m [37mâÂÂâÂÂâÂÂ[37m processed [37m36%[37m of [37m11[37m/[37m30[37m [37m4.844[37m/[37m8.612[37m[0m
[1;1f
[2K[37mâÂÂâÂÂâÂÂâÂÂâÂÂâÂÂâÂÂâÂÂâÂÂâÂÂâÂÂâÂÂâ âÂÂ[37m [37mâÂÂâÂÂâÂÂ[37m processed [37m60%[37m of [37m12[37m/[37m20[37m [37m4.952[37m/[37m3.301[37m[0m
[3;1f
[2K[37mâÂÂâÂÂâÂÂâÂÂâÂÂâ âÂÂ[37m [37mâÂÂâÂÂâÂÂ[37m processed [37m24%[37m of [37m12[37m/[37m50[37m [37m4.952[37m/[37m15.681[37m[0m
[4;1f
[2K[37mâÂÂâÂÂâÂÂâÂÂâÂÂâÂÂâÂÂâ âÂÂ[37m [37mâÂÂâÂÂâÂÂ[37m processed [37m36%[37m of [37m11[37m/[37m30[37m [37m4.954[37m/[37m8.807[37m[0m
[1;1f
[2K[37mâÂÂâÂÂâÂÂâÂÂâÂÂâÂÂâÂÂâÂÂâÂÂâÂÂâÂÂâÂÂâ âÂÂ[37m [37mâÂÂâÂÂâÂÂ
[37m processed [37m60%[37m of [37m12[37m/[37m20[37m [37m5.062[37m/[37m3.375[37m[0m
[3;1f
[2K[37mâÂÂâÂÂâÂÂâÂÂâÂÂâ âÂÂ[37m [37mâÂÂâÂÂâÂÂ
[37m processed [37m24%[37m of [37m12[37m/[37m50[37m [37m5.062[37m/[37m16.03[37m[0m
[4;1f
[2K[37mâÂÂâÂÂâÂÂâÂÂâÂÂâÂÂâÂÂâÂÂâ âÂÂ[37m [37mâÂÂâÂÂâÂÂ
[37m processed [37m40%[37m of [37m12[37m/[37m30[37m [37m5.062[37m/[37m7.593[37m[0m
[1;1f
[2K[37mâÂÂâÂÂâÂÂâÂÂâÂÂâÂÂâÂÂâÂÂâÂÂâÂÂâÂÂâÂÂâÂÂâ âÂÂ[37m [37mâÂÂâÂÂâÂÂ[37m processed [37m65%[37m of [37m13[37m/[37m20[37m [37m5.172[37m/[37m2.785[37m[0m
[3;1f
[2K[37mâÂÂâÂÂâÂÂâÂÂâÂÂâ âÂÂ[37m [37mâÂÂâÂÂâÂÂ[37m processed [37m24%[37m of [37m12[37m/[37m50[37m [37m5.171[37m/[37m16.375[37m[0m
[4;1f
[2K[37mâÂÂâÂÂâÂÂâÂÂâÂÂâÂÂâÂÂâÂÂâ âÂÂ[37m [37mâÂÂâÂÂâÂÂ[37m processed [37m40%[37m of [37m12[37m/[37m30[37m [37m5.172[37m/[37m7.758[37m[0m
[1;1f
[2K[37mâÂÂâÂÂâÂÂâÂÂâÂÂâÂÂâÂÂâÂÂâÂÂâÂÂâÂÂâÂÂâÂÂâ âÂÂ[37m [37mâÂÂ
âÂÂâÂÂ[37m processed [37m65%[37m of [37m13[37m/[37m20[37m [37m5.282[37m/[37m2.844[37m[0m
[3;1f
[2K[37mâÂÂâÂÂâÂÂâÂÂâÂÂâ âÂÂ[37m [37mâÂÂ
âÂÂâÂÂ[37m processed [37m26%[37m of [37m13[37m/[37m50[37m [37m5.282[37m/[37m15.033[37m[0m
[4;1f
[2K[37mâÂÂâÂÂâÂÂâÂÂâÂÂâÂÂâÂÂâÂÂâ âÂÂ[37m [37mâÂÂ
âÂÂâÂÂ[37m processed [37m40%[37m of [37m12[37m/[37m30[37m [37m5.282[37m/[37m7.923[37m[0m
[1;1f
[2K[37mâÂÂâÂÂâÂÂâÂÂâÂÂâÂÂâÂÂâÂÂâÂÂâÂÂâÂÂâÂÂâÂÂâ âÂÂ[37m [37mâÂÂâÂÂâÂÂ[37m processed [37m65%[37m of [37m13[37m/[37m20[37m [37m5.392[37m/[37m2.903[37m[0m
[3;1f
[2K[37mâÂÂâÂÂâÂÂâÂÂâÂÂâ âÂÂ[37m [37mâÂÂâÂÂâÂÂ[37m processed [37m26%[37m of [37m13[37m/[37m50[37m [37m5.391[37m/[37m15.344[37m[0m
[4;1f
[2K[37mâÂÂâÂÂâÂÂâÂÂâÂÂâÂÂâÂÂâÂÂâÂÂâ âÂÂ[37m [37mâÂÂâÂÂâÂÂ[37m processed [37m43%[37m of [37m13[37m/[37m30[37m [37m5.392[37m/[37m7.148[37m[0m
[1;1f
[2K[37mâÂÂâÂÂâÂÂâÂÂâÂÂâÂÂâÂÂâÂÂâÂÂâÂÂâÂÂâÂÂâÂÂâÂÂâ âÂÂ[37m [37mâÂÂâÂÂ
âÂÂ[37m processed [37m70%[37m of [37m14[37m/[37m20[37m [37m5.502[37m/[37m2.358[37m[0m
[3;1f
[2K[37mâÂÂâÂÂâÂÂâÂÂâÂÂâ âÂÂ[37m [37mâÂÂâÂÂ
âÂÂ[37m processed [37m26%[37m of [37m13[37m/[37m50[37m [37m5.502[37m/[37m15.66[37m[0m
[4;1f
[2K[37mâÂÂâÂÂâÂÂâÂÂâÂÂâÂÂâÂÂâÂÂâÂÂâ âÂÂ[37m [37mâÂÂâÂÂ
âÂÂ[37m processed [37m43%[37m of [37m13[37m/[37m30[37m [37m5.502[37m/[37m7.293[37m[0m
[1;1f
[2K[37mâÂÂâÂÂâÂÂâÂÂâÂÂâÂÂâÂÂâÂÂâÂÂâÂÂâÂÂâÂÂâÂÂâÂÂâ âÂÂ[37m [37mâÂÂâÂÂâÂÂ[37m processed [37m70%[37m of [37m14[37m/[37m20[37m [37m5.612[37m/[37m2.405[37m[0m
[3;1f
[2K[37mâÂÂâÂÂâÂÂâÂÂâÂÂâÂÂâ âÂÂ[37m [37mâÂÂâÂÂâÂÂ[37m processed [37m28%[37m of [37m14[37m/[37m50[37m [37m5.611[37m/[37m14.428[37m[0m
[4;1f
[2K[37mâÂÂâÂÂâÂÂâÂÂâÂÂâÂÂâÂÂâÂÂâÂÂâ âÂÂ[37m [37mâÂÂâÂÂâÂÂ[37m processed [37m43%[37m of [37m13[37m/[37m30[37m [37m5.612[37m/[37m7.439[37m[0m
[1;1f
[2K[37mâÂÂâÂÂâÂÂâÂÂâÂÂâÂÂâÂÂâÂÂâÂÂâÂÂâÂÂâÂÂâÂÂâÂÂâ âÂÂ[37m [37mâÂÂâÂÂâÂÂ[37m processed [37m70%[37m of [37m14[37m/[37m20[37m [37m5.722[37m/[37m2.452[37m[0m
[3;1f
[2K[37mâÂÂâÂÂâÂÂâÂÂâÂÂâÂÂâ âÂÂ[37m [37mâÂÂâÂÂâÂÂ[37m processed [37m28%[37m of [37m14[37m/[37m50[37m [37m5.722[37m/[37m14.714[37m[0m
[4;1f
[2K[37mâÂÂâÂÂâÂÂâÂÂâÂÂâÂÂâÂÂâÂÂâÂÂâ âÂÂ[37m [37mâÂÂâÂÂâÂÂ[37m processed [37m46%[37m of [37m14[37m/[37m30[37m [37m5.722[37m/[37m6.717[37m[0m
[1;1f
[2K[37mâÂÂâÂÂâÂÂâÂÂâÂÂâÂÂâÂÂâÂÂâÂÂâÂÂâÂÂâÂÂâÂÂâÂÂâÂÂâ âÂÂ[37m [37mâÂÂâÂÂâÂÂ[37m processed [37m75%[37m of [37m15[37m/[37m20[37m [37m5.832[37m/[37m1.944[37m[0m
[3;1f
[2K[37mâÂÂâÂÂâÂÂâÂÂâÂÂâÂÂâ âÂÂ[37m [37mâÂÂâÂÂâÂÂ[37m processed [37m28%[37m of [37m14[37m/[37m50[37m [37m5.831[37m/[37m14.994[37m[0m
[4;1f
[2K[37mâÂÂâÂÂâÂÂâÂÂâÂÂâÂÂâÂÂâÂÂâÂÂâ âÂÂ[37m [37mâÂÂâÂÂâÂÂ[37m processed [37m46%[37m of [37m14[37m/[37m30[37m [37m5.832[37m/[37m6.846[37m[0m
[1;1f
[2K[37mâÂÂâÂÂâÂÂâÂÂâÂÂâÂÂâÂÂâÂÂâÂÂâÂÂâÂÂâÂÂâÂÂâÂÂâÂÂâ âÂÂ[37m [37mâÂÂâÂÂâÂÂ
[37m processed [37m75%[37m of [37m15[37m/[37m20[37m [37m5.942[37m/[37m1.981[37m[0m
[3;1f
[2K[37mâÂÂâÂÂâÂÂâÂÂâÂÂâÂÂâ âÂÂ[37m [37mâÂÂâÂÂâÂÂ
[37m processed [37m30%[37m of [37m15[37m/[37m50[37m [37m5.942[37m/[37m13.865[37m[0m
[4;1f
[2K[37mâÂÂâÂÂâÂÂâÂÂâÂÂâÂÂâÂÂâÂÂâÂÂâ âÂÂ[37m [37mâÂÂâÂÂâÂÂ
[37m processed [37m46%[37m of [37m14[37m/[37m30[37m [37m5.942[37m/[37m6.975[37m[0m
[1;1f
[2K[37mâÂÂâÂÂâÂÂâÂÂâÂÂâÂÂâÂÂâÂÂâÂÂâÂÂâÂÂâÂÂâÂÂâÂÂâÂÂâ âÂÂ[37m [37mâÂÂâÂÂâÂÂ[37m processed [37m75%[37m of [37m15[37m/[37m20[37m [37m6.052[37m/[37m2.017[37m[0m
[3;1f
[2K[37mâÂÂâÂÂâÂÂâÂÂâÂÂâÂÂâ âÂÂ[37m [37mâÂÂâÂÂâÂÂ[37m processed [37m30%[37m of [37m15[37m/[37m50[37m [37m6.051[37m/[37m14.119[37m[0m
[4;1f
[2K[37mâÂÂâÂÂâÂÂâÂÂâÂÂâÂÂâÂÂâÂÂâÂÂâÂÂâ âÂÂ[37m [37mâÂÂâÂÂâÂÂ[37m processed [37m50%[37m of [37m15[37m/[37m30[37m [37m6.052[37m/[37m6.052[37m[0m
[1;1f
[2K[37mâÂÂâÂÂâÂÂâÂÂâÂÂâÂÂâÂÂâÂÂâÂÂâÂÂâÂÂâÂÂâÂÂâÂÂâÂÂâÂÂâ âÂÂ[37m [37mâÂÂ
âÂÂâÂÂ[37m processed [37m80%[37m of [37m16[37m/[37m20[37m [37m6.162[37m/[37m1.54[37m[0m
[3;1f
[2K[37mâÂÂâÂÂâÂÂâÂÂâÂÂâÂÂâ âÂÂ[37m [37mâÂÂ
âÂÂâÂÂ[37m processed [37m30%[37m of [37m15[37m/[37m50[37m [37m6.161[37m/[37m14.376[37m[0m
[4;1f
[2K[37mâÂÂâÂÂâÂÂâÂÂâÂÂâÂÂâÂÂâÂÂâÂÂâÂÂâ âÂÂ[37m [37mâÂÂ
âÂÂâÂÂ[37m processed [37m50%[37m of [37m15[37m/[37m30[37m [37m6.161[37m/[37m6.161[37m[0m
[1;1f
[2K[37mâÂÂâÂÂâÂÂâÂÂâÂÂâÂÂâÂÂâÂÂâÂÂâÂÂâÂÂâÂÂâÂÂâÂÂâÂÂâÂÂâ âÂÂ[37m [37mâÂÂâÂÂâÂÂ[37m processed [37m80%[37m of [37m16[37m/[37m20[37m [37m6.272[37m/[37m1.568[37m[0m
[3;1f
[2K[37mâÂÂâÂÂâÂÂâÂÂâÂÂâÂÂâ âÂÂ[37m [37mâÂÂâÂÂâÂÂ[37m processed [37m32%[37m of [37m16[37m/[37m50[37m [37m6.271[37m/[37m13.326[37m[0m
[4;1f
[2K[37mâÂÂâÂÂâÂÂâÂÂâÂÂâÂÂâÂÂâÂÂâÂÂâÂÂâ âÂÂ[37m [37mâÂÂâÂÂâÂÂ[37m processed [37m50%[37m of [37m15[37m/[37m30[37m [37m6.272[37m/[37m6.272[37m[0m
[1;1f
[2K[37mâÂÂâÂÂâÂÂâÂÂâÂÂâÂÂâÂÂâÂÂâÂÂâÂÂâÂÂâÂÂâÂÂâÂÂâÂÂâÂÂâ âÂÂ[37m [37mâÂÂâÂÂ
âÂÂ[37m processed [37m80%[37m of [37m16[37m/[37m20[37m [37m6.382[37m/[37m1.596[37m[0m
[3;1f
[2K[37mâÂÂâÂÂâÂÂâÂÂâÂÂâÂÂâ âÂÂ[37m [37mâÂÂâÂÂ
âÂÂ[37m processed [37m32%[37m of [37m16[37m/[37m50[37m [37m6.383[37m/[37m13.564[37m[0m
[4;1f
[2K[37mâÂÂâÂÂâÂÂâÂÂâÂÂâÂÂâÂÂâÂÂâÂÂâÂÂâÂÂâ âÂÂ[37m [37mâÂÂâÂÂ
âÂÂ[37m processed [37m53%[37m of [37m16[37m/[37m30[37m [37m6.384[37m/[37m5.661[37m[0m
[1;1f
[2K[37mâÂÂâÂÂâÂÂâÂÂâÂÂâÂÂâÂÂâÂÂâÂÂâÂÂâÂÂâÂÂâÂÂâÂÂâÂÂâÂÂâÂÂâ âÂÂ[37m [37mâÂÂâÂÂâÂÂ[37m processed [37m85%[37m of [37m17[37m/[37m20[37m [37m6.492[37m/[37m1.146[37m[0m
[3;1f
[2K[37mâÂÂâÂÂâÂÂâÂÂâÂÂâÂÂâ âÂÂ[37m [37mâÂÂâÂÂâÂÂ[37m processed [37m32%[37m of [37m16[37m/[37m50[37m [37m6.493[37m/[37m13.798[37m[0m
[4;1f
[2K[37mâÂÂâÂÂâÂÂâÂÂâÂÂâÂÂâÂÂâÂÂâÂÂâÂÂâÂÂâ âÂÂ[37m [37mâÂÂâÂÂâÂÂ[37m processed [37m53%[37m of [37m16[37m/[37m30[37m [37m6.494[37m/[37m5.759[37m[0m
[1;1f
[2K[37mâÂÂâÂÂâÂÂâÂÂâÂÂâÂÂâÂÂâÂÂâÂÂâÂÂâÂÂâÂÂâÂÂâÂÂâÂÂâÂÂâÂÂâ âÂÂ[37m [37mâÂÂâÂÂâÂÂ[37m processed [37m85%[37m of [37m17[37m/[37m20[37m [37m6.602[37m/[37m1.165[37m[0m
[3;1f
[2K[37mâÂÂâÂÂâÂÂâÂÂâÂÂâÂÂâÂÂâ âÂÂ[37m [37mâÂÂâÂÂâÂÂ[37m processed [37m34%[37m of [37m17[37m/[37m50[37m [37m6.603[37m/[37m12.818[37m[0m
[4;1f
[2K[37mâÂÂâÂÂâÂÂâÂÂâÂÂâÂÂâÂÂâÂÂâÂÂâÂÂâÂÂâ âÂÂ[37m [37mâÂÂâÂÂâÂÂ[37m processed [37m53%[37m of [37m16[37m/[37m30[37m [37m6.604[37m/[37m5.856[37m[0m
[1;1f
[2K[37mâÂÂâÂÂâÂÂâÂÂâÂÂâÂÂâÂÂâÂÂâÂÂâÂÂâÂÂâÂÂâÂÂâÂÂâÂÂâÂÂâÂÂâ âÂÂ[37m [37mâÂÂâÂÂâÂÂ[37m processed [37m85%[37m of [37m17[37m/[37m20[37m [37m6.712[37m/[37m1.184[37m[0m
[3;1f
[2K[37mâÂÂâÂÂâÂÂâÂÂâÂÂâÂÂâÂÂâ âÂÂ[37m [37mâÂÂâÂÂâÂÂ[37m processed [37m34%[37m of [37m17[37m/[37m50[37m [37m6.713[37m/[37m13.031[37m[0m
[4;1f
[2K[37mâÂÂâÂÂâÂÂâÂÂâÂÂâÂÂâÂÂâÂÂâÂÂâÂÂâÂÂâ âÂÂ[37m [37mâÂÂâÂÂâÂÂ[37m processed [37m56%[37m of [37m17[37m/[37m30[37m [37m6.714[37m/[37m5.275[37m[0m
[1;1f
[2K[37mâÂÂâÂÂâÂÂâÂÂâÂÂâÂÂâÂÂâÂÂâÂÂâÂÂâÂÂâÂÂâÂÂâÂÂâÂÂâÂÂâÂÂâÂÂâ âÂÂ[37m [37mâÂÂâÂÂâÂÂ
[37m processed [37m90%[37m of [37m18[37m/[37m20[37m [37m6.822[37m/[37m0.758[37m[0m
[3;1f
[2K[37mâÂÂâÂÂâÂÂâÂÂâÂÂâÂÂâÂÂâ âÂÂ[37m [37mâÂÂâÂÂâÂÂ
[37m processed [37m34%[37m of [37m17[37m/[37m50[37m [37m6.821[37m/[37m13.241[37m[0m
[4;1f
[2K[37mâÂÂâÂÂâÂÂâÂÂâÂÂâÂÂâÂÂâÂÂâÂÂâÂÂâÂÂâ âÂÂ[37m [37mâÂÂâÂÂâÂÂ
[37m processed [37m56%[37m of [37m17[37m/[37m30[37m [37m6.822[37m/[37m5.36[37m[0m
[1;1f
[2K[37mâÂÂâÂÂâÂÂâÂÂâÂÂâÂÂâÂÂâÂÂâÂÂâÂÂâÂÂâÂÂâÂÂâÂÂâÂÂâÂÂâÂÂâÂÂâ âÂÂ[37m [37mâÂÂâÂÂâÂÂ[37m processed [37m90%[37m of [37m18[37m/[37m20[37m [37m6.932[37m/[37m0.77[37m[0m
[3;1f
[2K[37mâÂÂâÂÂâÂÂâÂÂâÂÂâÂÂâÂÂâ âÂÂ[37m [37mâÂÂâÂÂâÂÂ[37m processed [37m36%[37m of [37m18[37m/[37m50[37m [37m6.931[37m/[37m12.322[37m[0m
[4;1f
[2K[37mâÂÂâÂÂâÂÂâÂÂâÂÂâÂÂâÂÂâÂÂâÂÂâÂÂâÂÂâ âÂÂ[37m [37mâÂÂâÂÂâÂÂ[37m processed [37m56%[37m of [37m17[37m/[37m30[37m [37m6.932[37m/[37m5.447[37m[0m
[1;1f
[2K[37mâÂÂâÂÂâÂÂâÂÂâÂÂâÂÂâÂÂâÂÂâÂÂâÂÂâÂÂâÂÂâÂÂâÂÂâÂÂâÂÂâÂÂâÂÂâ âÂÂ[37m [37mâÂÂ
âÂÂâÂÂ[37m processed [37m90%[37m of [37m18[37m/[37m20[37m [37m7.042[37m/[37m0.782[37m[0m
[3;1f
[2K[37mâÂÂâÂÂâÂÂâÂÂâÂÂâÂÂâÂÂâ âÂÂ[37m [37mâÂÂ
âÂÂâÂÂ[37m processed [37m36%[37m of [37m18[37m/[37m50[37m [37m7.041[37m/[37m12.517[37m[0m
[4;1f
[2K[37mâÂÂâÂÂâÂÂâÂÂâÂÂâÂÂâÂÂâÂÂâÂÂâÂÂâÂÂâÂÂâ âÂÂ[37m [37mâÂÂ
âÂÂâÂÂ[37m processed [37m60%[37m of [37m18[37m/[37m30[37m [37m7.042[37m/[37m4.695[37m[0m
[1;1f
[2K[37mâÂÂâÂÂâÂÂâÂÂâÂÂâÂÂâÂÂâÂÂâÂÂâÂÂâÂÂâÂÂâÂÂâÂÂâÂÂâÂÂâÂÂâÂÂâÂÂâ âÂÂ[37m [37mâÂÂâÂÂâÂÂ[37m processed [37m95%[37m of [37m19[37m/[37m20[37m [37m7.152[37m/[37m0.376[37m[0m
[3;1f
[2K[37mâÂÂâÂÂâÂÂâÂÂâÂÂâÂÂâÂÂâ âÂÂ[37m [37mâÂÂâÂÂâÂÂ[37m processed [37m36%[37m of [37m18[37m/[37m50[37m [37m7.151[37m/[37m12.713[37m[0m
[4;1f
[2K[37mâÂÂâÂÂâÂÂâÂÂâÂÂâÂÂâÂÂâÂÂâÂÂâÂÂâÂÂâÂÂâ âÂÂ[37m [37mâÂÂâÂÂâÂÂ[37m processed [37m60%[37m of [37m18[37m/[37m30[37m [37m7.152[37m/[37m4.768[37m[0m
[1;1f
[2K[37mâÂÂâÂÂâÂÂâÂÂâÂÂâÂÂâÂÂâÂÂâÂÂâÂÂâÂÂâÂÂâÂÂâÂÂâÂÂâÂÂâÂÂâÂÂâÂÂâ âÂÂ[37m [37mâÂÂâÂÂ
âÂÂ[37m processed [37m95%[37m of [37m19[37m/[37m20[37m [37m7.262[37m/[37m0.382[37m[0m
[3;1f
[2K[37mâÂÂâÂÂâÂÂâÂÂâÂÂâÂÂâÂÂâÂÂâ âÂÂ[37m [37mâÂÂâÂÂ
âÂÂ[37m processed [37m38%[37m of [37m19[37m/[37m50[37m [37m7.261[37m/[37m11.847[37m[0m
[4;1f
[2K[37mâÂÂâÂÂâÂÂâÂÂâÂÂâÂÂâÂÂâÂÂâÂÂâÂÂâÂÂâÂÂâ âÂÂ[37m [37mâÂÂâÂÂ
âÂÂ[37m processed [37m60%[37m of [37m18[37m/[37m30[37m [37m7.262[37m/[37m4.841[37m[0m
[1;1f
[2K[37mâÂÂâÂÂâÂÂâÂÂâÂÂâÂÂâÂÂâÂÂâÂÂâÂÂâÂÂâÂÂâÂÂâÂÂâÂÂâÂÂâÂÂâÂÂâÂÂâ âÂÂ[37m [37mâÂÂâÂÂâÂÂ[37m processed [37m95%[37m of [37m19[37m/[37m20[37m [37m7.372[37m/[37m0.388[37m[0m
[3;1f
[2K[37mâÂÂâÂÂâÂÂâÂÂâÂÂâÂÂâÂÂâÂÂâ âÂÂ[37m [37mâÂÂâÂÂâÂÂ[37m processed [37m38%[37m of [37m19[37m/[37m50[37m [37m7.371[37m/[37m12.026[37m[0m
[4;1f
[2K[37mâÂÂâÂÂâÂÂâÂÂâÂÂâÂÂâÂÂâÂÂâÂÂâÂÂâÂÂâÂÂâÂÂâ âÂÂ[37m [37mâÂÂâÂÂâÂÂ[37m processed [37m63%[37m of [37m19[37m/[37m30[37m [37m7.372[37m/[37m4.33[37m[0m
[1;1f
[2K[37mâÂÂâÂÂâÂÂâÂÂâÂÂâÂÂâÂÂâÂÂâÂÂâÂÂâÂÂâÂÂâÂÂâÂÂâÂÂâÂÂâÂÂâÂÂâÂÂâÂÂâÂÂâÂÂ[37m [37mâÂÂâÂÂâÂÂ[37m processed [37m100%[37m of [37m20[37m/[37m20[37m [37m7.482[37m/[37m0[37m[0m
[3;1f
[2K[37mâÂÂâÂÂâÂÂâÂÂâÂÂâÂÂâÂÂâÂÂâ âÂÂ[37m [37mâÂÂâÂÂâÂÂ[37m processed [37m38%[37m of [37m19[37m/[37m50[37m [37m7.481[37m/[37m12.206[37m[0m
[4;1f
[2K[37mâÂÂâÂÂâÂÂâÂÂâÂÂâÂÂâÂÂâÂÂâÂÂâÂÂâÂÂâÂÂâÂÂâ âÂÂ[37m [37mâÂÂâÂÂâÂÂ[37m processed [37m63%[37m of [37m19[37m/[37m30[37m [37m7.482[37m/[37m4.394[37m[0m
[1;1f
[2K[37mâÂÂâÂÂâÂÂâÂÂâÂÂâÂÂâÂÂâÂÂâÂÂâÂÂâÂÂâÂÂâÂÂâÂÂâÂÂâÂÂâÂÂâÂÂâÂÂâÂÂâÂÂâÂÂ[37m [37mâÂÂâÂÂâÂÂ[37m processed [37m100%[37m of [37m20[37m/[37m20[37m [37m7.592[37m/[37m0[37m[0m
[3;1f
[2K[37mâÂÂâÂÂâÂÂâÂÂâÂÂâÂÂâÂÂâÂÂâ âÂÂ[37m [37mâÂÂâÂÂâÂÂ[37m processed [37m40%[37m of [37m20[37m/[37m50[37m [37m7.592[37m/[37m11.388[37m[0m
[4;1f
[2K[37mâÂÂâÂÂâÂÂâÂÂâÂÂâÂÂâÂÂâÂÂâÂÂâÂÂâÂÂâÂÂâÂÂâ âÂÂ[37m [37mâÂÂâÂÂâÂÂ[37m processed [37m63%[37m of [37m19[37m/[37m30[37m [37m7.594[37m/[37m4.46[37m[0m
[1;1f
[2K[37mâÂÂâÂÂâÂÂâÂÂâÂÂâÂÂâÂÂâÂÂâÂÂâÂÂâÂÂâÂÂâÂÂâÂÂâÂÂâÂÂâÂÂâÂÂâÂÂâÂÂâÂÂâÂÂ[37m [37mâÂÂâÂÂâÂÂ
[37m processed [37m100%[37m of [37m20[37m/[37m20[37m [37m7.703[37m/[37m0[37m[0m
[3;1f
[2K[37mâÂÂâÂÂâÂÂâÂÂâÂÂâÂÂâÂÂâÂÂâ âÂÂ[37m [37mâÂÂâÂÂâÂÂ
[37m processed [37m40%[37m of [37m20[37m/[37m50[37m [37m7.703[37m/[37m11.555[37m[0m
[4;1f
[2K[37mâÂÂâÂÂâÂÂâÂÂâÂÂâÂÂâÂÂâÂÂâÂÂâÂÂâÂÂâÂÂâÂÂâ âÂÂ[37m [37mâÂÂâÂÂâÂÂ
[37m processed [37m66%[37m of [37m20[37m/[37m30[37m [37m7.704[37m/[37m3.969[37m[0m
[3;1f
[2K[37mâÂÂâÂÂâÂÂâÂÂâÂÂâÂÂâÂÂâÂÂâ âÂÂ[37m [37mâÂÂâÂÂâÂÂ[37m processed [37m42%[37m of [37m21[37m/[37m50[37m [37m7.811[37m/[37m10.787[37m[0m
[4;1f
[2K[37mâÂÂâÂÂâÂÂâÂÂâÂÂâÂÂâÂÂâÂÂâÂÂâÂÂâÂÂâÂÂâÂÂâ âÂÂ[37m [37mâÂÂâÂÂâÂÂ[37m processed [37m66%[37m of [37m20[37m/[37m30[37m [37m7.813[37m/[37m4.025[37m[0m
[3;1f
[2K[37mâÂÂâÂÂâÂÂâÂÂâÂÂâÂÂâÂÂâÂÂâ âÂÂ[37m [37mâÂÂ
âÂÂâÂÂ[37m processed [37m42%[37m of [37m21[37m/[37m50[37m [37m7.921[37m/[37m10.939[37m[0m
[4;1f
[2K[37mâÂÂâÂÂâÂÂâÂÂâÂÂâÂÂâÂÂâÂÂâÂÂâÂÂâÂÂâÂÂâÂÂâÂÂâ âÂÂ[37m [37mâÂÂ
âÂÂâÂÂ[37m processed [37m70%[37m of [37m21[37m/[37m30[37m [37m7.923[37m/[37m3.396[37m[0m
[3;1f
[2K[37mâÂÂâÂÂâÂÂâÂÂâÂÂâÂÂâÂÂâÂÂâÂÂâ âÂÂ[37m [37mâÂÂâÂÂâÂÂ[37m processed [37m44%[37m of [37m22[37m/[37m50[37m [37m8.031[37m/[37m10.221[37m[0m
[4;1f
[2K[37mâÂÂâÂÂâÂÂâÂÂâÂÂâÂÂâÂÂâÂÂâÂÂâÂÂâÂÂâÂÂâÂÂâÂÂâ âÂÂ[37m [37mâÂÂâÂÂâÂÂ[37m processed [37m70%[37m of [37m21[37m/[37m30[37m [37m8.032[37m/[37m3.442[37m[0m
[3;1f
[2K[37mâÂÂâÂÂâÂÂâÂÂâÂÂâÂÂâÂÂâÂÂâÂÂâ âÂÂ[37m [37mâÂÂâÂÂ
âÂÂ[37m processed [37m44%[37m of [37m22[37m/[37m50[37m [37m8.141[37m/[37m10.361[37m[0m
[4;1f
[2K[37mâÂÂâÂÂâÂÂâÂÂâÂÂâÂÂâÂÂâÂÂâÂÂâÂÂâÂÂâÂÂâÂÂâÂÂâÂÂâ âÂÂ[37m [37mâÂÂâÂÂ
âÂÂ[37m processed [37m73%[37m of [37m22[37m/[37m30[37m [37m8.143[37m/[37m3.012[37m[0m
[3;1f
[2K[37mâÂÂâÂÂâÂÂâÂÂâÂÂâÂÂâÂÂâÂÂâÂÂâ âÂÂ[37m [37mâÂÂâÂÂâÂÂ[37m processed [37m46%[37m of [37m23[37m/[37m50[37m [37m8.251[37m/[37m9.686[37m[0m
[4;1f
[2K[37mâÂÂâÂÂâÂÂâÂÂâÂÂâÂÂâÂÂâÂÂâÂÂâÂÂâÂÂâÂÂâÂÂâÂÂâÂÂâ âÂÂ[37m [37mâÂÂâÂÂâÂÂ[37m processed [37m73%[37m of [37m22[37m/[37m30[37m [37m8.252[37m/[37m3.052[37m[0m
[3;1f
[2K[37mâÂÂâÂÂâÂÂâÂÂâÂÂâÂÂâÂÂâÂÂâÂÂâ âÂÂ[37m [37mâÂÂâÂÂâÂÂ[37m processed [37m46%[37m of [37m23[37m/[37m50[37m [37m8.362[37m/[37m9.816[37m[0m
[4;1f
[2K[37mâÂÂâÂÂâÂÂâÂÂâÂÂâÂÂâÂÂâÂÂâÂÂâÂÂâÂÂâÂÂâÂÂâÂÂâÂÂâ âÂÂ[37m [37mâÂÂâÂÂâÂÂ[37m processed [37m76%[37m of [37m23[37m/[37m30[37m [37m8.363[37m/[37m2.641[37m[0m
[3;1f
[2K[37mâÂÂâÂÂâÂÂâÂÂâÂÂâÂÂâÂÂâÂÂâÂÂâÂÂâ âÂÂ[37m [37mâÂÂâÂÂâÂÂ[37m processed [37m48%[37m of [37m24[37m/[37m50[37m [37m8.471[37m/[37m9.177[37m[0m
[4;1f
[2K[37mâÂÂâÂÂâÂÂâÂÂâÂÂâÂÂâÂÂâÂÂâÂÂâÂÂâÂÂâÂÂâÂÂâÂÂâÂÂâ âÂÂ[37m [37mâÂÂâÂÂâÂÂ[37m processed [37m76%[37m of [37m23[37m/[37m30[37m [37m8.472[37m/[37m2.675[37m[0m
[3;1f
[2K[37mâÂÂâÂÂâÂÂâÂÂâÂÂâÂÂâÂÂâÂÂâÂÂâÂÂâ âÂÂ[37m [37mâÂÂâÂÂâÂÂ
[37m processed [37m48%[37m of [37m24[37m/[37m50[37m [37m8.581[37m/[37m9.296[37m[0m
[4;1f
[2K[37mâÂÂâÂÂâÂÂâÂÂâÂÂâÂÂâÂÂâÂÂâÂÂâÂÂâÂÂâÂÂâÂÂâÂÂâÂÂâÂÂâ âÂÂ[37m [37mâÂÂâÂÂâÂÂ
[37m processed [37m80%[37m of [37m24[37m/[37m30[37m [37m8.583[37m/[37m2.146[37m[0m
[3;1f
[2K[37mâÂÂâÂÂâÂÂâÂÂâÂÂâÂÂâÂÂâÂÂâÂÂâÂÂâ âÂÂ[37m [37mâÂÂâÂÂâÂÂ[37m processed [37m50%[37m of [37m25[37m/[37m50[37m [37m8.691[37m/[37m8.691[37m[0m
[4;1f
[2K[37mâÂÂâÂÂâÂÂâÂÂâÂÂâÂÂâÂÂâÂÂâÂÂâÂÂâÂÂâÂÂâÂÂâÂÂâÂÂâÂÂâ âÂÂ[37m [37mâÂÂâÂÂâÂÂ[37m processed [37m80%[37m of [37m24[37m/[37m30[37m [37m8.693[37m/[37m2.173[37m[0m
[3;1f
[2K[37mâÂÂâÂÂâÂÂâÂÂâÂÂâÂÂâÂÂâÂÂâÂÂâÂÂâ âÂÂ[37m [37mâÂÂ
âÂÂâÂÂ[37m processed [37m50%[37m of [37m25[37m/[37m50[37m [37m8.801[37m/[37m8.801[37m[0m
[4;1f
[2K[37mâÂÂâÂÂâÂÂâÂÂâÂÂâÂÂâÂÂâÂÂâÂÂâÂÂâÂÂâÂÂâÂÂâÂÂâÂÂâÂÂâÂÂâ âÂÂ[37m [37mâÂÂ
âÂÂâÂÂ[37m processed [37m83%[37m of [37m25[37m/[37m30[37m [37m8.803[37m/[37m1.803[37m[0m
[3;1f
[2K[37mâÂÂâÂÂâÂÂâÂÂâÂÂâÂÂâÂÂâÂÂâÂÂâÂÂâ âÂÂ[37m [37mâÂÂâÂÂâÂÂ[37m processed [37m52%[37m of [37m26[37m/[37m50[37m [37m8.911[37m/[37m8.226[37m[0m
[4;1f
[2K[37mâÂÂâÂÂâÂÂâÂÂâÂÂâÂÂâÂÂâÂÂâÂÂâÂÂâÂÂâÂÂâÂÂâÂÂâÂÂâÂÂâÂÂâ âÂÂ[37m [37mâÂÂâÂÂâÂÂ[37m processed [37m83%[37m of [37m25[37m/[37m30[37m [37m8.912[37m/[37m1.825[37m[0m
[3;1f
[2K[37mâÂÂâÂÂâÂÂâÂÂâÂÂâÂÂâÂÂâÂÂâÂÂâÂÂâ âÂÂ[37m [37mâÂÂâÂÂ
âÂÂ[37m processed [37m52%[37m of [37m26[37m/[37m50[37m [37m9.021[37m/[37m8.327[37m[0m
[4;1f
[2K[37mâÂÂâÂÂâÂÂâÂÂâÂÂâÂÂâÂÂâÂÂâÂÂâÂÂâÂÂâÂÂâÂÂâÂÂâÂÂâÂÂâÂÂâ âÂÂ[37m [37mâÂÂâÂÂ
âÂÂ[37m processed [37m86%[37m of [37m26[37m/[37m30[37m [37m9.023[37m/[37m1.469[37m[0m
[3;1f
[2K[37mâÂÂâÂÂâÂÂâÂÂâÂÂâÂÂâÂÂâÂÂâÂÂâÂÂâÂÂâ âÂÂ[37m [37mâÂÂâÂÂâÂÂ[37m processed [37m54%[37m of [37m27[37m/[37m50[37m [37m9.131[37m/[37m7.778[37m[0m
[4;1f
[2K[37mâÂÂâÂÂâÂÂâÂÂâÂÂâÂÂâÂÂâÂÂâÂÂâÂÂâÂÂâÂÂâÂÂâÂÂâÂÂâÂÂâÂÂâ âÂÂ[37m [37mâÂÂâÂÂâÂÂ[37m processed [37m86%[37m of [37m26[37m/[37m30[37m [37m9.131[37m/[37m1.486[37m[0m
[3;1f
[2K[37mâÂÂâÂÂâÂÂâÂÂâÂÂâÂÂâÂÂâÂÂâÂÂâÂÂâÂÂâ âÂÂ[37m [37mâÂÂâÂÂâÂÂ[37m processed [37m54%[37m of [37m27[37m/[37m50[37m [37m9.241[37m/[37m7.872[37m[0m
[4;1f
[2K[37mâÂÂâÂÂâÂÂâÂÂâÂÂâÂÂâÂÂâÂÂâÂÂâÂÂâÂÂâÂÂâÂÂâÂÂâÂÂâÂÂâÂÂâÂÂâ âÂÂ[37m [37mâÂÂâÂÂâÂÂ[37m processed [37m90%[37m of [37m27[37m/[37m30[37m [37m9.241[37m/[37m1.027[37m[0m
[3;1f
[2K[37mâÂÂâÂÂâÂÂâÂÂâÂÂâÂÂâÂÂâÂÂâÂÂâÂÂâÂÂâ âÂÂ[37m [37mâÂÂâÂÂâÂÂ[37m processed [37m56%[37m of [37m28[37m/[37m50[37m [37m9.351[37m/[37m7.347[37m[0m
[4;1f
[2K[37mâÂÂâÂÂâÂÂâÂÂâÂÂâÂÂâÂÂâÂÂâÂÂâÂÂâÂÂâÂÂâÂÂâÂÂâÂÂâÂÂâÂÂâÂÂâ âÂÂ[37m [37mâÂÂâÂÂâÂÂ[37m processed [37m90%[37m of [37m27[37m/[37m30[37m [37m9.351[37m/[37m1.039[37m[0m
[3;1f
[2K[37mâÂÂâÂÂâÂÂâÂÂâÂÂâÂÂâÂÂâÂÂâÂÂâÂÂâÂÂâ âÂÂ[37m [37mâÂÂâÂÂâÂÂ
[37m processed [37m56%[37m of [37m28[37m/[37m50[37m [37m9.461[37m/[37m7.434[37m[0m
[4;1f
[2K[37mâÂÂâÂÂâÂÂâÂÂâÂÂâÂÂâÂÂâÂÂâÂÂâÂÂâÂÂâÂÂâÂÂâÂÂâÂÂâÂÂâÂÂâÂÂâÂÂâ âÂÂ[37m [37mâÂÂâÂÂâÂÂ
[37m processed [37m93%[37m of [37m28[37m/[37m30[37m [37m9.463[37m/[37m0.712[37m[0m
[3;1f
[2K[37mâÂÂâÂÂâÂÂâÂÂâÂÂâÂÂâÂÂâÂÂâÂÂâÂÂâÂÂâ âÂÂ[37m [37mâÂÂâÂÂâÂÂ[37m processed [37m57%[37m of [37m29[37m/[37m50[37m [37m9.571[37m/[37m7.22[37m[0m
[4;1f
[2K[37mâÂÂâÂÂâÂÂâÂÂâÂÂâÂÂâÂÂâÂÂâÂÂâÂÂâÂÂâÂÂâÂÂâÂÂâÂÂâÂÂâÂÂâÂÂâÂÂâ âÂÂ[37m [37mâÂÂâÂÂâÂÂ[37m processed [37m93%[37m of [37m28[37m/[37m30[37m [37m9.572[37m/[37m0.72[37m[0m
[3;1f
[2K[37mâÂÂâÂÂâÂÂâÂÂâÂÂâÂÂâÂÂâÂÂâÂÂâÂÂâÂÂâ âÂÂ[37m [37mâÂÂ
âÂÂâÂÂ[37m processed [37m57%[37m of [37m29[37m/[37m50[37m [37m9.681[37m/[37m7.303[37m[0m
[4;1f
[2K[37mâÂÂâÂÂâÂÂâÂÂâÂÂâÂÂâÂÂâÂÂâÂÂâÂÂâÂÂâÂÂâÂÂâÂÂâÂÂâÂÂâÂÂâÂÂâÂÂâ âÂÂ[37m [37mâÂÂ
âÂÂâÂÂ[37m processed [37m96%[37m of [37m29[37m/[37m30[37m [37m9.683[37m/[37m0.403[37m[0m
[3;1f
[2K[37mâÂÂâÂÂâÂÂâÂÂâÂÂâÂÂâÂÂâÂÂâÂÂâÂÂâÂÂâÂÂâ âÂÂ[37m [37mâÂÂâÂÂâÂÂ[37m processed [37m60%[37m of [37m30[37m/[37m50[37m [37m9.791[37m/[37m6.527[37m[0m
[4;1f
[2K[37mâÂÂâÂÂâÂÂâÂÂâÂÂâÂÂâÂÂâÂÂâÂÂâÂÂâÂÂâÂÂâÂÂâÂÂâÂÂâÂÂâÂÂâÂÂâÂÂâ âÂÂ[37m [37mâÂÂâÂÂâÂÂ[37m processed [37m96%[37m of [37m29[37m/[37m30[37m [37m9.793[37m/[37m0.408[37m[0m
[3;1f
[2K[37mâÂÂâÂÂâÂÂâÂÂâÂÂâÂÂâÂÂâÂÂâÂÂâÂÂâÂÂâÂÂâ âÂÂ[37m [37mâÂÂâÂÂ
âÂÂ[37m processed [37m60%[37m of [37m30[37m/[37m50[37m [37m9.901[37m/[37m6.601[37m[0m
[4;1f
[2K[37mâÂÂâÂÂâÂÂâÂÂâÂÂâÂÂâÂÂâÂÂâÂÂâÂÂâÂÂâÂÂâÂÂâÂÂâÂÂâÂÂâÂÂâÂÂâÂÂâÂÂâÂÂâÂÂ[37m [37mâÂÂâÂÂ
âÂÂ[37m processed [37m100%[37m of [37m30[37m/[37m30[37m [37m9.902[37m/[37m0[37m[0m
[3;1f
[2K[37mâÂÂâÂÂâÂÂâÂÂâÂÂâÂÂâÂÂâÂÂâÂÂâÂÂâÂÂâÂÂâ âÂÂ[37m [37mâÂÂâÂÂâÂÂ[37m processed [37m62%[37m of [37m31[37m/[37m50[37m [37m10.011[37m/[37m6.136[37m[0m
[4;1f
[2K[37mâÂÂâÂÂâÂÂâÂÂâÂÂâÂÂâÂÂâÂÂâÂÂâÂÂâÂÂâÂÂâÂÂâÂÂâÂÂâÂÂâÂÂâÂÂâÂÂâÂÂâÂÂâÂÂ[37m [37mâÂÂâÂÂâÂÂ[37m processed [37m100%[37m of [37m30[37m/[37m30[37m [37m10.013[37m/[37m0[37m[0m
[3;1f
[2K[37mâÂÂâÂÂâÂÂâÂÂâÂÂâÂÂâÂÂâÂÂâÂÂâÂÂâÂÂâÂÂâÂÂâ âÂÂ[37m [37mâÂÂâÂÂâÂÂ[37m processed [37m64%[37m of [37m32[37m/[37m50[37m [37m10.121[37m/[37m5.693[37m[0m
[3;1f
[2K[37mâÂÂâÂÂâÂÂâÂÂâÂÂâÂÂâÂÂâÂÂâÂÂâÂÂâÂÂâÂÂâÂÂâ âÂÂ[37m [37mâÂÂâÂÂâÂÂ[37m processed [37m66%[37m of [37m33[37m/[37m50[37m [37m10.232[37m/[37m5.271[37m[0m
[3;1f
[2K[37mâÂÂâÂÂâÂÂâÂÂâÂÂâÂÂâÂÂâÂÂâÂÂâÂÂâÂÂâÂÂâÂÂâÂÂâ âÂÂ[37m [37mâÂÂâÂÂâÂÂ
[37m processed [37m68%[37m of [37m34[37m/[37m50[37m [37m10.341[37m/[37m4.866[37m[0m
[3;1f
[2K[37mâÂÂâÂÂâÂÂâÂÂâÂÂâÂÂâÂÂâÂÂâÂÂâÂÂâÂÂâÂÂâÂÂâÂÂâ âÂÂ[37m [37mâÂÂâÂÂâÂÂ[37m processed [37m70%[37m of [37m35[37m/[37m50[37m [37m10.452[37m/[37m4.479[37m[0m
[3;1f
[2K[37mâÂÂâÂÂâÂÂâÂÂâÂÂâÂÂâÂÂâÂÂâÂÂâÂÂâÂÂâÂÂâÂÂâÂÂâ âÂÂ[37m [37mâÂÂ
âÂÂâÂÂ[37m processed [37m72%[37m of [37m36[37m/[37m50[37m [37m10.561[37m/[37m4.107[37m[0m
[3;1f
[2K[37mâÂÂâÂÂâÂÂâÂÂâÂÂâÂÂâÂÂâÂÂâÂÂâÂÂâÂÂâÂÂâÂÂâÂÂâÂÂâ âÂÂ[37m [37mâÂÂâÂÂâÂÂ[37m processed [37m74%[37m of [37m37[37m/[37m50[37m [37m10.671[37m/[37m3.749[37m[0m
[3;1f
[2K[37mâÂÂâÂÂâÂÂâÂÂâÂÂâÂÂâÂÂâÂÂâÂÂâÂÂâÂÂâÂÂâÂÂâÂÂâÂÂâ âÂÂ[37m [37mâÂÂâÂÂ
âÂÂ[37m processed [37m76%[37m of [37m38[37m/[37m50[37m [37m10.781[37m/[37m3.405[37m[0m
[3;1f
[2K[37mâÂÂâÂÂâÂÂâÂÂâÂÂâÂÂâÂÂâÂÂâÂÂâÂÂâÂÂâÂÂâÂÂâÂÂâÂÂâÂÂâ âÂÂ[37m [37mâÂÂâÂÂâÂÂ[37m processed [37m78%[37m of [37m39[37m/[37m50[37m [37m10.891[37m/[37m3.072[37m[0m
[3;1f
[2K[37mâÂÂâÂÂâÂÂâÂÂâÂÂâÂÂâÂÂâÂÂâÂÂâÂÂâÂÂâÂÂâÂÂâÂÂâÂÂâÂÂâ âÂÂ[37m [37mâÂÂâÂÂâÂÂ[37m processed [37m80%[37m of [37m40[37m/[37m50[37m [37m11.001[37m/[37m2.75[37m[0m
[3;1f
[2K[37mâÂÂâÂÂâÂÂâÂÂâÂÂâÂÂâÂÂâÂÂâÂÂâÂÂâÂÂâÂÂâÂÂâÂÂâÂÂâÂÂâ âÂÂ[37m [37mâÂÂâÂÂâÂÂ[37m processed [37m82%[37m of [37m41[37m/[37m50[37m [37m11.111[37m/[37m2.439[37m[0m
[3;1f
[2K[37mâÂÂâÂÂâÂÂâÂÂâÂÂâÂÂâÂÂâÂÂâÂÂâÂÂâÂÂâÂÂâÂÂâÂÂâÂÂâÂÂâÂÂâ âÂÂ[37m [37mâÂÂâÂÂâÂÂ
[37m processed [37m84%[37m of [37m42[37m/[37m50[37m [37m11.221[37m/[37m2.137[37m[0m
[3;1f
[2K[37mâÂÂâÂÂâÂÂâÂÂâÂÂâÂÂâÂÂâÂÂâÂÂâÂÂâÂÂâÂÂâÂÂâÂÂâÂÂâÂÂâÂÂâ âÂÂ[37m [37mâÂÂâÂÂâÂÂ[37m processed [37m86%[37m of [37m43[37m/[37m50[37m [37m11.331[37m/[37m1.845[37m[0m
[3;1f
[2K[37mâÂÂâÂÂâÂÂâÂÂâÂÂâÂÂâÂÂâÂÂâÂÂâÂÂâÂÂâÂÂâÂÂâÂÂâÂÂâÂÂâÂÂâÂÂâ âÂÂ[37m [37mâÂÂ
âÂÂâÂÂ[37m processed [37m88%[37m of [37m44[37m/[37m50[37m [37m11.441[37m/[37m1.56[37m[0m
[3;1f
[2K[37mâÂÂâÂÂâÂÂâÂÂâÂÂâÂÂâÂÂâÂÂâÂÂâÂÂâÂÂâÂÂâÂÂâÂÂâÂÂâÂÂâÂÂâÂÂâ âÂÂ[37m [37mâÂÂâÂÂâÂÂ[37m processed [37m90%[37m of [37m45[37m/[37m50[37m [37m11.551[37m/[37m1.283[37m[0m
[3;1f
[2K[37mâÂÂâÂÂâÂÂâÂÂâÂÂâÂÂâÂÂâÂÂâÂÂâÂÂâÂÂâÂÂâÂÂâÂÂâÂÂâÂÂâÂÂâÂÂâ âÂÂ[37m [37mâÂÂâÂÂ
âÂÂ[37m processed [37m92%[37m of [37m46[37m/[37m50[37m [37m11.661[37m/[37m1.014[37m[0m
[3;1f
[2K[37mâÂÂâÂÂâÂÂâÂÂâÂÂâÂÂâÂÂâÂÂâÂÂâÂÂâÂÂâÂÂâÂÂâÂÂâÂÂâÂÂâÂÂâÂÂâÂÂâ âÂÂ[37m [37mâÂÂâÂÂâÂÂ[37m processed [37m94%[37m of [37m47[37m/[37m50[37m [37m11.771[37m/[37m0.751[37m[0m
[3;1f
[2K[37mâÂÂâÂÂâÂÂâÂÂâÂÂâÂÂâÂÂâÂÂâÂÂâÂÂâÂÂâÂÂâÂÂâÂÂâÂÂâÂÂâÂÂâÂÂâÂÂâ âÂÂ[37m [37mâÂÂâÂÂâÂÂ[37m processed [37m96%[37m of [37m48[37m/[37m50[37m [37m11.881[37m/[37m0.495[37m[0m
[3;1f
[2K[37mâÂÂâÂÂâÂÂâÂÂâÂÂâÂÂâÂÂâÂÂâÂÂâÂÂâÂÂâÂÂâÂÂâÂÂâÂÂâÂÂâÂÂâÂÂâÂÂâÂÂâÂÂâÂÂ[37m [37mâÂÂâÂÂâÂÂ[37m processed [37m98%[37m of [37m49[37m/[37m50[37m [37m11.991[37m/[37m0.245[37m[0m
[3;1f
[2K[37mâÂÂâÂÂâÂÂâÂÂâÂÂâÂÂâÂÂâÂÂâÂÂâÂÂâÂÂâÂÂâÂÂâÂÂâÂÂâÂÂâÂÂâÂÂâÂÂâÂÂâÂÂâÂÂ[37m [37mâÂÂâÂÂâÂÂ
[37m processed [37m100%[37m of [37m50[37m/[37m50[37m [37m12.101[37m/[37m0[37m[0m
[?25h[?25l
[?25l
[?25l
[?25l
[5;1f
[2K[37mâÂÂâ âÂÂ[37m [37mâÂÂâÂÂ
âÂÂ[37m processed [37m5%[37m of [37m1[37m/[37m20[37m [37m0.439[37m/[37m8.341[37m[0m
[6;1f
[2K[37mâÂÂâÂÂâ âÂÂ[37m [37mâÂÂâÂÂ
âÂÂ[37m processed [37m10%[37m of [37m1[37m/[37m10[37m [37m0.441[37m/[37m3.969[37m[0m
[7;1f
[2K[37mâ âÂÂ[37m [37mâÂÂâÂÂ
âÂÂ[37m processed [37m2%[37m of [37m1[37m/[37m50[37m [37m0.442[37m/[37m21.658[37m[0m
[8;1f
[2K[37mâÂÂâ âÂÂ[37m [37mâÂÂâÂÂ
âÂÂ[37m processed [37m3%[37m of [37m1[37m/[37m30[37m [37m0.443[37m/[37m14.324[37m[0m
[5;1f
[2K[37mâÂÂâÂÂâ âÂÂ[37m [37mâÂÂâÂÂâÂÂ
[37m processed [37m10%[37m of [37m2[37m/[37m20[37m [37m0.879[37m/[37m7.911[37m[0m
[6;1f
[2K[37mâÂÂâÂÂâÂÂâÂÂâ âÂÂ[37m [37mâÂÂâÂÂâÂÂ
[37m processed [37m20%[37m of [37m2[37m/[37m10[37m [37m0.881[37m/[37m3.524[37m[0m
[7;1f
[2K[37mâÂÂâ âÂÂ[37m [37mâÂÂâÂÂâÂÂ
[37m processed [37m4%[37m of [37m2[37m/[37m50[37m [37m0.882[37m/[37m21.168[37m[0m
[8;1f
[2K[37mâÂÂâ âÂÂ[37m [37mâÂÂâÂÂâÂÂ
[37m processed [37m6%[37m of [37m2[37m/[37m30[37m [37m0.883[37m/[37m13.834[37m[0m
[5;1f
[2K[37mâÂÂâÂÂâÂÂâ âÂÂ[37m [37mâÂÂâÂÂ
âÂÂ[37m processed [37m15%[37m of [37m3[37m/[37m20[37m [37m1.319[37m/[37m7.474[37m[0m
[6;1f
[2K[37mâÂÂâÂÂâÂÂâÂÂâÂÂâÂÂâ âÂÂ[37m [37mâÂÂâÂÂ
âÂÂ[37m processed [37m30%[37m of [37m3[37m/[37m10[37m [37m1.32[37m/[37m3.08[37m[0m
[7;1f
[2K[37mâÂÂâ âÂÂ[37m [37mâÂÂâÂÂ
âÂÂ[37m processed [37m6%[37m of [37m3[37m/[37m50[37m [37m1.32[37m/[37m20.68[37m[0m
[8;1f
[2K[37mâÂÂâÂÂâ âÂÂ[37m [37mâÂÂâÂÂ
âÂÂ[37m processed [37m10%[37m of [37m3[37m/[37m30[37m [37m1.32[37m/[37m11.88[37m[0m
[5;1f
[2K[37mâÂÂâÂÂâÂÂâÂÂâ âÂÂ[37m [37mâÂÂâÂÂâÂÂ
[37m processed [37m20%[37m of [37m4[37m/[37m20[37m [37m1.759[37m/[37m7.036[37m[0m
[6;1f
[2K[37mâÂÂâÂÂâÂÂâÂÂâÂÂâÂÂâÂÂâÂÂâ âÂÂ[37m [37mâÂÂâÂÂâÂÂ
[37m processed [37m40%[37m of [37m4[37m/[37m10[37m [37m1.761[37m/[37m2.641[37m[0m
[7;1f
[2K[37mâÂÂâÂÂâ âÂÂ[37m [37mâÂÂâÂÂâÂÂ
[37m processed [37m8%[37m of [37m4[37m/[37m50[37m [37m1.762[37m/[37m20.263[37m[0m
[8;1f
[2K[37mâÂÂâÂÂâÂÂâ âÂÂ[37m [37mâÂÂâÂÂâÂÂ
[37m processed [37m13%[37m of [37m4[37m/[37m30[37m [37m1.763[37m/[37m11.799[37m[0m
[5;1f
[2K[37mâÂÂâÂÂâÂÂâÂÂâÂÂâ âÂÂ[37m [37mâÂÂâÂÂ
âÂÂ[37m processed [37m25%[37m of [37m5[37m/[37m20[37m [37m2.199[37m/[37m6.597[37m[0m
[6;1f
[2K[37mâÂÂâÂÂâÂÂâÂÂâÂÂâÂÂâÂÂâÂÂâÂÂâÂÂâ âÂÂ[37m [37mâÂÂâÂÂ
âÂÂ[37m processed [37m50%[37m of [37m5[37m/[37m10[37m [37m2.199[37m/[37m2.199[37m[0m
[7;1f
[2K[37mâÂÂâÂÂâ âÂÂ[37m [37mâÂÂâÂÂ
âÂÂ[37m processed [37m10%[37m of [37m5[37m/[37m50[37m [37m2.2[37m/[37m19.8[37m[0m
[8;1f
[2K[37mâÂÂâÂÂâÂÂâ âÂÂ[37m [37mâÂÂâÂÂ
âÂÂ[37m processed [37m16%[37m of [37m5[37m/[37m30[37m [37m2.2[37m/[37m11.55[37m[0m
[5;1f
[2K[37mâÂÂâÂÂâÂÂâÂÂâÂÂâÂÂâ âÂÂ[37m [37mâÂÂâÂÂâÂÂ
[37m processed [37m30%[37m of [37m6[37m/[37m20[37m [37m2.649[37m/[37m6.181[37m[0m
[6;1f
[2K[37mâÂÂâÂÂâÂÂâÂÂâÂÂâÂÂâÂÂâÂÂâÂÂâÂÂâÂÂâÂÂâ âÂÂ[37m [37mâÂÂâÂÂâÂÂ
[37m processed [37m60%[37m of [37m6[37m/[37m10[37m [37m2.651[37m/[37m1.767[37m[0m
[7;1f
[2K[37mâÂÂâÂÂâ âÂÂ[37m [37mâÂÂâÂÂâÂÂ
[37m processed [37m12%[37m of [37m6[37m/[37m50[37m [37m2.652[37m/[37m19.448[37m[0m
[8;1f
[2K[37mâÂÂâÂÂâÂÂâÂÂâ âÂÂ[37m [37mâÂÂâÂÂâÂÂ
[37m processed [37m20%[37m of [37m6[37m/[37m30[37m [37m2.653[37m/[37m10.612[37m[0m
[5;1f
[2K[37mâÂÂâÂÂâÂÂâÂÂâÂÂâÂÂâÂÂâ âÂÂ[37m [37mâÂÂâÂÂ
âÂÂ[37m processed [37m35%[37m of [37m7[37m/[37m20[37m [37m3.089[37m/[37m5.737[37m[0m
[6;1f
[2K[37mâÂÂâÂÂâÂÂâÂÂâÂÂâÂÂâÂÂâÂÂâÂÂâÂÂâÂÂâÂÂâÂÂâÂÂâ âÂÂ[37m [37mâÂÂâÂÂ
âÂÂ[37m processed [37m70%[37m of [37m7[37m/[37m10[37m [37m3.091[37m/[37m1.325[37m[0m
[7;1f
[2K[37mâÂÂâÂÂâÂÂâ âÂÂ[37m [37mâÂÂâÂÂ
âÂÂ[37m processed [37m14%[37m of [37m7[37m/[37m50[37m [37m3.092[37m/[37m18.994[37m[0m
[8;1f
[2K[37mâÂÂâÂÂâÂÂâÂÂâÂÂâ âÂÂ[37m [37mâÂÂâÂÂ
âÂÂ[37m processed [37m23%[37m of [37m7[37m/[37m30[37m [37m3.093[37m/[37m10.355[37m[0m
[5;1f
[2K[37mâÂÂâÂÂâÂÂâÂÂâÂÂâÂÂâÂÂâÂÂâ âÂÂ[37m [37mâÂÂâÂÂâÂÂ
[37m processed [37m40%[37m of [37m8[37m/[37m20[37m [37m3.529[37m/[37m5.293[37m[0m
[6;1f
[2K[37mâÂÂâÂÂâÂÂâÂÂâÂÂâÂÂâÂÂâÂÂâÂÂâÂÂâÂÂâÂÂâÂÂâÂÂâÂÂâÂÂâ âÂÂ[37m [37mâÂÂâÂÂâÂÂ
[37m processed [37m80%[37m of [37m8[37m/[37m10[37m [37m3.531[37m/[37m0.883[37m[0m
[7;1f
[2K[37mâÂÂâÂÂâÂÂâ âÂÂ[37m [37mâÂÂâÂÂâÂÂ
[37m processed [37m16%[37m of [37m8[37m/[37m50[37m [37m3.532[37m/[37m18.543[37m[0m
[8;1f
[2K[37mâÂÂâÂÂâÂÂâÂÂâÂÂâ âÂÂ[37m [37mâÂÂâÂÂâÂÂ
[37m processed [37m26%[37m of [37m8[37m/[37m30[37m [37m3.533[37m/[37m10.055[37m[0m
[5;1f
[2K[37mâÂÂâÂÂâÂÂâÂÂâÂÂâÂÂâÂÂâÂÂâÂÂâ âÂÂ[37m [37mâÂÂâÂÂ
âÂÂ[37m processed [37m45%[37m of [37m9[37m/[37m20[37m [37m3.969[37m/[37m4.851[37m[0m
[6;1f
[2K[37mâÂÂâÂÂâÂÂâÂÂâÂÂâÂÂâÂÂâÂÂâÂÂâÂÂâÂÂâÂÂâÂÂâÂÂâÂÂâÂÂâÂÂâÂÂâ âÂÂ[37m [37mâÂÂâÂÂ
âÂÂ[37m processed [37m90%[37m of [37m9[37m/[37m10[37m [37m3.969[37m/[37m0.441[37m[0m
[7;1f
[2K[37mâÂÂâÂÂâÂÂâÂÂâ âÂÂ[37m [37mâÂÂâÂÂ
âÂÂ[37m processed [37m18%[37m of [37m9[37m/[37m50[37m [37m3.97[37m/[37m18.086[37m[0m
[8;1f
[2K[37mâÂÂâÂÂâÂÂâÂÂâÂÂâÂÂâ âÂÂ[37m [37mâÂÂâÂÂ
âÂÂ[37m processed [37m30%[37m of [37m9[37m/[37m30[37m [37m3.97[37m/[37m9.263[37m[0m
[5;1f
[2K[37mâÂÂâÂÂâÂÂâÂÂâÂÂâÂÂâÂÂâÂÂâÂÂâÂÂâ âÂÂ[37m [37mâÂÂâÂÂâÂÂ
[37m processed [37m50%[37m of [37m10[37m/[37m20[37m [37m4.409[37m/[37m4.409[37m[0m
[6;1f
[2K[37mâÂÂâÂÂâÂÂâÂÂâÂÂâÂÂâÂÂâÂÂâÂÂâÂÂâÂÂâÂÂâÂÂâÂÂâÂÂâÂÂâÂÂâÂÂâÂÂâÂÂâÂÂâÂÂ[37m [37mâÂÂâÂÂâÂÂ
[37m processed [37m100%[37m of [37m10[37m/[37m10[37m [37m4.411[37m/[37m0[37m[0m
[7;1f
[2K[37mâÂÂâÂÂâÂÂâÂÂâ âÂÂ[37m [37mâÂÂâÂÂâÂÂ
[37m processed [37m20%[37m of [37m10[37m/[37m50[37m [37m4.412[37m/[37m17.648[37m[0m
[8;1f
[2K[37mâÂÂâÂÂâÂÂâÂÂâÂÂâÂÂâÂÂâ âÂÂ[37m [37mâÂÂâÂÂâÂÂ
[37m processed [37m33%[37m of [37m10[37m/[37m30[37m [37m4.413[37m/[37m8.96[37m[0m
[5;1f
[2K[37mâÂÂâÂÂâÂÂâÂÂâÂÂâÂÂâÂÂâÂÂâÂÂâÂÂâÂÂâ âÂÂ[37m [37mâÂÂ
âÂÂâÂÂ[37m processed [37m55%[37m of [37m11[37m/[37m20[37m [37m4.629[37m/[37m3.787[37m[0m
[7;1f
[2K[37mâÂÂâÂÂâÂÂâÂÂâ âÂÂ[37m [37mâÂÂ
âÂÂâÂÂ[37m processed [37m20%[37m of [37m10[37m/[37m50[37m [37m4.631[37m/[37m18.524[37m[0m
[8;1f
[2K[37mâÂÂâÂÂâÂÂâÂÂâÂÂâÂÂâÂÂâ âÂÂ[37m [37mâÂÂ
âÂÂâÂÂ[37m processed [37m36%[37m of [37m11[37m/[37m30[37m [37m4.632[37m/[37m8.235[37m[0m
[5;1f
[2K[37mâÂÂâÂÂâÂÂâÂÂâÂÂâÂÂâÂÂâÂÂâÂÂâÂÂâÂÂâÂÂâ âÂÂ[37m [37mâÂÂâÂÂâÂÂ[37m processed [37m60%[37m of [37m12[37m/[37m20[37m [37m4.959[37m/[37m3.306[37m[0m
[7;1f
[2K[37mâÂÂâÂÂâÂÂâÂÂâ âÂÂ[37m [37mâÂÂâÂÂâÂÂ[37m processed [37m22%[37m of [37m11[37m/[37m50[37m [37m4.959[37m/[37m17.582[37m[0m
[8;1f
[2K[37mâÂÂâÂÂâÂÂâÂÂâÂÂâÂÂâÂÂâÂÂâ âÂÂ[37m [37mâÂÂâÂÂâÂÂ[37m processed [37m40%[37m of [37m12[37m/[37m30[37m [37m4.96[37m/[37m7.44[37m[0m
[5;1f
[2K[37mâÂÂâÂÂâÂÂâÂÂâÂÂâÂÂâÂÂâÂÂâÂÂâÂÂâÂÂâÂÂâÂÂâ âÂÂ[37m [37mâÂÂâÂÂâÂÂ
[37m processed [37m65%[37m of [37m13[37m/[37m20[37m [37m5.289[37m/[37m2.848[37m[0m
[7;1f
[2K[37mâÂÂâÂÂâÂÂâÂÂâÂÂâ âÂÂ[37m [37mâÂÂâÂÂâÂÂ
[37m processed [37m24%[37m of [37m12[37m/[37m50[37m [37m5.291[37m/[37m16.755[37m[0m
[8;1f
[2K[37mâÂÂâÂÂâÂÂâÂÂâÂÂâÂÂâÂÂâÂÂâÂÂâ âÂÂ[37m [37mâÂÂâÂÂâÂÂ
[37m processed [37m43%[37m of [37m13[37m/[37m30[37m [37m5.292[37m/[37m7.015[37m[0m
[5;1f
[2K[37mâÂÂâÂÂâÂÂâÂÂâÂÂâÂÂâÂÂâÂÂâÂÂâÂÂâÂÂâÂÂâÂÂâÂÂâ âÂÂ[37m [37mâÂÂâÂÂâÂÂ[37m processed [37m70%[37m of [37m14[37m/[37m20[37m [37m5.619[37m/[37m2.408[37m[0m
[7;1f
[2K[37mâÂÂâÂÂâÂÂâÂÂâÂÂâ âÂÂ[37m [37mâÂÂâÂÂâÂÂ[37m processed [37m26%[37m of [37m13[37m/[37m50[37m [37m5.621[37m/[37m15.998[37m[0m
[8;1f
[2K[37mâÂÂâÂÂâÂÂâÂÂâÂÂâÂÂâÂÂâÂÂâÂÂâ âÂÂ[37m [37mâÂÂâÂÂâÂÂ[37m processed [37m46%[37m of [37m14[37m/[37m30[37m [37m5.622[37m/[37m6.6[37m[0m
[5;1f
[2K[37mâÂÂâÂÂâÂÂâÂÂâÂÂâÂÂâÂÂâÂÂâÂÂâÂÂâÂÂâÂÂâÂÂâÂÂâÂÂâ âÂÂ[37m [37mâÂÂâÂÂâÂÂ[37m processed [37m75%[37m of [37m15[37m/[37m20[37m [37m5.949[37m/[37m1.983[37m[0m
[7;1f
[2K[37mâÂÂâÂÂâÂÂâÂÂâÂÂâÂÂâ âÂÂ[37m [37mâÂÂâÂÂâÂÂ[37m processed [37m28%[37m of [37m14[37m/[37m50[37m [37m5.949[37m/[37m15.297[37m[0m
[8;1f
[2K[37mâÂÂâÂÂâÂÂâÂÂâÂÂâÂÂâÂÂâÂÂâÂÂâÂÂâ âÂÂ[37m [37mâÂÂâÂÂâÂÂ[37m processed [37m50%[37m of [37m15[37m/[37m30[37m [37m5.95[37m/[37m5.95[37m[0m
[5;1f
[2K[37mâÂÂâÂÂâÂÂâÂÂâÂÂâÂÂâÂÂâÂÂâÂÂâÂÂâÂÂâÂÂâÂÂâÂÂâÂÂâÂÂâ âÂÂ[37m [37mâÂÂâÂÂâÂÂ[37m processed [37m80%[37m of [37m16[37m/[37m20[37m [37m6.279[37m/[37m1.57[37m[0m
[7;1f
[2K[37mâÂÂâÂÂâÂÂâÂÂâÂÂâÂÂâ âÂÂ[37m [37mâÂÂâÂÂâÂÂ[37m processed [37m30%[37m of [37m15[37m/[37m50[37m [37m6.281[37m/[37m14.656[37m[0m
[8;1f
[2K[37mâÂÂâÂÂâÂÂâÂÂâÂÂâÂÂâÂÂâÂÂâÂÂâÂÂâÂÂâ âÂÂ[37m [37mâÂÂâÂÂâÂÂ[37m processed [37m53%[37m of [37m16[37m/[37m30[37m [37m6.283[37m/[37m5.572[37m[0m
[5;1f
[2K[37mâÂÂâÂÂâÂÂâÂÂâÂÂâÂÂâÂÂâÂÂâÂÂâÂÂâÂÂâÂÂâÂÂâÂÂâÂÂâÂÂâÂÂâ âÂÂ[37m [37mâÂÂâÂÂ
âÂÂ[37m processed [37m85%[37m of [37m17[37m/[37m20[37m [37m6.609[37m/[37m1.166[37m[0m
[7;1f
[2K[37mâÂÂâÂÂâÂÂâÂÂâÂÂâÂÂâ âÂÂ[37m [37mâÂÂâÂÂ
âÂÂ[37m processed [37m32%[37m of [37m16[37m/[37m50[37m [37m6.609[37m/[37m14.044[37m[0m
[8;1f
[2K[37mâÂÂâÂÂâÂÂâÂÂâÂÂâÂÂâÂÂâÂÂâÂÂâÂÂâÂÂâ âÂÂ[37m [37mâÂÂâÂÂ
âÂÂ[37m processed [37m56%[37m of [37m17[37m/[37m30[37m [37m6.61[37m/[37m5.194[37m[0m
[5;1f
[2K[37mâÂÂâÂÂâÂÂâÂÂâÂÂâÂÂâÂÂâÂÂâÂÂâÂÂâÂÂâÂÂâÂÂâÂÂâÂÂâÂÂâÂÂâÂÂâ âÂÂ[37m [37mâÂÂâÂÂâÂÂ[37m processed [37m90%[37m of [37m18[37m/[37m20[37m [37m6.939[37m/[37m0.771[37m[0m
[7;1f
[2K[37mâÂÂâÂÂâÂÂâÂÂâÂÂâÂÂâÂÂâ âÂÂ[37m [37mâÂÂâÂÂâÂÂ[37m processed [37m34%[37m of [37m17[37m/[37m50[37m [37m6.939[37m/[37m13.47[37m[0m
[8;1f
[2K[37mâÂÂâÂÂâÂÂâÂÂâÂÂâÂÂâÂÂâÂÂâÂÂâÂÂâÂÂâÂÂâ âÂÂ[37m [37mâÂÂâÂÂâÂÂ[37m processed [37m60%[37m of [37m18[37m/[37m30[37m [37m6.94[37m/[37m4.627[37m[0m
[5;1f
[2K[37mâÂÂâÂÂâÂÂâÂÂâÂÂâÂÂâÂÂâÂÂâÂÂâÂÂâÂÂâÂÂâÂÂâÂÂâÂÂâÂÂâÂÂâÂÂâÂÂâ âÂÂ[37m [37mâÂÂ
âÂÂâÂÂ[37m processed [37m95%[37m of [37m19[37m/[37m20[37m [37m7.27[37m/[37m0.383[37m[0m
[7;1f
[2K[37mâÂÂâÂÂâÂÂâÂÂâÂÂâÂÂâÂÂâ âÂÂ[37m [37mâÂÂ
âÂÂâÂÂ[37m processed [37m36%[37m of [37m18[37m/[37m50[37m [37m7.272[37m/[37m12.928[37m[0m
[8;1f
[2K[37mâÂÂâÂÂâÂÂâÂÂâÂÂâÂÂâÂÂâÂÂâÂÂâÂÂâÂÂâÂÂâÂÂâ âÂÂ[37m [37mâÂÂ
âÂÂâÂÂ[37m processed [37m63%[37m of [37m19[37m/[37m30[37m [37m7.274[37m/[37m4.272[37m[0m
[5;1f
[2K[37mâÂÂâÂÂâÂÂâÂÂâÂÂâÂÂâÂÂâÂÂâÂÂâÂÂâÂÂâÂÂâÂÂâÂÂâÂÂâÂÂâÂÂâÂÂâÂÂâÂÂâÂÂâÂÂ[37m [37mâÂÂâÂÂâÂÂ[37m processed [37m100%[37m of [37m20[37m/[37m20[37m [37m7.6[37m/[37m0[37m[0m
[7;1f
[2K[37mâÂÂâÂÂâÂÂâÂÂâÂÂâÂÂâÂÂâÂÂâ âÂÂ[37m [37mâÂÂâÂÂâÂÂ[37m processed [37m38%[37m of [37m19[37m/[37m50[37m [37m7.601[37m/[37m12.402[37m[0m
[8;1f
[2K[37mâÂÂâÂÂâÂÂâÂÂâÂÂâÂÂâÂÂâÂÂâÂÂâÂÂâÂÂâÂÂâÂÂâ âÂÂ[37m [37mâÂÂâÂÂâÂÂ[37m processed [37m66%[37m of [37m20[37m/[37m30[37m [37m7.603[37m/[37m3.917[37m[0m
[7;1f
[2K[37mâÂÂâÂÂâÂÂâÂÂâÂÂâÂÂâÂÂâÂÂâ âÂÂ[37m [37mâÂÂâÂÂâÂÂ[37m processed [37m38%[37m of [37m19[37m/[37m50[37m [37m7.709[37m/[37m12.578[37m[0m
[8;1f
[2K[37mâÂÂâÂÂâÂÂâÂÂâÂÂâÂÂâÂÂâÂÂâÂÂâÂÂâÂÂâÂÂâÂÂâÂÂâ âÂÂ[37m [37mâÂÂâÂÂâÂÂ[37m processed [37m70%[37m of [37m21[37m/[37m30[37m [37m7.711[37m/[37m3.305[37m[0m
[7;1f
[2K[37mâÂÂâÂÂâÂÂâÂÂâÂÂâÂÂâÂÂâÂÂâ âÂÂ[37m [37mâÂÂâÂÂâÂÂ
[37m processed [37m40%[37m of [37m20[37m/[37m50[37m [37m7.929[37m/[37m11.894[37m[0m
[8;1f
[2K[37mâÂÂâÂÂâÂÂâÂÂâÂÂâÂÂâÂÂâÂÂâÂÂâÂÂâÂÂâÂÂâÂÂâÂÂâÂÂâ âÂÂ[37m [37mâÂÂâÂÂâÂÂ
[37m processed [37m73%[37m of [37m22[37m/[37m30[37m [37m7.93[37m/[37m2.933[37m[0m
[7;1f
[2K[37mâÂÂâÂÂâÂÂâÂÂâÂÂâÂÂâÂÂâÂÂâ âÂÂ[37m [37mâÂÂ
âÂÂâÂÂ[37m processed [37m42%[37m of [37m21[37m/[37m50[37m [37m8.149[37m/[37m11.253[37m[0m
[8;1f
[2K[37mâÂÂâÂÂâÂÂâÂÂâÂÂâÂÂâÂÂâÂÂâÂÂâÂÂâÂÂâÂÂâÂÂâÂÂâÂÂâ âÂÂ[37m [37mâÂÂ
âÂÂâÂÂ[37m processed [37m76%[37m of [37m23[37m/[37m30[37m [37m8.151[37m/[37m2.574[37m[0m
[7;1f
[2K[37mâÂÂâÂÂâÂÂâÂÂâÂÂâÂÂâÂÂâÂÂâÂÂâ âÂÂ[37m [37mâÂÂâÂÂ
âÂÂ[37m processed [37m44%[37m of [37m22[37m/[37m50[37m [37m8.369[37m/[37m10.651[37m[0m
[8;1f
[2K[37mâÂÂâÂÂâÂÂâÂÂâÂÂâÂÂâÂÂâÂÂâÂÂâÂÂâÂÂâÂÂâÂÂâÂÂâÂÂâÂÂâ âÂÂ[37m [37mâÂÂâÂÂ
âÂÂ[37m processed [37m80%[37m of [37m24[37m/[37m30[37m [37m8.37[37m/[37m2.093[37m[0m
[7;1f
[2K[37mâÂÂâÂÂâÂÂâÂÂâÂÂâÂÂâÂÂâÂÂâÂÂâ âÂÂ[37m [37mâÂÂâÂÂâÂÂ[37m processed [37m46%[37m of [37m23[37m/[37m50[37m [37m8.589[37m/[37m10.083[37m[0m
[8;1f
[2K[37mâÂÂâÂÂâÂÂâÂÂâÂÂâÂÂâÂÂâÂÂâÂÂâÂÂâÂÂâÂÂâÂÂâÂÂâÂÂâÂÂâÂÂâ âÂÂ[37m [37mâÂÂâÂÂâÂÂ[37m processed [37m83%[37m of [37m25[37m/[37m30[37m [37m8.59[37m/[37m1.759[37m[0m
[7;1f
[2K[37mâÂÂâÂÂâÂÂâÂÂâÂÂâÂÂâÂÂâÂÂâÂÂâÂÂâ âÂÂ[37m [37mâÂÂâÂÂâÂÂ
[37m processed [37m48%[37m of [37m24[37m/[37m50[37m [37m8.809[37m/[37m9.543[37m[0m
[8;1f
[2K[37mâÂÂâÂÂâÂÂâÂÂâÂÂâÂÂâÂÂâÂÂâÂÂâÂÂâÂÂâÂÂâÂÂâÂÂâÂÂâÂÂâÂÂâ âÂÂ[37m [37mâÂÂâÂÂâÂÂ
[37m processed [37m86%[37m of [37m26[37m/[37m30[37m [37m8.811[37m/[37m1.434[37m[0m
[7;1f
[2K[37mâÂÂâÂÂâÂÂâÂÂâÂÂâÂÂâÂÂâÂÂâÂÂâÂÂâ âÂÂ[37m [37mâÂÂ
âÂÂâÂÂ[37m processed [37m50%[37m of [37m25[37m/[37m50[37m [37m9.03[37m/[37m9.03[37m[0m
[8;1f
[2K[37mâÂÂâÂÂâÂÂâÂÂâÂÂâÂÂâÂÂâÂÂâÂÂâÂÂâÂÂâÂÂâÂÂâÂÂâÂÂâÂÂâÂÂâÂÂâ âÂÂ[37m [37mâÂÂ
âÂÂâÂÂ[37m processed [37m90%[37m of [37m27[37m/[37m30[37m [37m9.031[37m/[37m1.003[37m[0m
[7;1f
[2K[37mâÂÂâÂÂâÂÂâÂÂâÂÂâÂÂâÂÂâÂÂâÂÂâÂÂâ âÂÂ[37m [37mâÂÂâÂÂ
âÂÂ[37m processed [37m52%[37m of [37m26[37m/[37m50[37m [37m9.249[37m/[37m8.538[37m[0m
[8;1f
[2K[37mâÂÂâÂÂâÂÂâÂÂâÂÂâÂÂâÂÂâÂÂâÂÂâÂÂâÂÂâÂÂâÂÂâÂÂâÂÂâÂÂâÂÂâÂÂâÂÂâ âÂÂ[37m [37mâÂÂâÂÂ
âÂÂ[37m processed [37m93%[37m of [37m28[37m/[37m30[37m [37m9.251[37m/[37m0.696[37m[0m
[7;1f
[2K[37mâÂÂâÂÂâÂÂâÂÂâÂÂâÂÂâÂÂâÂÂâÂÂâÂÂâÂÂâ âÂÂ[37m [37mâÂÂâÂÂâÂÂ[37m processed [37m54%[37m of [37m27[37m/[37m50[37m [37m9.469[37m/[37m8.066[37m[0m
[8;1f
[2K[37mâÂÂâÂÂâÂÂâÂÂâÂÂâÂÂâÂÂâÂÂâÂÂâÂÂâÂÂâÂÂâÂÂâÂÂâÂÂâÂÂâÂÂâÂÂâÂÂâ âÂÂ[37m [37mâÂÂâÂÂâÂÂ[37m processed [37m96%[37m of [37m29[37m/[37m30[37m [37m9.471[37m/[37m0.395[37m[0m
[7;1f
[2K[37mâÂÂâÂÂâÂÂâÂÂâÂÂâÂÂâÂÂâÂÂâÂÂâÂÂâÂÂâ âÂÂ[37m [37mâÂÂâÂÂâÂÂ
[37m processed [37m56%[37m of [37m28[37m/[37m50[37m [37m9.689[37m/[37m7.613[37m[0m
[8;1f
[2K[37mâÂÂâÂÂâÂÂâÂÂâÂÂâÂÂâÂÂâÂÂâÂÂâÂÂâÂÂâÂÂâÂÂâÂÂâÂÂâÂÂâÂÂâÂÂâÂÂâÂÂâÂÂâÂÂ[37m [37mâÂÂâÂÂâÂÂ
[37m processed [37m100%[37m of [37m30[37m/[37m30[37m [37m9.691[37m/[37m0[37m[0m
[7;1f
[2K[37mâÂÂâÂÂâÂÂâÂÂâÂÂâÂÂâÂÂâÂÂâÂÂâÂÂâÂÂâ âÂÂ[37m [37mâÂÂâÂÂâÂÂ[37m processed [37m57%[37m of [37m29[37m/[37m50[37m [37m9.799[37m/[37m7.392[37m[0m
[7;1f
[2K[37mâÂÂâÂÂâÂÂâÂÂâÂÂâÂÂâÂÂâÂÂâÂÂâÂÂâÂÂâÂÂâ âÂÂ[37m [37mâÂÂ
âÂÂâÂÂ[37m processed [37m60%[37m of [37m30[37m/[37m50[37m [37m9.909[37m/[37m6.606[37m[0m
[7;1f
[2K[37mâÂÂâÂÂâÂÂâÂÂâÂÂâÂÂâÂÂâÂÂâÂÂâÂÂâÂÂâÂÂâ âÂÂ[37m [37mâÂÂâÂÂâÂÂ[37m processed [37m62%[37m of [37m31[37m/[37m50[37m [37m10.019[37m/[37m6.141[37m[0m
[7;1f
[2K[37mâÂÂâÂÂâÂÂâÂÂâÂÂâÂÂâÂÂâÂÂâÂÂâÂÂâÂÂâÂÂâÂÂâ âÂÂ[37m [37mâÂÂâÂÂ
âÂÂ[37m processed [37m64%[37m of [37m32[37m/[37m50[37m [37m10.13[37m/[37m5.698[37m[0m
[7;1f
[2K[37mâÂÂâÂÂâÂÂâÂÂâÂÂâÂÂâÂÂâÂÂâÂÂâÂÂâÂÂâÂÂâÂÂâ âÂÂ[37m [37mâÂÂâÂÂâÂÂ[37m processed [37m66%[37m of [37m33[37m/[37m50[37m [37m10.239[37m/[37m5.275[37m[0m
[7;1f
[2K[37mâÂÂâÂÂâÂÂâÂÂâÂÂâÂÂâÂÂâÂÂâÂÂâÂÂâÂÂâÂÂâÂÂâÂÂâ âÂÂ[37m [37mâÂÂâÂÂâÂÂ[37m processed [37m68%[37m of [37m34[37m/[37m50[37m [37m10.349[37m/[37m4.87[37m[0m
[7;1f
[2K[37mâÂÂâÂÂâÂÂâÂÂâÂÂâÂÂâÂÂâÂÂâÂÂâÂÂâÂÂâÂÂâÂÂâÂÂâ âÂÂ[37m [37mâÂÂâÂÂâÂÂ[37m processed [37m70%[37m of [37m35[37m/[37m50[37m [37m10.459[37m/[37m4.482[37m[0m
[7;1f
[2K[37mâÂÂâÂÂâÂÂâÂÂâÂÂâÂÂâÂÂâÂÂâÂÂâÂÂâÂÂâÂÂâÂÂâÂÂâ âÂÂ[37m [37mâÂÂâÂÂâÂÂ
[37m processed [37m72%[37m of [37m36[37m/[37m50[37m [37m10.569[37m/[37m4.11[37m[0m
[7;1f
[2K[37mâÂÂâÂÂâÂÂâÂÂâÂÂâÂÂâÂÂâÂÂâÂÂâÂÂâÂÂâÂÂâÂÂâÂÂâÂÂâ âÂÂ[37m [37mâÂÂâÂÂâÂÂ[37m processed [37m74%[37m of [37m37[37m/[37m50[37m [37m10.679[37m/[37m3.752[37m[0m
[7;1f
[2K[37mâÂÂâÂÂâÂÂâÂÂâÂÂâÂÂâÂÂâÂÂâÂÂâÂÂâÂÂâÂÂâÂÂâÂÂâÂÂâ âÂÂ[37m [37mâÂÂ
âÂÂâÂÂ[37m processed [37m76%[37m of [37m38[37m/[37m50[37m [37m10.789[37m/[37m3.407[37m[0m
[7;1f
[2K[37mâÂÂâÂÂâÂÂâÂÂâÂÂâÂÂâÂÂâÂÂâÂÂâÂÂâÂÂâÂÂâÂÂâÂÂâÂÂâÂÂâ âÂÂ[37m [37mâÂÂâÂÂâÂÂ[37m processed [37m78%[37m of [37m39[37m/[37m50[37m [37m10.9[37m/[37m3.074[37m[0m
[7;1f
[2K[37mâÂÂâÂÂâÂÂâÂÂâÂÂâÂÂâÂÂâÂÂâÂÂâÂÂâÂÂâÂÂâÂÂâÂÂâÂÂâÂÂâ âÂÂ[37m [37mâÂÂâÂÂ
âÂÂ[37m processed [37m80%[37m of [37m40[37m/[37m50[37m [37m11.009[37m/[37m2.752[37m[0m
[7;1f
[2K[37mâÂÂâÂÂâÂÂâÂÂâÂÂâÂÂâÂÂâÂÂâÂÂâÂÂâÂÂâÂÂâÂÂâÂÂâÂÂâÂÂâ âÂÂ[37m [37mâÂÂâÂÂâÂÂ[37m processed [37m82%[37m of [37m41[37m/[37m50[37m [37m11.119[37m/[37m2.441[37m[0m
[7;1f
[2K[37mâÂÂâÂÂâÂÂâÂÂâÂÂâÂÂâÂÂâÂÂâÂÂâÂÂâÂÂâÂÂâÂÂâÂÂâÂÂâÂÂâÂÂâ âÂÂ[37m [37mâÂÂâÂÂâÂÂ[37m processed [37m84%[37m of [37m42[37m/[37m50[37m [37m11.229[37m/[37m2.139[37m[0m
[7;1f
[2K[37mâÂÂâÂÂâÂÂâÂÂâÂÂâÂÂâÂÂâÂÂâÂÂâÂÂâÂÂâÂÂâÂÂâÂÂâÂÂâÂÂâÂÂâ âÂÂ[37m [37mâÂÂâÂÂâÂÂ[37m processed [37m86%[37m of [37m43[37m/[37m50[37m [37m11.339[37m/[37m1.846[37m[0m
[7;1f
[2K[37mâÂÂâÂÂâÂÂâÂÂâÂÂâÂÂâÂÂâÂÂâÂÂâÂÂâÂÂâÂÂâÂÂâÂÂâÂÂâÂÂâÂÂâÂÂâ âÂÂ[37m [37mâÂÂâÂÂâÂÂ
[37m processed [37m88%[37m of [37m44[37m/[37m50[37m [37m11.449[37m/[37m1.561[37m[0m
[7;1f
[2K[37mâÂÂâÂÂâÂÂâÂÂâÂÂâÂÂâÂÂâÂÂâÂÂâÂÂâÂÂâÂÂâÂÂâÂÂâÂÂâÂÂâÂÂâÂÂâ âÂÂ[37m [37mâÂÂâÂÂâÂÂ[37m processed [37m90%[37m of [37m45[37m/[37m50[37m [37m11.559[37m/[37m1.284[37m[0m
[7;1f
[2K[37mâÂÂâÂÂâÂÂâÂÂâÂÂâÂÂâÂÂâÂÂâÂÂâÂÂâÂÂâÂÂâÂÂâÂÂâÂÂâÂÂâÂÂâÂÂâ âÂÂ[37m [37mâÂÂ
âÂÂâÂÂ[37m processed [37m92%[37m of [37m46[37m/[37m50[37m [37m11.669[37m/[37m1.015[37m[0m
[7;1f
[2K[37mâÂÂâÂÂâÂÂâÂÂâÂÂâÂÂâÂÂâÂÂâÂÂâÂÂâÂÂâÂÂâÂÂâÂÂâÂÂâÂÂâÂÂâÂÂâÂÂâ âÂÂ[37m [37mâÂÂâÂÂâÂÂ[37m processed [37m94%[37m of [37m47[37m/[37m50[37m [37m11.779[37m/[37m0.752[37m[0m
[7;1f
[2K[37mâÂÂâÂÂâÂÂâÂÂâÂÂâÂÂâÂÂâÂÂâÂÂâÂÂâÂÂâÂÂâÂÂâÂÂâÂÂâÂÂâÂÂâÂÂâÂÂâ âÂÂ[37m [37mâÂÂâÂÂ
âÂÂ[37m processed [37m96%[37m of [37m48[37m/[37m50[37m [37m11.889[37m/[37m0.495[37m[0m
[7;1f
[2K[37mâÂÂâÂÂâÂÂâÂÂâÂÂâÂÂâÂÂâÂÂâÂÂâÂÂâÂÂâÂÂâÂÂâÂÂâÂÂâÂÂâÂÂâÂÂâÂÂâÂÂâÂÂâÂÂ[37m [37mâÂÂâÂÂâÂÂ[37m processed [37m98%[37m of [37m49[37m/[37m50[37m [37m12[37m/[37m0.245[37m[0m
[7;1f
[2K[37mâÂÂâÂÂâÂÂâÂÂâÂÂâÂÂâÂÂâÂÂâÂÂâÂÂâÂÂâÂÂâÂÂâÂÂâÂÂâÂÂâÂÂâÂÂâÂÂâÂÂâÂÂâÂÂ[37m [37mâÂÂâÂÂâÂÂ[37m processed [37m100%[37m of [37m50[37m/[37m50[37m [37m12.109[37m/[37m0[37m[0m
[?25ht/02-multiple.t ... ok
t/manifest.t ...... skipped: Author tests not required for installation
t/pod-coverage.t .. skipped: Author tests not required for installation
t/pod.t ........... skipped: Author tests not required for installation
All tests successful.
Files=6, Tests=3, 59 wallclock secs ( 0.02 usr 0.09 sys + 0.73 cusr 0.09 csys = 0.94 CPU)
Result: PASS
------------------------------
PREREQUISITES
------------------------------
Prerequisite modules loaded:
requires:
Module Need Have
------------------- ----- --------
IO::Handle 0 1.55
perl 5.006 5.016003
Term::ANSIColor 5.01 5.01
Term::Size::Any 0.002 0.002
Time::HiRes 0 1.9764
build_requires:
Module Need Have
------------------- ----- --------
ExtUtils::MakeMaker 0 7.74
Test::More 0 1.302209
configure_requires:
Module Need Have
------------------- ----- --------
ExtUtils::MakeMaker 0 7.74
------------------------------
ENVIRONMENT AND OTHER CONTEXT
------------------------------
Environment variables:
LC_ALL = de_DE.ISO8859-1
PATH = /usr/local/bin:/usr/bin:/bin:/usr/local/sbin:/usr/sbin:/sbin:/home/cpansand/bin/freebsd9.3:/home/cpansand/bin/sh:/home/cpansand/bin:/usr/games:/home/cpansand/devel:/usr/home/eserte/src/srezic-misc/scripts
PERL5LIB =
PERL5OPT =
PERL5_CPANPLUS_IS_RUNNING = 63333
PERL5_CPAN_IS_RUNNING = 63333
PERL5_CPAN_IS_RUNNING_IN_RECURSION = 42295,63333
PERLDOC = -MPod::Perldoc::ToTextOverstrike
PERL_BATCH = yes
PERL_CANARY_STABILITY_NOPROMPT = 1
PERL_CPAN_REPORTER_CONFIG = /var/tmp/cpansmoker-1023/2025042115/cpanreporter_000_config.ini
PERL_EXTUTILS_AUTOINSTALL = --defaultdeps
PERL_USE_UNSAFE_INC = 1
SHELL = /usr/local/bin/zsh
TERM = screen
TMPDIR = /var/tmp/cpansmoker-1023/2025042115
Perl special variables (and OS-specific diagnostics, for MSWin32):
$^X = /usr/perl5.16.3t/bin/perl
$UID/$EUID = 1023 / 1023
$GID = 1023 1023
$EGID = 1023 1023
Perl module toolchain versions installed:
Module Have
------------------- --------
CPAN 2.36
CPAN::Meta 2.150010
Cwd 3.75
ExtUtils::CBuilder 0.280236
ExtUtils::Command 7.74
ExtUtils::Install 2.22
ExtUtils::MakeMaker 7.74
ExtUtils::Manifest 1.75
ExtUtils::ParseXS 3.51
File::Spec 3.75
JSON 4.10
JSON::PP 4.16
Module::Build 0.4234
Module::Signature 0.89
Parse::CPAN::Meta 2.150010
Test2 1.302209
Test::Harness 3.50
Test::More 1.302209
YAML 1.30
YAML::Syck 1.34
version 0.9932
--
Summary of my perl5 (revision 5 version 16 subversion 3) configuration:
Platform:
osname=freebsd, osvers=9.2-release-p4, archname=amd64-freebsd-thread-multi
uname='freebsd cvrsnica-freebsd-92 9.2-release-p4 freebsd 9.2-release-p4 #0: tue apr 8 18:08:22 utc 2014 root@amd64-builder.daemonology.net:usrobjusrsrcsysgeneric amd64 '
config_args='-ds -e -Dprefix=/usr/perl5.16.3t -Dusethreads'
hint=recommended, useposix=true, d_sigaction=define
useithreads=define, usemultiplicity=define
useperlio=define, d_sfio=undef, uselargefiles=define, usesocks=undef
use64bitint=define, use64bitall=define, uselongdouble=undef
usemymalloc=n, bincompat5005=undef
Compiler:
cc='cc', ccflags ='-DHAS_FPSETMASK -DHAS_FLOATINGPOINT_H -fno-strict-aliasing -pipe -fstack-protector -I/usr/local/include',
optimize='-O',
cppflags='-DHAS_FPSETMASK -DHAS_FLOATINGPOINT_H -fno-strict-aliasing -pipe -fstack-protector -I/usr/local/include'
ccversion='', gccversion='4.2.1 20070831 patched [FreeBSD]', gccosandvers=''
intsize=4, longsize=8, ptrsize=8, doublesize=8, byteorder=12345678
d_longlong=define, longlongsize=8, d_longdbl=define, longdblsize=16
ivtype='long', ivsize=8, nvtype='double', nvsize=8, Off_t='off_t', lseeksize=8
alignbytes=8, prototype=define
Linker and Libraries:
ld='cc', ldflags ='-pthread -Wl,-E -fstack-protector -L/usr/local/lib'
libpth=/usr/lib /usr/local/lib
libs=-lgdbm -lm -lcrypt
perllibs=-lm -lcrypt
libc=, so=so, useshrplib=false, libperl=libperl.a
gnulibc_version=''
Dynamic Linking:
dlsrc=dl_dlopen.xs, dlext=so, d_dlsymun=undef, ccdlflags=' '
cccdlflags='-DPIC -fPIC', lddlflags='-shared -L/usr/local/lib -fstack-protector'
Characteristics of this binary (from libperl):
Compile-time options: HAS_TIMES MULTIPLICITY PERLIO_LAYERS
PERL_DONT_CREATE_GVSV PERL_IMPLICIT_CONTEXT
PERL_MALLOC_WRAP PERL_PRESERVE_IVUV USE_64_BIT_ALL
USE_64_BIT_INT USE_ITHREADS USE_LARGE_FILES
USE_LOCALE USE_LOCALE_COLLATE USE_LOCALE_CTYPE
USE_LOCALE_NUMERIC USE_PERLIO USE_PERL_ATOF
USE_REENTRANT_API
Built under freebsd
Compiled at May 16 2014 07:49:48
%ENV:
PERL5LIB=""
PERL5OPT=""
PERL5_CPANPLUS_IS_RUNNING="63333"
PERL5_CPAN_IS_RUNNING="63333"
PERL5_CPAN_IS_RUNNING_IN_RECURSION="42295,63333"
PERLDOC="-MPod::Perldoc::ToTextOverstrike"
PERL_BATCH="yes"
PERL_CANARY_STABILITY_NOPROMPT="1"
PERL_CPAN_REPORTER_CONFIG="/var/tmp/cpansmoker-1023/2025042115/cpanreporter_000_config.ini"
PERL_EXTUTILS_AUTOINSTALL="--defaultdeps"
PERL_USE_UNSAFE_INC="1"
@INC:
/usr/perl5.16.3t/lib/site_perl/5.16.3/amd64-freebsd-thread-multi
/usr/perl5.16.3t/lib/site_perl/5.16.3
/usr/perl5.16.3t/lib/5.16.3/amd64-freebsd-thread-multi
/usr/perl5.16.3t/lib/5.16.3
.