Report for Perlbal-1.80

Back
From: metabase:user:320bfe00-2aae-11df-837a-5e0a49663a4f
Subject: PASS Perlbal-1.80 v5.21.3 GNU/Linux
Date: 2014-12-16T07:15:17Z

This distribution has been tested as part of the CPAN Testers
project, supporting the Perl programming language.  See
http://wiki.cpantesters.org/ for more information or email
questions to cpan-testers-discuss@perl.org


--
Dear Alan Kasindorf,

This is a computer-generated report for Perlbal-1.80
on perl 5.21.3, created by CPAN-Reporter-1.2011.

Thank you for uploading your work to CPAN.  Congratulations!
All tests were successful.

Sections of this report:

    * Tester comments
    * Program output
    * Prerequisites
    * Environment and other context

------------------------------
TESTER COMMENTS
------------------------------

Additional comments from tester:

this report is from an automated smoke testing program
and was not reviewed by a human for accuracy

------------------------------
PROGRAM OUTPUT
------------------------------

Output from '/usr/bin/make test':

PERL_DL_NONLAZY=1 "/home/sand/src/perl/repoperls/installed-perls/perl/v5.21.3/a2da/bin/perl" "-MExtUtils::Command::MM" "-MTest::Harness" "-e" "undef *Test::Harness::Switches; test_harness(0, 'blib/lib', 'blib/arch')" t/*.t
t/00-use.t ............... ok
t/10-testharness.t ....... ok
t/12-headers.t ........... ok
t/13-server-tokens.t ..... ok
t/15-webserver.t ......... ok
t/17-webserver-concat.t .. ok
t/20-put.t ............... ok
# Writing: 500
# Writing: 5
# Writing: 5
# Writing: 5
# Writing: 100000
# Writing: 60000
# Writing: 1000
# Writing: 338485
t/22-chunked-put.t ....... ok
t/30-reverseproxy.t ...... ok
t/31-realworld.t ......... ok
# separator length 2
# separator length 0
500 response!
t/32-pipelining.t ........ ok
t/32-selector.t .......... ok
t/35-reproxy.t ........... ok
t/40-ranges.t ............ ok
t/45-buffereduploads.t ... ok
t/50-plugins.t ........... ok
t/52-chunked-upload.t .... ok
t/60-child-httpd.t ....... skipped: Alpha feature; test skipped without $ENV{PERLBAL_TEST_ALPHA}
t/75-plugin-include.t .... ok
t/76-plugin-redirect.t ... ok
t/77-plugin-throttle.t ... ok
t/78-plugin-xffextras.t .. ok
t/90-accesscontrol.t ..... ok
t/91-fields.t ............ ok
t/99-benchmark-bool.t .... ok
All tests successful.
Files=25, Tests=583, 62 wallclock secs ( 0.17 usr  0.02 sys +  4.87 cusr  0.40 csys =  5.46 CPU)
Result: PASS

------------------------------
PREREQUISITES
------------------------------

Prerequisite modules loaded:

requires:

    Module              Need Have        
    ------------------- ---- ------------
    base                0    2.22        
    BSD::Resource       0    1.2907      
    Carp                0    1.34        
    constant            0    1.31        
    Danga::Socket       1.44 1.61        
    Errno               0    1.20_04     
    Exporter            0    5.71        
    Fcntl               0    1.11        
    fields              0    2.17        
    File::Path          0    2.09        
    File::Temp          0    0.2304      
    FindBin             0    1.51        
    Getopt::Long        0    2.42        
    Hash::Util          0    0.18        
    HTTP::Date          0    6.02        
    HTTP::Request       0    6.00        
    HTTP::Response      0    6.04        
    IO::File            0    1.16        
    IO::Handle          0    1.35        
    IO::Select          0    1.22        
    IO::Socket::INET    0    1.35        
    lib                 0    0.63        
    LWP::UserAgent      0    6.06        
    Scalar::Util        0    1.41        
    Socket              0    2.016       
    strict              0    1.08        
    Sys::Syscall        0    0.25        
    Test::More          0.94 1.301001_090
    Time::HiRes         0    1.9726      
    vars                0    1.03        
    warnings            0    1.26        

build_requires:

    Module              Need Have        
    ------------------- ---- ------------
    ExtUtils::MakeMaker 0    7.04        

configure_requires:

    Module              Need Have        
    ------------------- ---- ------------
    ExtUtils::MakeMaker 0    7.04        


------------------------------
ENVIRONMENT AND OTHER CONTEXT
------------------------------

Environment variables:

    AUTOMATED_TESTING = 1
    LANG = en_US.UTF-8
    LANGUAGE = en_US:en
    PATH = /home/sand/bin:/usr/local/bin:/usr/bin:/bin:/usr/games:/usr/local/perl/bin:/usr/X11/bin:/sbin:/usr/sbin
    PERL5LIB = 
    PERL5OPT = 
    PERL5_CPANPLUS_IS_RUNNING = 27584
    PERL5_CPAN_IS_RUNNING = 27584
    PERLBAL_DEBUG = 1
    PERLBAL_DEBUG_OBJ = 1
    PERLBAL_TRACK_STATES = 1
    PERL_MM_USE_DEFAULT = 1
    SHELL = /usr/bin/zsh
    TERM = screen

Perl special variables (and OS-specific diagnostics, for MSWin32):

    $^X = /home/sand/src/perl/repoperls/installed-perls/perl/v5.21.3/a2da/bin/perl
    $UID/$EUID = 1005 / 1005
    $GID = 1005 1005
    $EGID = 1005 1005

Perl module toolchain versions installed:

    Module              Have        
    ------------------- ------------
    CPAN                2.05        
    CPAN::Meta          2.143240    
    Cwd                 3.49        
    ExtUtils::CBuilder  0.280220    
    ExtUtils::Command   1.18        
    ExtUtils::Install   1.68        
    ExtUtils::MakeMaker 7.04        
    ExtUtils::Manifest  1.69        
    ExtUtils::ParseXS   3.25        
    File::Spec          3.49        
    JSON                2.90        
    JSON::PP            2.27203     
    Module::Build       0.4210      
    Module::Signature   n/a         
    Parse::CPAN::Meta   1.4414      
    Test::Harness       3.34        
    Test::More          1.301001_090
    YAML                1.13        
    YAML::Syck          1.29        
    version             0.9909      


--

Summary of my perl5 (revision 5 version 21 subversion 3) configuration:
  Commit id: 29a15389521f38a960299048333ebb1c0d68ad7f
  Platform:
    osname=linux, osvers=3.16.0-4-amd64, archname=x86_64-linux-thread-multi-ld
    uname='linux k83 3.16.0-4-amd64 #1 smp debian 3.16.7-2 (2014-11-06) x86_64 gnulinux '
    config_args='-Dprefix=/home/sand/src/perl/repoperls/installed-perls/perl/v5.21.3/a2da -Dmyhostname=k83 -Dinstallusrbinperl=n -Uversiononly -Dusedevel -des -Ui_db -Duseithreads -Duselongdouble -DDEBUGGING=-g'
    hint=recommended, useposix=true, d_sigaction=define
    useithreads=define, usemultiplicity=define
    use64bitint=define, use64bitall=define, uselongdouble=define
    usemymalloc=n, bincompat5005=undef
  Compiler:
    cc='cc', ccflags ='-D_REENTRANT -D_GNU_SOURCE -fwrapv -fno-strict-aliasing -pipe -fstack-protector -I/usr/local/include -D_LARGEFILE_SOURCE -D_FILE_OFFSET_BITS=64 -D_FORTIFY_SOURCE=2',
    optimize='-O2 -g',
    cppflags='-D_REENTRANT -D_GNU_SOURCE -fwrapv -fno-strict-aliasing -pipe -fstack-protector -I/usr/local/include'
    ccversion='', gccversion='4.9.2', gccosandvers=''
    intsize=4, longsize=8, ptrsize=8, doublesize=8, byteorder=12345678
    d_longlong=define, longlongsize=8, d_longdbl=define, longdblsize=16, longdblkind=3
    ivtype='long', ivsize=8, nvtype='long double', nvsize=16, Off_t='off_t', lseeksize=8
    alignbytes=16, prototype=define
  Linker and Libraries:
    ld='cc', ldflags =' -fstack-protector -L/usr/local/lib'
    libpth=/usr/local/lib /usr/lib/gcc/x86_64-linux-gnu/4.9/include-fixed /usr/include/x86_64-linux-gnu /usr/lib /lib/x86_64-linux-gnu /lib/../lib /usr/lib/x86_64-linux-gnu /usr/lib/../lib /lib
    libs=-lnsl -lgdbm -ldb -ldl -lm -lcrypt -lutil -lpthread -lc -lgdbm_compat
    perllibs=-lnsl -ldl -lm -lcrypt -lutil -lpthread -lc
    libc=libc-2.19.so, so=so, useshrplib=false, libperl=libperl.a
    gnulibc_version='2.19'
  Dynamic Linking:
    dlsrc=dl_dlopen.xs, dlext=so, d_dlsymun=undef, ccdlflags='-Wl,-E'
    cccdlflags='-fPIC', lddlflags='-shared -O2 -g -L/usr/local/lib -fstack-protector'


Characteristics of this binary (from libperl): 
  Compile-time options: HAS_TIMES MULTIPLICITY PERLIO_LAYERS
                        PERL_DONT_CREATE_GVSV
                        PERL_HASH_FUNC_ONE_AT_A_TIME_HARD
                        PERL_IMPLICIT_CONTEXT PERL_MALLOC_WRAP
                        PERL_NEW_COPY_ON_WRITE PERL_PRESERVE_IVUV
                        PERL_USE_DEVEL USE_64_BIT_ALL USE_64_BIT_INT
                        USE_ITHREADS USE_LARGE_FILES USE_LOCALE
                        USE_LOCALE_COLLATE USE_LOCALE_CTYPE
                        USE_LOCALE_NUMERIC USE_LOCALE_TIME USE_LONG_DOUBLE
                        USE_PERLIO USE_PERL_ATOF USE_REENTRANT_API
  Built under linux
  Compiled at Dec  4 2014 15:24:46
  %ENV:
    PERL5LIB=""
    PERL5OPT=""
    PERL5_CPANPLUS_IS_RUNNING="27584"
    PERL5_CPAN_IS_RUNNING="27584"
    PERLBAL_DEBUG="1"
    PERLBAL_DEBUG_OBJ="1"
    PERLBAL_TRACK_STATES="1"
    PERL_MM_USE_DEFAULT="1"
  @INC:
    /home/sand/src/perl/repoperls/installed-perls/perl/v5.21.3/a2da/lib/site_perl/5.21.3/x86_64-linux-thread-multi-ld
    /home/sand/src/perl/repoperls/installed-perls/perl/v5.21.3/a2da/lib/site_perl/5.21.3
    /home/sand/src/perl/repoperls/installed-perls/perl/v5.21.3/a2da/lib/5.21.3/x86_64-linux-thread-multi-ld
    /home/sand/src/perl/repoperls/installed-perls/perl/v5.21.3/a2da/lib/5.21.3
    .