Report for Path-ScanINC-0.002

Back
From: metabase:user:d2c9f356-b46f-11df-9a90-20a83c0b7757
Subject: PASS Path-ScanINC-0.002 v5.16.0 SunOS/Solaris
Date: 2012-05-25T13:05:22Z

This distribution has been tested as part of the CPAN Testers
project, supporting the Perl programming language.  See
http://wiki.cpantesters.org/ for more information or email
questions to cpan-testers-discuss@perl.org


--
Dear Kent Fredric,

This is a computer-generated report for Path-ScanINC-0.002
on perl 5.16.0, created by CPAN-Reporter-1.2006.

Thank you for uploading your work to CPAN.  Congratulations!
All tests were successful.

Sections of this report:

    * Tester comments
    * Program output
    * Prerequisites
    * Environment and other context

------------------------------
TESTER COMMENTS
------------------------------

Additional comments from tester:

this report is from an automated smoke testing program
and was not reviewed by a human for accuracy

------------------------------
PROGRAM OUTPUT
------------------------------

Output from './Build test':

t/00-compile.t ................ ok
# 
# 
# perl: v5.16.0 (wanted 5.006) on solaris from /export/home/cpant4/perl5/perlbrew/perls/perl-5.16.0/bin/perl5.16.0
# 
# Carp                                          => 1.26       (want any version)
# Data::Dump                                    => 1.21       (want any version)
# Dist::Zilla::PluginBundle::Author::KENTNL     => module not found. (want v1.3.0) 
# Dist::Zilla::PluginBundle::Author::KENTNL::Lite => module not found. (want v1.3.0) 
# File::Find                                    => 1.20       (want any version)
# File::Spec                                    => 3.39_02    (want any version)
# File::Temp                                    => 0.22       (want any version)
# FindBin                                       => 1.51       (want any version)
# List::Util                                    => 1.25       (want any version)
# Module::Build                                 => 0.4        (want 0.3601) 
# Scalar::Util                                  => 1.25       (want any version)
# Test::Fatal                                   => 0.010      (want any version)
# Test::More                                    => 0.98       (want 0.96)   
# Try::Tiny                                     => 0.11       (want any version)
# strict                                        => 1.07       (want any version)
# warnings                                      => 1.13       (want any version)
# 
# Thanks for using my code.  I hope it works for you.
# If not, please try and include this output in the bug report.
# That will help me reproduce the issue and solve you problem.
# 
t/000-report-versions-tiny.t .. ok
t/01_construction.t ........... ok
t/02_immutable.t .............. ok
t/03_basic_scanfile.t ......... ok
All tests successful.
Files=5, Tests=32,  1 wallclock secs ( 0.04 usr  0.02 sys +  0.33 cusr  0.06 csys =  0.45 CPU)
Result: PASS

------------------------------
PREREQUISITES
------------------------------

Prerequisite modules loaded:

requires:

    Module        Need   Have    
    ------------- ------ --------
    Carp          0      1.26    
    Data::Dump    0      1.21    
    File::Spec    0      3.39_02 
    perl          5.006  5.016000
    Scalar::Util  0      1.25    
    strict        0      1.07    
    Try::Tiny     0      0.11    
    warnings      0      1.13    

build_requires:

    Module        Need   Have    
    ------------- ------ --------
    File::Find    0      1.20    
    File::Temp    0      0.22    
    FindBin       0      1.51    
    List::Util    0      1.25    
    Module::Build 0.3601 0.40    
    Test::Fatal   0      0.010   
    Test::More    0.96   0.98    

configure_requires:

    Module        Need   Have    
    ------------- ------ --------
    Module::Build 0.3601 0.40    


------------------------------
ENVIRONMENT AND OTHER CONTEXT
------------------------------

Environment variables:

    AUTOMATED_TESTING = 1
    LANG = C
    LD_LIBRARY_PATH = /usr/local/lib:
    MANPATH_WITHOUT_PERLBREW = 
    PATH = /export/home/cpant4/perl5/perlbrew/bin:/export/home/cpant4/perl5/perlbrew/perls/perl-5.16.0/bin:/export/home/cpant4/perl5/bin:/usr/local/bin:/usr/bin
    PATH_WITHOUT_PERLBREW = /export/home/cpant4/perl5/bin:/usr/local/bin:/usr/bin
    PERL5LIB = /export/home/cpant4/.cpan/build/Config-INI-0.019-d5ZWUg/blib/arch:/export/home/cpant4/.cpan/build/Config-INI-0.019-d5ZWUg/blib/lib:/export/home/cpant4/.cpan/build/Email-Valid-0.190-1kdcGR/blib/arch:/export/home/cpant4/.cpan/build/Email-Valid-0.190-1kdcGR/blib/lib:/export/home/cpant4/.cpan/build/IO-All-0.44-CQhh7j/blib/arch:/export/home/cpant4/.cpan/build/IO-All-0.44-CQhh7j/blib/lib
    PERL5OPT = 
    PERL5_CPANPLUS_IS_RUNNING = 24552
    PERL5_CPAN_IS_RUNNING = 24552
    PERL5_CPAN_IS_RUNNING_IN_RECURSION = 1782,24552
    PERLBREW_BASHRC_VERSION = 0.42
    PERLBREW_HOME = /export/home/cpant4/.perlbrew
    PERLBREW_MANPATH = /export/home/cpant4/perl5/perlbrew/perls/perl-5.16.0/man
    PERLBREW_PATH = /export/home/cpant4/perl5/perlbrew/bin:/export/home/cpant4/perl5/perlbrew/perls/perl-5.16.0/bin
    PERLBREW_PERL = perl-5.16.0
    PERLBREW_ROOT = /export/home/cpant4/perl5/perlbrew
    PERLBREW_VERSION = 0.42
    PERL_CR_SMOKER_CURRENT = App-DuckPAN-0.023
    PERL_EXTUTILS_AUTOINSTALL = --defaultdeps
    PERL_MM_USE_DEFAULT = 1
    SHELL = /bin/bash
    TERM = xterm

Perl special variables (and OS-specific diagnostics, for MSWin32):

    $^X = /export/home/cpant4/perl5/perlbrew/perls/perl-5.16.0/bin/perl5.16.0
    $UID/$EUID = 104 / 104
    $GID = 1 1
    $EGID = 1 1

Perl module toolchain versions installed:

    Module              Have    
    ------------------- --------
    CPAN                1.9800  
    CPAN::Meta          2.120921
    Cwd                 3.39_02 
    ExtUtils::CBuilder  0.280206
    ExtUtils::Command   1.17    
    ExtUtils::Install   1.58    
    ExtUtils::MakeMaker 6.63_02 
    ExtUtils::Manifest  1.61    
    ExtUtils::ParseXS   3.16    
    File::Spec          3.39_02 
    JSON                2.53    
    JSON::PP            2.27200 
    Module::Build       0.40    
    Module::Signature   n/a     
    Parse::CPAN::Meta   1.4404  
    Test::Harness       3.23    
    Test::More          0.98    
    YAML                0.81    
    YAML::Syck          1.20    
    version             0.99    


--

Summary of my perl5 (revision 5 version 16 subversion 0) configuration:
   
  Platform:
    osname=solaris, osvers=2.10, archname=i86pc-solaris-64int
    uname='sunos vmrz0046 5.10 generic_141445-09 i86pc i386 i86pc solaris '
    config_args='-de -Dprefix=/export/home/cpant4/perl5/perlbrew/perls/perl-5.16.0 -Dcc=gcc -Duse64bitint -Dusedevelc=gcc -Duse64bitint -Dusedevel'
    hint=recommended, useposix=true, d_sigaction=define
    useithreads=undef, usemultiplicity=undef
    useperlio=define, d_sfio=undef, uselargefiles=define, usesocks=undef
    use64bitint=define, use64bitall=undef, uselongdouble=undef
    usemymalloc=n, bincompat5005=undef
  Compiler:
    cc='gcc', ccflags ='-DPTR_IS_LONG -fno-strict-aliasing -pipe -I/usr/local/include -D_LARGEFILE_SOURCE -D_FILE_OFFSET_BITS=64 -DPERL_USE_SAFE_PUTENV -DPERL_USE_SAFE_PUTENV',
    optimize='-O',
    cppflags='-DPTR_IS_LONG -fno-strict-aliasing -pipe -I/usr/local/include'
    ccversion='', gccversion='3.4.6', gccosandvers='solaris2.10'
    intsize=4, longsize=4, ptrsize=4, doublesize=8, byteorder=12345678
    d_longlong=define, longlongsize=8, d_longdbl=define, longdblsize=12
    ivtype='long long', ivsize=8, nvtype='double', nvsize=8, Off_t='off_t', lseeksize=8
    alignbytes=4, prototype=define
  Linker and Libraries:
    ld='gcc', ldflags =' -L/usr/local/lib '
    libpth=/usr/local/lib /usr/lib /usr/ccs/lib
    libs=-lsocket -lnsl -lgdbm -ldl -lm -lc
    perllibs=-lsocket -lnsl -ldl -lm -lc
    libc=/lib/libc.so, so=so, useshrplib=false, libperl=libperl.a
    gnulibc_version=''
  Dynamic Linking:
    dlsrc=dl_dlopen.xs, dlext=so, d_dlsymun=undef, ccdlflags=' '
    cccdlflags='-fPIC', lddlflags='-G -L/usr/local/lib'


Characteristics of this binary (from libperl): 
  Compile-time options: HAS_TIMES PERLIO_LAYERS PERL_DONT_CREATE_GVSV
                        PERL_MALLOC_WRAP PERL_PRESERVE_IVUV PERL_USE_DEVEL
                        PERL_USE_SAFE_PUTENV USE_64_BIT_INT USE_LARGE_FILES
                        USE_LOCALE USE_LOCALE_COLLATE USE_LOCALE_CTYPE
                        USE_LOCALE_NUMERIC USE_PERLIO USE_PERL_ATOF
  Built under solaris
  Compiled at May 23 2012 10:14:49
  %ENV:
    PERL5LIB="/export/home/cpant4/.cpan/build/Config-INI-0.019-d5ZWUg/blib/arch:/export/home/cpant4/.cpan/build/Config-INI-0.019-d5ZWUg/blib/lib:/export/home/cpant4/.cpan/build/Email-Valid-0.190-1kdcGR/blib/arch:/export/home/cpant4/.cpan/build/Email-Valid-0.190-1kdcGR/blib/lib:/export/home/cpant4/.cpan/build/IO-All-0.44-CQhh7j/blib/arch:/export/home/cpant4/.cpan/build/IO-All-0.44-CQhh7j/blib/lib"
    PERL5OPT=""
    PERL5_CPANPLUS_IS_RUNNING="24552"
    PERL5_CPAN_IS_RUNNING="24552"
    PERL5_CPAN_IS_RUNNING_IN_RECURSION="1782,24552"
    PERLBREW_BASHRC_VERSION="0.42"
    PERLBREW_HOME="/export/home/cpant4/.perlbrew"
    PERLBREW_MANPATH="/export/home/cpant4/perl5/perlbrew/perls/perl-5.16.0/man"
    PERLBREW_PATH="/export/home/cpant4/perl5/perlbrew/bin:/export/home/cpant4/perl5/perlbrew/perls/perl-5.16.0/bin"
    PERLBREW_PERL="perl-5.16.0"
    PERLBREW_ROOT="/export/home/cpant4/perl5/perlbrew"
    PERLBREW_VERSION="0.42"
    PERL_CR_SMOKER_CURRENT="App-DuckPAN-0.023"
    PERL_EXTUTILS_AUTOINSTALL="--defaultdeps"
    PERL_MM_USE_DEFAULT="1"
  @INC:
    /export/home/cpant4/.cpan/build/Config-INI-0.019-d5ZWUg/blib/arch
    /export/home/cpant4/.cpan/build/Config-INI-0.019-d5ZWUg/blib/lib
    /export/home/cpant4/.cpan/build/Email-Valid-0.190-1kdcGR/blib/arch
    /export/home/cpant4/.cpan/build/Email-Valid-0.190-1kdcGR/blib/lib
    /export/home/cpant4/.cpan/build/IO-All-0.44-CQhh7j/blib/arch
    /export/home/cpant4/.cpan/build/IO-All-0.44-CQhh7j/blib/lib
    /export/home/cpant4/perl5/perlbrew/perls/perl-5.16.0/lib/site_perl/5.16.0/i86pc-solaris-64int
    /export/home/cpant4/perl5/perlbrew/perls/perl-5.16.0/lib/site_perl/5.16.0
    /export/home/cpant4/perl5/perlbrew/perls/perl-5.16.0/lib/5.16.0/i86pc-solaris-64int
    /export/home/cpant4/perl5/perlbrew/perls/perl-5.16.0/lib/5.16.0
    .