Report for Convert-MRC-4.03

Back
From: metabase:user:a0e144f2-373b-11e6-8edd-c6848980b093
Subject: PASS Convert-MRC-4.03 v5.24.1 RC4 GNU/Linux
Date: 2016-10-17T07:06:54Z

This distribution has been tested as part of the CPAN Testers
project, supporting the Perl programming language.  See
http://wiki.cpantesters.org/ for more information or email
questions to cpan-testers-discuss@perl.org


--
Dear BYU TRG,

This is a computer-generated report for Convert-MRC-4.03
on perl 5.24.1, created by CPAN-Reporter-1.2018.

Thank you for uploading your work to CPAN.  Congratulations!
All tests were successful.

Sections of this report:

    * Tester comments
    * Program output
    * Prerequisites
    * Environment and other context

------------------------------
TESTER COMMENTS
------------------------------

Additional comments from tester:

none provided

------------------------------
PROGRAM OUTPUT
------------------------------

Output from './Build test':

t/0-use.t ..................... ok
t/00-compile.t ................ ok
# I"m in Tiny.pm right now
# 
# open: Not enough arguments for open at (eval 90) line 1, at EOF
# 
# Generated by Dist::Zilla::Plugin::ReportVersions::Tiny v1.08
# perl: 5.024001 (wanted 5.008) on linux from /home/cpan4/install/bin/perl
# 
# Carp                                          => 1.38       (want any version)
# Data::Dumper                                  => 2.161      (want any version)
# Data::Section::Simple                         => 0.07       (want any version)
# English                                       => 1.10       (want any version)
# Exporter                                      => 5.72       (want any version)
# File::Find                                    => 1.34       (want any version)
# File::Slurp                                   => 9999.19    (want any version)
# File::Spec::Functions                         => 3.62       (want any version)
# File::Temp                                    => 0.2304     (want any version)
# File::Touch                                   => 0.11       (want any version)
# FindBin                                       => 1.51       (want any version)
# Log::Message::Simple                          => 0.10       (want any version)
# Module::Build                                 => 0.422      (want 0.3601) 
# Pod::Coverage::TrustPod                       => 0.100003   (want any version)
# Test::Base                                    => 0.88       (want any version)
# Test::Base::Filter                            => <undef>    (want any version)
# Test::CPAN::Meta                              => 0.25       (want any version)
# Test::LongString                              => 0.17       (want any version)
# Test::More                                    => 1.302061   (want 0.96)   
# Test::Pod                                     => 1.51       (want 1.41)   
# Test::Pod::Coverage                           => 1.10       (want 1.08)   
# Test::XML                                     => 0.08       (want any version)
# autodie                                       => 2.26       (want any version)
# base                                          => 2.23       (want any version)
# open                                          => died during require. (want any version)
# strict                                        => 1.11       (want any version)
# version                                       => 0.9917     (want 0.9901) 
# warnings                                      => 1.36       (want any version)
# 
# Thanks for using my code.  I hope it works for you.
# If not, please try and include this output in the bug report.
# That will help me reproduce the issue and solve your problem.
# 
t/000-report-versions-tiny.t .. ok
t/01-correct_example.t ........ ok
See log -- processing could not be completed.
 at t/TestMRCConverter.pm line 39.
The input MRC is missing a line beginning with =MRCTermTable. You must include such a line to switch on the TBX converter -- all preceding material is ignored. at t/TestMRCConverter.pm line 39.
See log -- processing could not be completed.
 at t/TestMRCConverter.pm line 39.
See log -- processing could not be completed.
 at t/TestMRCConverter.pm line 39.
See log -- processing could not be completed.
 at t/TestMRCConverter.pm line 39.
t/02-errors.t ................. ok
t/03-batch.t .................. ok
t/04-values.t ................. ok
t/05-script.t ................. ok
All tests successful.
Files=8, Tests=98,  2 wallclock secs ( 0.05 usr  0.02 sys +  1.84 cusr  0.08 csys =  1.99 CPU)
Result: PASS

------------------------------
PREREQUISITES
------------------------------

Prerequisite modules loaded:

requires:

    Module                Need   Have    
    --------------------- ------ --------
    base                  0      2.23    
    Carp                  0      1.38    
    Data::Dumper          0      2.161   
    English               0      1.10    
    Exporter              0      5.72    
    Log::Message::Simple  0      0.10    
    open                  0      1.10    
    perl                  5.008  5.024001
    strict                0      1.11    
    warnings              0      1.36    

build_requires:

    Module                Need   Have    
    --------------------- ------ --------
    autodie               0      2.26    
    Data::Section::Simple 0      0.07    
    File::Find            0      1.34    
    File::Slurp           0      9999.19 
    File::Spec::Functions 0      3.62    
    File::Temp            0      0.2304  
    File::Touch           0      0.11    
    FindBin               0      1.51    
    Module::Build         0.3601 0.4220  
    Test::Base            0      0.88    
    Test::Base::Filter    0      0       
    Test::LongString      0      0.17    
    Test::More            0.96   1.302061
    Test::XML             0      0.08    

configure_requires:

    Module                Need   Have    
    --------------------- ------ --------
    Module::Build         0.3601 0.4220  


------------------------------
ENVIRONMENT AND OTHER CONTEXT
------------------------------

Environment variables:

    LANG = en_US.UTF-8
    PATH = /usr/local/sbin:/usr/local/bin:/usr/sbin:/usr/bin:/sbin:/bin
    PERL5LIB = 
    PERL5OPT = 
    PERL5_CPANPLUS_IS_RUNNING = 10652
    PERL5_CPAN_IS_RUNNING = 10652
    PERL_CR_SMOKER_RUNONCE = 1
    SHELL = /bin/bash
    TERM = putty

Perl special variables (and OS-specific diagnostics, for MSWin32):

    $^X = /home/cpan4/install/bin/perl
    $UID/$EUID = 1005 / 1005
    $GID = 1005 1005
    $EGID = 1005 1005

Perl module toolchain versions installed:

    Module              Have    
    ------------------- --------
    CPAN                2.14    
    CPAN::Meta          2.150010
    Cwd                 3.62    
    ExtUtils::CBuilder  0.280224
    ExtUtils::Command   7.24    
    ExtUtils::Install   2.04    
    ExtUtils::MakeMaker 7.24    
    ExtUtils::Manifest  1.70    
    ExtUtils::ParseXS   3.30    
    File::Spec          3.62    
    JSON                2.90    
    JSON::PP            2.27400 
    Module::Build       0.4220  
    Module::Signature   0.81    
    Parse::CPAN::Meta   2.150010
    Test::Harness       3.36_01 
    Test::More          1.302061
    YAML                1.18    
    YAML::Syck          1.29    
    version             0.9917  


--

Summary of my perl5 (revision 5 version 24 subversion 1) configuration:
   
  Platform:
    osname=linux, osvers=3.16.0-4-amd64, archname=x86_64-linux-thread-multi
    uname='linux digitalis 3.16.0-4-amd64 #1 smp debian 3.16.36-1+deb8u1 (2016-09-03) x86_64 gnulinux '
    config_args='-Dusedevel -DDEBUGGING -Dusethreads -Dprefix=/home/cpan4/install -Uversiononly -des'
    hint=recommended, useposix=true, d_sigaction=define
    useithreads=define, usemultiplicity=define
    use64bitint=define, use64bitall=define, uselongdouble=undef
    usemymalloc=n, bincompat5005=undef
  Compiler:
    cc='cc', ccflags ='-D_REENTRANT -D_GNU_SOURCE -fwrapv -DDEBUGGING -fno-strict-aliasing -pipe -fstack-protector-strong -I/usr/local/include -D_LARGEFILE_SOURCE -D_FILE_OFFSET_BITS=64 -D_FORTIFY_SOURCE=2',
    optimize='-O2 -g',
    cppflags='-D_REENTRANT -D_GNU_SOURCE -fwrapv -DDEBUGGING -fno-strict-aliasing -pipe -fstack-protector-strong -I/usr/local/include'
    ccversion='', gccversion='4.9.2', gccosandvers=''
    intsize=4, longsize=8, ptrsize=8, doublesize=8, byteorder=12345678, doublekind=3
    d_longlong=define, longlongsize=8, d_longdbl=define, longdblsize=16, longdblkind=3
    ivtype='long', ivsize=8, nvtype='double', nvsize=8, Off_t='off_t', lseeksize=8
    alignbytes=8, prototype=define
  Linker and Libraries:
    ld='cc', ldflags =' -fstack-protector-strong -L/usr/local/lib'
    libpth=/usr/local/lib /usr/lib/gcc/x86_64-linux-gnu/4.9/include-fixed /usr/include/x86_64-linux-gnu /usr/lib /lib/x86_64-linux-gnu /lib/../lib /usr/lib/x86_64-linux-gnu /usr/lib/../lib /lib
    libs=-lpthread -lnsl -ldl -lm -lcrypt -lutil -lc
    perllibs=-lpthread -lnsl -ldl -lm -lcrypt -lutil -lc
    libc=libc-2.19.so, so=so, useshrplib=false, libperl=libperl.a
    gnulibc_version='2.19'
  Dynamic Linking:
    dlsrc=dl_dlopen.xs, dlext=so, d_dlsymun=undef, ccdlflags='-Wl,-E'
    cccdlflags='-fPIC', lddlflags='-shared -O2 -g -L/usr/local/lib -fstack-protector-strong'


Characteristics of this binary (from libperl): 
  Compile-time options: DEBUGGING HAS_TIMES MULTIPLICITY PERLIO_LAYERS
                        PERL_COPY_ON_WRITE PERL_DONT_CREATE_GVSV
                        PERL_HASH_FUNC_ONE_AT_A_TIME_HARD
                        PERL_IMPLICIT_CONTEXT PERL_MALLOC_WRAP
                        PERL_PRESERVE_IVUV PERL_TRACK_MEMPOOL PERL_USE_DEVEL
                        USE_64_BIT_ALL USE_64_BIT_INT USE_ITHREADS
                        USE_LARGE_FILES USE_LOCALE USE_LOCALE_COLLATE
                        USE_LOCALE_CTYPE USE_LOCALE_NUMERIC USE_LOCALE_TIME
                        USE_PERLIO USE_PERL_ATOF USE_REENTRANT_API
  Locally applied patches:
	RC4
  Built under linux
  Compiled at Oct 12 2016 18:25:36
  %ENV:
    PERL5LIB=""
    PERL5OPT=""
    PERL5_CPANPLUS_IS_RUNNING="10652"
    PERL5_CPAN_IS_RUNNING="10652"
    PERL_CR_SMOKER_RUNONCE="1"
  @INC:
    /home/cpan4/install/lib/perl5/site_perl/5.24.1/x86_64-linux-thread-multi
    /home/cpan4/install/lib/perl5/site_perl/5.24.1
    /home/cpan4/install/lib/perl5/5.24.1/x86_64-linux-thread-multi
    /home/cpan4/install/lib/perl5/5.24.1
    .