Report for Vim-Debug-0.904

Back
From: metabase:user:320bfe00-2aae-11df-837a-5e0a49663a4f
Subject: PASS Vim-Debug-0.904 v5.8.9 GNU/Linux
Date: 2013-05-25T23:03:17Z

This distribution has been tested as part of the CPAN Testers
project, supporting the Perl programming language.  See
http://wiki.cpantesters.org/ for more information or email
questions to cpan-testers-discuss@perl.org


--
Dear Eric D Johnson,

This is a computer-generated report for Vim-Debug-0.904
on perl 5.8.9, created by CPAN-Reporter-1.2009.

Thank you for uploading your work to CPAN.  Congratulations!
All tests were successful.

Sections of this report:

    * Tester comments
    * Program output
    * Prerequisites
    * Environment and other context

------------------------------
TESTER COMMENTS
------------------------------

Additional comments from tester:

this report is from an automated smoke testing program
and was not reviewed by a human for accuracy

------------------------------
PROGRAM OUTPUT
------------------------------

Output from '/usr/bin/make test':

PERL_DL_NONLAZY=1 /home/sand/src/perl/repoperls/installed-perls/perl/perl-5.8.9/5da8/bin/perl "-MExtUtils::Command::MM" "-e" "test_harness(0, 'blib/lib', 'blib/arch')" t/*.t
t/00-compile.t ......... ok
# Prerequisite Report:
#   Version Module                     
#   ------- ---------------------------
#      1.26 Carp                       
#      0.10 Dir::Self                  
#   6.67_01 ExtUtils::MakeMaker        
#      2.77 File::Basename             
#      0.38 File::Copy::Recursive      
#      1.13 File::Find                 
#      2.09 File::Path                 
#      3.40 File::Spec::Functions      
#    0.2301 File::Temp                 
#      2.39 Getopt::Long               
#      1.10 IO::Pty                    
#      0.92 IPC::Run                   
#      1.27 List::Util                 
#    2.1002 Moose                      
#    2.1002 Moose::Role                
#    2.1002 Moose::Util                
#      0.27 MooseX::ClassAttribute     
#      3.04 Net::Telnet                
#     1.354 POE                        
#     1.354 POE::Component::Server::TCP
#      0.98 Test::More                 
#      0.12 Try::Tiny                  
#      1.03 strict                     
#   1.05_01 warnings                   
t/00-report-prereqs.t .. ok
t/perl.parseOutput.t ... ok
t/perl.stop.t .......... ok
t/perl.t ............... ok
t/pod.t ................ ok
All tests successful.
Files=6, Tests=76, 13 wallclock secs ( 0.04 usr  0.00 sys +  4.43 cusr  0.44 csys =  4.91 CPU)
Result: PASS

------------------------------
PREREQUISITES
------------------------------

Prerequisite modules loaded:

requires:

    Module                      Need Have   
    --------------------------- ---- -------
    Carp                        0    1.26   
    Dir::Self                   0    0.10   
    File::Basename              0    2.77   
    File::Copy::Recursive       0    0.38   
    File::Path                  0    2.09   
    Getopt::Long                0    2.39   
    IO::Pty                     0    1.10   
    IPC::Run                    0    0.92   
    Moose                       0    2.1002 
    Moose::Role                 0    2.1002 
    Moose::Util                 0    2.1002 
    MooseX::ClassAttribute      0    0.27   
    POE                         0    1.354  
    POE::Component::Server::TCP 0    1.354  
    strict                      0    1.03   
    Try::Tiny                   0    0.12   
    warnings                    0    1.05_01

build_requires:

    Module                      Need Have   
    --------------------------- ---- -------
    ExtUtils::MakeMaker         0    6.67_01
    File::Find                  0    1.13   
    File::Spec::Functions       0    3.40   
    File::Temp                  0    0.2301 
    List::Util                  0    1.27   
    Net::Telnet                 0    3.04   
    Test::More                  0    0.98   

configure_requires:

    Module                      Need Have   
    --------------------------- ---- -------
    ExtUtils::MakeMaker         6.30 6.67_01


------------------------------
ENVIRONMENT AND OTHER CONTEXT
------------------------------

Environment variables:

    AUTOMATED_TESTING = 1
    LANG = en_US.UTF-8
    LANGUAGE = en_US:en
    PATH = /usr/lib/ccache:/home/sand/bin:/usr/local/bin:/usr/bin:/bin:/usr/bin/X11:/usr/games:/usr/local/perl/bin:/usr/X11/bin:/sbin:/usr/sbin
    PERL5LIB = 
    PERL5OPT = 
    PERL5_CPANPLUS_IS_RUNNING = 12918
    PERL5_CPAN_IS_RUNNING = 12918
    PERL_MM_USE_DEFAULT = 1
    SHELL = /usr/bin/zsh
    TERM = screen

Perl special variables (and OS-specific diagnostics, for MSWin32):

    $^X = /home/sand/src/perl/repoperls/installed-perls/perl/perl-5.8.9/5da8/bin/perl
    $UID/$EUID = 1005 / 1005
    $GID = 1005 1005
    $EGID = 1005 1005

Perl module toolchain versions installed:

    Module              Have    
    ------------------- --------
    CPAN                2.00    
    CPAN::Meta          2.130880
    Cwd                 3.40    
    ExtUtils::CBuilder  0.280205
    ExtUtils::Command   1.16    
    ExtUtils::Install   1.54    
    ExtUtils::MakeMaker 6.67_01 
    ExtUtils::Manifest  1.60    
    ExtUtils::ParseXS   3.18    
    File::Spec          3.40    
    JSON                2.58    
    JSON::PP            2.27202 
    Module::Build       0.4005  
    Module::Signature   0.70    
    Parse::CPAN::Meta   1.4404  
    Test::Harness       3.28    
    Test::More          0.98    
    YAML                0.84    
    YAML::Syck          1.27    
    version             0.9902  


--

Summary of my perl5 (revision 5 version 8 subversion 9) configuration:
  Platform:
    osname=linux, osvers=3.2.0-4-amd64, archname=x86_64-linux
    uname='linux k83 3.2.0-4-amd64 #1 smp debian 3.2.41-2 x86_64 gnulinux '
    config_args='-Dprefix=/home/src/perl/repoperls/installed-perls/perl/perl-5.8.9/5da8 -Dmyhostname=k83 -Dinstallusrbinperl=n -Uversiononly -Dusedevel -des -Ui_db -Uuseithreads -Uuselongdouble -DDEBUGGING=-g -Dusedl -Ddlsrc=dl_dlopen.xs -Dlibs=-lnsl -ldb -ldl -lm -lcrypt -lutil -lc -Dlibpth=/usr/lib/x86_64-linux-gnu /usr/local/lib /lib /usr/lib'
    hint=recommended, useposix=true, d_sigaction=define
    usethreads=undef use5005threads=undef useithreads=undef usemultiplicity=undef
    useperlio=define d_sfio=undef uselargefiles=define usesocks=undef
    use64bitint=define use64bitall=define uselongdouble=undef
    usemymalloc=n, bincompat5005=undef
  Compiler:
    cc='cc', ccflags ='-fno-strict-aliasing -pipe -I/usr/local/include -D_LARGEFILE_SOURCE -D_FILE_OFFSET_BITS=64',
    optimize='-O2 -g',
    cppflags='-fno-strict-aliasing -pipe -I/usr/local/include'
    ccversion='', gccversion='4.7.2', gccosandvers=''
    intsize=4, longsize=8, ptrsize=8, doublesize=8, byteorder=12345678
    d_longlong=define, longlongsize=8, d_longdbl=define, longdblsize=16
    ivtype='long', ivsize=8, nvtype='double', nvsize=8, Off_t='off_t', lseeksize=8
    alignbytes=8, prototype=define
  Linker and Libraries:
    ld='cc', ldflags =' -L/usr/local/lib'
    libpth=/usr/lib/x86_64-linux-gnu /usr/local/lib /lib /usr/lib
    libs=-lnsl -ldb -ldl -lm -lcrypt -lutil -lc
    perllibs=-lnsl -ldl -lm -lcrypt -lutil -lc
    libc=, so=so, useshrplib=false, libperl=libperl.a
    gnulibc_version='2.13'
  Dynamic Linking:
    dlsrc=dl_dlopen.xs, dlext=so, d_dlsymun=undef, ccdlflags='-Wl,-E'
    cccdlflags='-fPIC', lddlflags='-shared -O2 -g -L/usr/local/lib'


Characteristics of this binary (from libperl): 
  Compile-time options: PERL_MALLOC_WRAP USE_64_BIT_ALL USE_64_BIT_INT
                        USE_FAST_STDIO USE_LARGE_FILES USE_PERLIO
  Built under linux
  Compiled at Apr  7 2013 11:53:34
  %ENV:
    PERL5LIB=""
    PERL5OPT=""
    PERL5_CPANPLUS_IS_RUNNING="12918"
    PERL5_CPAN_IS_RUNNING="12918"
    PERL_MM_USE_DEFAULT="1"
  @INC:
    /home/src/perl/repoperls/installed-perls/perl/perl-5.8.9/5da8/lib/5.8.9/x86_64-linux
    /home/src/perl/repoperls/installed-perls/perl/perl-5.8.9/5da8/lib/5.8.9
    /home/src/perl/repoperls/installed-perls/perl/perl-5.8.9/5da8/lib/site_perl/5.8.9/x86_64-linux
    /home/src/perl/repoperls/installed-perls/perl/perl-5.8.9/5da8/lib/site_perl/5.8.9
    .