Catalyst-Devel v1.42 Perl 5 v5.40.0 RC1 darwin-2level
- Status
- Pass
- From
- John SJ Anderson
- Dist
-
Catalyst-Devel v1.42
- Platform
- Perl 5 v5.40.0 RC1 darwin-2level
- Date
- 2024-05-24 23:06:42
- ID
- 48f1a200-1a22-11ef-927e-e50a8f80d716
This distribution has been tested as part of the CPAN Testers
project, supporting the Perl programming language. See
http://wiki.cpantesters.org/ for more information or email
questions to cpan-testers-discuss@perl.org
--
Dear HAARG,
This is a computer-generated report for Catalyst-Devel-1.42
on perl 5.40.0, created by App::cpanminus::reporter 0.21 (1.7047).
Thank you for uploading your work to CPAN. Congratulations!
All tests were successful.
Sections of this report:
* Tester comments
* Program output
* Prerequisites
* Environment and other context
------------------------------
TESTER COMMENTS
------------------------------
Additional comments from tester:
none provided
------------------------------
PROGRAM OUTPUT
------------------------------
Output from '':
Building and testing Catalyst-Devel-1.42
cp share/lib/MyApp/Controller/Root.pm.tt blib/lib/auto/share/dist/Catalyst-Devel/lib/MyApp/Controller/Root.pm.tt
cp share/t/01app.t.tt blib/lib/auto/share/dist/Catalyst-Devel/t/01app.t.tt
cp share/t/02pod.t.tt blib/lib/auto/share/dist/Catalyst-Devel/t/02pod.t.tt
cp share/script/myapp_create.pl.tt blib/lib/auto/share/dist/Catalyst-Devel/script/myapp_create.pl.tt
cp share/lib/MyApp.pm.tt blib/lib/auto/share/dist/Catalyst-Devel/lib/MyApp.pm.tt
cp share/script/myapp_server.pl.tt blib/lib/auto/share/dist/Catalyst-Devel/script/myapp_server.pl.tt
cp share/root/static/images/btn_120x50_built.png.bin blib/lib/auto/share/dist/Catalyst-Devel/root/static/images/btn_120x50_built.png.bin
cp share/t/03podcoverage.t.tt blib/lib/auto/share/dist/Catalyst-Devel/t/03podcoverage.t.tt
cp share/root/favicon.ico.bin blib/lib/auto/share/dist/Catalyst-Devel/root/favicon.ico.bin
cp share/README.tt blib/lib/auto/share/dist/Catalyst-Devel/README.tt
cp share/root/static/images/btn_88x31_built_shadow.png.bin blib/lib/auto/share/dist/Catalyst-Devel/root/static/images/btn_88x31_built_shadow.png.bin
cp share/root/static/images/btn_88x31_powered_shadow.png.bin blib/lib/auto/share/dist/Catalyst-Devel/root/static/images/btn_88x31_powered_shadow.png.bin
cp share/myapp.psgi.tt blib/lib/auto/share/dist/Catalyst-Devel/myapp.psgi.tt
cp share/script/myapp_test.pl.tt blib/lib/auto/share/dist/Catalyst-Devel/script/myapp_test.pl.tt
cp share/root/static/images/btn_88x31_powered.png.bin blib/lib/auto/share/dist/Catalyst-Devel/root/static/images/btn_88x31_powered.png.bin
cp share/root/static/images/catalyst_logo.png.bin blib/lib/auto/share/dist/Catalyst-Devel/root/static/images/catalyst_logo.png.bin
cp share/myapp.conf.tt blib/lib/auto/share/dist/Catalyst-Devel/myapp.conf.tt
cp share/root/static/images/btn_88x31_built.png.bin blib/lib/auto/share/dist/Catalyst-Devel/root/static/images/btn_88x31_built.png.bin
cp share/script/myapp_cgi.pl.tt blib/lib/auto/share/dist/Catalyst-Devel/script/myapp_cgi.pl.tt
cp share/root/static/images/btn_120x50_powered.png.bin blib/lib/auto/share/dist/Catalyst-Devel/root/static/images/btn_120x50_powered.png.bin
cp share/t/comptest.tt blib/lib/auto/share/dist/Catalyst-Devel/t/comptest.tt
cp share/script/myapp_fastcgi.pl.tt blib/lib/auto/share/dist/Catalyst-Devel/script/myapp_fastcgi.pl.tt
cp share/root/static/images/btn_120x50_powered_shadow.png.bin blib/lib/auto/share/dist/Catalyst-Devel/root/static/images/btn_120x50_powered_shadow.png.bin
cp share/root/static/images/btn_120x50_built_shadow.png.bin blib/lib/auto/share/dist/Catalyst-Devel/root/static/images/btn_120x50_built_shadow.png.bin
cp share/Makefile.PL.tt blib/lib/auto/share/dist/Catalyst-Devel/Makefile.PL.tt
cp share/Changes.tt blib/lib/auto/share/dist/Catalyst-Devel/Changes.tt
cp share/lib/Helper/compclass.pm.tt blib/lib/auto/share/dist/Catalyst-Devel/lib/Helper/compclass.pm.tt
cp lib/Catalyst/Helper.pm blib/lib/Catalyst/Helper.pm
cp lib/Catalyst/Restarter.pm blib/lib/Catalyst/Restarter.pm
cp lib/Catalyst/Restarter/Forking.pm blib/lib/Catalyst/Restarter/Forking.pm
cp lib/Catalyst/Devel.pm blib/lib/Catalyst/Devel.pm
cp lib/Module/Install/Catalyst.pm blib/lib/Module/Install/Catalyst.pm
cp lib/Catalyst/Restarter/Win32.pm blib/lib/Catalyst/Restarter/Win32.pm
Skip blib/lib/auto/share/dist/Catalyst-Devel/script/myapp_create.pl.tt (unchanged)
Skip blib/lib/auto/share/dist/Catalyst-Devel/root/static/images/btn_120x50_built_shadow.png.bin (unchanged)
Skip blib/lib/auto/share/dist/Catalyst-Devel/script/myapp_server.pl.tt (unchanged)
Skip blib/lib/auto/share/dist/Catalyst-Devel/lib/MyApp.pm.tt (unchanged)
Skip blib/lib/auto/share/dist/Catalyst-Devel/t/comptest.tt (unchanged)
Skip blib/lib/auto/share/dist/Catalyst-Devel/t/02pod.t.tt (unchanged)
Skip blib/lib/auto/share/dist/Catalyst-Devel/root/static/images/btn_120x50_powered_shadow.png.bin (unchanged)
Skip blib/lib/auto/share/dist/Catalyst-Devel/t/01app.t.tt (unchanged)
Skip blib/lib/auto/share/dist/Catalyst-Devel/root/static/images/btn_88x31_built.png.bin (unchanged)
Skip blib/lib/auto/share/dist/Catalyst-Devel/t/03podcoverage.t.tt (unchanged)
Skip blib/lib/auto/share/dist/Catalyst-Devel/Makefile.PL.tt (unchanged)
Skip blib/lib/auto/share/dist/Catalyst-Devel/root/favicon.ico.bin (unchanged)
Skip blib/lib/auto/share/dist/Catalyst-Devel/script/myapp_test.pl.tt (unchanged)
Skip blib/lib/auto/share/dist/Catalyst-Devel/script/myapp_fastcgi.pl.tt (unchanged)
Skip blib/lib/auto/share/dist/Catalyst-Devel/myapp.conf.tt (unchanged)
Skip blib/lib/auto/share/dist/Catalyst-Devel/root/static/images/catalyst_logo.png.bin (unchanged)
Skip blib/lib/auto/share/dist/Catalyst-Devel/root/static/images/btn_88x31_built_shadow.png.bin (unchanged)
Skip blib/lib/auto/share/dist/Catalyst-Devel/README.tt (unchanged)
Skip blib/lib/auto/share/dist/Catalyst-Devel/root/static/images/btn_120x50_built.png.bin (unchanged)
Skip blib/lib/auto/share/dist/Catalyst-Devel/myapp.psgi.tt (unchanged)
Skip blib/lib/auto/share/dist/Catalyst-Devel/root/static/images/btn_88x31_powered.png.bin (unchanged)
Skip blib/lib/auto/share/dist/Catalyst-Devel/lib/Helper/compclass.pm.tt (unchanged)
Skip blib/lib/auto/share/dist/Catalyst-Devel/lib/MyApp/Controller/Root.pm.tt (unchanged)
Skip blib/lib/auto/share/dist/Catalyst-Devel/root/static/images/btn_120x50_powered.png.bin (unchanged)
Skip blib/lib/auto/share/dist/Catalyst-Devel/root/static/images/btn_88x31_powered_shadow.png.bin (unchanged)
Skip blib/lib/auto/share/dist/Catalyst-Devel/Changes.tt (unchanged)
Skip blib/lib/auto/share/dist/Catalyst-Devel/script/myapp_cgi.pl.tt (unchanged)
PERL_DL_NONLAZY=1 "/opt/plenv/versions/5.40.0-RC1/bin/perl5.40.0" "-MExtUtils::Command::MM" "-MTest::Harness" "-e" "undef *Test::Harness::Switches; test_harness(0, 'blib/lib', 'blib/arch')" t/*.t
t/01use.t ......................... ok
t/back_compat.t ................... ok
t/generated_app.t ................. ok
t/get_sharedir_file.t ............. ok
t/optional_http-server-restart.t .. skipped: set TEST_HTTP to enable this test
t/render_file_contents.t .......... ok
t/render_share_dir_file.t ......... ok
All tests successful.
Files=7, Tests=91, 6 wallclock secs ( 0.03 usr 0.02 sys + 4.93 cusr 0.95 csys = 5.93 CPU)
Result: PASS
------------------------------
PREREQUISITES
------------------------------
Prerequisite modules loaded:
runtime:
Module Need Have
-------------------------------------- ------- --------
Catalyst 5.90001 5.90131
Catalyst::Action::RenderView 0.10 0.16
Catalyst::Plugin::ConfigLoader 0.30 0.35
Catalyst::Plugin::Static::Simple 0.28 0.37
Config::General 2.42 2.65
File::ChangeNotify 0.07 0.31
File::Copy::Recursive 0 0.45
File::ShareDir 0 1.118
Module::Install 1.02 1.21
Moose 0 2.2207
MooseX::Emulate::Class::Accessor::Fast 0 0.009032
namespace::autoclean 0 0.29
namespace::clean 0 0.27
Path::Class 0.09 0.37
Template 2.14 3.101
configure:
Module Need Have
-------------------------------------- ------- --------
ExtUtils::MakeMaker 0 7.70
File::ShareDir::Install 0 0.14
------------------------------
ENVIRONMENT AND OTHER CONTEXT
------------------------------
Environment variables:
LANG = en_US.UTF-8
LC_ALL = en_US.UTF-8
LC_COLLATE = en_US.UTF-8
LC_MESSAGES = en_US.UTF-8
LC_MONETARY = en_US.UTF-8
LC_NUMERIC = en_US.UTF-8
PATH = /opt/plenv/versions/5.40.0-RC1/bin:/opt/plenv/libexec:/opt/plenv/plugins/Perl-Build/bin:/Users/genehack/bin:/opt/rbenv/shims:/opt/plenv/shims:/opt/plenv/bin:/opt/nextstrain:/opt/vim/bin:/opt/git/bin:/opt/local/bin:/usr/local/bin:/usr/local/sbin:/usr/bin:/bin:/usr/sbin:/sbin:/usr/local/opt/fzf/bin/
PERL_CPANM_OPT = --skip-installed --prompt
SHELL = /bin/zsh
TERM = screen-256color
TMPDIR = /var/folders/91/jjmr4sms7fz9s27f3_9glhb80000gn/T/
Perl special variables (and OS-specific diagnostics, for MSWin32):
EGID = 20 20 12 61 79 80 81 98 701 33 100 204 250 395 398 399 400
EUID = 501
EXECUTABLE_NAME = /opt/plenv/versions/5.40.0-RC1/bin/perl5.40.0
GID = 20 20 12 61 79 80 81 98 701 33 100 204 250 395 398 399 400
UID = 501
Perl module toolchain versions installed:
Module Have
------------------- --------
CPAN 2.36
CPAN::Meta 2.150010
Cwd 3.90
ExtUtils::CBuilder 0.280240
ExtUtils::Command 7.70
ExtUtils::Install 2.22
ExtUtils::MakeMaker 7.70
ExtUtils::Manifest 1.75
ExtUtils::ParseXS 3.51
File::Spec 3.90
JSON 4.10
JSON::PP 4.16
Module::Build 0.4234
Module::Signature n/a
Parse::CPAN::Meta 2.150010
Test::Harness 3.48
Test::More 1.302199
YAML 1.31
YAML::Syck n/a
version 0.9930
--
Summary of my perl5 (revision 5 version 40 subversion 0) configuration:
Platform:
osname=darwin
osvers=23.5.0
archname=darwin-2level
uname='darwin bigjob.home.genehack.org 23.5.0 darwin kernel version 23.5.0: wed may 1 20:09:52 pdt 2024; root:xnu-10063.121.3~5release_x86_64 x86_64 i386 macmini8,1 darwin '
config_args='-Dprefix=/opt/plenv/versions/5.40.0-RC1 -de -Dversiononly -Dusedevel -A'eval:scriptdir=/opt/plenv/versions/5.40.0-RC1/bin''
hint=recommended
useposix=true
d_sigaction=define
useithreads=undef
usemultiplicity=undef
use64bitint=define
use64bitall=define
uselongdouble=undef
usemymalloc=n
default_inc_excludes_dot=define
Compiler:
cc='cc'
ccflags ='-fno-common -DPERL_DARWIN -mmacosx-version-min=14.5 -DNO_THREAD_SAFE_QUERYLOCALE -DNO_POSIX_2008_LOCALE -fno-strict-aliasing -pipe -fstack-protector-strong -I/usr/local/include'
optimize='-O3'
cppflags='-fno-common -DPERL_DARWIN -mmacosx-version-min=14.5 -DNO_THREAD_SAFE_QUERYLOCALE -DNO_POSIX_2008_LOCALE -fno-strict-aliasing -pipe -fstack-protector-strong -I/usr/local/include'
ccversion=''
gccversion='Apple LLVM 15.0.0 (clang-1500.3.9.4)'
gccosandvers=''
intsize=4
longsize=8
ptrsize=8
doublesize=8
byteorder=12345678
doublekind=3
d_longlong=define
longlongsize=8
d_longdbl=define
longdblsize=16
longdblkind=3
ivtype='long'
ivsize=8
nvtype='double'
nvsize=8
Off_t='off_t'
lseeksize=8
alignbytes=8
prototype=define
Linker and Libraries:
ld='cc'
ldflags =' -mmacosx-version-min=14.5 -fstack-protector-strong -L/usr/local/lib'
libpth=/usr/local/lib /Applications/Xcode.app/Contents/Developer/Toolchains/XcodeDefault.xctoolchain/usr/lib/clang/15.0.0/lib /Applications/Xcode.app/Contents/Developer/Platforms/MacOSX.platform/Developer/SDKs/MacOSX.sdk/usr/lib /Applications/Xcode.app/Contents/Developer/Toolchains/XcodeDefault.xctoolchain/usr/lib /usr/lib
libs=
perllibs=
libc=
so=dylib
useshrplib=false
libperl=libperl.a
gnulibc_version=''
Dynamic Linking:
dlsrc=dl_dlopen.xs
dlext=bundle
d_dlsymun=undef
ccdlflags=' '
cccdlflags=' '
lddlflags=' -mmacosx-version-min=14.5 -bundle -undefined dynamic_lookup -L/usr/local/lib -fstack-protector-strong'
Characteristics of this binary (from libperl):
Compile-time options:
HAS_LONG_DOUBLE
HAS_STRTOLD
HAS_TIMES
PERLIO_LAYERS
PERL_COPY_ON_WRITE
PERL_DONT_CREATE_GVSV
PERL_HASH_FUNC_SIPHASH13
PERL_HASH_USE_SBOX32
PERL_MALLOC_WRAP
PERL_OP_PARENT
PERL_PRESERVE_IVUV
PERL_USE_DEVEL
PERL_USE_SAFE_PUTENV
USE_64_BIT_ALL
USE_64_BIT_INT
USE_LARGE_FILES
USE_LOCALE
USE_LOCALE_COLLATE
USE_LOCALE_CTYPE
USE_LOCALE_NUMERIC
USE_LOCALE_TIME
USE_PERLIO
USE_PERL_ATOF
Locally applied patches:
RC1
Built under darwin
Compiled at May 24 2024 14:43:18
%ENV:
PERL_CPANM_OPT="--skip-installed --prompt"
@INC:
/opt/plenv/versions/5.40.0-RC1/lib/perl5/site_perl/5.40.0/darwin-2level
/opt/plenv/versions/5.40.0-RC1/lib/perl5/site_perl/5.40.0
/opt/plenv/versions/5.40.0-RC1/lib/perl5/5.40.0/darwin-2level
/opt/plenv/versions/5.40.0-RC1/lib/perl5/5.40.0