Config-Perl-V v0.29 Perl 5 v5.26.1 i86pc-solaris
- Status
- Pass
- From
- Nigel Horne
- Dist
-
Config-Perl-V v0.29
- Platform
- Perl 5 v5.26.1 i86pc-solaris
- Date
- 2018-01-15 20:54:31
- ID
- 48dbb5d4-fa36-11e7-af2b-acaf1d79aee4
This distribution has been tested as part of the CPAN Testers
project, supporting the Perl programming language. See
http://wiki.cpantesters.org/ for more information or email
questions to cpan-testers-discuss@perl.org
--
Dear H.Merijn Brand,
This is a computer-generated report for Config-Perl-V-0.29
on perl 5.26.1, created by CPAN-Reporter-1.2018.
Thank you for uploading your work to CPAN. Congratulations!
All tests were successful.
Sections of this report:
* Tester comments
* Program output
* Prerequisites
* Environment and other context
------------------------------
TESTER COMMENTS
------------------------------
Additional comments from tester:
none provided
------------------------------
PROGRAM OUTPUT
------------------------------
Output from '/usr/bin/gmake test':
PERL_DL_NONLAZY=1 "/export/home/njh/perl5/perlbrew/perls/perl-5.26.1/bin/perl" "-MExtUtils::Command::MM" "-MTest::Harness" "-e" "undef *Test::Harness::Switches; test_harness(0, 'blib/lib', 'blib/arch')" t/*.t
t/20_plv56.t ....... ok
t/10_base.t ........ ok
t/21_plv58.t ....... ok
t/22_plv510.t ...... ok
t/23_plv512.t ...... ok
t/24_plv514.t ...... ok
t/25_plv516.t ...... ok
t/26_plv518.t ...... ok
t/25_plv5162.t ..... ok
t/26_plv5182.t ..... ok
t/27_plv5200.t ..... ok
t/27_plv5202.t ..... ok
t/28_plv5220.t ..... ok
t/28_plv52201w.t ... ok
t/29_plv5235w.t .... ok
t/30_plv5240.t ..... ok
t/31_plv52511.t .... ok
t/32_plv5261rc1.t .. ok
All tests successful.
Files=18, Tests=2023, 1 wallclock secs ( 0.13 usr 0.04 sys + 0.90 cusr 0.36 csys = 1.43 CPU)
Result: PASS
------------------------------
PREREQUISITES
------------------------------
Prerequisite modules loaded:
requires:
Module Need Have
------------------- ---- --------
Config 0 5.026001
build_requires:
Module Need Have
------------------- ---- --------
ExtUtils::MakeMaker 0 7.24
Test::More 0 1.302073
Test::NoWarnings 0 1.04
configure_requires:
Module Need Have
------------------- ---- --------
ExtUtils::MakeMaker 0 7.24
------------------------------
ENVIRONMENT AND OTHER CONTEXT
------------------------------
Environment variables:
HARNESS_OPTIONS = j2:c
LANG = en_US.UTF-8
LC_ALL =
LC_COLLATE =
LC_CTYPE =
LC_MESSAGES =
LC_MONETARY =
LC_NUMERIC =
LC_TIME =
PATH = /export/home/njh/perl5/perlbrew/bin:/export/home/njh/perl5/perlbrew/perls/perl-5.26.1/bin:::/export/home/njh/bin:/usr/local/bin:/usr/bin:/usr/sbin
PERL5LIB =
PERL5OPT =
PERL5_CPANPLUS_IS_RUNNING = 1000
PERL5_CPAN_IS_RUNNING = 1000
PERLBREW_BASHRC_VERSION = 0.76
PERLBREW_HOME = /export/home/njh/.perlbrew
PERLBREW_MANPATH = /export/home/njh/perl5/perlbrew/perls/perl-5.26.1/man
PERLBREW_PATH = /export/home/njh/perl5/perlbrew/bin:/export/home/njh/perl5/perlbrew/perls/perl-5.26.1/bin
PERLBREW_PERL = perl-5.26.1
PERLBREW_ROOT = /export/home/njh/perl5/perlbrew
PERLBREW_VERSION = 0.76
PERL_USE_UNSAFE_INC = 1
SHELL = /usr/bin/bash
TERM = xterm
Perl special variables (and OS-specific diagnostics, for MSWin32):
$^X = /export/home/njh/perl5/perlbrew/perls/perl-5.26.1/bin/perl
$UID/$EUID = 100 / 100
$GID = 10 10
$EGID = 10 10
Perl module toolchain versions installed:
Module Have
------------------- ----------
CPAN 2.18
CPAN::Meta 2.150010
Cwd 3.67
ExtUtils::CBuilder 0.280225
ExtUtils::Command 7.24
ExtUtils::Install 2.04
ExtUtils::MakeMaker 7.24
ExtUtils::Manifest 1.70
ExtUtils::ParseXS 3.34
File::Spec 3.67
JSON n/a
JSON::PP 2.27400_02
Module::Build 0.4224
Module::Signature n/a
Parse::CPAN::Meta 2.150010
Test::Harness 3.38
Test::More 1.302073
YAML 1.24
YAML::Syck 1.30
version 0.9917
--
Summary of my perl5 (revision 5 version 26 subversion 1) configuration:
Platform:
osname=solaris
osvers=2.11
archname=i86pc-solaris
uname='sunos solaris11.bandsman.co.uk 5.11 11.3 i86pc i386 i86pc '
config_args='-de -Dprefix=/export/home/njh/perl5/perlbrew/perls/perl-5.26.1 -Aeval:scriptdir=/export/home/njh/perl5/perlbrew/perls/perl-5.26.1/bin'
hint=recommended
useposix=true
d_sigaction=define
useithreads=undef
usemultiplicity=undef
use64bitint=undef
use64bitall=undef
uselongdouble=undef
usemymalloc=n
default_inc_excludes_dot=define
bincompat5005=undef
Compiler:
cc='cc'
ccflags ='-fwrapv -fno-strict-aliasing -pipe -fstack-protector -I/usr/gnu/include -D_LARGEFILE_SOURCE -D_FILE_OFFSET_BITS=64 -D_FORTIFY_SOURCE=2 -DPERL_USE_SAFE_PUTENV'
optimize='-O'
cppflags='-fwrapv -fno-strict-aliasing -pipe -fstack-protector -I/usr/gnu/include'
ccversion=''
gccversion='4.8.2'
gccosandvers=''
intsize=4
longsize=4
ptrsize=4
doublesize=8
byteorder=1234
doublekind=3
d_longlong=define
longlongsize=8
d_longdbl=define
longdblsize=12
longdblkind=3
ivtype='long'
ivsize=4
nvtype='double'
nvsize=8
Off_t='off_t'
lseeksize=8
alignbytes=4
prototype=define
Linker and Libraries:
ld='cc'
ldflags =' -fstack-protector -L/usr/gnu/lib '
libpth=/usr/gcc/4.8/lib /usr/gcc/4.8/lib/gcc/i386-pc-solaris2.11/4.8.2/include-fixed /usr/lib /usr/gnu/lib /usr/ccs/lib
libs=-lpthread -lsocket -lnsl -lgdbm -ldb -ldl -lm -lc
perllibs=-lpthread -lsocket -lnsl -ldl -lm -lc
libc=/lib/libc.so
so=so
useshrplib=false
libperl=libperl.a
gnulibc_version=''
Dynamic Linking:
dlsrc=dl_dlopen.xs
dlext=so
d_dlsymun=undef
ccdlflags=' '
cccdlflags='-fPIC'
lddlflags='-shared -L/usr/gnu/lib -fstack-protector'
Characteristics of this binary (from libperl):
Compile-time options:
HAS_TIMES
PERLIO_LAYERS
PERL_COPY_ON_WRITE
PERL_DONT_CREATE_GVSV
PERL_HASH_FUNC_ONE_AT_A_TIME_HARD
PERL_MALLOC_WRAP
PERL_OP_PARENT
PERL_PRESERVE_IVUV
PERL_USE_SAFE_PUTENV
USE_LARGE_FILES
USE_LOCALE
USE_LOCALE_COLLATE
USE_LOCALE_CTYPE
USE_LOCALE_NUMERIC
USE_LOCALE_TIME
USE_PERLIO
USE_PERL_ATOF
Locally applied patches:
Devel::PatchPerl 1.34
Built under solaris
Compiled at Dec 10 2017 15:55:00
%ENV:
PERL5LIB=""
PERL5OPT=""
PERL5_CPANPLUS_IS_RUNNING="1000"
PERL5_CPAN_IS_RUNNING="1000"
PERLBREW_BASHRC_VERSION="0.76"
PERLBREW_HOME="/export/home/njh/.perlbrew"
PERLBREW_MANPATH="/export/home/njh/perl5/perlbrew/perls/perl-5.26.1/man"
PERLBREW_PATH="/export/home/njh/perl5/perlbrew/bin:/export/home/njh/perl5/perlbrew/perls/perl-5.26.1/bin"
PERLBREW_PERL="perl-5.26.1"
PERLBREW_ROOT="/export/home/njh/perl5/perlbrew"
PERLBREW_VERSION="0.76"
PERL_USE_UNSAFE_INC="1"
@INC:
/export/home/njh/perl5/perlbrew/perls/perl-5.26.1/lib/site_perl/5.26.1/i86pc-solaris
/export/home/njh/perl5/perlbrew/perls/perl-5.26.1/lib/site_perl/5.26.1
/export/home/njh/perl5/perlbrew/perls/perl-5.26.1/lib/5.26.1/i86pc-solaris
/export/home/njh/perl5/perlbrew/perls/perl-5.26.1/lib/5.26.1
.