Dist-Zilla-Plugin-CheckIssues v0.011 Perl 5 v5.16.3 MSWin32-x86-multi-thread

Status
Pass
From
Alexandr Ciornii (CHORNY)
Dist
Dist-Zilla-Plugin-CheckIssues v0.011
Platform
Perl 5 v5.16.3 MSWin32-x86-multi-thread
Date
2019-11-01 18:55:07
ID
48cce2bd-6c17-1014-a77a-36a37ee00c27
This distribution has been tested as part of the CPAN Testers
project, supporting the Perl programming language.  See
http://wiki.cpantesters.org/ for more information or email
questions to cpan-testers-discuss@perl.org


--
Dear Karen Etheridge,

This is a computer-generated report for Dist-Zilla-Plugin-CheckIssues-0.011
on perl 5.16.3, created by CPAN-Reporter-1.2018.

Thank you for uploading your work to CPAN.  Congratulations!
All tests were successful.

Sections of this report:

    * Tester comments
    * Program output
    * Prerequisites
    * Environment and other context

------------------------------
TESTER COMMENTS
------------------------------

Additional comments from tester:

this report is from an automated smoke testing program
and was not reviewed by a human for accuracy

------------------------------
PROGRAM OUTPUT
------------------------------

Output from 'C:\strawberry163\c\bin\dmake.exe test':

C:\strawberry163\perl\bin\perl.exe "-MExtUtils::Command::MM" "-e" "test_harness(0, 'blib\lib', 'blib\arch')" t/*.t
# 
# Versions for all modules listed in MYMETA.json (including optional ones):
# 
# === Configure Requires ===
# 
#     Module                       Want     Have
#     ------------------------ -------- --------
#     CPAN::Meta::Requirements 2.120620    2.122
#     ExtUtils::MakeMaker           any     6.64
#     Module::Metadata              any 1.000019
# 
# === Build Requires ===
# 
#     Module              Want Have
#     ------------------- ---- ----
#     ExtUtils::MakeMaker  any 6.64
# 
# === Test Requires ===
# 
#     Module                          Want     Have
#     ------------------------------- ---- --------
#     Dist::Zilla::App::Tester         any    5.013
#     Dist::Zilla::Role::MetaProvider  any    5.013
#     ExtUtils::MakeMaker              any     6.64
#     File::Spec                       any     3.40
#     File::pushd                      any    1.004
#     Moose::Util                      any   2.1204
#     Path::Tiny                       any    0.052
#     Test::DZil                       any    5.013
#     Test::Deep                       any    0.110
#     Test::Fatal                      any    0.010
#     Test::More                      0.88 1.001002
#     if                               any   0.0602
#     lib                              any     0.63
# 
# === Test Recommends ===
# 
#     Module         Want     Have
#     ---------- -------- --------
#     CPAN::Meta 2.120900 2.140640
# 
# === Runtime Requires ===
# 
#     Module                               Want     Have
#     -------------------------------- -------- --------
#     Dist::Zilla                      4.300039    5.013
#     Dist::Zilla::App                      any    5.013
#     Dist::Zilla::Role::BeforeRelease      any    5.013
#     Encode                                any     2.57
#     HTTP::Headers                         any     6.05
#     HTTP::Tiny                            any    0.043
#     JSON::MaybeXS                    1.001000 1.001000
#     List::Util                           1.33     1.38
#     Moose                                 any   2.1204
#     Term::ANSIColor                      3.00     4.02
#     namespace::autoclean                  any     0.13
#     strict                                any     1.07
#     warnings                              any     1.13
# 
# === Other Modules ===
# 
#     Module             Have
#     --------------- -------
#     App::Cmd          0.323
#     Encode             2.57
#     File::Temp         0.22
#     JSON::PP        2.27203
#     Log::Dispatch      2.41
#     Module::Runtime   0.014
#     Pod::Coverage      0.23
#     Sub::Name          0.05
#     YAML               0.90
#     autodie            2.23
# 
t/00-report-prereqs.t .. ok
Class::MOP::load_class is deprecated at C:/strawberry163/perl/site/lib/Class/MOP.pm line 73.
	Class::MOP::load_class('MooseX::Role::Parameterized::Meta::Role::Parameterized') called at C:/strawberry163/perl/vendor/lib/MooseX/Role/Parameterized/Meta/Role/Parameterizable.pm line 60
	MooseX::Role::Parameterized::Meta::Role::Parameterizable::generate_role('MooseX::Role::Parameterized::Meta::Role::Parameterizable=HASH...', 'consumer', 'Moose::Meta::Role=HASH(0x1ab65cc)', 'parameters', 'HASH(0x1b02c64)') called at C:/strawberry163/perl/vendor/lib/MooseX/Role/Parameterized/Meta/Role/Parameterizable.pm line 104
	MooseX::Role::Parameterized::Meta::Role::Parameterizable::apply('MooseX::Role::Parameterized::Meta::Role::Parameterizable=HASH...', 'Moose::Meta::Role=HASH(0x1ab65cc)') called at C:/strawberry163/perl/site/lib/Moose/Util.pm line 166
	Moose::Util::_apply_all_roles('Moose::Meta::Role=HASH(0x1ab65cc)', undef, 'MooseX::Getopt::GLD') called at C:/strawberry163/perl/site/lib/Moose/Util.pm line 108
	Moose::Util::apply_all_roles('Moose::Meta::Role=HASH(0x1ab65cc)', 'MooseX::Getopt::GLD') called at C:/strawberry163/perl/site/lib/Moose/Role.pm line 27
	Moose::Role::with('Moose::Meta::Role=HASH(0x1ab65cc)', 'MooseX::Getopt::GLD') called at C:/strawberry163/perl/site/lib/Moose/Exporter.pm line 405
	Moose::Role::with('MooseX::Getopt::GLD') called at C:/strawberry163/perl/site/lib/MooseX/Getopt.pm line 12
	require MooseX/Getopt.pm called at C:/strawberry163/perl/site/lib/MooseX/Types/Path/Class.pm line 35
	eval {...} called at C:/strawberry163/perl/site/lib/MooseX/Types/Path/Class.pm line 35
	require MooseX/Types/Path/Class.pm called at C:/strawberry163/perl/site/lib/Dist/Zilla/Dist/Builder.pm line 9
	Dist::Zilla::Dist::Builder::BEGIN() called at C:/strawberry163/perl/site/lib/MooseX/Getopt.pm line 0
	eval {...} called at C:/strawberry163/perl/site/lib/MooseX/Getopt.pm line 0
	require Dist/Zilla/Dist/Builder.pm called at C:/strawberry163/perl/site/lib/Module/Runtime.pm line 317
	Module::Runtime::require_module('Dist::Zilla::Dist::Builder') called at C:/strawberry163/perl/site/lib/Module/Runtime.pm line 381
	eval {...} called at C:/strawberry163/perl/site/lib/Module/Runtime.pm line 381
	Module::Runtime::use_package_optimistically('Dist::Zilla::Dist::Builder') called at C:/strawberry163/perl/site/lib/Moose/Util.pm line 343
	Moose::Util::_load_user_class('Dist::Zilla::Dist::Builder', undef) called at C:/strawberry163/perl/site/lib/Moose/Meta/Class.pm line 561
	Moose::Meta::Class::superclasses(undef, 'Dist::Zilla::Dist::Builder') called at C:/strawberry163/perl/site/lib/Moose.pm line 56
	Moose::extends('Moose::Meta::Class=HASH(0x128332c)', 'Dist::Zilla::Dist::Builder') called at C:/strawberry163/perl/site/lib/Moose/Exporter.pm line 405
	Moose::extends('Dist::Zilla::Dist::Builder') called at C:/strawberry163/perl/site/lib/Dist/Zilla/Tester.pm line 5
	require Dist/Zilla/Tester.pm called at C:/strawberry163/perl/site/lib/Test/DZil.pm line 6
	Test::DZil::BEGIN() called at C:/strawberry163/perl/site/lib/MooseX/Getopt.pm line 0
	eval {...} called at C:/strawberry163/perl/site/lib/MooseX/Getopt.pm line 0
	require Test/DZil.pm called at t/01-basic.t line 6
	main::BEGIN() called at C:/strawberry163/perl/site/lib/MooseX/Getopt.pm line 0
	eval {...} called at C:/strawberry163/perl/site/lib/MooseX/Getopt.pm line 0
Subroutine JSON::XS::Boolean::(-- redefined at C:/strawberry163/perl/lib/overload.pm line 49.
Subroutine JSON::XS::Boolean::(++ redefined at C:/strawberry163/perl/lib/overload.pm line 49.
Subroutine JSON::XS::Boolean::(0+ redefined at C:/strawberry163/perl/lib/overload.pm line 49.
t/01-basic.t ........... ok
Class::MOP::load_class is deprecated at C:/strawberry163/perl/site/lib/Class/MOP.pm line 73.
	Class::MOP::load_class('MooseX::Role::Parameterized::Meta::Role::Parameterized') called at C:/strawberry163/perl/vendor/lib/MooseX/Role/Parameterized/Meta/Role/Parameterizable.pm line 60
	MooseX::Role::Parameterized::Meta::Role::Parameterizable::generate_role('MooseX::Role::Parameterized::Meta::Role::Parameterizable=HASH...', 'consumer', 'Moose::Meta::Role=HASH(0x1ab6a7c)', 'parameters', 'HASH(0x1b02df4)') called at C:/strawberry163/perl/vendor/lib/MooseX/Role/Parameterized/Meta/Role/Parameterizable.pm line 104
	MooseX::Role::Parameterized::Meta::Role::Parameterizable::apply('MooseX::Role::Parameterized::Meta::Role::Parameterizable=HASH...', 'Moose::Meta::Role=HASH(0x1ab6a7c)') called at C:/strawberry163/perl/site/lib/Moose/Util.pm line 166
	Moose::Util::_apply_all_roles('Moose::Meta::Role=HASH(0x1ab6a7c)', undef, 'MooseX::Getopt::GLD') called at C:/strawberry163/perl/site/lib/Moose/Util.pm line 108
	Moose::Util::apply_all_roles('Moose::Meta::Role=HASH(0x1ab6a7c)', 'MooseX::Getopt::GLD') called at C:/strawberry163/perl/site/lib/Moose/Role.pm line 27
	Moose::Role::with('Moose::Meta::Role=HASH(0x1ab6a7c)', 'MooseX::Getopt::GLD') called at C:/strawberry163/perl/site/lib/Moose/Exporter.pm line 405
	Moose::Role::with('MooseX::Getopt::GLD') called at C:/strawberry163/perl/site/lib/MooseX/Getopt.pm line 12
	require MooseX/Getopt.pm called at C:/strawberry163/perl/site/lib/MooseX/Types/Path/Class.pm line 35
	eval {...} called at C:/strawberry163/perl/site/lib/MooseX/Types/Path/Class.pm line 35
	require MooseX/Types/Path/Class.pm called at C:/strawberry163/perl/site/lib/Dist/Zilla/Dist/Builder.pm line 9
	Dist::Zilla::Dist::Builder::BEGIN() called at C:/strawberry163/perl/site/lib/MooseX/Getopt.pm line 0
	eval {...} called at C:/strawberry163/perl/site/lib/MooseX/Getopt.pm line 0
	require Dist/Zilla/Dist/Builder.pm called at C:/strawberry163/perl/site/lib/Module/Runtime.pm line 317
	Module::Runtime::require_module('Dist::Zilla::Dist::Builder') called at C:/strawberry163/perl/site/lib/Module/Runtime.pm line 381
	eval {...} called at C:/strawberry163/perl/site/lib/Module/Runtime.pm line 381
	Module::Runtime::use_package_optimistically('Dist::Zilla::Dist::Builder') called at C:/strawberry163/perl/site/lib/Moose/Util.pm line 343
	Moose::Util::_load_user_class('Dist::Zilla::Dist::Builder', undef) called at C:/strawberry163/perl/site/lib/Moose/Meta/Class.pm line 561
	Moose::Meta::Class::superclasses(undef, 'Dist::Zilla::Dist::Builder') called at C:/strawberry163/perl/site/lib/Moose.pm line 56
	Moose::extends('Moose::Meta::Class=HASH(0x12834e4)', 'Dist::Zilla::Dist::Builder') called at C:/strawberry163/perl/site/lib/Moose/Exporter.pm line 405
	Moose::extends('Dist::Zilla::Dist::Builder') called at C:/strawberry163/perl/site/lib/Dist/Zilla/Tester.pm line 5
	require Dist/Zilla/Tester.pm called at C:/strawberry163/perl/site/lib/Test/DZil.pm line 6
	Test::DZil::BEGIN() called at C:/strawberry163/perl/site/lib/MooseX/Getopt.pm line 0
	eval {...} called at C:/strawberry163/perl/site/lib/MooseX/Getopt.pm line 0
	require Test/DZil.pm called at t/02-no-rt.t line 6
	main::BEGIN() called at C:/strawberry163/perl/site/lib/MooseX/Getopt.pm line 0
	eval {...} called at C:/strawberry163/perl/site/lib/MooseX/Getopt.pm line 0
Subroutine JSON::XS::Boolean::(-- redefined at C:/strawberry163/perl/lib/overload.pm line 49.
Subroutine JSON::XS::Boolean::(++ redefined at C:/strawberry163/perl/lib/overload.pm line 49.
Subroutine JSON::XS::Boolean::(0+ redefined at C:/strawberry163/perl/lib/overload.pm line 49.
t/02-no-rt.t ........... ok
Class::MOP::load_class is deprecated at C:/strawberry163/perl/site/lib/Class/MOP.pm line 73.
	Class::MOP::load_class('MooseX::Role::Parameterized::Meta::Role::Parameterized') called at C:/strawberry163/perl/vendor/lib/MooseX/Role/Parameterized/Meta/Role/Parameterizable.pm line 60
	MooseX::Role::Parameterized::Meta::Role::Parameterizable::generate_role('MooseX::Role::Parameterized::Meta::Role::Parameterizable=HASH...', 'consumer', 'Moose::Meta::Role=HASH(0x1ab6a7c)', 'parameters', 'HASH(0x1b02df4)') called at C:/strawberry163/perl/vendor/lib/MooseX/Role/Parameterized/Meta/Role/Parameterizable.pm line 104
	MooseX::Role::Parameterized::Meta::Role::Parameterizable::apply('MooseX::Role::Parameterized::Meta::Role::Parameterizable=HASH...', 'Moose::Meta::Role=HASH(0x1ab6a7c)') called at C:/strawberry163/perl/site/lib/Moose/Util.pm line 166
	Moose::Util::_apply_all_roles('Moose::Meta::Role=HASH(0x1ab6a7c)', undef, 'MooseX::Getopt::GLD') called at C:/strawberry163/perl/site/lib/Moose/Util.pm line 108
	Moose::Util::apply_all_roles('Moose::Meta::Role=HASH(0x1ab6a7c)', 'MooseX::Getopt::GLD') called at C:/strawberry163/perl/site/lib/Moose/Role.pm line 27
	Moose::Role::with('Moose::Meta::Role=HASH(0x1ab6a7c)', 'MooseX::Getopt::GLD') called at C:/strawberry163/perl/site/lib/Moose/Exporter.pm line 405
	Moose::Role::with('MooseX::Getopt::GLD') called at C:/strawberry163/perl/site/lib/MooseX/Getopt.pm line 12
	require MooseX/Getopt.pm called at C:/strawberry163/perl/site/lib/MooseX/Types/Path/Class.pm line 35
	eval {...} called at C:/strawberry163/perl/site/lib/MooseX/Types/Path/Class.pm line 35
	require MooseX/Types/Path/Class.pm called at C:/strawberry163/perl/site/lib/Dist/Zilla/Dist/Builder.pm line 9
	Dist::Zilla::Dist::Builder::BEGIN() called at C:/strawberry163/perl/site/lib/MooseX/Getopt.pm line 0
	eval {...} called at C:/strawberry163/perl/site/lib/MooseX/Getopt.pm line 0
	require Dist/Zilla/Dist/Builder.pm called at C:/strawberry163/perl/site/lib/Module/Runtime.pm line 317
	Module::Runtime::require_module('Dist::Zilla::Dist::Builder') called at C:/strawberry163/perl/site/lib/Module/Runtime.pm line 381
	eval {...} called at C:/strawberry163/perl/site/lib/Module/Runtime.pm line 381
	Module::Runtime::use_package_optimistically('Dist::Zilla::Dist::Builder') called at C:/strawberry163/perl/site/lib/Moose/Util.pm line 343
	Moose::Util::_load_user_class('Dist::Zilla::Dist::Builder', undef) called at C:/strawberry163/perl/site/lib/Moose/Meta/Class.pm line 561
	Moose::Meta::Class::superclasses(undef, 'Dist::Zilla::Dist::Builder') called at C:/strawberry163/perl/site/lib/Moose.pm line 56
	Moose::extends('Moose::Meta::Class=HASH(0x1282f04)', 'Dist::Zilla::Dist::Builder') called at C:/strawberry163/perl/site/lib/Moose/Exporter.pm line 405
	Moose::extends('Dist::Zilla::Dist::Builder') called at C:/strawberry163/perl/site/lib/Dist/Zilla/Tester.pm line 5
	require Dist/Zilla/Tester.pm called at C:/strawberry163/perl/site/lib/Test/DZil.pm line 6
	Test::DZil::BEGIN() called at C:/strawberry163/perl/site/lib/MooseX/Getopt.pm line 0
	eval {...} called at C:/strawberry163/perl/site/lib/MooseX/Getopt.pm line 0
	require Test/DZil.pm called at t/03-no-repo.t line 6
	main::BEGIN() called at C:/strawberry163/perl/site/lib/MooseX/Getopt.pm line 0
	eval {...} called at C:/strawberry163/perl/site/lib/MooseX/Getopt.pm line 0
t/03-no-repo.t ......... ok
Class::MOP::load_class is deprecated at C:/strawberry163/perl/site/lib/Class/MOP.pm line 73.
	Class::MOP::load_class('MooseX::Role::Parameterized::Meta::Role::Parameterized') called at C:/strawberry163/perl/vendor/lib/MooseX/Role/Parameterized/Meta/Role/Parameterizable.pm line 60
	MooseX::Role::Parameterized::Meta::Role::Parameterizable::generate_role('MooseX::Role::Parameterized::Meta::Role::Parameterizable=HASH...', 'consumer', 'Moose::Meta::Role=HASH(0x1ab7a7c)', 'parameters', 'HASH(0x1b03d2c)') called at C:/strawberry163/perl/vendor/lib/MooseX/Role/Parameterized/Meta/Role/Parameterizable.pm line 104
	MooseX::Role::Parameterized::Meta::Role::Parameterizable::apply('MooseX::Role::Parameterized::Meta::Role::Parameterizable=HASH...', 'Moose::Meta::Role=HASH(0x1ab7a7c)') called at C:/strawberry163/perl/site/lib/Moose/Util.pm line 166
	Moose::Util::_apply_all_roles('Moose::Meta::Role=HASH(0x1ab7a7c)', undef, 'MooseX::Getopt::GLD') called at C:/strawberry163/perl/site/lib/Moose/Util.pm line 108
	Moose::Util::apply_all_roles('Moose::Meta::Role=HASH(0x1ab7a7c)', 'MooseX::Getopt::GLD') called at C:/strawberry163/perl/site/lib/Moose/Role.pm line 27
	Moose::Role::with('Moose::Meta::Role=HASH(0x1ab7a7c)', 'MooseX::Getopt::GLD') called at C:/strawberry163/perl/site/lib/Moose/Exporter.pm line 405
	Moose::Role::with('MooseX::Getopt::GLD') called at C:/strawberry163/perl/site/lib/MooseX/Getopt.pm line 12
	require MooseX/Getopt.pm called at C:/strawberry163/perl/site/lib/MooseX/Types/Path/Class.pm line 35
	eval {...} called at C:/strawberry163/perl/site/lib/MooseX/Types/Path/Class.pm line 35
	require MooseX/Types/Path/Class.pm called at C:/strawberry163/perl/site/lib/Dist/Zilla/Dist/Builder.pm line 9
	Dist::Zilla::Dist::Builder::BEGIN() called at C:/strawberry163/perl/site/lib/MooseX/Getopt.pm line 0
	eval {...} called at C:/strawberry163/perl/site/lib/MooseX/Getopt.pm line 0
	require Dist/Zilla/Dist/Builder.pm called at C:/strawberry163/perl/site/lib/Module/Runtime.pm line 317
	Module::Runtime::require_module('Dist::Zilla::Dist::Builder') called at C:/strawberry163/perl/site/lib/Module/Runtime.pm line 381
	eval {...} called at C:/strawberry163/perl/site/lib/Module/Runtime.pm line 381
	Module::Runtime::use_package_optimistically('Dist::Zilla::Dist::Builder') called at C:/strawberry163/perl/site/lib/Moose/Util.pm line 343
	Moose::Util::_load_user_class('Dist::Zilla::Dist::Builder', undef) called at C:/strawberry163/perl/site/lib/Moose/Meta/Class.pm line 561
	Moose::Meta::Class::superclasses(undef, 'Dist::Zilla::Dist::Builder') called at C:/strawberry163/perl/site/lib/Moose.pm line 56
	Moose::extends('Moose::Meta::Class=HASH(0x1283ffc)', 'Dist::Zilla::Dist::Builder') called at C:/strawberry163/perl/site/lib/Moose/Exporter.pm line 405
	Moose::extends('Dist::Zilla::Dist::Builder') called at C:/strawberry163/perl/site/lib/Dist/Zilla/Tester.pm line 5
	require Dist/Zilla/Tester.pm called at C:/strawberry163/perl/site/lib/Test/DZil.pm line 6
	Test::DZil::BEGIN() called at C:/strawberry163/perl/site/lib/MooseX/Getopt.pm line 0
	eval {...} called at C:/strawberry163/perl/site/lib/MooseX/Getopt.pm line 0
	require Test/DZil.pm called at t/04-command.t line 6
	main::BEGIN() called at C:/strawberry163/perl/site/lib/MooseX/Getopt.pm line 0
	eval {...} called at C:/strawberry163/perl/site/lib/MooseX/Getopt.pm line 0
# got stderr output: Subroutine JSON::XS::Boolean::(-- redefined at C:/strawberry163/perl/lib/overload.pm line 49.
# Subroutine JSON::XS::Boolean::(++ redefined at C:/strawberry163/perl/lib/overload.pm line 49.
# Subroutine JSON::XS::Boolean::(0+ redefined at C:/strawberry163/perl/lib/overload.pm line 49.
t/04-command.t ......... ok
# Conflicts detected for Moose:
#   MooseX::Declare is version 0.35, but must be greater than version 0.35
#   MooseX::Method::Signatures is version 0.44, but must be greater than version 0.44
#   MooseX::NonMoose is version 0.22, but must be greater than version 0.24
#   MooseX::Role::Parameterized is version 1.00, but must be greater than version 1.00
#   MooseX::Traits is version 0.11, but must be greater than version 0.11
t/zzz-check-breaks.t ... ok
All tests successful.
Files=6, Tests=20, 17 wallclock secs ( 0.07 usr +  0.01 sys =  0.08 CPU)
Result: PASS

------------------------------
PREREQUISITES
------------------------------

Prerequisite modules loaded:

requires:

    Module                           Need     Have    
    -------------------------------- -------- --------
    Dist::Zilla                      4.300039 5.013   
    Dist::Zilla::App                 0        5.013   
    Dist::Zilla::Role::BeforeRelease 0        5.013   
    Encode                           0        2.57    
    HTTP::Headers                    0        6.05    
    HTTP::Tiny                       0        0.043   
    JSON::MaybeXS                    1.001000 1.001000
    List::Util                       1.33     1.38    
    Moose                            0        2.1204  
    namespace::autoclean             0        0.13    
    perl                             5.006    5.016003
    strict                           0        1.07    
    Term::ANSIColor                  3.00     4.02    
    warnings                         0        1.13    

build_requires:

    Module                           Need     Have    
    -------------------------------- -------- --------
    Dist::Zilla::App::Tester         0        5.013   
    Dist::Zilla::Role::MetaProvider  0        5.013   
    ExtUtils::MakeMaker              0        6.64    
    File::pushd                      0        1.004   
    File::Spec                       0        3.40    
    if                               0        0.0602  
    lib                              0        0.63    
    Moose::Util                      0        2.1204  
    Path::Tiny                       0        0.052   
    Test::Deep                       0        0.110   
    Test::DZil                       0        5.013   
    Test::Fatal                      0        0.010   
    Test::More                       0.88     1.001002

configure_requires:

    Module                           Need     Have    
    -------------------------------- -------- --------
    CPAN::Meta::Requirements         2.120620 2.122   
    ExtUtils::MakeMaker              0        6.64    
    Module::Metadata                 0        1.000019
    perl                             5.006    5.016003


------------------------------
ENVIRONMENT AND OTHER CONTEXT
------------------------------

Environment variables:

    AUTOMATED_TESTING = 1
    COMSPEC = C:\WINDOWS\system32\cmd.exe
    NUMBER_OF_PROCESSORS = 1
    PATH = C:\WINDOWS\system32;C:\WINDOWS;C:\WINDOWS\System32\Wbem;C:\strawberry163\c\bin;C:\strawberry163\perl\site\bin;C:\strawberry163\perl\bin
    PERL5LIB = 
    PERL5OPT = 
    PERL5_CPANPLUS_IS_RUNNING = 116
    PERL5_CPAN_IS_RUNNING = 116
    PERL5_CPAN_IS_RUNNING_IN_RECURSION = 1712,116
    PERL_CR_SMOKER_CURRENT = Dist-Zilla-Plugin-CheckIssues-0.011
    PERL_CR_SMOKER_RUNONCE = 1
    PERL_EXTUTILS_AUTOINSTALL = --defaultdeps
    PERL_MM_USE_DEFAULT = 1
    PROCESSOR_IDENTIFIER = x86 Family 18 Model 1 Stepping 0, AuthenticAMD
    TEMP = C:\DOCUME~1\c\LOCALS~1\Temp
    TERM = dumb

Perl special variables (and OS-specific diagnostics, for MSWin32):

    $^X = C:\strawberry163\perl\bin\perl.exe
    $UID/$EUID = 0 / 0
    $GID = 0
    $EGID = 0
    Win32::GetOSName = WinXP/.Net
    Win32::GetOSVersion = Service Pack 3, 5, 1, 2600, 2, 3, 0, 256, 1
    Win32::FsType = NTFS
    Win32::IsAdminUser = 1

Perl module toolchain versions installed:

    Module              Have    
    ------------------- --------
    CPAN                2.16    
    CPAN::Meta          2.140640
    Cwd                 3.40    
    ExtUtils::CBuilder  0.280206
    ExtUtils::Command   1.17    
    ExtUtils::Install   1.58    
    ExtUtils::MakeMaker 6.64    
    ExtUtils::Manifest  1.61    
    ExtUtils::ParseXS   3.24    
    File::Spec          3.40    
    JSON                2.90    
    JSON::PP            2.27203 
    Module::Build       0.4205  
    Module::Signature   0.70    
    Parse::CPAN::Meta   1.4414  
    Test::Harness       3.30    
    Test::More          1.001002
    YAML                0.90    
    YAML::Syck          1.24    
    version             0.9902  


--

Summary of my perl5 (revision 5 version 16 subversion 3) configuration:
   
  Platform:
    osname=MSWin32, osvers=4.0, archname=MSWin32-x86-multi-thread
    uname='Win32 strawberry-perl 5.16.3.1 #1 Tue Mar 12 13:55:20 2013 i386'
    config_args='undef'
    hint=recommended, useposix=true, d_sigaction=undef
    useithreads=define, usemultiplicity=define
    useperlio=define, d_sfio=undef, uselargefiles=define, usesocks=undef
    use64bitint=undef, use64bitall=undef, uselongdouble=undef
    usemymalloc=n, bincompat5005=undef
  Compiler:
    cc='gcc', ccflags =' -s -O2 -DWIN32  -DPERL_TEXTMODE_SCRIPTS -DPERL_IMPLICIT_CONTEXT -DPERL_IMPLICIT_SYS -fno-strict-aliasing -mms-bitfields',
    optimize='-s -O2',
    cppflags='-DWIN32'
    ccversion='', gccversion='4.6.3', gccosandvers=''
    intsize=4, longsize=4, ptrsize=4, doublesize=8, byteorder=1234
    d_longlong=undef, longlongsize=8, d_longdbl=define, longdblsize=12
    ivtype='long', ivsize=4, nvtype='double', nvsize=8, Off_t='long long', lseeksize=8
    alignbytes=8, prototype=define
  Linker and Libraries:
    ld='g++', ldflags ='-s -L"C:\strawberry163\perl\lib\CORE" -L"C:\strawberry163\c\lib"'
    libpth=C:\strawberry163\c\lib C:\strawberry163\c\i686-w64-mingw32\lib
    libs=-lmoldname -lkernel32 -luser32 -lgdi32 -lwinspool -lcomdlg32 -ladvapi32 -lshell32 -lole32 -loleaut32 -lnetapi32 -luuid -lws2_32 -lmpr -lwinmm -lversion -lodbc32 -lodbccp32 -lcomctl32
    perllibs=-lmoldname -lkernel32 -luser32 -lgdi32 -lwinspool -lcomdlg32 -ladvapi32 -lshell32 -lole32 -loleaut32 -lnetapi32 -luuid -lws2_32 -lmpr -lwinmm -lversion -lodbc32 -lodbccp32 -lcomctl32
    libc=, so=dll, useshrplib=true, libperl=libperl516.a
    gnulibc_version=''
  Dynamic Linking:
    dlsrc=dl_win32.xs, dlext=dll, d_dlsymun=undef, ccdlflags=' '
    cccdlflags=' ', lddlflags='-mdll -s -L"C:\strawberry163\perl\lib\CORE" -L"C:\strawberry163\c\lib"'


Characteristics of this binary (from libperl): 
  Compile-time options: HAS_TIMES HAVE_INTERP_INTERN MULTIPLICITY
                        PERLIO_LAYERS PERL_DONT_CREATE_GVSV
                        PERL_IMPLICIT_CONTEXT PERL_IMPLICIT_SYS
                        PERL_MALLOC_WRAP PERL_PRESERVE_IVUV PL_OP_SLAB_ALLOC
                        USE_ITHREADS USE_LARGE_FILES USE_LOCALE
                        USE_LOCALE_COLLATE USE_LOCALE_CTYPE
                        USE_LOCALE_NUMERIC USE_PERLIO USE_PERL_ATOF
  Built under MSWin32
  Compiled at Mar 12 2013 14:01:07
  %ENV:
    PERL5_CPANPLUS_IS_RUNNING="116"
    PERL5_CPAN_IS_RUNNING="116"
    PERL5_CPAN_IS_RUNNING_IN_RECURSION="1712,116"
    PERL_CR_SMOKER_CURRENT="Dist-Zilla-Plugin-CheckIssues-0.011"
    PERL_CR_SMOKER_RUNONCE="1"
    PERL_EXTUTILS_AUTOINSTALL="--defaultdeps"
    PERL_MM_USE_DEFAULT="1"
  @INC:
    C:/strawberry163/perl/site/lib
    C:/strawberry163/perl/vendor/lib
    C:/strawberry163/perl/lib
    .