File-Open-NoCache-ReadOnly v0.05 Perl 5 v5.8.9 x86_64-linux
- Status
- Pass
- From
- Andreas J. König (ANDK)
- Dist
-
File-Open-NoCache-ReadOnly v0.05
- Platform
- Perl 5 v5.8.9 x86_64-linux
- Date
- 2025-03-31 16:36:23
- ID
- 48bc0bf6-0e4e-11f0-9e0b-df17cf7d5d25
This distribution has been tested as part of the CPAN Testers
project, supporting the Perl programming language. See
http://wiki.cpantesters.org/ for more information or email
questions to cpan-testers-discuss@perl.org
--
Dear Nigel Horne,
This is a computer-generated report for File-Open-NoCache-ReadOnly-0.05
on perl 5.8.9, created by CPAN-Reporter-1.2018.
Thank you for uploading your work to CPAN. Congratulations!
All tests were successful.
Sections of this report:
* Tester comments
* Program output
* Prerequisites
* Environment and other context
------------------------------
TESTER COMMENTS
------------------------------
Additional comments from tester:
this report is from an automated smoke testing program
and was not reviewed by a human for accuracy
------------------------------
PROGRAM OUTPUT
------------------------------
Output from '/usr/bin/make test':
PERL_DL_NONLAZY=1 "/home/sand/src/perl/repoperls/installed-perls/host/k93msid/perl-5.8.9/6fdb/bin/perl" "-MExtUtils::Command::MM" "-MTest::Harness" "-e" "undef *Test::Harness::Switches; test_harness(0, 'blib/lib', 'blib/arch')" t/*.t
# Testing File::Open::NoCache::ReadOnly 0.05, Perl 5.008009, /home/sand/src/perl/repoperls/installed-perls/host/k93msid/perl-5.8.9/6fdb/bin/perl
t/00-load.t ........ ok
Usage: File::Open::NoCache::ReadOnly->new(filename => $filename) at t/20-new.t line 19.
t/20-new.t ......... ok
t/30-basics.t ...... ok
t/carp.t ........... ok
t/changes.t ........ skipped: Not running author tests
t/coverage.t ....... ok
t/critic.t ......... skipped: Not running author tests
t/cv.t ............. skipped: Not running author tests
t/dist.t ........... skipped: Not running author tests
t/eof.t ............ skipped: Not running author tests
t/eol.t ............ skipped: Not running author tests
t/gv.t ............. skipped: Not running author tests
t/kwalitee.t ....... skipped: Not running author tests
t/links.t .......... skipped: Not running author tests
t/manifest.t ....... skipped: Not running author tests
t/metrics.t ........ skipped: Not running author tests
t/modules-used.t ... skipped: Not running author tests
t/no404s.t ......... skipped: Not running author tests
# Author tests not required for installation
t/noopentickets.t .. ok
t/noplan.t ......... skipped: Not running author tests
Subroutine IO::AIO::fadvise redefined at t/open.t line 44.
# Ignore redefine messages
# Ignore message about attempt to close twice
Attempt to close object twice at t/open.t line 26.
/asdasd.not.there: No such file or directory at t/open.t line 29.
# Ignore usage messages
Usage: File::Open::NoCache::ReadOnly->new(filename => $filename) at t/open.t line 40.
t/open.t ........... ok
t/pod-cm.t ......... ok
t/pod-synopsis.t ... skipped: Not running author tests
t/pod.t ............ skipped: Not running author tests
t/port.t ........... skipped: Not running author tests
t/prereq.t ......... skipped: Not running author tests
t/snippets.t ....... skipped: Author tests not required for installation
t/spelling.t ....... skipped: Author tests not required for installation
t/strict.t ......... skipped: Not running author tests
t/unused.t ......... skipped: Not running author tests
t/vars.t ........... skipped: Not running author tests
All tests successful.
Files=31, Tests=41, 10 wallclock secs ( 0.08 usr 0.09 sys + 3.48 cusr 0.55 csys = 4.20 CPU)
Result: PASS
------------------------------
PREREQUISITES
------------------------------
Prerequisite modules loaded:
requires:
Module Need Have
------------------- -------- --------
Carp 0 1.50
IO::AIO 0 4.81
perl 5.006002 5.008009
Scalar::Util 0 1.68
build_requires:
Module Need Have
------------------- -------- --------
autodie 0 2.30
ExtUtils::MakeMaker 0 7.71_02
File::Temp 0 0.2311
IPC::System::Simple 0 1.30
Test::Carp 0 0.2
Test::DescribeMe 0 0.004
Test::Exception 0.42 0.43
Test::Most 0 0.38
Test::Needs 0 0.002010
Test::NoWarnings 0 1.04
Test::Script 1.12 1.26
Test::Warn 0 0.36
configure_requires:
Module Need Have
------------------- -------- --------
ExtUtils::MakeMaker 0 7.71_02
------------------------------
ENVIRONMENT AND OTHER CONTEXT
------------------------------
Environment variables:
AUTOMATED_TESTING = 1
LANG = en_US.UTF-8
LANGUAGE = en_US:en
PATH = /home/sand/bin:/usr/local/bin:/usr/bin:/bin:/usr/games:/usr/local/perl/bin:/usr/X11/bin:/sbin:/usr/sbin
PERL5LIB =
PERL5OPT =
PERL5_CPANPLUS_IS_RUNNING = 2486202
PERL5_CPAN_IS_RUNNING = 2486202
PERL_CANARY_STABILITY_NOPROMPT = 1
PERL_MM_USE_DEFAULT = 1
PERL_USE_UNSAFE_INC = 1
SHELL = /usr/bin/zsh
TERM = screen
Perl special variables (and OS-specific diagnostics, for MSWin32):
$^X = /home/sand/src/perl/repoperls/installed-perls/host/k93msid/perl-5.8.9/6fdb/bin/perl
$UID/$EUID = 1005 / 1005
$GID = 1005 1005
$EGID = 1005 1005
Perl module toolchain versions installed:
Module Have
------------------- --------
CPAN 2.38
CPAN::Meta 2.150010
Cwd 3.75
ExtUtils::CBuilder 0.280236
ExtUtils::Command 7.71_02
ExtUtils::Install 2.22
ExtUtils::MakeMaker 7.71_02
ExtUtils::Manifest 1.70
ExtUtils::ParseXS 3.51
File::Spec 3.75
JSON 4.10
JSON::PP 4.17_01
Module::Build 0.4234
Module::Signature 0.88
Parse::CPAN::Meta 2.150010
Test::Harness 3.43_04
Test::More 1.302201
YAML 1.31
YAML::Syck 1.31
version 0.9932
--
Summary of my perl5 (revision 5 version 8 subversion 9) configuration:
Platform:
osname=linux, osvers=5.3.0-2-amd64, archname=x86_64-linux
uname='linux k93msid 5.3.0-2-amd64 #1 smp debian 5.3.9-3 (2019-11-19) x86_64 gnulinux '
config_args='-Dprefix=/home/sand/src/perl/repoperls/installed-perls/host/k93msid/perl-5.8.9/6fdb -Dmyhostname=k93msid -Dinstallusrbinperl=n -Uversiononly -Dusedevel -des -Ui_db -Dlibswanted=cl pthread socket inet nsl gdbm dbm malloc dl ld sun m crypt sec util c cposix posix ucb BSD gdbm_compat -Uuseithreads -Uuselongdouble -Doptimize=-g'
hint=recommended, useposix=true, d_sigaction=define
usethreads=undef use5005threads=undef useithreads=undef usemultiplicity=undef
useperlio=define d_sfio=undef uselargefiles=define usesocks=undef
use64bitint=define use64bitall=define uselongdouble=undef
usemymalloc=n, bincompat5005=undef
Compiler:
cc='cc', ccflags ='-fwrapv -DDEBUGGING -fno-strict-aliasing -pipe -I/usr/local/include -D_LARGEFILE_SOURCE -D_FILE_OFFSET_BITS=64',
optimize='-g',
cppflags='-fwrapv -DDEBUGGING -fno-strict-aliasing -pipe -I/usr/local/include'
ccversion='', gccversion='9.2.1 20191109', gccosandvers=''
intsize=4, longsize=8, ptrsize=8, doublesize=8, byteorder=12345678
d_longlong=define, longlongsize=8, d_longdbl=define, longdblsize=16
ivtype='long', ivsize=8, nvtype='double', nvsize=8, Off_t='off_t', lseeksize=8
alignbytes=8, prototype=define
Linker and Libraries:
ld='cc', ldflags =' -L/usr/local/lib'
libpth=/usr/local/lib /lib/x86_64-linux-gnu /lib/../lib /usr/lib/x86_64-linux-gnu /usr/lib/../lib /lib /usr/lib
libs=-lpthread -lnsl -ldl -lm -lcrypt -lutil -lc
perllibs=-lpthread -lnsl -ldl -lm -lcrypt -lutil -lc
libc=libc-2.29.so, so=so, useshrplib=false, libperl=libperl.a
gnulibc_version='2.29'
Dynamic Linking:
dlsrc=dl_dlopen.xs, dlext=so, d_dlsymun=undef, ccdlflags='-Wl,-E'
cccdlflags='-fPIC', lddlflags='-shared -g -L/usr/local/lib'
Characteristics of this binary (from libperl):
Compile-time options: DEBUGGING PERL_MALLOC_WRAP USE_64_BIT_ALL
USE_64_BIT_INT USE_FAST_STDIO USE_LARGE_FILES
USE_PERLIO
Built under linux
Compiled at Nov 27 2019 05:06:43
%ENV:
PERL5LIB=""
PERL5OPT=""
PERL5_CPANPLUS_IS_RUNNING="2486202"
PERL5_CPAN_IS_RUNNING="2486202"
PERL_CANARY_STABILITY_NOPROMPT="1"
PERL_MM_USE_DEFAULT="1"
PERL_USE_UNSAFE_INC="1"
@INC:
/home/sand/src/perl/repoperls/installed-perls/host/k93msid/perl-5.8.9/6fdb/lib/5.8.9/x86_64-linux
/home/sand/src/perl/repoperls/installed-perls/host/k93msid/perl-5.8.9/6fdb/lib/5.8.9
/home/sand/src/perl/repoperls/installed-perls/host/k93msid/perl-5.8.9/6fdb/lib/site_perl/5.8.9/x86_64-linux
/home/sand/src/perl/repoperls/installed-perls/host/k93msid/perl-5.8.9/6fdb/lib/site_perl/5.8.9
.