Catalyst-Action-RenderView-ErrorHandler v0.100166 Perl 5 v5.38.3 x86_64-linux-ld

Status
Pass
From
Andreas J. König (ANDK)
Dist
Catalyst-Action-RenderView-ErrorHandler v0.100166
Platform
Perl 5 v5.38.3 x86_64-linux-ld
Date
2025-03-19 23:17:10
ID
48bbab8c-0518-11f0-94ce-c04de7d3e54d
This distribution has been tested as part of the CPAN Testers
project, supporting the Perl programming language.  See
http://wiki.cpantesters.org/ for more information or email
questions to cpan-testers-discuss@perl.org


--
Dear Andreas Marienborg,

This is a computer-generated report for Catalyst-Action-RenderView-ErrorHandler-0.100166
on perl 5.38.3, created by CPAN-Reporter-1.2020.

Thank you for uploading your work to CPAN.  Congratulations!
All tests were successful.

Sections of this report:

    * Tester comments
    * Program output
    * Prerequisites
    * Environment and other context

------------------------------
TESTER COMMENTS
------------------------------

Additional comments from tester:

this report is from an automated smoke testing program
and was not reviewed by a human for accuracy

------------------------------
PROGRAM OUTPUT
------------------------------

Output from '/usr/bin/make test':

PERL_DL_NONLAZY=1 "/tmp/basesmoker-reloperl-mogV/bin/perl" "-MExtUtils::Command::MM" "-MTest::Harness" "-e" "undef *Test::Harness::Switches; test_harness(0, 'blib/lib', 'blib/arch')" t/*.t
t/00-compile.t ................... ok
# Testing Catalyst::Action::RenderView::ErrorHandler 0.100166
t/00.load.t ...................... ok
# 
# 
# Generated by Dist::Zilla::Plugin::ReportVersions::Tiny v1.08
# perl: 5.038003 (wanted any version) on linux from /tmp/basesmoker-reloperl-mogV/bin/perl
# 
# Carp                                          => 1.54       (want any version)
# Catalyst                                      => 5.90132    (want any version)
# Catalyst::Action::RenderView                  => 0.17       (want any version)
# Catalyst::Controller                          => <undef>    (want any version)
# Catalyst::Test                                => <undef>    (want any version)
# Catalyst::View                                => <undef>    (want any version)
# Catalyst::View::TT                            => 0.46       (want any version)
# Class::Inspector                              => 1.36       (want any version)
# ExtUtils::MakeMaker                           => 7.70       (want 6.30)   
# File::Find                                    => 1.43       (want any version)
# File::Temp                                    => 0.2311     (want any version)
# FindBin                                       => 1.53       (want any version)
# HTTP::Request::AsCGI                          => 1.2        (want any version)
# MRO::Compat                                   => 0.15       (want any version)
# Moose                                         => 2.2207     (want any version)
# Moose::Role                                   => 2.2207     (want any version)
# Pod::Coverage::TrustPod                       => 0.100006   (want any version)
# Test::More                                    => 1.302209   (want 0.96)   
# Test::Pod                                     => 1.52       (want 1.41)   
# Test::Pod::Coverage                           => 1.10       (want 1.08)   
# Text::Diff                                    => 1.45       (want any version)
# base                                          => 2.27       (want any version)
# lib                                           => 0.65       (want any version)
# strict                                        => 1.12       (want any version)
# version                                       => 0.9933     (want 0.9901) 
# warnings                                      => 1.65       (want any version)
# 
# Thanks for using my code.  I hope it works for you.
# If not, please try and include this output in the bug report.
# That will help me reproduce the issue and solve your problem.
# 
t/000-report-versions-tiny.t ..... ok
Name "main::SAVEERR" used only once: possible typo at t/01.usage.t line 38.
t/01.usage.t ..................... ok
Name "main::SAVEERR" used only once: possible typo at t/02.defaults.t line 38.
t/02.defaults.t .................. ok
[debug] Debug messages enabled
[debug] Statistics enabled
[debug] Loaded PSGI Middleware:
.----------------------------------------------------------------------------.
| Catalyst::Middleware::Stash                                                |
| Plack::Middleware::HTTPExceptions                                          |
| Plack::Middleware::RemoveRedundantBody  0.09                               |
| Plack::Middleware::FixMissingBodyInRedirect  0.12                          |
| Plack::Middleware::ContentLength                                           |
| Plack::Middleware::MethodOverride  0.20                                    |
| Plack::Middleware::Head                                                    |
'----------------------------------------------------------------------------'

[debug] Loaded Request Data Handlers:
.----------------------------------------------------------------------------.
| application/json                                                           |
| application/x-www-form-urlencoded                                          |
'----------------------------------------------------------------------------'

[debug] Loaded dispatcher "Catalyst::Dispatcher"
[debug] Loaded engine "Catalyst::Engine"
[debug] Found home "/tmp/loop_over_bdir-935399-bfmh6H/Catalyst-Action-RenderView-ErrorHandler-0.100166-0/t/lib/TestApp3"
[debug] Loaded components:
.-----------------------------------------------------------------+----------.
| Class                                                           | Type     |
+-----------------------------------------------------------------+----------+
| TestApp3::Controller::Root                                      | instance |
| TestApp3::View::Default                                         | instance |
'-----------------------------------------------------------------+----------'

[debug] Loaded Private actions:
.----------------------+--------------------------------------+--------------.
| Private              | Class                                | Method       |
+----------------------+--------------------------------------+--------------+
| /test_ok             | TestApp3::Controller::Root           | test_ok      |
| /test_die            | TestApp3::Controller::Root           | test_die     |
| /end                 | TestApp3::Controller::Root           | end          |
'----------------------+--------------------------------------+--------------'

[debug] Loaded Path actions:
.-------------------------------------+--------------------------------------.
| Path                                | Private                              |
+-------------------------------------+--------------------------------------+
| /test_die/...                       | /test_die                            |
| /test_ok/...                        | /test_ok                             |
'-------------------------------------+--------------------------------------'

[info] TestApp powered by Catalyst 5.90132
Name "main::SAVEERR" used only once: possible typo at t/03.debug.t line 38.
t/03.debug.t ..................... ok
[debug] Debug messages enabled
[debug] Statistics enabled
[debug] Loaded PSGI Middleware:
.----------------------------------------------------------------------------.
| Catalyst::Middleware::Stash                                                |
| Plack::Middleware::HTTPExceptions                                          |
| Plack::Middleware::RemoveRedundantBody  0.09                               |
| Plack::Middleware::FixMissingBodyInRedirect  0.12                          |
| Plack::Middleware::ContentLength                                           |
| Plack::Middleware::MethodOverride  0.20                                    |
| Plack::Middleware::Head                                                    |
'----------------------------------------------------------------------------'

[debug] Loaded Request Data Handlers:
.----------------------------------------------------------------------------.
| application/x-www-form-urlencoded                                          |
| application/json                                                           |
'----------------------------------------------------------------------------'

[debug] Loaded dispatcher "Catalyst::Dispatcher"
[debug] Loaded engine "Catalyst::Engine"
[debug] Found home "/tmp/loop_over_bdir-935399-bfmh6H/Catalyst-Action-RenderView-ErrorHandler-0.100166-0/t/lib/TestApp4"
[debug] Loaded components:
.-----------------------------------------------------------------+----------.
| Class                                                           | Type     |
+-----------------------------------------------------------------+----------+
| TestApp4::Controller::Root                                      | instance |
| TestApp4::View::Default                                         | instance |
'-----------------------------------------------------------------+----------'

[debug] Loaded Private actions:
.----------------------+--------------------------------------+--------------.
| Private              | Class                                | Method       |
+----------------------+--------------------------------------+--------------+
| /end                 | TestApp4::Controller::Root           | end          |
| /test_die            | TestApp4::Controller::Root           | test_die     |
| /test_ok             | TestApp4::Controller::Root           | test_ok      |
| /test_404            | TestApp4::Controller::Root           | test_404     |
'----------------------+--------------------------------------+--------------'

[debug] Loaded Path actions:
.-------------------------------------+--------------------------------------.
| Path                                | Private                              |
+-------------------------------------+--------------------------------------+
| /test_404/...                       | /test_404                            |
| /test_die/...                       | /test_die                            |
| /test_ok/...                        | /test_ok                             |
'-------------------------------------+--------------------------------------'

[info] TestApp4 powered by Catalyst 5.90132
Name "main::SAVEERR" used only once: possible typo at t/04.debug_enable.t line 30.
t/04.debug_enable.t .............. ok
t/release-changes_has_content.t .. skipped: these tests are for release candidate testing
t/release-pod-coverage.t ......... skipped: these tests are for release candidate testing
t/release-pod-syntax.t ........... skipped: these tests are for release candidate testing
All tests successful.
Files=10, Tests=91,  4 wallclock secs ( 0.05 usr  0.00 sys +  3.95 cusr  0.65 csys =  4.65 CPU)
Result: PASS

------------------------------
PREREQUISITES
------------------------------

Prerequisite modules loaded:

requires:

    Module                       Need Have    
    ---------------------------- ---- --------
    Carp                         0    1.54    
    Catalyst::Action::RenderView 0    0.17    
    Catalyst::View::TT           0    0.46    
    Class::Inspector             0    1.36    
    Moose                        0    2.2207  
    Moose::Role                  0    2.2207  
    MRO::Compat                  0    0.15    
    strict                       0    1.12    
    warnings                     0    1.65    

build_requires:

    Module                       Need Have    
    ---------------------------- ---- --------
    base                         0    2.27    
    Catalyst                     0    5.90132 
    Catalyst::Controller         0    0       
    Catalyst::Test               0    0       
    Catalyst::View               0    0       
    Catalyst::View::TT           0    0.46    
    File::Find                   0    1.43    
    File::Temp                   0    0.2311  
    FindBin                      0    1.53    
    HTTP::Request::AsCGI         0    1.2     
    lib                          0    0.65    
    Test::More                   0.96 1.302209
    Text::Diff                   0    1.45    

configure_requires:

    Module                       Need Have    
    ---------------------------- ---- --------
    ExtUtils::MakeMaker          6.30 7.70    


------------------------------
ENVIRONMENT AND OTHER CONTEXT
------------------------------

Environment variables:

    AUTOMATED_TESTING = 1
    LANG = en_US.UTF-8
    LC_ADDRESS = de_DE.UTF-8
    LC_IDENTIFICATION = de_DE.UTF-8
    LC_MEASUREMENT = de_DE.UTF-8
    LC_MONETARY = de_DE.UTF-8
    LC_NAME = de_DE.UTF-8
    LC_NUMERIC = de_DE.UTF-8
    LC_PAPER = de_DE.UTF-8
    LC_TELEPHONE = de_DE.UTF-8
    LC_TIME = de_DE.UTF-8
    PATH = /home/sand/bin:/usr/local/bin:/usr/local/sbin:/usr/sbin:/usr/bin:/sbin:/bin:/usr/games:/usr/local/games:/snap/bin:/usr/local/perl/bin:/usr/X11/bin
    PERL = /tmp/basesmoker-reloperl-mogV/bin/perl
    PERL5LIB = /tmp/loop_over_bdir-935399-bfmh6H/OSDial-3.0.2.124-0/blib/arch:/tmp/loop_over_bdir-935399-bfmh6H/OSDial-3.0.2.124-0/blib/lib:/tmp/loop_over_bdir-935399-bfmh6H/Net-OpenVPN-DDNS-0.1-0/blib/arch:/tmp/loop_over_bdir-935399-bfmh6H/Net-OpenVPN-DDNS-0.1-0/blib/lib:/tmp/loop_over_bdir-935399-bfmh6H/dta-tokwrap-0.98-0/blib/arch:/tmp/loop_over_bdir-935399-bfmh6H/dta-tokwrap-0.98-0/blib/lib:/tmp/loop_over_bdir-935399-bfmh6H/App-nrun-v1.1.2-0/blib/arch:/tmp/loop_over_bdir-935399-bfmh6H/App-nrun-v1.1.2-0/blib/lib:/tmp/loop_over_bdir-935399-bfmh6H/Linux-InitFS-0.2-0/blib/arch:/tmp/loop_over_bdir-935399-bfmh6H/Linux-InitFS-0.2-0/blib/lib:/tmp/loop_over_bdir-935399-bfmh6H/Captive-Portal-4.10-0/blib/arch:/tmp/loop_over_bdir-935399-bfmh6H/Captive-Portal-4.10-0/blib/lib:/tmp/loop_over_bdir-935399-bfmh6H/RDF-NLP-SPARQLQuery-0.1-0/blib/arch:/tmp/loop_over_bdir-935399-bfmh6H/RDF-NLP-SPARQLQuery-0.1-0/blib/lib:/tmp/loop_over_bdir-935399-bfmh6H/Module-ScanDeps-Static-1.7.2-0/blib/arch:/tmp/loop_over_bdir-935399-bfmh6H/Module-ScanDeps-Static-1.7.2-0/blib/lib:/tmp/loop_over_bdir-935399-bfmh6H/Alien-SNMP-MIBDEV-2.020000-0/blib/arch:/tmp/loop_over_bdir-935399-bfmh6H/Alien-SNMP-MIBDEV-2.020000-0/blib/lib:/tmp/loop_over_bdir-935399-bfmh6H/Devel-Required-0.16-0/blib/arch:/tmp/loop_over_bdir-935399-bfmh6H/Devel-Required-0.16-0/blib/lib:/tmp/loop_over_bdir-935399-bfmh6H/triceps-2.1.0-0/blib/arch:/tmp/loop_over_bdir-935399-bfmh6H/triceps-2.1.0-0/blib/lib:/tmp/loop_over_bdir-935399-bfmh6H/Simulation-Automate-1.0.1-0/blib/arch:/tmp/loop_over_bdir-935399-bfmh6H/Simulation-Automate-1.0.1-0/blib/lib:/tmp/loop_over_bdir-935399-bfmh6H/NoZone-1.3-0/blib/arch:/tmp/loop_over_bdir-935399-bfmh6H/NoZone-1.3-0/blib/lib:/tmp/loop_over_bdir-935399-bfmh6H/Lingua-YaTeA-0.626-0/blib/arch:/tmp/loop_over_bdir-935399-bfmh6H/Lingua-YaTeA-0.626-0/blib/lib:/tmp/loop_over_bdir-935399-bfmh6H/XML-Bare-SAX-Parser-0.01-0/blib/arch:/tmp/loop_over_bdir-935399-bfmh6H/XML-Bare-SAX-Parser-0.01-0/blib/lib
    PERL5OPT = 
    PERL5_CPANPLUS_IS_RUNNING = 935407
    PERL5_CPAN_IS_RUNNING = 935407
    PERL_CANARY_STABILITY_NOPROMPT = 1
    PERL_MM_USE_DEFAULT = 1
    PERL_USE_UNSAFE_INC = 1
    SHELL = /usr/bin/zsh
    TERM = screen

Perl special variables (and OS-specific diagnostics, for MSWin32):

    $^X = /tmp/basesmoker-reloperl-mogV/bin/perl
    $UID/$EUID = 1005 / 1005
    $GID = 1005 1005
    $EGID = 1005 1005

Perl module toolchain versions installed:

    Module              Have    
    ------------------- --------
    CPAN                2.38    
    CPAN::Meta          2.150010
    Cwd                 3.89    
    ExtUtils::CBuilder  0.280238
    ExtUtils::Command   7.70    
    ExtUtils::Install   2.22    
    ExtUtils::MakeMaker 7.70    
    ExtUtils::Manifest  1.75    
    ExtUtils::ParseXS   3.51    
    File::Spec          3.88    
    JSON                4.10    
    JSON::PP            4.16    
    Module::Build       0.4234  
    Module::Signature   0.89    
    Parse::CPAN::Meta   2.150010
    Test2               1.302209
    Test::Harness       3.50    
    Test::More          1.302209
    YAML                1.31    
    YAML::Syck          1.34    
    version             0.9933  


--

Summary of my perl5 (revision 5 version 38 subversion 3) configuration:
  Commit id: 06697759559c52236e296a256776b1222f228163
  Platform:
    osname=linux
    osvers=6.8.0-52-generic
    archname=x86_64-linux-ld
    uname='linux k93jammy 6.8.0-52-generic #53~22.04.1-ubuntu smp preempt_dynamic wed jan 15 19:18:46 utc 2 x86_64 x86_64 x86_64 gnulinux '
    config_args='-Dprefix=/home/sand/src/perl/repoperls/installed-perls/host/k93jammy/v5.38.3/5674 -Dmyhostname=k93jammy -Dinstallusrbinperl=n -Uversiononly -Dusedevel -des -Ui_db -Dlibswanted=cl pthread socket inet nsl gdbm dbm malloc dl ld sun m crypt sec util c cposix posix ucb BSD gdbm_compat -Uuseithreads -Duselongdouble -DEBUGGING=-g'
    hint=recommended
    useposix=true
    d_sigaction=define
    useithreads=undef
    usemultiplicity=undef
    use64bitint=define
    use64bitall=define
    uselongdouble=define
    usemymalloc=n
    default_inc_excludes_dot=define
  Compiler:
    cc='cc'
    ccflags ='-fwrapv -fno-strict-aliasing -pipe -fstack-protector-strong -I/usr/local/include -D_LARGEFILE_SOURCE -D_FILE_OFFSET_BITS=64'
    optimize='-O2 -g'
    cppflags='-fwrapv -fno-strict-aliasing -pipe -fstack-protector-strong -I/usr/local/include'
    ccversion=''
    gccversion='11.4.0'
    gccosandvers=''
    intsize=4
    longsize=8
    ptrsize=8
    doublesize=8
    byteorder=12345678
    doublekind=3
    d_longlong=define
    longlongsize=8
    d_longdbl=define
    longdblsize=16
    longdblkind=3
    ivtype='long'
    ivsize=8
    nvtype='long double'
    nvsize=16
    Off_t='off_t'
    lseeksize=8
    alignbytes=16
    prototype=define
  Linker and Libraries:
    ld='cc'
    ldflags =' -fstack-protector-strong -L/usr/local/lib'
    libpth=/usr/local/lib /usr/lib/x86_64-linux-gnu /usr/lib /usr/lib64
    libs=-lpthread -lnsl -ldl -lm -lcrypt -lutil -lc
    perllibs=-lpthread -lnsl -ldl -lm -lcrypt -lutil -lc
    libc=/lib/x86_64-linux-gnu/libc.so.6
    so=so
    useshrplib=false
    libperl=libperl.a
    gnulibc_version='2.35'
  Dynamic Linking:
    dlsrc=dl_dlopen.xs
    dlext=so
    d_dlsymun=undef
    ccdlflags='-Wl,-E'
    cccdlflags='-fPIC'
    lddlflags='-shared -O2 -g -L/usr/local/lib -fstack-protector-strong'


Characteristics of this binary (from libperl): 
  Compile-time options:
    HAS_LONG_DOUBLE
    HAS_STRTOLD
    HAS_TIMES
    PERLIO_LAYERS
    PERL_COPY_ON_WRITE
    PERL_DONT_CREATE_GVSV
    PERL_HASH_FUNC_SIPHASH13
    PERL_HASH_USE_SBOX32
    PERL_MALLOC_WRAP
    PERL_OP_PARENT
    PERL_PRESERVE_IVUV
    PERL_USE_DEVEL
    PERL_USE_SAFE_PUTENV
    USE_64_BIT_ALL
    USE_64_BIT_INT
    USE_LARGE_FILES
    USE_LOCALE
    USE_LOCALE_COLLATE
    USE_LOCALE_CTYPE
    USE_LOCALE_NUMERIC
    USE_LOCALE_TIME
    USE_LONG_DOUBLE
    USE_PERLIO
    USE_PERL_ATOF
  Built under linux
  Compiled at Mar 11 2025 15:33:42
  %ENV:
    PERL="/tmp/basesmoker-reloperl-mogV/bin/perl"
    PERL5LIB="/tmp/loop_over_bdir-935399-bfmh6H/OSDial-3.0.2.124-0/blib/arch:/tmp/loop_over_bdir-935399-bfmh6H/OSDial-3.0.2.124-0/blib/lib:/tmp/loop_over_bdir-935399-bfmh6H/Net-OpenVPN-DDNS-0.1-0/blib/arch:/tmp/loop_over_bdir-935399-bfmh6H/Net-OpenVPN-DDNS-0.1-0/blib/lib:/tmp/loop_over_bdir-935399-bfmh6H/dta-tokwrap-0.98-0/blib/arch:/tmp/loop_over_bdir-935399-bfmh6H/dta-tokwrap-0.98-0/blib/lib:/tmp/loop_over_bdir-935399-bfmh6H/App-nrun-v1.1.2-0/blib/arch:/tmp/loop_over_bdir-935399-bfmh6H/App-nrun-v1.1.2-0/blib/lib:/tmp/loop_over_bdir-935399-bfmh6H/Linux-InitFS-0.2-0/blib/arch:/tmp/loop_over_bdir-935399-bfmh6H/Linux-InitFS-0.2-0/blib/lib:/tmp/loop_over_bdir-935399-bfmh6H/Captive-Portal-4.10-0/blib/arch:/tmp/loop_over_bdir-935399-bfmh6H/Captive-Portal-4.10-0/blib/lib:/tmp/loop_over_bdir-935399-bfmh6H/RDF-NLP-SPARQLQuery-0.1-0/blib/arch:/tmp/loop_over_bdir-935399-bfmh6H/RDF-NLP-SPARQLQuery-0.1-0/blib/lib:/tmp/loop_over_bdir-935399-bfmh6H/Module-ScanDeps-Static-1.7.2-0/blib/arch:/tmp/loop_over_bdir-935399-bfmh6H/Module-ScanDeps-Static-1.7.2-0/blib/lib:/tmp/loop_over_bdir-935399-bfmh6H/Alien-SNMP-MIBDEV-2.020000-0/blib/arch:/tmp/loop_over_bdir-935399-bfmh6H/Alien-SNMP-MIBDEV-2.020000-0/blib/lib:/tmp/loop_over_bdir-935399-bfmh6H/Devel-Required-0.16-0/blib/arch:/tmp/loop_over_bdir-935399-bfmh6H/Devel-Required-0.16-0/blib/lib:/tmp/loop_over_bdir-935399-bfmh6H/triceps-2.1.0-0/blib/arch:/tmp/loop_over_bdir-935399-bfmh6H/triceps-2.1.0-0/blib/lib:/tmp/loop_over_bdir-935399-bfmh6H/Simulation-Automate-1.0.1-0/blib/arch:/tmp/loop_over_bdir-935399-bfmh6H/Simulation-Automate-1.0.1-0/blib/lib:/tmp/loop_over_bdir-935399-bfmh6H/NoZone-1.3-0/blib/arch:/tmp/loop_over_bdir-935399-bfmh6H/NoZone-1.3-0/blib/lib:/tmp/loop_over_bdir-935399-bfmh6H/Lingua-YaTeA-0.626-0/blib/arch:/tmp/loop_over_bdir-935399-bfmh6H/Lingua-YaTeA-0.626-0/blib/lib:/tmp/loop_over_bdir-935399-bfmh6H/XML-Bare-SAX-Parser-0.01-0/blib/arch:/tmp/loop_over_bdir-935399-bfmh6H/XML-Bare-SAX-Parser-0.01-0/blib/lib"
    PERL5OPT=""
    PERL5_CPANPLUS_IS_RUNNING="935407"
    PERL5_CPAN_IS_RUNNING="935407"
    PERL_CANARY_STABILITY_NOPROMPT="1"
    PERL_MM_USE_DEFAULT="1"
    PERL_USE_UNSAFE_INC="1"
  @INC:
    /tmp/loop_over_bdir-935399-bfmh6H/OSDial-3.0.2.124-0/blib/arch
    /tmp/loop_over_bdir-935399-bfmh6H/OSDial-3.0.2.124-0/blib/lib
    /tmp/loop_over_bdir-935399-bfmh6H/Net-OpenVPN-DDNS-0.1-0/blib/arch
    /tmp/loop_over_bdir-935399-bfmh6H/Net-OpenVPN-DDNS-0.1-0/blib/lib
    /tmp/loop_over_bdir-935399-bfmh6H/dta-tokwrap-0.98-0/blib/arch
    /tmp/loop_over_bdir-935399-bfmh6H/dta-tokwrap-0.98-0/blib/lib
    /tmp/loop_over_bdir-935399-bfmh6H/App-nrun-v1.1.2-0/blib/arch
    /tmp/loop_over_bdir-935399-bfmh6H/App-nrun-v1.1.2-0/blib/lib
    /tmp/loop_over_bdir-935399-bfmh6H/Linux-InitFS-0.2-0/blib/arch
    /tmp/loop_over_bdir-935399-bfmh6H/Linux-InitFS-0.2-0/blib/lib
    /tmp/loop_over_bdir-935399-bfmh6H/Captive-Portal-4.10-0/blib/arch
    /tmp/loop_over_bdir-935399-bfmh6H/Captive-Portal-4.10-0/blib/lib
    /tmp/loop_over_bdir-935399-bfmh6H/RDF-NLP-SPARQLQuery-0.1-0/blib/arch
    /tmp/loop_over_bdir-935399-bfmh6H/RDF-NLP-SPARQLQuery-0.1-0/blib/lib
    /tmp/loop_over_bdir-935399-bfmh6H/Module-ScanDeps-Static-1.7.2-0/blib/arch
    /tmp/loop_over_bdir-935399-bfmh6H/Module-ScanDeps-Static-1.7.2-0/blib/lib
    /tmp/loop_over_bdir-935399-bfmh6H/Alien-SNMP-MIBDEV-2.020000-0/blib/arch
    /tmp/loop_over_bdir-935399-bfmh6H/Alien-SNMP-MIBDEV-2.020000-0/blib/lib
    /tmp/loop_over_bdir-935399-bfmh6H/Devel-Required-0.16-0/blib/arch
    /tmp/loop_over_bdir-935399-bfmh6H/Devel-Required-0.16-0/blib/lib
    /tmp/loop_over_bdir-935399-bfmh6H/triceps-2.1.0-0/blib/arch
    /tmp/loop_over_bdir-935399-bfmh6H/triceps-2.1.0-0/blib/lib
    /tmp/loop_over_bdir-935399-bfmh6H/Simulation-Automate-1.0.1-0/blib/arch
    /tmp/loop_over_bdir-935399-bfmh6H/Simulation-Automate-1.0.1-0/blib/lib
    /tmp/loop_over_bdir-935399-bfmh6H/NoZone-1.3-0/blib/arch
    /tmp/loop_over_bdir-935399-bfmh6H/NoZone-1.3-0/blib/lib
    /tmp/loop_over_bdir-935399-bfmh6H/Lingua-YaTeA-0.626-0/blib/arch
    /tmp/loop_over_bdir-935399-bfmh6H/Lingua-YaTeA-0.626-0/blib/lib
    /tmp/loop_over_bdir-935399-bfmh6H/XML-Bare-SAX-Parser-0.01-0/blib/arch
    /tmp/loop_over_bdir-935399-bfmh6H/XML-Bare-SAX-Parser-0.01-0/blib/lib
    /home/sand/src/perl/repoperls/installed-perls/host/k93jammy/v5.38.3/5674/lib/site_perl/5.38.3/x86_64-linux-ld
    /home/sand/src/perl/repoperls/installed-perls/host/k93jammy/v5.38.3/5674/lib/site_perl/5.38.3
    /home/sand/src/perl/repoperls/installed-perls/host/k93jammy/v5.38.3/5674/lib/5.38.3/x86_64-linux-ld
    /home/sand/src/perl/repoperls/installed-perls/host/k93jammy/v5.38.3/5674/lib/5.38.3
    .