Back
From: metabase:user:30ae4450-2aae-11df-837a-5e0a49663a4f
Subject: PASS Module-AnyEvent-Helper-v0.0.5 v5.18.0
Date: 2013-07-29T19:42:15Z
This distribution has been tested as part of the CPAN Testers
project, supporting the Perl programming language. See
http://wiki.cpantesters.org/ for more information or email
questions to cpan-testers-discuss@perl.org
--
Dear Yasutaka ATARASHI,
This is a computer-generated report for Module-AnyEvent-Helper-v0.0.5
on perl 5.18.0, created by CPAN-Reporter-1.2010_01.
Thank you for uploading your work to CPAN. Congratulations!
All tests were successful.
Sections of this report:
* Tester comments
* Program output
* Prerequisites
* Environment and other context
------------------------------
TESTER COMMENTS
------------------------------
Additional comments from tester:
this report is from an automated smoke testing program
and was not reviewed by a human for accuracy
------------------------------
PROGRAM OUTPUT
------------------------------
Output from 'C:\strawberry180\c\bin\dmake.exe test':
C:\strawberry180\perl\bin\perl.exe "-MExtUtils::Command::MM" "-e" "test_harness(0, 'blib\lib', 'blib\arch')" t/*.t
Too late to run CHECK block at C:/strawberry180/perl/site/lib/EV.pm line 123.
t/01_export.t ......................... ok
Too late to run CHECK block at C:/strawberry180/perl/site/lib/EV.pm line 123.
t/02_nest.t ........................... ok
t/03_transform.t ...................... ok
Too late to run CHECK block at C:/strawberry180/perl/site/lib/EV.pm line 123.
t/04_filter.t ......................... ok
t/05_transform4args.t ................. ok
Too late to run CHECK block at C:/strawberry180/perl/site/lib/EV.pm line 123.
t/06_filter4args.t .................... ok
t/07_filter_notexistent_transormer.t .. ok
Too late to run CHECK block at C:/strawberry180/perl/site/lib/EV.pm line 123.
t/08_filter_transformer.t ............. ok
t/09_transform_method.t ............... ok
Too late to run CHECK block at C:/strawberry180/perl/site/lib/EV.pm line 123.
t/10_filter_method.t .................. ok
t/11_transform_array.t ................ ok
Too late to run CHECK block at C:/strawberry180/perl/site/lib/EV.pm line 123.
t/12_filter_array.t ................... ok
t/13_export_function.t ................ ok
Too late to run CHECK block at C:/strawberry180/perl/site/lib/EV.pm line 123.
t/14_class_method.t ................... ok
Too late to run CHECK block at C:/strawberry180/perl/site/lib/EV.pm line 123.
t/15_exclude.t ........................ ok
t/author-critic.t ..................... skipped: these tests are for testing by the author
t/release-kwalitee.t .................. skipped: these tests are for release candidate testing
t/release-pod-coverage.t .............. skipped: these tests are for release candidate testing
t/release-pod-syntax.t ................ skipped: these tests are for release candidate testing
All tests successful.
Files=19, Tests=105, 14 wallclock secs ( 0.03 usr + 0.14 sys = 0.17 CPU)
Result: PASS
------------------------------
PREREQUISITES
------------------------------
Prerequisite modules loaded:
requires:
Module Need Have
------------------------ ---- ------
AnyEvent 0 7.04
Filter::PPI::Transform 0 v0.0.2
Filter::Simple 0 0.89
filtered 0 v0.0.7
parent 0 0.225
PPI 0 1.215
PPI::Transform::Sequence 0 v0.0.3
Scalar::Util 0 1.27
Try::Tiny 0 0.12
build_requires:
Module Need Have
------------------------ ---- ------
Test::Exception 0 0.32
configure_requires:
Module Need Have
------------------------ ---- ------
ExtUtils::MakeMaker 6.30 6.66
------------------------------
ENVIRONMENT AND OTHER CONTEXT
------------------------------
Environment variables:
AUTOMATED_TESTING = 1
COMSPEC = C:\WINDOWS\system32\cmd.exe
NUMBER_OF_PROCESSORS = 1
PATH = C:\Program Files\Far Manager\;C:\WINDOWS\system32;C:\WINDOWS;C:\WINDOWS\System32\Wbem;C:\strawberry180\c\bin;C:\strawberry180\perl\site\bin;C:\strawberry180\perl\bin
PERL5LIB = C:\strawberry180\cpan\build\PPI-Transform-Sequence-v0.0.3-XKXhpX/blib/arch;C:\strawberry180\cpan\build\PPI-Transform-Sequence-v0.0.3-XKXhpX/blib/lib;C:\strawberry180\cpan\build\filtered-v0.0.7-fOuQnB/blib/arch;C:\strawberry180\cpan\build\filtered-v0.0.7-fOuQnB/blib/lib;C:\strawberry180\cpan\build\Filter-PPI-Transform-v0.0.2-KEIIQ6/blib/arch;C:\strawberry180\cpan\build\Filter-PPI-Transform-v0.0.2-KEIIQ6/blib/lib;C:\strawberry180\cpan\build\LWP-UserAgent-Determined-1.06-xkN4kQ/blib/arch;C:\strawberry180\cpan\build\LWP-UserAgent-Determined-1.06-xkN4kQ/blib/lib
PERL5OPT =
PERL5_CPANPLUS_IS_RUNNING = 528
PERL5_CPAN_IS_RUNNING = 528
PERL5_CPAN_IS_RUNNING_IN_RECURSION = 1400,528
PERL_CR_SMOKER_CURRENT = AnyEvent-Net-Amazon-S3-v0.02.0.58
PERL_EXTUTILS_AUTOINSTALL = --defaultdeps
PERL_MM_USE_DEFAULT = 1
PROCESSOR_IDENTIFIER = x86 Family 16 Model 5 Stepping 3, AuthenticAMD
TEMP = C:\DOCUME~1\c\LOCALS~1\Temp
TERM = dumb
Perl special variables (and OS-specific diagnostics, for MSWin32):
$^X = C:\strawberry180\perl\bin\perl.exe
$UID/$EUID = 0 / 0
$GID = 0
$EGID = 0
Win32::GetOSName = WinXP/.Net
Win32::GetOSVersion = Service Pack 3, 5, 1, 2600, 2, 3, 0, 256, 1
Win32::FsType = NTFS
Win32::IsAdminUser = 1
Perl module toolchain versions installed:
Module Have
------------------- --------
CPAN 2.00
CPAN::Meta 2.130880
Cwd 3.40
ExtUtils::CBuilder 0.280210
ExtUtils::Command 1.17
ExtUtils::Install 1.59
ExtUtils::MakeMaker 6.66
ExtUtils::Manifest 1.63
ExtUtils::ParseXS 3.18
File::Spec 3.40
JSON 2.57
JSON::PP 2.27202
Module::Build 0.4005
Module::Signature n/a
Parse::CPAN::Meta 1.4404
Test::Harness 3.28
Test::More 0.98
YAML 0.84
YAML::Syck 1.27
version 0.9902
--
Summary of my perl5 (revision 5 version 18 subversion 0) configuration:
Platform:
osname=MSWin32, osvers=4.0, archname=MSWin32-x86-multi-thread-64int
uname='Win32 strawberry-perl 5.18.0.1 #1 Sat May 18 17:46:00 2013 i386'
config_args='undef'
hint=recommended, useposix=true, d_sigaction=undef
useithreads=define, usemultiplicity=define
useperlio=define, d_sfio=undef, uselargefiles=define, usesocks=undef
use64bitint=define, use64bitall=undef, uselongdouble=undef
usemymalloc=n, bincompat5005=undef
Compiler:
cc='gcc', ccflags =' -s -O2 -DWIN32 -DPERL_TEXTMODE_SCRIPTS -DPERL_IMPLICIT_CONTEXT -DPERL_IMPLICIT_SYS -DUSE_PERLIO -fno-strict-aliasing -mms-bitfields',
optimize='-s -O2',
cppflags='-DWIN32'
ccversion='', gccversion='4.6.3', gccosandvers=''
intsize=4, longsize=4, ptrsize=4, doublesize=8, byteorder=12345678
d_longlong=define, longlongsize=8, d_longdbl=define, longdblsize=12
ivtype='long long', ivsize=8, nvtype='double', nvsize=8, Off_t='long long', lseeksize=8
alignbytes=8, prototype=define
Linker and Libraries:
ld='g++', ldflags ='-s -L"C:\strawberry180\perl\lib\CORE" -L"C:\strawberry180\c\lib"'
libpth=C:\strawberry180\c\lib C:\strawberry180\c\i686-w64-mingw32\lib
libs=-lmoldname -lkernel32 -luser32 -lgdi32 -lwinspool -lcomdlg32 -ladvapi32 -lshell32 -lole32 -loleaut32 -lnetapi32 -luuid -lws2_32 -lmpr -lwinmm -lversion -lodbc32 -lodbccp32 -lcomctl32
perllibs=-lmoldname -lkernel32 -luser32 -lgdi32 -lwinspool -lcomdlg32 -ladvapi32 -lshell32 -lole32 -loleaut32 -lnetapi32 -luuid -lws2_32 -lmpr -lwinmm -lversion -lodbc32 -lodbccp32 -lcomctl32
libc=, so=dll, useshrplib=true, libperl=libperl518.a
gnulibc_version=''
Dynamic Linking:
dlsrc=dl_win32.xs, dlext=dll, d_dlsymun=undef, ccdlflags=' '
cccdlflags=' ', lddlflags='-mdll -s -L"C:\strawberry180\perl\lib\CORE" -L"C:\strawberry180\c\lib"'
Characteristics of this binary (from libperl):
Compile-time options: HAS_TIMES HAVE_INTERP_INTERN MULTIPLICITY
PERLIO_LAYERS PERL_DONT_CREATE_GVSV
PERL_HASH_FUNC_ONE_AT_A_TIME_HARD
PERL_IMPLICIT_CONTEXT PERL_IMPLICIT_SYS
PERL_MALLOC_WRAP PERL_PRESERVE_IVUV PERL_SAWAMPERSAND
USE_64_BIT_INT USE_ITHREADS USE_LARGE_FILES
USE_LOCALE USE_LOCALE_COLLATE USE_LOCALE_CTYPE
USE_LOCALE_NUMERIC USE_PERLIO USE_PERL_ATOF
Built under MSWin32
Compiled at May 18 2013 17:53:14
%ENV:
PERL5LIB="C:\strawberry180\cpan\build\PPI-Transform-Sequence-v0.0.3-XKXhpX/blib/arch;C:\strawberry180\cpan\build\PPI-Transform-Sequence-v0.0.3-XKXhpX/blib/lib;C:\strawberry180\cpan\build\filtered-v0.0.7-fOuQnB/blib/arch;C:\strawberry180\cpan\build\filtered-v0.0.7-fOuQnB/blib/lib;C:\strawberry180\cpan\build\Filter-PPI-Transform-v0.0.2-KEIIQ6/blib/arch;C:\strawberry180\cpan\build\Filter-PPI-Transform-v0.0.2-KEIIQ6/blib/lib;C:\strawberry180\cpan\build\LWP-UserAgent-Determined-1.06-xkN4kQ/blib/arch;C:\strawberry180\cpan\build\LWP-UserAgent-Determined-1.06-xkN4kQ/blib/lib"
PERL5_CPANPLUS_IS_RUNNING="528"
PERL5_CPAN_IS_RUNNING="528"
PERL5_CPAN_IS_RUNNING_IN_RECURSION="1400,528"
PERL_CR_SMOKER_CURRENT="AnyEvent-Net-Amazon-S3-v0.02.0.58"
PERL_EXTUTILS_AUTOINSTALL="--defaultdeps"
PERL_MM_USE_DEFAULT="1"
@INC:
C:\strawberry180\cpan\build\PPI-Transform-Sequence-v0.0.3-XKXhpX/blib/arch
C:\strawberry180\cpan\build\PPI-Transform-Sequence-v0.0.3-XKXhpX/blib/lib
C:\strawberry180\cpan\build\filtered-v0.0.7-fOuQnB/blib/arch
C:\strawberry180\cpan\build\filtered-v0.0.7-fOuQnB/blib/lib
C:\strawberry180\cpan\build\Filter-PPI-Transform-v0.0.2-KEIIQ6/blib/arch
C:\strawberry180\cpan\build\Filter-PPI-Transform-v0.0.2-KEIIQ6/blib/lib
C:\strawberry180\cpan\build\LWP-UserAgent-Determined-1.06-xkN4kQ/blib/arch
C:\strawberry180\cpan\build\LWP-UserAgent-Determined-1.06-xkN4kQ/blib/lib
C:/strawberry180/perl/site/lib
C:/strawberry180/perl/vendor/lib
C:/strawberry180/perl/lib
.