Mail-Mbox-MessageParser v1.5108 Perl 5 v5.10.0 amd64-netbsd
- Status
- Pass
- From
- Chris Williams (BINGOS)
- Dist
-
Mail-Mbox-MessageParser v1.5108
- Platform
- Perl 5 v5.10.0 amd64-netbsd
- Date
- 2018-07-11 01:18:14
- ID
- 48a8fcc8-84a8-11e8-bed3-aefc88cf513b
This distribution has been tested as part of the CPAN Testers
project, supporting the Perl programming language. See
http://wiki.cpantesters.org/ for more information or email
questions to cpan-testers-discuss@perl.org
--
Dear DCOPPIT,
This is a computer-generated error report created automatically by
CPANPLUS, version 0.9174. Testers personal comments may appear
at the end of this report.
Thank you for uploading your work to CPAN. Congratulations!
All tests were successful.
TEST RESULTS:
Below is the error stack from stage 'make test':
PERL_DL_NONLAZY=1 "/home/cpan/pit/bare/perl-5.10.0/bin/perl" "-MExtUtils::Command::MM" "-MTest::Harness" "-e" "undef *Test::Harness::Switches; test_harness(1, 'blib/lib', 'blib/arch')" t/*.t
t/000_standard__compile.t .......
1..6
ok 1 - Compile test for blib/lib/Mail/Mbox/MessageParser.pm
ok 2 - Compile test for blib/lib/Mail/Mbox/MessageParser/Perl.pm
ok 3 - Compile test for blib/lib/Mail/Mbox/MessageParser/Grep.pm
ok 4 - Compile test for blib/lib/Mail/Mbox/MessageParser/MetaInfo.pm
ok 5 - Compile test for blib/lib/Mail/Mbox/MessageParser/Cache.pm
ok 6 - Compile test for blib/lib/Mail/Mbox/MessageParser/Config.pm
ok
t/000_standard__perl_critic.t ... skipped: Author test. Set $ENV{TEST_AUTHOR} to a true value to run.
t/000_standard__pod.t ........... skipped: Test::Pod required for testing POD
t/000_standard__pod_coverage.t .. skipped: Test::Pod::Coverage required for testing POD coverage
t/appended_mailbox.t ............
1..6
Testing modified mailbox with Perl implementation
Comparing /tmp/wVCR8kCdDL to t/mailboxes/mailarc-1.txt
Output /tmp/wVCR8kCdDL looks good.
ok 1 - Computing differences
Testing modified mailbox with Cache implementation
Comparing /tmp/UGlW9DQ5gk to t/mailboxes/mailarc-1.txt
Output /tmp/UGlW9DQ5gk looks good.
ok 2 - Computing differences
Testing modified mailbox with Grep implementation
ok 3 # skip GNU grep not available
Testing modified mailbox with Perl implementation
Comparing /tmp/IvK4LMJjBm to t/mailboxes/mailarc-1.txt
Output /tmp/IvK4LMJjBm looks good.
ok 4 - Computing differences
Testing modified mailbox with Cache implementation
Comparing /tmp/6n2qnYid0f to t/mailboxes/mailarc-1.txt
Output /tmp/6n2qnYid0f looks good.
ok 5 - Computing differences
Testing modified mailbox with Grep implementation
ok 6 # skip GNU grep not available
ok
t/bzip2.t .......................
1..1
Running test:
"/bin/cat" "t/mailboxes/mailarc-2.txt.bz2" | "/usr/bin/bzip2" -cd
Comparing /tmp/c6vXosUJiL to t/results/mailarc-2.txt
Output /tmp/c6vXosUJiL looks good.
Comparing /tmp/TGwKT1Re4G to t/results/none
Output /tmp/TGwKT1Re4G looks good.
ok 1 - Computing differences
ok
t/endline.t .....................
1..8
Testing filename: t/mailboxes/mailarc-1-dos.txt
ok 1 - Dos endline expected
ok 2 - Dos endline expected
ok 3 - Dos endline expected
ok 4 # skip GNU grep not available
Testing filename: t/mailboxes/mailarc-1.txt
ok 5 - Unix endline expected
ok 6 - Unix endline expected
ok 7 - Unix endline expected
ok 8 # skip GNU grep not available
ok
t/filehandle_compressed.t .......
1..16
Testing filename: t/mailboxes/mailarc-2.txt.bz2
Comparing /tmp/6vliBIaIyT to t/mailboxes/mailarc-2.txt
Output /tmp/6vliBIaIyT looks good.
ok 1 - Computing differences
Comparing /tmp/n0NfMcyAF0 to t/mailboxes/mailarc-2.txt
Output /tmp/n0NfMcyAF0 looks good.
ok 2 - Computing differences
Comparing /tmp/rzYThU7Iic to t/mailboxes/mailarc-2.txt
Output /tmp/rzYThU7Iic looks good.
ok 3 - Computing differences
ok 4 # skip GNU grep not available
Testing filename: t/mailboxes/mailarc-2.txt.gz
Comparing /tmp/OOvD0x8eVB to t/mailboxes/mailarc-2.txt
Output /tmp/OOvD0x8eVB looks good.
ok 5 - Computing differences
Comparing /tmp/GggDFn4S6I to t/mailboxes/mailarc-2.txt
Output /tmp/GggDFn4S6I looks good.
ok 6 - Computing differences
Comparing /tmp/kkH70qrb0h to t/mailboxes/mailarc-2.txt
Output /tmp/kkH70qrb0h looks good.
ok 7 - Computing differences
ok 8 # skip GNU grep not available
Testing filename: t/mailboxes/mailarc-2.txt.lz
ok 9 # skip lzip not available
ok 10 # skip lzip not available
ok 11 # skip lzip not available
ok 12 # skip lzip not available
Testing filename: t/mailboxes/mailarc-2.txt.xz
Comparing /tmp/DFWHWhwJ1B to t/mailboxes/mailarc-2.txt
Output /tmp/DFWHWhwJ1B looks good.
ok 13 - Computing differences
Comparing /tmp/KrXI9SYDFm to t/mailboxes/mailarc-2.txt
Output /tmp/KrXI9SYDFm looks good.
ok 14 - Computing differences
Comparing /tmp/aYwsQ_d81t to t/mailboxes/mailarc-2.txt
Output /tmp/aYwsQ_d81t looks good.
ok 15 - Computing differences
ok 16 # skip GNU grep not available
ok
t/filehandle_noncompressed.t ....
1..44
Testing filename: t/mailboxes/binary_body.txt
Comparing /tmp/FNKhOUyCZD to t/mailboxes/binary_body.txt
Output /tmp/FNKhOUyCZD looks good.
ok 1 - Computing differences
Comparing /tmp/L0LSEB8WcE to t/mailboxes/binary_body.txt
Output /tmp/L0LSEB8WcE looks good.
ok 2 - Computing differences
Comparing /tmp/wah7T7SvF1 to t/mailboxes/binary_body.txt
Output /tmp/wah7T7SvF1 looks good.
ok 3 - Computing differences
ok 4 # skip GNU grep not available
Testing filename: t/mailboxes/hessbug.txt
Comparing /tmp/aoX4QV2Q5h to t/mailboxes/hessbug.txt
Output /tmp/aoX4QV2Q5h looks good.
ok 5 - Computing differences
Comparing /tmp/4T8g9Gqbjc to t/mailboxes/hessbug.txt
Output /tmp/4T8g9Gqbjc looks good.
ok 6 - Computing differences
Comparing /tmp/EKUbMjvjUc to t/mailboxes/hessbug.txt
Output /tmp/EKUbMjvjUc looks good.
ok 7 - Computing differences
ok 8 # skip GNU grep not available
Testing filename: t/mailboxes/invalid-boundaries.txt
Comparing /tmp/IDiOHRiB7s to t/mailboxes/invalid-boundaries.txt
Output /tmp/IDiOHRiB7s looks good.
ok 9 - Computing differences
Comparing /tmp/BO4QrXzUgb to t/mailboxes/invalid-boundaries.txt
Output /tmp/BO4QrXzUgb looks good.
ok 10 - Computing differences
Comparing /tmp/fKUa_Jz2rI to t/mailboxes/invalid-boundaries.txt
Output /tmp/fKUa_Jz2rI looks good.
ok 11 - Computing differences
ok 12 # skip GNU grep not available
Testing filename: t/mailboxes/mailarc-1-dos.txt
Comparing /tmp/wAqXbM9JBl to t/mailboxes/mailarc-1-dos.txt
Output /tmp/wAqXbM9JBl looks good.
ok 13 - Computing differences
Comparing /tmp/9juwi5Zq7f to t/mailboxes/mailarc-1-dos.txt
Output /tmp/9juwi5Zq7f looks good.
ok 14 - Computing differences
Comparing /tmp/TimVbJAjpy to t/mailboxes/mailarc-1-dos.txt
Output /tmp/TimVbJAjpy looks good.
ok 15 - Computing differences
ok 16 # skip GNU grep not available
Testing filename: t/mailboxes/mailarc-1.txt
Comparing /tmp/_Wht2VahNI to t/mailboxes/mailarc-1.txt
Output /tmp/_Wht2VahNI looks good.
ok 17 - Computing differences
Comparing /tmp/4YNs0k8bnM to t/mailboxes/mailarc-1.txt
Output /tmp/4YNs0k8bnM looks good.
ok 18 - Computing differences
Comparing /tmp/93fUVoW2tG to t/mailboxes/mailarc-1.txt
Output /tmp/93fUVoW2tG looks good.
ok 19 - Computing differences
ok 20 # skip GNU grep not available
Testing filename: t/mailboxes/mailarc-2.txt
Comparing /tmp/z_5DNFnuhm to t/mailboxes/mailarc-2.txt
Output /tmp/z_5DNFnuhm looks good.
ok 21 - Computing differences
Comparing /tmp/hqB2Bicdvw to t/mailboxes/mailarc-2.txt
Output /tmp/hqB2Bicdvw looks good.
ok 22 - Computing differences
Comparing /tmp/bylxCwkiOu to t/mailboxes/mailarc-2.txt
Output /tmp/bylxCwkiOu looks good.
ok 23 - Computing differences
ok 24 # skip GNU grep not available
Testing filename: t/mailboxes/mailarc-3.txt
Comparing /tmp/xtCadW9YvX to t/mailboxes/mailarc-3.txt
Output /tmp/xtCadW9YvX looks good.
ok 25 - Computing differences
Comparing /tmp/H8G3aXE_XO to t/mailboxes/mailarc-3.txt
Output /tmp/H8G3aXE_XO looks good.
ok 26 - Computing differences
Comparing /tmp/uTwYXHEhwL to t/mailboxes/mailarc-3.txt
Output /tmp/uTwYXHEhwL looks good.
ok 27 - Computing differences
ok 28 # skip GNU grep not available
Testing filename: t/mailboxes/mailseparators.txt
Comparing /tmp/pYeeHHYnlg to t/mailboxes/mailseparators.txt
Output /tmp/pYeeHHYnlg looks good.
ok 29 - Computing differences
Comparing /tmp/2GMdPXYaGR to t/mailboxes/mailseparators.txt
Output /tmp/2GMdPXYaGR looks good.
ok 30 - Computing differences
Comparing /tmp/WUGZlQUF3l to t/mailboxes/mailseparators.txt
Output /tmp/WUGZlQUF3l looks good.
ok 31 - Computing differences
ok 32 # skip GNU grep not available
Testing filename: t/mailboxes/malformed.txt
Comparing /tmp/Kd9wHC6WFx to t/mailboxes/malformed.txt
Output /tmp/Kd9wHC6WFx looks good.
ok 33 - Computing differences
Comparing /tmp/0knxf4aduD to t/mailboxes/malformed.txt
Output /tmp/0knxf4aduD looks good.
ok 34 - Computing differences
Comparing /tmp/UONb1oobhs to t/mailboxes/malformed.txt
Output /tmp/UONb1oobhs looks good.
ok 35 - Computing differences
ok 36 # skip GNU grep not available
Testing filename: t/mailboxes/newlines_at_beginning.txt
Comparing /tmp/nGIXdGkTPk to t/mailboxes/newlines_at_beginning.txt
Output /tmp/nGIXdGkTPk looks good.
ok 37 - Computing differences
Comparing /tmp/SJekzLGxqY to t/mailboxes/newlines_at_beginning.txt
Output /tmp/SJekzLGxqY looks good.
ok 38 - Computing differences
Comparing /tmp/6Xqp4QsF2E to t/mailboxes/newlines_at_beginning.txt
Output /tmp/6Xqp4QsF2E looks good.
ok 39 - Computing differences
ok 40 # skip GNU grep not available
Testing filename: t/mailboxes/vm-emacs.txt
Comparing /tmp/O4_o6KhZfP to t/mailboxes/vm-emacs.txt
Output /tmp/O4_o6KhZfP looks good.
ok 41 - Computing differences
Comparing /tmp/mgGjuH0rhL to t/mailboxes/vm-emacs.txt
Output /tmp/mgGjuH0rhL looks good.
ok 42 - Computing differences
Comparing /tmp/JQ_rgvXaCi to t/mailboxes/vm-emacs.txt
Output /tmp/JQ_rgvXaCi looks good.
ok 43 - Computing differences
ok 44 # skip GNU grep not available
ok
t/filename_compressed.t .........
1..4
Testing filename: t/mailboxes/mailarc-2.txt.bz2
Comparing /tmp/KyglCLXc1g to t/mailboxes/mailarc-2.txt
Output /tmp/KyglCLXc1g looks good.
ok 1 - Computing differences
Testing filename: t/mailboxes/mailarc-2.txt.gz
Comparing /tmp/ttg5uLLB_y to t/mailboxes/mailarc-2.txt
Output /tmp/ttg5uLLB_y looks good.
ok 2 - Computing differences
Testing filename: t/mailboxes/mailarc-2.txt.lz
ok 3 # skip lzip not available
Testing filename: t/mailboxes/mailarc-2.txt.xz
Comparing /tmp/Px6xGXNCd7 to t/mailboxes/mailarc-2.txt
Output /tmp/Px6xGXNCd7 looks good.
ok 4 - Computing differences
ok
t/filename_noncompressed.t ......
1..11
Testing filename: t/mailboxes/binary_body.txt
Comparing /tmp/L21u8oMQdF to t/mailboxes/binary_body.txt
Output /tmp/L21u8oMQdF looks good.
ok 1 - Computing differences
Testing filename: t/mailboxes/hessbug.txt
Comparing /tmp/RYUBThWtry to t/mailboxes/hessbug.txt
Output /tmp/RYUBThWtry looks good.
ok 2 - Computing differences
Testing filename: t/mailboxes/invalid-boundaries.txt
Comparing /tmp/REqwCwkJMX to t/mailboxes/invalid-boundaries.txt
Output /tmp/REqwCwkJMX looks good.
ok 3 - Computing differences
Testing filename: t/mailboxes/mailarc-1-dos.txt
Comparing /tmp/oacGokDFHM to t/mailboxes/mailarc-1-dos.txt
Output /tmp/oacGokDFHM looks good.
ok 4 - Computing differences
Testing filename: t/mailboxes/mailarc-1.txt
Comparing /tmp/jwAO7Kaj8K to t/mailboxes/mailarc-1.txt
Output /tmp/jwAO7Kaj8K looks good.
ok 5 - Computing differences
Testing filename: t/mailboxes/mailarc-2.txt
Comparing /tmp/RXrGH7u9kp to t/mailboxes/mailarc-2.txt
Output /tmp/RXrGH7u9kp looks good.
ok 6 - Computing differences
Testing filename: t/mailboxes/mailarc-3.txt
Comparing /tmp/wz90bKR656 to t/mailboxes/mailarc-3.txt
Output /tmp/wz90bKR656 looks good.
ok 7 - Computing differences
Testing filename: t/mailboxes/mailseparators.txt
Comparing /tmp/mhLTRV_jeX to t/mailboxes/mailseparators.txt
Output /tmp/mhLTRV_jeX looks good.
ok 8 - Computing differences
Testing filename: t/mailboxes/malformed.txt
Comparing /tmp/l6t0AEw7z5 to t/mailboxes/malformed.txt
Output /tmp/l6t0AEw7z5 looks good.
ok 9 - Computing differences
Testing filename: t/mailboxes/newlines_at_beginning.txt
Comparing /tmp/y8TwxQcSvo to t/mailboxes/newlines_at_beginning.txt
Output /tmp/y8TwxQcSvo looks good.
ok 10 - Computing differences
Testing filename: t/mailboxes/vm-emacs.txt
Comparing /tmp/8CE9uemDLU to t/mailboxes/vm-emacs.txt
Output /tmp/8CE9uemDLU looks good.
ok 11 - Computing differences
ok
t/grep.t ........................
1..4
Running test:
unset LC_ALL LC_COLLATE LANG LC_CTYPE LC_MESSAGES; grep --extended-regexp --line-number --byte-offset --binary-files=text "^From [^:]+(:[0-9][0-9]){1,2}( *([A-Z]{2,6}|[+-]?[0-9]{4})){1,3}( remote from .*)?
?$" t/mailboxes/mailarc-1.txt
ok 1 # skip 1
Running test:
unset LC_ALL LC_COLLATE LANG LC_CTYPE LC_MESSAGES; grep --extended-regexp --line-number --byte-offset --binary-files=text "^From [^:]+(:[0-9][0-9]){1,2}( *([A-Z]{2,6}|[+-]?[0-9]{4})){1,3}( remote from .*)?
?$" t/mailboxes/mailarc-2.txt
ok 2 # skip 1
Running test:
unset LC_ALL LC_COLLATE LANG LC_CTYPE LC_MESSAGES; grep --extended-regexp --line-number --byte-offset --binary-files=text "^From [^:]+(:[0-9][0-9]){1,2}( *([A-Z]{2,6}|[+-]?[0-9]{4})){1,3}( remote from .*)?
?$" t/mailboxes/mailarc-3.txt
ok 3 # skip 1
Running test:
unset LC_ALL LC_COLLATE LANG LC_CTYPE LC_MESSAGES; grep --extended-regexp --line-number --byte-offset --binary-files=text "^From [^:]+(:[0-9][0-9]){1,2}( *([A-Z]{2,6}|[+-]?[0-9]{4})){1,3}( remote from .*)?
?$" t/mailboxes/mailseparators.txt
ok 4 # skip 1
ok
t/gzip.t ........................
1..1
Running test:
"/bin/cat" "t/mailboxes/mailarc-2.txt.gz" | "/usr/bin/gzip" -cd
Comparing /tmp/0L1TdIWBfS to t/results/mailarc-2.txt
Output /tmp/0L1TdIWBfS looks good.
Comparing /tmp/7s2iAvhlh_ to t/results/none
Output /tmp/7s2iAvhlh_ looks good.
ok 1 - Computing differences
ok
t/length.t ......................
1..30
Testing filename: t/mailboxes/binary_body.txt
Comparing /tmp/u3hC1YXekK to t/results/length_binary_body.stdout
Output /tmp/u3hC1YXekK looks good.
ok 1 - Computing differences
Comparing /tmp/VZg3r8vKVs to t/results/length_binary_body.stdout
Output /tmp/VZg3r8vKVs looks good.
ok 2 - Computing differences
ok 3 # skip GNU grep not available
Testing filename: t/mailboxes/hessbug.txt
Comparing /tmp/762E1Uaj_F to t/results/length_hessbug.stdout
Output /tmp/762E1Uaj_F looks good.
ok 4 - Computing differences
Comparing /tmp/c5cWKSZ5TH to t/results/length_hessbug.stdout
Output /tmp/c5cWKSZ5TH looks good.
ok 5 - Computing differences
ok 6 # skip GNU grep not available
Testing filename: t/mailboxes/invalid-boundaries.txt
Comparing /tmp/RTetNuQ7Kq to t/results/length_invalid-boundaries.stdout
Output /tmp/RTetNuQ7Kq looks good.
ok 7 - Computing differences
Comparing /tmp/yX9CB9NI9h to t/results/length_invalid-boundaries.stdout
Output /tmp/yX9CB9NI9h looks good.
ok 8 - Computing differences
ok 9 # skip GNU grep not available
Testing filename: t/mailboxes/mailarc-1-dos.txt
Comparing /tmp/_SSVh7sG6l to t/results/length_mailarc-1-dos.stdout
Output /tmp/_SSVh7sG6l looks good.
ok 10 - Computing differences
Comparing /tmp/RAq_4BTUdk to t/results/length_mailarc-1-dos.stdout
Output /tmp/RAq_4BTUdk looks good.
ok 11 - Computing differences
ok 12 # skip GNU grep not available
Testing filename: t/mailboxes/mailarc-1.txt
Comparing /tmp/VMxiMegALc to t/results/length_mailarc-1.stdout
Output /tmp/VMxiMegALc looks good.
ok 13 - Computing differences
Comparing /tmp/tq4m8sWeZy to t/results/length_mailarc-1.stdout
Output /tmp/tq4m8sWeZy looks good.
ok 14 - Computing differences
ok 15 # skip GNU grep not available
Testing filename: t/mailboxes/mailarc-2.txt
Comparing /tmp/RXAt8DFXEX to t/results/length_mailarc-2.stdout
Output /tmp/RXAt8DFXEX looks good.
ok 16 - Computing differences
Comparing /tmp/F3gBPbKAuS to t/results/length_mailarc-2.stdout
Output /tmp/F3gBPbKAuS looks good.
ok 17 - Computing differences
ok 18 # skip GNU grep not available
Testing filename: t/mailboxes/mailarc-3.txt
Comparing /tmp/kDJY0C0wkO to t/results/length_mailarc-3.stdout
Output /tmp/kDJY0C0wkO looks good.
ok 19 - Computing differences
Comparing /tmp/n4IcPQ39X3 to t/results/length_mailarc-3.stdout
Output /tmp/n4IcPQ39X3 looks good.
ok 20 - Computing differences
ok 21 # skip GNU grep not available
Testing filename: t/mailboxes/mailseparators.txt
Comparing /tmp/XOzhgqa7n5 to t/results/length_mailseparators.stdout
Output /tmp/XOzhgqa7n5 looks good.
ok 22 - Computing differences
Comparing /tmp/7lkqJ1yjZv to t/results/length_mailseparators.stdout
Output /tmp/7lkqJ1yjZv looks good.
ok 23 - Computing differences
ok 24 # skip GNU grep not available
Testing filename: t/mailboxes/malformed.txt
Comparing /tmp/EwLIIyO9Wr to t/results/length_malformed.stdout
Output /tmp/EwLIIyO9Wr looks good.
ok 25 - Computing differences
Comparing /tmp/dDm8GvPvVW to t/results/length_malformed.stdout
Output /tmp/dDm8GvPvVW looks good.
ok 26 - Computing differences
ok 27 # skip GNU grep not available
Testing filename: t/mailboxes/newlines_at_beginning.txt
Comparing /tmp/majXaQsXA4 to t/results/length_newlines_at_beginning.stdout
Output /tmp/majXaQsXA4 looks good.
ok 28 - Computing differences
Comparing /tmp/mpWAqd5BAx to t/results/length_newlines_at_beginning.stdout
Output /tmp/mpWAqd5BAx looks good.
ok 29 - Computing differences
ok 30 # skip GNU grep not available
ok
t/line_number.t .................
1..30
Testing filename: t/mailboxes/binary_body.txt
Comparing /tmp/XzBkzDpxRt to t/results/line_number_binary_body.stdout
Output /tmp/XzBkzDpxRt looks good.
ok 1 - Computing differences
Comparing /tmp/3Ge9Xe67ig to t/results/line_number_binary_body.stdout
Output /tmp/3Ge9Xe67ig looks good.
ok 2 - Computing differences
ok 3 # skip GNU grep not available
Testing filename: t/mailboxes/hessbug.txt
Comparing /tmp/XE5YyiLOVR to t/results/line_number_hessbug.stdout
Output /tmp/XE5YyiLOVR looks good.
ok 4 - Computing differences
Comparing /tmp/9sVJJ_sfru to t/results/line_number_hessbug.stdout
Output /tmp/9sVJJ_sfru looks good.
ok 5 - Computing differences
ok 6 # skip GNU grep not available
Testing filename: t/mailboxes/invalid-boundaries.txt
Comparing /tmp/V1vxD9Lcf6 to t/results/line_number_invalid-boundaries.stdout
Output /tmp/V1vxD9Lcf6 looks good.
ok 7 - Computing differences
Comparing /tmp/rmlonqJKYF to t/results/line_number_invalid-boundaries.stdout
Output /tmp/rmlonqJKYF looks good.
ok 8 - Computing differences
ok 9 # skip GNU grep not available
Testing filename: t/mailboxes/mailarc-1-dos.txt
Comparing /tmp/izYj1nOVvj to t/results/line_number_mailarc-1-dos.stdout
Output /tmp/izYj1nOVvj looks good.
ok 10 - Computing differences
Comparing /tmp/87F7qsy3Oi to t/results/line_number_mailarc-1-dos.stdout
Output /tmp/87F7qsy3Oi looks good.
ok 11 - Computing differences
ok 12 # skip GNU grep not available
Testing filename: t/mailboxes/mailarc-1.txt
Comparing /tmp/DDOyFz1_a7 to t/results/line_number_mailarc-1.stdout
Output /tmp/DDOyFz1_a7 looks good.
ok 13 - Computing differences
Comparing /tmp/hXQnkHZlgP to t/results/line_number_mailarc-1.stdout
Output /tmp/hXQnkHZlgP looks good.
ok 14 - Computing differences
ok 15 # skip GNU grep not available
Testing filename: t/mailboxes/mailarc-2.txt
Comparing /tmp/__SlReCjm0 to t/results/line_number_mailarc-2.stdout
Output /tmp/__SlReCjm0 looks good.
ok 16 - Computing differences
Comparing /tmp/o8wOiUOvGg to t/results/line_number_mailarc-2.stdout
Output /tmp/o8wOiUOvGg looks good.
ok 17 - Computing differences
ok 18 # skip GNU grep not available
Testing filename: t/mailboxes/mailarc-3.txt
Comparing /tmp/C4dfe_BtcS to t/results/line_number_mailarc-3.stdout
Output /tmp/C4dfe_BtcS looks good.
ok 19 - Computing differences
Comparing /tmp/QeCAHnSZYq to t/results/line_number_mailarc-3.stdout
Output /tmp/QeCAHnSZYq looks good.
ok 20 - Computing differences
ok 21 # skip GNU grep not available
Testing filename: t/mailboxes/mailseparators.txt
Comparing /tmp/owyEMNVbfc to t/results/line_number_mailseparators.stdout
Output /tmp/owyEMNVbfc looks good.
ok 22 - Computing differences
Comparing /tmp/fLq4is2DpL to t/results/line_number_mailseparators.stdout
Output /tmp/fLq4is2DpL looks good.
ok 23 - Computing differences
ok 24 # skip GNU grep not available
Testing filename: t/mailboxes/malformed.txt
Comparing /tmp/M8VqGcqcs8 to t/results/line_number_malformed.stdout
Output /tmp/M8VqGcqcs8 looks good.
ok 25 - Computing differences
Comparing /tmp/HhYr0AVVqH to t/results/line_number_malformed.stdout
Output /tmp/HhYr0AVVqH looks good.
ok 26 - Computing differences
ok 27 # skip GNU grep not available
Testing filename: t/mailboxes/newlines_at_beginning.txt
Comparing /tmp/_StkstCAmM to t/results/line_number_newlines_at_beginning.stdout
Output /tmp/_StkstCAmM looks good.
ok 28 - Computing differences
Comparing /tmp/OTfsfTVFtC to t/results/line_number_newlines_at_beginning.stdout
Output /tmp/OTfsfTVFtC looks good.
ok 29 - Computing differences
ok 30 # skip GNU grep not available
ok
t/lzip.t ........................
1..1
Running test:
"/bin/cat" "t/mailboxes/mailarc-2.txt.lz" | "lzip" -cd
ok 1 # skip lzip not available
ok
t/number.t ......................
1..30
Testing filename: t/mailboxes/binary_body.txt
Comparing /tmp/7oEE45B9Fl to t/results/number_binary_body.stdout
Output /tmp/7oEE45B9Fl looks good.
ok 1 - Computing differences
Comparing /tmp/tfSk5qmHPV to t/results/number_binary_body.stdout
Output /tmp/tfSk5qmHPV looks good.
ok 2 - Computing differences
ok 3 # skip GNU grep not available
Testing filename: t/mailboxes/hessbug.txt
Comparing /tmp/OvZfzBeYYl to t/results/number_hessbug.stdout
Output /tmp/OvZfzBeYYl looks good.
ok 4 - Computing differences
Comparing /tmp/f5s2l2fHad to t/results/number_hessbug.stdout
Output /tmp/f5s2l2fHad looks good.
ok 5 - Computing differences
ok 6 # skip GNU grep not available
Testing filename: t/mailboxes/invalid-boundaries.txt
Comparing /tmp/LzY18r6JTn to t/results/number_invalid-boundaries.stdout
Output /tmp/LzY18r6JTn looks good.
ok 7 - Computing differences
Comparing /tmp/sYcqTx6zCv to t/results/number_invalid-boundaries.stdout
Output /tmp/sYcqTx6zCv looks good.
ok 8 - Computing differences
ok 9 # skip GNU grep not available
Testing filename: t/mailboxes/mailarc-1-dos.txt
Comparing /tmp/YvY5vYEucc to t/results/number_mailarc-1-dos.stdout
Output /tmp/YvY5vYEucc looks good.
ok 10 - Computing differences
Comparing /tmp/rF3TwL2T6c to t/results/number_mailarc-1-dos.stdout
Output /tmp/rF3TwL2T6c looks good.
ok 11 - Computing differences
ok 12 # skip GNU grep not available
Testing filename: t/mailboxes/mailarc-1.txt
Comparing /tmp/QmEffEZqXC to t/results/number_mailarc-1.stdout
Output /tmp/QmEffEZqXC looks good.
ok 13 - Computing differences
Comparing /tmp/j5kUu9hyQa to t/results/number_mailarc-1.stdout
Output /tmp/j5kUu9hyQa looks good.
ok 14 - Computing differences
ok 15 # skip GNU grep not available
Testing filename: t/mailboxes/mailarc-2.txt
Comparing /tmp/8EpCA6MB4X to t/results/number_mailarc-2.stdout
Output /tmp/8EpCA6MB4X looks good.
ok 16 - Computing differences
Comparing /tmp/AzAazzm01w to t/results/number_mailarc-2.stdout
Output /tmp/AzAazzm01w looks good.
ok 17 - Computing differences
ok 18 # skip GNU grep not available
Testing filename: t/mailboxes/mailarc-3.txt
Comparing /tmp/eR2SUS8jWi to t/results/number_mailarc-3.stdout
Output /tmp/eR2SUS8jWi looks good.
ok 19 - Computing differences
Comparing /tmp/13QgW81Ops to t/results/number_mailarc-3.stdout
Output /tmp/13QgW81Ops looks good.
ok 20 - Computing differences
ok 21 # skip GNU grep not available
Testing filename: t/mailboxes/mailseparators.txt
Comparing /tmp/_y4N2NcoLm to t/results/number_mailseparators.stdout
Output /tmp/_y4N2NcoLm looks good.
ok 22 - Computing differences
Comparing /tmp/MBzOkWLIL6 to t/results/number_mailseparators.stdout
Output /tmp/MBzOkWLIL6 looks good.
ok 23 - Computing differences
ok 24 # skip GNU grep not available
Testing filename: t/mailboxes/malformed.txt
Comparing /tmp/ONhcdMv4ce to t/results/number_malformed.stdout
Output /tmp/ONhcdMv4ce looks good.
ok 25 - Computing differences
Comparing /tmp/vAT3o4VJEh to t/results/number_malformed.stdout
Output /tmp/vAT3o4VJEh looks good.
ok 26 - Computing differences
ok 27 # skip GNU grep not available
Testing filename: t/mailboxes/newlines_at_beginning.txt
Comparing /tmp/7r1YsXzlym to t/results/number_newlines_at_beginning.stdout
Output /tmp/7r1YsXzlym looks good.
ok 28 - Computing differences
Comparing /tmp/q7zFpEE9gl to t/results/number_newlines_at_beginning.stdout
Output /tmp/q7zFpEE9gl looks good.
ok 29 - Computing differences
ok 30 # skip GNU grep not available
ok
t/offset.t ......................
1..30
Testing filename: t/mailboxes/binary_body.txt
Comparing /tmp/Fdr1tVTcUO to t/results/offset_binary_body.stdout
Output /tmp/Fdr1tVTcUO looks good.
ok 1 - Computing differences
Comparing /tmp/way5QP8fMf to t/results/offset_binary_body.stdout
Output /tmp/way5QP8fMf looks good.
ok 2 - Computing differences
ok 3 # skip GNU grep not available
Testing filename: t/mailboxes/hessbug.txt
Comparing /tmp/XnWTUDlovV to t/results/offset_hessbug.stdout
Output /tmp/XnWTUDlovV looks good.
ok 4 - Computing differences
Comparing /tmp/BDmM3sm1KJ to t/results/offset_hessbug.stdout
Output /tmp/BDmM3sm1KJ looks good.
ok 5 - Computing differences
ok 6 # skip GNU grep not available
Testing filename: t/mailboxes/invalid-boundaries.txt
Comparing /tmp/yMv04mgopU to t/results/offset_invalid-boundaries.stdout
Output /tmp/yMv04mgopU looks good.
ok 7 - Computing differences
Comparing /tmp/tVFL9CzEIp to t/results/offset_invalid-boundaries.stdout
Output /tmp/tVFL9CzEIp looks good.
ok 8 - Computing differences
ok 9 # skip GNU grep not available
Testing filename: t/mailboxes/mailarc-1-dos.txt
Comparing /tmp/Lo9YBhnYc6 to t/results/offset_mailarc-1-dos.stdout
Output /tmp/Lo9YBhnYc6 looks good.
ok 10 - Computing differences
Comparing /tmp/Aw0F1Atr7z to t/results/offset_mailarc-1-dos.stdout
Output /tmp/Aw0F1Atr7z looks good.
ok 11 - Computing differences
ok 12 # skip GNU grep not available
Testing filename: t/mailboxes/mailarc-1.txt
Comparing /tmp/zQ5VgmvCc_ to t/results/offset_mailarc-1.stdout
Output /tmp/zQ5VgmvCc_ looks good.
ok 13 - Computing differences
Comparing /tmp/si4BnGudGd to t/results/offset_mailarc-1.stdout
Output /tmp/si4BnGudGd looks good.
ok 14 - Computing differences
ok 15 # skip GNU grep not available
Testing filename: t/mailboxes/mailarc-2.txt
Comparing /tmp/YXVwcbzekZ to t/results/offset_mailarc-2.stdout
Output /tmp/YXVwcbzekZ looks good.
ok 16 - Computing differences
Comparing /tmp/R4GBiZ_6ud to t/results/offset_mailarc-2.stdout
Output /tmp/R4GBiZ_6ud looks good.
ok 17 - Computing differences
ok 18 # skip GNU grep not available
Testing filename: t/mailboxes/mailarc-3.txt
Comparing /tmp/nW0jp4sEl4 to t/results/offset_mailarc-3.stdout
Output /tmp/nW0jp4sEl4 looks good.
ok 19 - Computing differences
Comparing /tmp/LiUp1FhHkn to t/results/offset_mailarc-3.stdout
Output /tmp/LiUp1FhHkn looks good.
ok 20 - Computing differences
ok 21 # skip GNU grep not available
Testing filename: t/mailboxes/mailseparators.txt
Comparing /tmp/lTfF_tLoWI to t/results/offset_mailseparators.stdout
Output /tmp/lTfF_tLoWI looks good.
ok 22 - Computing differences
Comparing /tmp/VaGjfykC4Z to t/results/offset_mailseparators.stdout
Output /tmp/VaGjfykC4Z looks good.
ok 23 - Computing differences
ok 24 # skip GNU grep not available
Testing filename: t/mailboxes/malformed.txt
Comparing /tmp/p4KCQfTtOP to t/results/offset_malformed.stdout
Output /tmp/p4KCQfTtOP looks good.
ok 25 - Computing differences
Comparing /tmp/KCwELfzhf3 to t/results/offset_malformed.stdout
Output /tmp/KCwELfzhf3 looks good.
ok 26 - Computing differences
ok 27 # skip GNU grep not available
Testing filename: t/mailboxes/newlines_at_beginning.txt
Comparing /tmp/6gwRx88Aix to t/results/offset_newlines_at_beginning.stdout
Output /tmp/6gwRx88Aix looks good.
ok 28 - Computing differences
Comparing /tmp/sFs33YqT3w to t/results/offset_newlines_at_beginning.stdout
Output /tmp/sFs33YqT3w looks good.
ok 29 - Computing differences
ok 30 # skip GNU grep not available
ok
t/prologue.t ....................
1..33
Testing filename: t/mailboxes/binary_body.txt
Comparing /tmp/6kki75CuAD to t/mailboxes/binary_body.txt
Output /tmp/6kki75CuAD looks good.
ok 1 - Computing differences
Comparing /tmp/fXH_IbvNE7 to t/mailboxes/binary_body.txt
Output /tmp/fXH_IbvNE7 looks good.
ok 2 - Computing differences
ok 3 # skip GNU grep not available
Testing filename: t/mailboxes/hessbug.txt
Comparing /tmp/YrXFHYLeqc to t/mailboxes/hessbug.txt
Output /tmp/YrXFHYLeqc looks good.
ok 4 - Computing differences
Comparing /tmp/f8WeVKoXHT to t/mailboxes/hessbug.txt
Output /tmp/f8WeVKoXHT looks good.
ok 5 - Computing differences
ok 6 # skip GNU grep not available
Testing filename: t/mailboxes/invalid-boundaries.txt
Comparing /tmp/F0oZQQ6A5D to t/mailboxes/invalid-boundaries.txt
Output /tmp/F0oZQQ6A5D looks good.
ok 7 - Computing differences
Comparing /tmp/TYI7leKPaV to t/mailboxes/invalid-boundaries.txt
Output /tmp/TYI7leKPaV looks good.
ok 8 - Computing differences
ok 9 # skip GNU grep not available
Testing filename: t/mailboxes/mailarc-1-dos.txt
Comparing /tmp/VrbZzrqzZE to t/mailboxes/mailarc-1-dos.txt
Output /tmp/VrbZzrqzZE looks good.
ok 10 - Computing differences
Comparing /tmp/OCoQ8UqCve to t/mailboxes/mailarc-1-dos.txt
Output /tmp/OCoQ8UqCve looks good.
ok 11 - Computing differences
ok 12 # skip GNU grep not available
Testing filename: t/mailboxes/mailarc-1.txt
Comparing /tmp/WxlJZZXfwd to t/mailboxes/mailarc-1.txt
Output /tmp/WxlJZZXfwd looks good.
ok 13 - Computing differences
Comparing /tmp/5OeS5mRe1Y to t/mailboxes/mailarc-1.txt
Output /tmp/5OeS5mRe1Y looks good.
ok 14 - Computing differences
ok 15 # skip GNU grep not available
Testing filename: t/mailboxes/mailarc-2.txt
Comparing /tmp/9bmnbhS30g to t/mailboxes/mailarc-2.txt
Output /tmp/9bmnbhS30g looks good.
ok 16 - Computing differences
Comparing /tmp/dOeFrMWvIl to t/mailboxes/mailarc-2.txt
Output /tmp/dOeFrMWvIl looks good.
ok 17 - Computing differences
ok 18 # skip GNU grep not available
Testing filename: t/mailboxes/mailarc-3.txt
Comparing /tmp/wpV67JYOIA to t/mailboxes/mailarc-3.txt
Output /tmp/wpV67JYOIA looks good.
ok 19 - Computing differences
Comparing /tmp/yUyV7WvtYj to t/mailboxes/mailarc-3.txt
Output /tmp/yUyV7WvtYj looks good.
ok 20 - Computing differences
ok 21 # skip GNU grep not available
Testing filename: t/mailboxes/mailseparators.txt
Comparing /tmp/g9JoGgddFg to t/mailboxes/mailseparators.txt
Output /tmp/g9JoGgddFg looks good.
ok 22 - Computing differences
Comparing /tmp/htj12xrXCg to t/mailboxes/mailseparators.txt
Output /tmp/htj12xrXCg looks good.
ok 23 - Computing differences
ok 24 # skip GNU grep not available
Testing filename: t/mailboxes/malformed.txt
Comparing /tmp/QkLZ2txWKz to t/mailboxes/malformed.txt
Output /tmp/QkLZ2txWKz looks good.
ok 25 - Computing differences
Comparing /tmp/dEXYh0flPF to t/mailboxes/malformed.txt
Output /tmp/dEXYh0flPF looks good.
ok 26 - Computing differences
ok 27 # skip GNU grep not available
Testing filename: t/mailboxes/newlines_at_beginning.txt
Comparing /tmp/bU0EQMRt7d to t/mailboxes/newlines_at_beginning.txt
Output /tmp/bU0EQMRt7d looks good.
ok 28 - Computing differences
Comparing /tmp/5n6vYkGv_5 to t/mailboxes/newlines_at_beginning.txt
Output /tmp/5n6vYkGv_5 looks good.
ok 29 - Computing differences
ok 30 # skip GNU grep not available
Testing filename: t/mailboxes/vm-emacs.txt
Comparing /tmp/JvK7RTjHMA to t/mailboxes/vm-emacs.txt
Output /tmp/JvK7RTjHMA looks good.
ok 31 - Computing differences
Comparing /tmp/T1cjRo31Y4 to t/mailboxes/vm-emacs.txt
Output /tmp/T1cjRo31Y4 looks good.
ok 32 - Computing differences
ok 33 # skip GNU grep not available
ok
t/reset.t .......................
1..60
Testing filename: t/mailboxes/binary_body.txt
Testing partial mailbox reset with Perl implementation
Comparing /tmp/k74OZJXxpf to t/results/reset_binary_body.stdout
Output /tmp/k74OZJXxpf looks good.
ok 1 - Computing differences
Testing partial mailbox reset with Cache implementation
Comparing /tmp/Mg8v7Ta3Ph to t/results/reset_binary_body.stdout
Output /tmp/Mg8v7Ta3Ph looks good.
ok 2 - Computing differences
Testing partial mailbox reset with Grep implementation
ok 3 # skip GNU grep not available
Testing full mailbox reset with Perl implementation
Comparing /tmp/sgjMUIsHPp to t/results/reset_binary_body.stdout
Output /tmp/sgjMUIsHPp looks good.
ok 4 - Computing differences
Testing full mailbox reset with Cache implementation
Comparing /tmp/V3DHJyMwQ5 to t/results/reset_binary_body.stdout
Output /tmp/V3DHJyMwQ5 looks good.
ok 5 - Computing differences
Testing full mailbox reset with Grep implementation
ok 6 # skip GNU grep not available
Testing filename: t/mailboxes/hessbug.txt
Testing partial mailbox reset with Perl implementation
Comparing /tmp/wxc3bAUJik to t/results/reset_hessbug.stdout
Output /tmp/wxc3bAUJik looks good.
ok 7 - Computing differences
Testing partial mailbox reset with Cache implementation
Comparing /tmp/AxgiI5IiAb to t/results/reset_hessbug.stdout
Output /tmp/AxgiI5IiAb looks good.
ok 8 - Computing differences
Testing partial mailbox reset with Grep implementation
ok 9 # skip GNU grep not available
Testing full mailbox reset with Perl implementation
Comparing /tmp/RbkH0P06Rq to t/results/reset_hessbug.stdout
Output /tmp/RbkH0P06Rq looks good.
ok 10 - Computing differences
Testing full mailbox reset with Cache implementation
Comparing /tmp/6Mcn5c_6eB to t/results/reset_hessbug.stdout
Output /tmp/6Mcn5c_6eB looks good.
ok 11 - Computing differences
Testing full mailbox reset with Grep implementation
ok 12 # skip GNU grep not available
Testing filename: t/mailboxes/invalid-boundaries.txt
Testing partial mailbox reset with Perl implementation
Comparing /tmp/HwyIzika3i to t/results/reset_invalid-boundaries.stdout
Output /tmp/HwyIzika3i looks good.
ok 13 - Computing differences
Testing partial mailbox reset with Cache implementation
Comparing /tmp/JjnS25bFzn to t/results/reset_invalid-boundaries.stdout
Output /tmp/JjnS25bFzn looks good.
ok 14 - Computing differences
Testing partial mailbox reset with Grep implementation
ok 15 # skip GNU grep not available
Testing full mailbox reset with Perl implementation
Comparing /tmp/2rOtHM03i2 to t/results/reset_invalid-boundaries.stdout
Output /tmp/2rOtHM03i2 looks good.
ok 16 - Computing differences
Testing full mailbox reset with Cache implementation
Comparing /tmp/T2NpaB5zuR to t/results/reset_invalid-boundaries.stdout
Output /tmp/T2NpaB5zuR looks good.
ok 17 - Computing differences
Testing full mailbox reset with Grep implementation
ok 18 # skip GNU grep not available
Testing filename: t/mailboxes/mailarc-1-dos.txt
Testing partial mailbox reset with Perl implementation
Comparing /tmp/3wiN3jDZ7B to t/results/reset_mailarc-1-dos.stdout
Output /tmp/3wiN3jDZ7B looks good.
ok 19 - Computing differences
Testing partial mailbox reset with Cache implementation
Comparing /tmp/fBViUUJYsq to t/results/reset_mailarc-1-dos.stdout
Output /tmp/fBViUUJYsq looks good.
ok 20 - Computing differences
Testing partial mailbox reset with Grep implementation
ok 21 # skip GNU grep not available
Testing full mailbox reset with Perl implementation
Comparing /tmp/3nKBQSL4qH to t/results/reset_mailarc-1-dos.stdout
Output /tmp/3nKBQSL4qH looks good.
ok 22 - Computing differences
Testing full mailbox reset with Cache implementation
Comparing /tmp/5iL5vV0qY7 to t/results/reset_mailarc-1-dos.stdout
Output /tmp/5iL5vV0qY7 looks good.
ok 23 - Computing differences
Testing full mailbox reset with Grep implementation
ok 24 # skip GNU grep not available
Testing filename: t/mailboxes/mailarc-1.txt
Testing partial mailbox reset with Perl implementation
Comparing /tmp/SqtVvdXIOU to t/results/reset_mailarc-1.stdout
Output /tmp/SqtVvdXIOU looks good.
ok 25 - Computing differences
Testing partial mailbox reset with Cache implementation
Comparing /tmp/btZSoQQCBY to t/results/reset_mailarc-1.stdout
Output /tmp/btZSoQQCBY looks good.
ok 26 - Computing differences
Testing partial mailbox reset with Grep implementation
ok 27 # skip GNU grep not available
Testing full mailbox reset with Perl implementation
Comparing /tmp/KR17Fk_Du0 to t/results/reset_mailarc-1.stdout
Output /tmp/KR17Fk_Du0 looks good.
ok 28 - Computing differences
Testing full mailbox reset with Cache implementation
Comparing /tmp/EAxYo0CM2W to t/results/reset_mailarc-1.stdout
Output /tmp/EAxYo0CM2W looks good.
ok 29 - Computing differences
Testing full mailbox reset with Grep implementation
ok 30 # skip GNU grep not available
Testing filename: t/mailboxes/mailarc-2.txt
Testing partial mailbox reset with Perl implementation
Comparing /tmp/LzbMODWCWS to t/results/reset_mailarc-2.stdout
Output /tmp/LzbMODWCWS looks good.
ok 31 - Computing differences
Testing partial mailbox reset with Cache implementation
Comparing /tmp/K483wDY5YL to t/results/reset_mailarc-2.stdout
Output /tmp/K483wDY5YL looks good.
ok 32 - Computing differences
Testing partial mailbox reset with Grep implementation
ok 33 # skip GNU grep not available
Testing full mailbox reset with Perl implementation
Comparing /tmp/OMd0nkjjQX to t/results/reset_mailarc-2.stdout
Output /tmp/OMd0nkjjQX looks good.
ok 34 - Computing differences
Testing full mailbox reset with Cache implementation
Comparing /tmp/slFNABAEIP to t/results/reset_mailarc-2.stdout
Output /tmp/slFNABAEIP looks good.
ok 35 - Computing differences
Testing full mailbox reset with Grep implementation
ok 36 # skip GNU grep not available
Testing filename: t/mailboxes/mailarc-3.txt
Testing partial mailbox reset with Perl implementation
Comparing /tmp/s11AzztWx7 to t/results/reset_mailarc-3.stdout
Output /tmp/s11AzztWx7 looks good.
ok 37 - Computing differences
Testing partial mailbox reset with Cache implementation
Comparing /tmp/ce081Hw7bn to t/results/reset_mailarc-3.stdout
Output /tmp/ce081Hw7bn looks good.
ok 38 - Computing differences
Testing partial mailbox reset with Grep implementation
ok 39 # skip GNU grep not available
Testing full mailbox reset with Perl implementation
Comparing /tmp/IeFOxoK8nD to t/results/reset_mailarc-3.stdout
Output /tmp/IeFOxoK8nD looks good.
ok 40 - Computing differences
Testing full mailbox reset with Cache implementation
Comparing /tmp/EWm7W3MCOY to t/results/reset_mailarc-3.stdout
Output /tmp/EWm7W3MCOY looks good.
ok 41 - Computing differences
Testing full mailbox reset with Grep implementation
ok 42 # skip GNU grep not available
Testing filename: t/mailboxes/mailseparators.txt
Testing partial mailbox reset with Perl implementation
Comparing /tmp/gvu0FeKh14 to t/results/reset_mailseparators.stdout
Output /tmp/gvu0FeKh14 looks good.
ok 43 - Computing differences
Testing partial mailbox reset with Cache implementation
Comparing /tmp/ykljTNEAGx to t/results/reset_mailseparators.stdout
Output /tmp/ykljTNEAGx looks good.
ok 44 - Computing differences
Testing partial mailbox reset with Grep implementation
ok 45 # skip GNU grep not available
Testing full mailbox reset with Perl implementation
Comparing /tmp/MlBBUtAjSL to t/results/reset_mailseparators.stdout
Output /tmp/MlBBUtAjSL looks good.
ok 46 - Computing differences
Testing full mailbox reset with Cache implementation
Comparing /tmp/gSGtzu3doE to t/results/reset_mailseparators.stdout
Output /tmp/gSGtzu3doE looks good.
ok 47 - Computing differences
Testing full mailbox reset with Grep implementation
ok 48 # skip GNU grep not available
Testing filename: t/mailboxes/malformed.txt
Testing partial mailbox reset with Perl implementation
Comparing /tmp/wODNCyAPe5 to t/results/reset_malformed.stdout
Output /tmp/wODNCyAPe5 looks good.
ok 49 - Computing differences
Testing partial mailbox reset with Cache implementation
Comparing /tmp/VnTkgC5gdA to t/results/reset_malformed.stdout
Output /tmp/VnTkgC5gdA looks good.
ok 50 - Computing differences
Testing partial mailbox reset with Grep implementation
ok 51 # skip GNU grep not available
Testing full mailbox reset with Perl implementation
Comparing /tmp/bnFvIjPbfO to t/results/reset_malformed.stdout
Output /tmp/bnFvIjPbfO looks good.
ok 52 - Computing differences
Testing full mailbox reset with Cache implementation
Comparing /tmp/3MQug0j7YY to t/results/reset_malformed.stdout
Output /tmp/3MQug0j7YY looks good.
ok 53 - Computing differences
Testing full mailbox reset with Grep implementation
ok 54 # skip GNU grep not available
Testing filename: t/mailboxes/newlines_at_beginning.txt
Testing partial mailbox reset with Perl implementation
Comparing /tmp/et2C3jaIhu to t/results/reset_newlines_at_beginning.stdout
Output /tmp/et2C3jaIhu looks good.
ok 55 - Computing differences
Testing partial mailbox reset with Cache implementation
Comparing /tmp/yrpyOaEq7h to t/results/reset_newlines_at_beginning.stdout
Output /tmp/yrpyOaEq7h looks good.
ok 56 - Computing differences
Testing partial mailbox reset with Grep implementation
ok 57 # skip GNU grep not available
Testing full mailbox reset with Perl implementation
Comparing /tmp/99TYOtqof4 to t/results/reset_newlines_at_beginning.stdout
Output /tmp/99TYOtqof4 looks good.
ok 58 - Computing differences
Testing full mailbox reset with Cache implementation
Comparing /tmp/C4ND3HgVad to t/results/reset_newlines_at_beginning.stdout
Output /tmp/C4ND3HgVad looks good.
ok 59 - Computing differences
Testing full mailbox reset with Grep implementation
ok 60 # skip GNU grep not available
ok
t/separators.t ..................
1..6
Testing filename: t/mailboxes/separators2.sep
ok 1 - Number of emails in t/mailboxes/separators2.sep
ok 2 - Number of emails in t/mailboxes/separators2.sep
ok 3 # skip GNU grep not available
Testing filename: t/mailboxes/separators1.sep
ok 4 - Number of emails in t/mailboxes/separators1.sep
ok 5 - Number of emails in t/mailboxes/separators1.sep
ok 6 # skip GNU grep not available
ok
t/stdin_compressed.t ............
1..4
Testing filename: t/mailboxes/mailarc-2.txt.bz2
Comparing /tmp/4i60LWyiKt to t/mailboxes/mailarc-2.txt
Output /tmp/4i60LWyiKt looks good.
ok 1 - Computing differences
Testing filename: t/mailboxes/mailarc-2.txt.gz
Comparing /tmp/BsSiMssHNA to t/mailboxes/mailarc-2.txt
Output /tmp/BsSiMssHNA looks good.
ok 2 - Computing differences
Testing filename: t/mailboxes/mailarc-2.txt.lz
ok 3 # skip lzip not available
Testing filename: t/mailboxes/mailarc-2.txt.xz
Comparing /tmp/OQtbDj1_yb to t/mailboxes/mailarc-2.txt
Output /tmp/OQtbDj1_yb looks good.
ok 4 - Computing differences
ok
t/stdin_uncompressed.t ..........
1..11
Testing filename: t/mailboxes/binary_body.txt
Comparing /tmp/q_H9JWgivp to t/mailboxes/binary_body.txt
Output /tmp/q_H9JWgivp looks good.
ok 1 - Computing differences
Testing filename: t/mailboxes/hessbug.txt
Comparing /tmp/lRKta2NyPt to t/mailboxes/hessbug.txt
Output /tmp/lRKta2NyPt looks good.
ok 2 - Computing differences
Testing filename: t/mailboxes/invalid-boundaries.txt
Comparing /tmp/0oFTX1t2wp to t/mailboxes/invalid-boundaries.txt
Output /tmp/0oFTX1t2wp looks good.
ok 3 - Computing differences
Testing filename: t/mailboxes/mailarc-1-dos.txt
Comparing /tmp/XWPBVe5uWl to t/mailboxes/mailarc-1-dos.txt
Output /tmp/XWPBVe5uWl looks good.
ok 4 - Computing differences
Testing filename: t/mailboxes/mailarc-1.txt
Comparing /tmp/c2VPEIQ5FK to t/mailboxes/mailarc-1.txt
Output /tmp/c2VPEIQ5FK looks good.
ok 5 - Computing differences
Testing filename: t/mailboxes/mailarc-2.txt
Comparing /tmp/yemkGDNuG6 to t/mailboxes/mailarc-2.txt
Output /tmp/yemkGDNuG6 looks good.
ok 6 - Computing differences
Testing filename: t/mailboxes/mailarc-3.txt
Comparing /tmp/RreH2rmroc to t/mailboxes/mailarc-3.txt
Output /tmp/RreH2rmroc looks good.
ok 7 - Computing differences
Testing filename: t/mailboxes/mailseparators.txt
Comparing /tmp/XcecHtN8BR to t/mailboxes/mailseparators.txt
Output /tmp/XcecHtN8BR looks good.
ok 8 - Computing differences
Testing filename: t/mailboxes/malformed.txt
Comparing /tmp/cALeQN0m8W to t/mailboxes/malformed.txt
Output /tmp/cALeQN0m8W looks good.
ok 9 - Computing differences
Testing filename: t/mailboxes/newlines_at_beginning.txt
Comparing /tmp/ETYRZT_xcH to t/mailboxes/newlines_at_beginning.txt
Output /tmp/ETYRZT_xcH looks good.
ok 10 - Computing differences
Testing filename: t/mailboxes/vm-emacs.txt
Comparing /tmp/Q39wyMjTkP to t/mailboxes/vm-emacs.txt
Output /tmp/Q39wyMjTkP looks good.
ok 11 - Computing differences
ok
t/undef_return_value.t ..........
1..33
Testing Perl
Comparing /tmp/KcmwenE4R_ to t/mailboxes/binary_body.txt
Output /tmp/KcmwenE4R_ looks good.
ok 1 - Computing differences
Testing Cache implementation
Comparing /tmp/W5DPUjpFrl to t/mailboxes/binary_body.txt
Output /tmp/W5DPUjpFrl looks good.
ok 2 - Computing differences
ok 3 # skip GNU grep not available
Testing Perl
Comparing /tmp/PrFiMueErq to t/mailboxes/hessbug.txt
Output /tmp/PrFiMueErq looks good.
ok 4 - Computing differences
Testing Cache implementation
Comparing /tmp/BpvwdGC83F to t/mailboxes/hessbug.txt
Output /tmp/BpvwdGC83F looks good.
ok 5 - Computing differences
ok 6 # skip GNU grep not available
Testing Perl
Comparing /tmp/GOiyakcFbX to t/mailboxes/invalid-boundaries.txt
Output /tmp/GOiyakcFbX looks good.
ok 7 - Computing differences
Testing Cache implementation
Comparing /tmp/7ZmnVQwAwT to t/mailboxes/invalid-boundaries.txt
Output /tmp/7ZmnVQwAwT looks good.
ok 8 - Computing differences
ok 9 # skip GNU grep not available
Testing Perl
Comparing /tmp/ZZXYTMdlyL to t/mailboxes/mailarc-1-dos.txt
Output /tmp/ZZXYTMdlyL looks good.
ok 10 - Computing differences
Testing Cache implementation
Comparing /tmp/94aDR7oSdF to t/mailboxes/mailarc-1-dos.txt
Output /tmp/94aDR7oSdF looks good.
ok 11 - Computing differences
ok 12 # skip GNU grep not available
Testing Perl
Comparing /tmp/UeienAgyfx to t/mailboxes/mailarc-1.txt
Output /tmp/UeienAgyfx looks good.
ok 13 - Computing differences
Testing Cache implementation
Comparing /tmp/LhpLrsAgqT to t/mailboxes/mailarc-1.txt
Output /tmp/LhpLrsAgqT looks good.
ok 14 - Computing differences
ok 15 # skip GNU grep not available
Testing Perl
Comparing /tmp/Y5mZfLwT_B to t/mailboxes/mailarc-2.txt
Output /tmp/Y5mZfLwT_B looks good.
ok 16 - Computing differences
Testing Cache implementation
Comparing /tmp/njoQ5GjV2c to t/mailboxes/mailarc-2.txt
Output /tmp/njoQ5GjV2c looks good.
ok 17 - Computing differences
ok 18 # skip GNU grep not available
Testing Perl
Comparing /tmp/uEBqKiehsy to t/mailboxes/mailarc-3.txt
Output /tmp/uEBqKiehsy looks good.
ok 19 - Computing differences
Testing Cache implementation
Comparing /tmp/B6y_MXc1LP to t/mailboxes/mailarc-3.txt
Output /tmp/B6y_MXc1LP looks good.
ok 20 - Computing differences
ok 21 # skip GNU grep not available
Testing Perl
Comparing /tmp/c63LM6p75z to t/mailboxes/mailseparators.txt
Output /tmp/c63LM6p75z looks good.
ok 22 - Computing differences
Testing Cache implementation
Comparing /tmp/5uFZ6ZDwgy to t/mailboxes/mailseparators.txt
Output /tmp/5uFZ6ZDwgy looks good.
ok 23 - Computing differences
ok 24 # skip GNU grep not available
Testing Perl
Comparing /tmp/CkX9kjmDDJ to t/mailboxes/malformed.txt
Output /tmp/CkX9kjmDDJ looks good.
ok 25 - Computing differences
Testing Cache implementation
Comparing /tmp/HLOEptE7bY to t/mailboxes/malformed.txt
Output /tmp/HLOEptE7bY looks good.
ok 26 - Computing differences
ok 27 # skip GNU grep not available
Testing Perl
Comparing /tmp/5bPpFSJG76 to t/mailboxes/newlines_at_beginning.txt
Output /tmp/5bPpFSJG76 looks good.
ok 28 - Computing differences
Testing Cache implementation
Comparing /tmp/jxmHS7VVk1 to t/mailboxes/newlines_at_beginning.txt
Output /tmp/jxmHS7VVk1 looks good.
ok 29 - Computing differences
ok 30 # skip GNU grep not available
Testing Perl
Comparing /tmp/wR_iPYPFpB to t/mailboxes/vm-emacs.txt
Output /tmp/wR_iPYPFpB looks good.
ok 31 - Computing differences
Testing Cache implementation
Comparing /tmp/ju10T7sUMa to t/mailboxes/vm-emacs.txt
Output /tmp/ju10T7sUMa looks good.
ok 32 - Computing differences
ok 33 # skip GNU grep not available
ok
t/xz.t ..........................
1..1
Running test:
"/bin/cat" "t/mailboxes/mailarc-2.txt.xz" | "/usr/bin/xz" -cd
Comparing /tmp/tCzdW4Ukf0 to t/results/mailarc-2.txt
Output /tmp/tCzdW4Ukf0 looks good.
Comparing /tmp/xCzxoFF0iJ to t/results/none
Output /tmp/xCzxoFF0iJ looks good.
ok 1 - Computing differences
ok
All tests successful.
Files=25, Tests=370, 7 wallclock secs ( 0.13 usr 0.08 sys + 4.31 cusr 1.97 csys = 6.49 CPU)
Result: PASS
PREREQUISITES:
Here is a list of prerequisites you specified and versions we
managed to load:
Module Name Have Want
ExtUtils::MakeMaker 7.34 6.36
File::Path 2.15 2.08
File::Slurp 9999.19 0
FileHandle::Unget 0.1633 0
Storable 3.11 0
Test::Compile v1.3.0 0
Test::More 1.302136 0
Text::Diff 1.45 0
URI::Escape 3.31 0
Perl module toolchain versions installed:
Module Name Have
CPANPLUS 0.9174
CPANPLUS::Dist::Build 0.88
Cwd 3.74
ExtUtils::CBuilder 0.280230
ExtUtils::Command 7.34
ExtUtils::Install 2.14
ExtUtils::MakeMaker 7.34
ExtUtils::Manifest 1.71
ExtUtils::ParseXS 3.35
File::Spec 3.74
Module::Build 0.4224
Pod::Parser 1.35
Pod::Simple 3.28
Test2 1.302136
Test::Harness 3.42
Test::More 1.302136
version 0.9924
******************************** NOTE ********************************
The comments above are created mechanically, possibly without manual
checking by the sender. As there are many people performing automatic
tests on each upload to CPAN, it is likely that you will receive
identical messages about the same problem.
If you believe that the message is mistaken, please reply to the first
one with correction and/or additional informations, and do not take
it personally. We appreciate your patience. :)
**********************************************************************
Additional comments:
This report was machine-generated by CPANPLUS::Dist::YACSmoke 1.02.
Powered by minismokebox version 0.68
------------------------------
ENVIRONMENT AND OTHER CONTEXT
------------------------------
Environment variables:
AUTOMATED_TESTING = 1
NONINTERACTIVE_TESTING = 1
PATH = /home/cpan/bin:/bin:/sbin:/usr/bin:/usr/sbin:/usr/X11R7/bin:/usr/X11R6/bin:/usr/pkg/bin:/usr/pkg/sbin:/usr/games:/usr/local/bin:/usr/local/sbin
PERL5LIB = :/home/cpan/pit/bare/conf/perl-5.10.0/.cpanplus/5.10.0/build/frP5E_S0Ly/File-Slurp-9999.19/blib/lib:/home/cpan/pit/bare/conf/perl-5.10.0/.cpanplus/5.10.0/build/frP5E_S0Ly/File-Slurp-9999.19/blib/arch:/home/cpan/pit/bare/conf/perl-5.10.0/.cpanplus/5.10.0/build/tESzvsfO1W/Test-Needs-0.002005/blib/lib:/home/cpan/pit/bare/conf/perl-5.10.0/.cpanplus/5.10.0/build/tESzvsfO1W/Test-Needs-0.002005/blib/arch:/home/cpan/pit/bare/conf/perl-5.10.0/.cpanplus/5.10.0/build/jOtS1UwW0Q/URI-1.74/blib/lib:/home/cpan/pit/bare/conf/perl-5.10.0/.cpanplus/5.10.0/build/jOtS1UwW0Q/URI-1.74/blib/arch:/home/cpan/pit/bare/conf/perl-5.10.0/.cpanplus/5.10.0/build/XGCglZbYcv/Test-Warnings-0.026/blib/lib:/home/cpan/pit/bare/conf/perl-5.10.0/.cpanplus/5.10.0/build/XGCglZbYcv/Test-Warnings-0.026/blib/arch:/home/cpan/pit/bare/conf/perl-5.10.0/.cpanplus/5.10.0/build/LgP7jVWt72/File-Slurper-0.012/blib/lib:/home/cpan/pit/bare/conf/perl-5.10.0/.cpanplus/5.10.0/build/LgP7jVWt72/File-Slurper-0.012/blib/arch:/home/cpan/pit/bare/conf/perl-5.10.0/.cpanplus/5.10.0/build/WxfzJliwh0/UNIVERSAL-require-0.18/blib/lib:/home/cpan/pit/bare/conf/perl-5.10.0/.cpanplus/5.10.0/build/WxfzJliwh0/UNIVERSAL-require-0.18/blib/arch:/home/cpan/pit/bare/conf/perl-5.10.0/.cpanplus/5.10.0/build/5Pdd2saw1p/Test-Compile-v1.3.0/blib/lib:/home/cpan/pit/bare/conf/perl-5.10.0/.cpanplus/5.10.0/build/5Pdd2saw1p/Test-Compile-v1.3.0/blib/arch:/home/cpan/pit/bare/conf/perl-5.10.0/.cpanplus/5.10.0/build/27gzeWSaup/FileHandle-Unget-0.1633/blib/lib:/home/cpan/pit/bare/conf/perl-5.10.0/.cpanplus/5.10.0/build/27gzeWSaup/FileHandle-Unget-0.1633/blib/arch:/home/cpan/pit/bare/conf/perl-5.10.0/.cpanplus/5.10.0/build/OPJ6JDHCiX/Algorithm-Diff-1.1903/blib/lib:/home/cpan/pit/bare/conf/perl-5.10.0/.cpanplus/5.10.0/build/OPJ6JDHCiX/Algorithm-Diff-1.1903/blib/arch:/home/cpan/pit/bare/conf/perl-5.10.0/.cpanplus/5.10.0/build/7JmNgDKmpf/Text-Diff-1.45/blib/lib:/home/cpan/pit/bare/conf/perl-5.10.0/.cpanplus/5.10.0/build/7JmNgDKmpf/Text-Diff-1.45/blib/arch:/home/cpan/pit/bare/conf/perl-5.10.0/.cpanplus/5.10.0/build/FUkxEfHqQP/Mail-Mbox-MessageParser-1.5108/blib/lib:/home/cpan/pit/bare/conf/perl-5.10.0/.cpanplus/5.10.0/build/FUkxEfHqQP/Mail-Mbox-MessageParser-1.5108/blib/arch
PERL5_CPANPLUS_IS_RUNNING = 7086
PERL5_CPANPLUS_IS_VERSION = 0.9174
PERL5_MINISMOKEBOX = 0.68
PERL5_YACSMOKE_BASE = /home/cpan/pit/bare/conf/perl-5.10.0
PERL_EXTUTILS_AUTOINSTALL = --defaultdeps
PERL_MM_USE_DEFAULT = 1
SHELL = /usr/pkg/bin/bash
TERM = screen
Perl special variables (and OS-specific diagnostics, for MSWin32):
Perl: $^X = /home/cpan/pit/bare/perl-5.10.0/bin/perl
UID: $< = 1002
EUID: $> = 1002
GID: $( = 100 100
EGID: $) = 100 100
-------------------------------
--
Summary of my perl5 (revision 5 version 10 subversion 0) configuration:
Platform:
osname=netbsd, osvers=6.1.4, archname=amd64-netbsd
uname='netbsd naboo.bingosnet.co.uk 6.1.4 netbsd 6.1.4 (generic) amd64 '
config_args='-des -Dprefix=/home/cpan/pit/bare/perl-5.10.0'
hint=recommended, useposix=true, d_sigaction=define
useithreads=undef, usemultiplicity=undef
useperlio=define, d_sfio=undef, uselargefiles=define, usesocks=undef
use64bitint=define, use64bitall=define, uselongdouble=undef
usemymalloc=n, bincompat5005=undef
Compiler:
cc='cc', ccflags ='-fno-strict-aliasing -pipe -I/usr/pkg/include',
optimize='-O',
cppflags='-fno-strict-aliasing -pipe -I/usr/pkg/include'
ccversion='', gccversion='4.5.3', gccosandvers=''
intsize=4, longsize=8, ptrsize=8, doublesize=8, byteorder=12345678
d_longlong=define, longlongsize=8, d_longdbl=define, longdblsize=16
ivtype='long', ivsize=8, nvtype='double', nvsize=8, Off_t='off_t', lseeksize=8
alignbytes=8, prototype=define
Linker and Libraries:
ld='cc', ldflags =' -Wl,-rpath,/usr/pkg/lib -Wl,-rpath,/usr/local/lib -L/usr/pkg/lib'
libpth=/usr/pkg/lib /lib /usr/lib
libs=-lgdbm -lm -lcrypt -lutil -lc -lposix
perllibs=-lm -lcrypt -lutil -lc -lposix
libc=/lib/libc.so, so=so, useshrplib=false, libperl=libperl.a
gnulibc_version=''
Dynamic Linking:
dlsrc=dl_dlopen.xs, dlext=so, d_dlsymun=undef, ccdlflags='-Wl,-E '
cccdlflags='-DPIC -fPIC ', lddlflags='--whole-archive -shared -L/usr/pkg/lib'
Characteristics of this binary (from libperl):
Compile-time options: PERL_DONT_CREATE_GVSV PERL_MALLOC_WRAP USE_64_BIT_ALL
USE_64_BIT_INT USE_LARGE_FILES USE_PERLIO
Built under netbsd
Compiled at May 9 2014 12:24:14
%ENV:
PERL5LIB=":/home/cpan/pit/bare/conf/perl-5.10.0/.cpanplus/5.10.0/build/frP5E_S0Ly/File-Slurp-9999.19/blib/lib:/home/cpan/pit/bare/conf/perl-5.10.0/.cpanplus/5.10.0/build/frP5E_S0Ly/File-Slurp-9999.19/blib/arch:/home/cpan/pit/bare/conf/perl-5.10.0/.cpanplus/5.10.0/build/tESzvsfO1W/Test-Needs-0.002005/blib/lib:/home/cpan/pit/bare/conf/perl-5.10.0/.cpanplus/5.10.0/build/tESzvsfO1W/Test-Needs-0.002005/blib/arch:/home/cpan/pit/bare/conf/perl-5.10.0/.cpanplus/5.10.0/build/jOtS1UwW0Q/URI-1.74/blib/lib:/home/cpan/pit/bare/conf/perl-5.10.0/.cpanplus/5.10.0/build/jOtS1UwW0Q/URI-1.74/blib/arch:/home/cpan/pit/bare/conf/perl-5.10.0/.cpanplus/5.10.0/build/XGCglZbYcv/Test-Warnings-0.026/blib/lib:/home/cpan/pit/bare/conf/perl-5.10.0/.cpanplus/5.10.0/build/XGCglZbYcv/Test-Warnings-0.026/blib/arch:/home/cpan/pit/bare/conf/perl-5.10.0/.cpanplus/5.10.0/build/LgP7jVWt72/File-Slurper-0.012/blib/lib:/home/cpan/pit/bare/conf/perl-5.10.0/.cpanplus/5.10.0/build/LgP7jVWt72/File-Slurper-0.012/blib/arch:/home/cpan/pit/bare/conf/perl-5.10.0/.cpanplus/5.10.0/build/WxfzJliwh0/UNIVERSAL-require-0.18/blib/lib:/home/cpan/pit/bare/conf/perl-5.10.0/.cpanplus/5.10.0/build/WxfzJliwh0/UNIVERSAL-require-0.18/blib/arch:/home/cpan/pit/bare/conf/perl-5.10.0/.cpanplus/5.10.0/build/5Pdd2saw1p/Test-Compile-v1.3.0/blib/lib:/home/cpan/pit/bare/conf/perl-5.10.0/.cpanplus/5.10.0/build/5Pdd2saw1p/Test-Compile-v1.3.0/blib/arch:/home/cpan/pit/bare/conf/perl-5.10.0/.cpanplus/5.10.0/build/27gzeWSaup/FileHandle-Unget-0.1633/blib/lib:/home/cpan/pit/bare/conf/perl-5.10.0/.cpanplus/5.10.0/build/27gzeWSaup/FileHandle-Unget-0.1633/blib/arch:/home/cpan/pit/bare/conf/perl-5.10.0/.cpanplus/5.10.0/build/OPJ6JDHCiX/Algorithm-Diff-1.1903/blib/lib:/home/cpan/pit/bare/conf/perl-5.10.0/.cpanplus/5.10.0/build/OPJ6JDHCiX/Algorithm-Diff-1.1903/blib/arch:/home/cpan/pit/bare/conf/perl-5.10.0/.cpanplus/5.10.0/build/7JmNgDKmpf/Text-Diff-1.45/blib/lib:/home/cpan/pit/bare/conf/perl-5.10.0/.cpanplus/5.10.0/build/7JmNgDKmpf/Text-Diff-1.45/blib/arch:/home/cpan/pit/bare/conf/perl-5.10.0/.cpanplus/5.10.0/build/FUkxEfHqQP/Mail-Mbox-MessageParser-1.5108/blib/lib:/home/cpan/pit/bare/conf/perl-5.10.0/.cpanplus/5.10.0/build/FUkxEfHqQP/Mail-Mbox-MessageParser-1.5108/blib/arch"
PERL5_CPANPLUS_IS_RUNNING="7086"
PERL5_CPANPLUS_IS_VERSION="0.9174"
PERL5_MINISMOKEBOX="0.68"
PERL5_YACSMOKE_BASE="/home/cpan/pit/bare/conf/perl-5.10.0"
PERL_EXTUTILS_AUTOINSTALL="--defaultdeps"
PERL_MM_USE_DEFAULT="1"
@INC:
/home/cpan/pit/bare/conf/perl-5.10.0/.cpanplus/5.10.0/build/frP5E_S0Ly/File-Slurp-9999.19/blib/lib
/home/cpan/pit/bare/conf/perl-5.10.0/.cpanplus/5.10.0/build/frP5E_S0Ly/File-Slurp-9999.19/blib/arch
/home/cpan/pit/bare/conf/perl-5.10.0/.cpanplus/5.10.0/build/tESzvsfO1W/Test-Needs-0.002005/blib/lib
/home/cpan/pit/bare/conf/perl-5.10.0/.cpanplus/5.10.0/build/tESzvsfO1W/Test-Needs-0.002005/blib/arch
/home/cpan/pit/bare/conf/perl-5.10.0/.cpanplus/5.10.0/build/jOtS1UwW0Q/URI-1.74/blib/lib
/home/cpan/pit/bare/conf/perl-5.10.0/.cpanplus/5.10.0/build/jOtS1UwW0Q/URI-1.74/blib/arch
/home/cpan/pit/bare/conf/perl-5.10.0/.cpanplus/5.10.0/build/XGCglZbYcv/Test-Warnings-0.026/blib/lib
/home/cpan/pit/bare/conf/perl-5.10.0/.cpanplus/5.10.0/build/XGCglZbYcv/Test-Warnings-0.026/blib/arch
/home/cpan/pit/bare/conf/perl-5.10.0/.cpanplus/5.10.0/build/LgP7jVWt72/File-Slurper-0.012/blib/lib
/home/cpan/pit/bare/conf/perl-5.10.0/.cpanplus/5.10.0/build/LgP7jVWt72/File-Slurper-0.012/blib/arch
/home/cpan/pit/bare/conf/perl-5.10.0/.cpanplus/5.10.0/build/WxfzJliwh0/UNIVERSAL-require-0.18/blib/lib
/home/cpan/pit/bare/conf/perl-5.10.0/.cpanplus/5.10.0/build/WxfzJliwh0/UNIVERSAL-require-0.18/blib/arch
/home/cpan/pit/bare/conf/perl-5.10.0/.cpanplus/5.10.0/build/5Pdd2saw1p/Test-Compile-v1.3.0/blib/lib
/home/cpan/pit/bare/conf/perl-5.10.0/.cpanplus/5.10.0/build/5Pdd2saw1p/Test-Compile-v1.3.0/blib/arch
/home/cpan/pit/bare/conf/perl-5.10.0/.cpanplus/5.10.0/build/27gzeWSaup/FileHandle-Unget-0.1633/blib/lib
/home/cpan/pit/bare/conf/perl-5.10.0/.cpanplus/5.10.0/build/27gzeWSaup/FileHandle-Unget-0.1633/blib/arch
/home/cpan/pit/bare/conf/perl-5.10.0/.cpanplus/5.10.0/build/OPJ6JDHCiX/Algorithm-Diff-1.1903/blib/lib
/home/cpan/pit/bare/conf/perl-5.10.0/.cpanplus/5.10.0/build/OPJ6JDHCiX/Algorithm-Diff-1.1903/blib/arch
/home/cpan/pit/bare/conf/perl-5.10.0/.cpanplus/5.10.0/build/7JmNgDKmpf/Text-Diff-1.45/blib/lib
/home/cpan/pit/bare/conf/perl-5.10.0/.cpanplus/5.10.0/build/7JmNgDKmpf/Text-Diff-1.45/blib/arch
/home/cpan/pit/bare/conf/perl-5.10.0/.cpanplus/5.10.0/build/FUkxEfHqQP/Mail-Mbox-MessageParser-1.5108/blib/lib
/home/cpan/pit/bare/conf/perl-5.10.0/.cpanplus/5.10.0/build/FUkxEfHqQP/Mail-Mbox-MessageParser-1.5108/blib/arch
/home/cpan/pit/bare/perl-5.10.0/lib/5.10.0/amd64-netbsd
/home/cpan/pit/bare/perl-5.10.0/lib/5.10.0
/home/cpan/pit/bare/perl-5.10.0/lib/site_perl/5.10.0/amd64-netbsd
/home/cpan/pit/bare/perl-5.10.0/lib/site_perl/5.10.0
.